{"text_format":"1","workbook":"xlsx","n_sheets":16,"sheets":["Facility Information","Concrete Plant (CP-1)","Concrete Plant (CP-2)","Concrete Plant (CP-3)","Concrete Plant (CP-4)","Concrete Plant (CP-5)","Concrete Plant (CP-6)","Concrete Plant (CP-7)","Concrete Plant (CP-8)","Concrete Plant (CP-9)","Concrete Plant (CP-10)","Haul Roads","Permitted Diesel Engines","Emission Calculations","Facility Wide Emissions","Emission Factors"],"not_rendered":{"charts":0,"images":0,"macros":1,"external_links":0,"defined_names":307,"comments":13,"pivot_tables":0},"unopened":[],"bounds":{"document_bytes":16777216,"sheet_cells":100000,"rows_first":2000,"rows_last":500,"rows_between":2000,"halvings":0,"cell_chars":16384,"cell_head_chars":4096},"cells_cut":0,"cells_raw":0,"read":"whole","date_system":"1900"}

{"sheet":"Facility Information","index":0,"n_rows":21,"n_cols":11,"rows_kept":21,"cut":false,"hidden":false,"merged":[]}
["PORTABLE CONCRETE BATCHING PLANT",null,null,"Note: be sure to enable macros when prompted.",null,null,"Last Updated 4-13-21","542-0252"]
["Please fill in the yellow boxes."]
[]
["Submittal Type:",null,null,"Number of State-Wide Company Employees:"]
["Facility Number:",null,null,null,null,"Emisison Year:",null,"<------","Enter the Year for which you are calculating emissions,  "]
["Facility Name:",null,null,null,null,null,null,null,"usually the previous calendar year."]
["Mailing Address:"]
["City:",null,null,"State:",null,"Zip Code:"]
["Facility Contact:",null,null,"Phone Number:",null,null,null,null,null,null,"Emission Inventory - Initial"]
["Email Address",null,null,null,null,null,null,null,null,null,"Emission Inventory - Supplemental Information"]
["Parent Company:"]
["Parent Company Address:"]
["City:",null,null,"State:",null,"Zip Code:",null,null,null,null,"Less Than or Equal to 100"]
["Parent Company Contact:",null,null,"Phone Number:",null,null,null,null,null,null,"Greater Than 100"]
[]
["SIC Code:",3273]
["NAICS Code:",327320]
["Activity Description:","Ready Mixed Concrete"]
[]
["Number of Plants with Permits:"]
[{"$f":"\"Number of Plants Operated in \"&'Facility Information'!G5&\":\"","v":"Number of Plants Operated in :"}]

{"sheet":"Concrete Plant (CP-1)","index":1,"n_rows":180,"n_cols":23,"rows_kept":180,"cut":false,"hidden":false,"merged":[]}
[null,"CONCRETE BATCH PLANT (CP-1)"]
[null,"Please fill in the yellow boxes as applicable for your facility. ",null,null,null,null,null,null,null,null,null,"Values used for calculating emissions →",null,null,null,"Values Used to CalculateActual Emissions for the Listed Processes at this Plant"]
[null,null,null,null,null,null,null,null,null,null,null,null,null,null,null,"Process","Maximum Design Rate (cubic yards/hr)","Actual throughput (cubic yards/yr)"]
[null,{"$f":"\"Number of Sites this Plant operated at in \"&'Facility Information'!G5&\":\"","v":"Number of Sites this Plant operated at in :"},null,null,null,null,null,null,null,null,null,null,null,null,null,"Aggregate Delivery to Ground Storage",{"$f":"MAX((IFERROR(OFFSET($J$20,MATCH(\"Aggregate Delivery to Ground Storage\",$J$21:$J$30,0),1),0)),((IFERROR((OFFSET($J$36,MATCH(\"Aggregate Delivery to Ground Storage\",$J$37:$J$46,0),1)),0))),((IFERROR((OFFSET($J$51,MATCH(\"Aggregate Delivery to Ground Storage\",$J$52:$J$61,0),1)),0))),((IFERROR((OFFSET($J$67,MATCH(\"Aggregate Delivery to Ground Storage\",$J$68:$J$77,0),1)),0))),((IFERROR((OFFSET($J$83,MATCH(\"Aggregate Delivery to Ground Storage\",$J$84:$J$93,0),1)),0))),((IFERROR((OFFSET($J$99,MATCH(\"Aggregate Delivery to Ground Storage\",$J$100:$J$109,0),1)),0))),((IFERROR((OFFSET($J$115,MATCH(\"Aggregate Delivery to Ground Storage\",$J$116:$J$125,0),1)),0))),((IFERROR((OFFSET($J$131,MATCH(\"Aggregate Delivery to Ground Storage\",$J$132:$J$141,0),1)),0))),((IFERROR((OFFSET($J$147,MATCH(\"Aggregate Delivery to Ground Storage\",$J$148:$J$157,0),1)),0))),((IFERROR((OFFSET($J$164,MATCH(\"Aggregate Delivery to Ground Storage\",$J$165:$J$174,0),1)),0))))","v":0},{"$f":"SUM((IFERROR(OFFSET($J$20,MATCH(\"Aggregate Delivery to Ground Storage\",$J$21:$J$30,0),2),0)),((IFERROR((OFFSET($J$36,MATCH(\"Aggregate Delivery to Ground Storage\",$J$37:$J$46,0),2)),0))),((IFERROR((OFFSET($J$51,MATCH(\"Aggregate Delivery to Ground Storage\",$J$52:$J$61,0),2)),0))),((IFERROR((OFFSET($J$67,MATCH(\"Aggregate Delivery to Ground Storage\",$J$68:$J$77,0),2)),0))),((IFERROR((OFFSET($J$83,MATCH(\"Aggregate Delivery to Ground Storage\",$J$84:$J$93,0),2)),0))),((IFERROR((OFFSET($J$99,MATCH(\"Aggregate Delivery to Ground Storage\",$J$100:$J$109,0),2)),0))),((IFERROR((OFFSET($J$115,MATCH(\"Aggregate Delivery to Ground Storage\",$J$116:$J$125,0),2)),0))),((IFERROR((OFFSET($J$131,MATCH(\"Aggregate Delivery to Ground Storage\",$J$132:$J$141,0),2)),0))),((IFERROR((OFFSET($J$147,MATCH(\"Aggregate Delivery to Ground Storage\",$J$148:$J$157,0),2)),0))),((IFERROR((OFFSET($J$164,MATCH(\"Aggregate Delivery to Ground Storage\",$J$165:$J$174,0),2)),0))))","v":0},"** As of 2016 Potential Emissions are no longer required to be reported in the Minor Source Emissions Inventory**"]
[null,null,null,null,null,null,null,null,null,null,null,null,null,null,null,"Sand Delivery to Ground Storage",{"$f":"MAX((IFERROR(OFFSET($J$20,MATCH(\"Sand Delivery to Ground Storage\",$J$21:$J$30,0),1),0)),((IFERROR((OFFSET($J$36,MATCH(\"Sand Delivery to Ground Storage\",$J$37:$J$46,0),1)),0))),((IFERROR((OFFSET($J$51,MATCH(\"Sand Delivery to Ground Storage\",$J$52:$J$61,0),1)),0))),((IFERROR((OFFSET($J$67,MATCH(\"Sand Delivery to Ground Storage\",$J$68:$J$77,0),1)),0))),((IFERROR((OFFSET($J$83,MATCH(\"Sand Delivery to Ground Storage\",$J$84:$J$93,0),1)),0))),((IFERROR((OFFSET($J$99,MATCH(\"Sand Delivery to Ground Storage\",$J$100:$J$109,0),1)),0))),((IFERROR((OFFSET($J$115,MATCH(\"Sand Delivery to Ground Storage\",$J$116:$J$125,0),1)),0))),((IFERROR((OFFSET($J$131,MATCH(\"Sand Delivery to Ground Storage\",$J$132:$J$141,0),1)),0))),((IFERROR((OFFSET($J$147,MATCH(\"Sand Delivery to Ground Storage\",$J$148:$J$157,0),1)),0))),((IFERROR((OFFSET($J$164,MATCH(\"Sand Delivery to Ground Storage\",$J$165:$J$174,0),1)),0))))","v":0},{"$f":"SUM((IFERROR(OFFSET($J$20,MATCH(\"Sand Delivery to Ground Storage\",$J$21:$J$30,0),2),0)),((IFERROR((OFFSET($J$36,MATCH(\"Sand Delivery to Ground Storage\",$J$37:$J$46,0),2)),0))),((IFERROR((OFFSET($J$51,MATCH(\"Sand Delivery to Ground Storage\",$J$52:$J$61,0),2)),0))),((IFERROR((OFFSET($J$67,MATCH(\"Sand Delivery to Ground Storage\",$J$68:$J$77,0),2)),0))),((IFERROR((OFFSET($J$83,MATCH(\"Sand Delivery to Ground Storage\",$J$84:$J$93,0),2)),0))),((IFERROR((OFFSET($J$99,MATCH(\"Sand Delivery to Ground Storage\",$J$100:$J$109,0),2)),0))),((IFERROR((OFFSET($J$115,MATCH(\"Sand Delivery to Ground Storage\",$J$116:$J$125,0),2)),0))),((IFERROR((OFFSET($J$131,MATCH(\"Sand Delivery to Ground Storage\",$J$132:$J$141,0),2)),0))),((IFERROR((OFFSET($J$147,MATCH(\"Sand Delivery to Ground Storage\",$J$148:$J$157,0),2)),0))),((IFERROR((OFFSET($J$164,MATCH(\"Sand Delivery to Ground Storage\",$J$165:$J$174,0),2)),0))))","v":0}]
[null,"Plant Specific Permit Number: ",null,null,null,null,null,null,null,null,null,null,null,null,null,"Aggregate Transfer to Conveyor",{"$f":"MAX((IFERROR(OFFSET($J$20,MATCH(\"Aggregate Transfer to Conveyor\",$J$21:$J$30,0),1),0)),((IFERROR((OFFSET($J$36,MATCH(\"Aggregate Transfer to Conveyor\",$J$37:$J$46,0),1)),0))),((IFERROR((OFFSET($J$51,MATCH(\"Aggregate Transfer to Conveyor\",$J$52:$J$61,0),1)),0))),((IFERROR((OFFSET($J$67,MATCH(\"Aggregate Transfer to Conveyor\",$J$68:$J$77,0),1)),0))),((IFERROR((OFFSET($J$83,MATCH(\"Aggregate Transfer to Conveyor\",$J$84:$J$93,0),1)),0))),((IFERROR((OFFSET($J$99,MATCH(\"Aggregate Transfer to Conveyor\",$J$100:$J$109,0),1)),0))),((IFERROR((OFFSET($J$115,MATCH(\"Aggregate Transfer to Conveyor\",$J$116:$J$125,0),1)),0))),((IFERROR((OFFSET($J$131,MATCH(\"Aggregate Transfer to Conveyor\",$J$132:$J$141,0),1)),0))),((IFERROR((OFFSET($J$147,MATCH(\"Aggregate Transfer to Conveyor\",$J$148:$J$157,0),1)),0))),((IFERROR((OFFSET($J$164,MATCH(\"Aggregate Transfer to Conveyor\",$J$165:$J$174,0),1)),0))))","v":0},{"$f":"SUM((IFERROR(OFFSET($J$20,MATCH(\"Aggregate Transfer to Conveyor\",$J$21:$J$30,0),2),0)),((IFERROR((OFFSET($J$36,MATCH(\"Aggregate Transfer to Conveyor\",$J$37:$J$46,0),2)),0))),((IFERROR((OFFSET($J$51,MATCH(\"Aggregate Transfer to Conveyor\",$J$52:$J$61,0),2)),0))),((IFERROR((OFFSET($J$67,MATCH(\"Aggregate Transfer to Conveyor\",$J$68:$J$77,0),2)),0))),((IFERROR((OFFSET($J$83,MATCH(\"Aggregate Transfer to Conveyor\",$J$84:$J$93,0),2)),0))),((IFERROR((OFFSET($J$99,MATCH(\"Aggregate Transfer to Conveyor\",$J$100:$J$109,0),2)),0))),((IFERROR((OFFSET($J$115,MATCH(\"Aggregate Transfer to Conveyor\",$J$116:$J$125,0),2)),0))),((IFERROR((OFFSET($J$131,MATCH(\"Aggregate Transfer to Conveyor\",$J$132:$J$141,0),2)),0))),((IFERROR((OFFSET($J$147,MATCH(\"Aggregate Transfer to Conveyor\",$J$148:$J$157,0),2)),0))),((IFERROR((OFFSET($J$164,MATCH(\"Aggregate Transfer to Conveyor\",$J$165:$J$174,0),2)),0))))","v":0}]
[null,null,null,null,null,null,null,null,null,null,null,null,null,null,null,"Sand Transfer to Conveyor",{"$f":"MAX((IFERROR(OFFSET($J$20,MATCH(\"Sand Transfer to Conveyor\",$J$21:$J$30,0),1),0)),((IFERROR((OFFSET($J$36,MATCH(\"Sand Transfer to Conveyor\",$J$37:$J$46,0),1)),0))),((IFERROR((OFFSET($J$51,MATCH(\"Sand Transfer to Conveyor\",$J$52:$J$61,0),1)),0))),((IFERROR((OFFSET($J$67,MATCH(\"Sand Transfer to Conveyor\",$J$68:$J$77,0),1)),0))),((IFERROR((OFFSET($J$83,MATCH(\"Sand Transfer to Conveyor\",$J$84:$J$93,0),1)),0))),((IFERROR((OFFSET($J$99,MATCH(\"Sand Transfer to Conveyor\",$J$100:$J$109,0),1)),0))),((IFERROR((OFFSET($J$115,MATCH(\"Sand Transfer to Conveyor\",$J$116:$J$125,0),1)),0))),((IFERROR((OFFSET($J$131,MATCH(\"Sand Transfer to Conveyor\",$J$132:$J$141,0),1)),0))),((IFERROR((OFFSET($J$147,MATCH(\"Sand Transfer to Conveyor\",$J$148:$J$157,0),1)),0))),((IFERROR((OFFSET($J$164,MATCH(\"Sand Transfer to Conveyor\",$J$165:$J$174,0),1)),0))))","v":0},{"$f":"SUM((IFERROR(OFFSET($J$20,MATCH(\"Sand Transfer to Conveyor\",$J$21:$J$30,0),2),0)),((IFERROR((OFFSET($J$36,MATCH(\"Sand Transfer to Conveyor\",$J$37:$J$46,0),2)),0))),((IFERROR((OFFSET($J$51,MATCH(\"Sand Transfer to Conveyor\",$J$52:$J$61,0),2)),0))),((IFERROR((OFFSET($J$67,MATCH(\"Sand Transfer to Conveyor\",$J$68:$J$77,0),2)),0))),((IFERROR((OFFSET($J$83,MATCH(\"Sand Transfer to Conveyor\",$J$84:$J$93,0),2)),0))),((IFERROR((OFFSET($J$99,MATCH(\"Sand Transfer to Conveyor\",$J$100:$J$109,0),2)),0))),((IFERROR((OFFSET($J$115,MATCH(\"Sand Transfer to Conveyor\",$J$116:$J$125,0),2)),0))),((IFERROR((OFFSET($J$131,MATCH(\"Sand Transfer to Conveyor\",$J$132:$J$141,0),2)),0))),((IFERROR((OFFSET($J$147,MATCH(\"Sand Transfer to Conveyor\",$J$148:$J$157,0),2)),0))),((IFERROR((OFFSET($J$164,MATCH(\"Sand Transfer to Conveyor\",$J$165:$J$174,0),2)),0))))","v":0}]
[null,"Plant Specific Operating Limits:",null,null,null,null,null,"Plant Specific Emission Limits:",null,null,null,null,null,null,null,"Aggregate Transfer to Elevated Storage",{"$f":"MAX((IFERROR(OFFSET($J$20,MATCH(\"Aggregate Transfer to Elevated Storage\",$J$21:$J$30,0),1),0)),((IFERROR((OFFSET($J$36,MATCH(\"Aggregate Transfer to Elevated Storage\",$J$37:$J$46,0),1)),0))),((IFERROR((OFFSET($J$51,MATCH(\"Aggregate Transfer to Elevated Storage\",$J$52:$J$61,0),1)),0))),((IFERROR((OFFSET($J$67,MATCH(\"Aggregate Transfer to Elevated Storage\",$J$68:$J$77,0),1)),0))),((IFERROR((OFFSET($J$83,MATCH(\"Aggregate Transfer to Elevated Storage\",$J$84:$J$93,0),1)),0))),((IFERROR((OFFSET($J$99,MATCH(\"Aggregate Transfer to Elevated Storage\",$J$100:$J$109,0),1)),0))),((IFERROR((OFFSET($J$115,MATCH(\"Aggregate Transfer to Elevated Storage\",$J$116:$J$125,0),1)),0))),((IFERROR((OFFSET($J$131,MATCH(\"Aggregate Transfer to Elevated Storage\",$J$132:$J$141,0),1)),0))),((IFERROR((OFFSET($J$147,MATCH(\"Aggregate Transfer to Elevated Storage\",$J$148:$J$157,0),1)),0))),((IFERROR((OFFSET($J$164,MATCH(\"Aggregate Transfer to Elevated Storage\",$J$165:$J$174,0),1)),0))))","v":0},{"$f":"SUM((IFERROR(OFFSET($J$20,MATCH(\"Aggregate Transfer to Elevated Storage\",$J$21:$J$30,0),2),0)),((IFERROR((OFFSET($J$36,MATCH(\"Aggregate Transfer to Elevated Storage\",$J$37:$J$46,0),2)),0))),((IFERROR((OFFSET($J$51,MATCH(\"Aggregate Transfer to Elevated Storage\",$J$52:$J$61,0),2)),0))),((IFERROR((OFFSET($J$67,MATCH(\"Aggregate Transfer to Elevated Storage\",$J$68:$J$77,0),2)),0))),((IFERROR((OFFSET($J$83,MATCH(\"Aggregate Transfer to Elevated Storage\",$J$84:$J$93,0),2)),0))),((IFERROR((OFFSET($J$99,MATCH(\"Aggregate Transfer to Elevated Storage\",$J$100:$J$109,0),2)),0))),((IFERROR((OFFSET($J$115,MATCH(\"Aggregate Transfer to Elevated Storage\",$J$116:$J$125,0),2)),0))),((IFERROR((OFFSET($J$131,MATCH(\"Aggregate Transfer to Elevated Storage\",$J$132:$J$141,0),2)),0))),((IFERROR((OFFSET($J$147,MATCH(\"Aggregate Transfer to Elevated Storage\",$J$148:$J$157,0),2)),0))),((IFERROR((OFFSET($J$164,MATCH(\"Aggregate Transfer to Elevated Storage\",$J$165:$J$174,0),2)),0))))","v":0}]
[null,"Throughput Limit (cubic yards/yr):",null,null,null,null,null,"Pollutant","lb/hr","tons/yr",null,null,null,null,null,"Sand Transfer to Elevated Storage",{"$f":"MAX((IFERROR(OFFSET($J$20,MATCH(\"Sand Transfer to Elevated Storage\",$J$21:$J$30,0),1),0)),((IFERROR((OFFSET($J$36,MATCH(\"Sand Transfer to Elevated Storage\",$J$37:$J$46,0),1)),0))),((IFERROR((OFFSET($J$51,MATCH(\"Sand Transfer to Elevated Storage\",$J$52:$J$61,0),1)),0))),((IFERROR((OFFSET($J$37,MATCH(\"Sand Transfer to Elevated Storage\",$J$68:$J$77,0),1)),0))),((IFERROR((OFFSET($J$83,MATCH(\"Sand Transfer to Elevated Storage\",$J$84:$J$93,0),1)),0))),((IFERROR((OFFSET($J$99,MATCH(\"Sand Transfer to Elevated Storage\",$J$100:$J$109,0),1)),0))),((IFERROR((OFFSET($J$115,MATCH(\"Sand Transfer to Elevated Storage\",$J$116:$J$125,0),1)),0))),((IFERROR((OFFSET($J$131,MATCH(\"Sand Transfer to Elevated Storage\",$J$132:$J$141,0),1)),0))),((IFERROR((OFFSET($J$147,MATCH(\"Sand Transfer to Elevated Storage\",$J$148:$J$157,0),1)),0))),((IFERROR((OFFSET($J$164,MATCH(\"Sand Transfer to Elevated Storage\",$J$165:$J$174,0),1)),0))))","v":0},{"$f":"SUM((IFERROR(OFFSET($J$20,MATCH(\"Sand Transfer to Elevated Storage\",$J$21:$J$30,0),2),0)),((IFERROR((OFFSET($J$36,MATCH(\"Sand Transfer to Elevated Storage\",$J$37:$J$46,0),2)),0))),((IFERROR((OFFSET($J$51,MATCH(\"Sand Transfer to Elevated Storage\",$J$52:$J$61,0),2)),0))),((IFERROR((OFFSET($J$37,MATCH(\"Sand Transfer to Elevated Storage\",$J$68:$J$77,0),2)),0))),((IFERROR((OFFSET($J$83,MATCH(\"Sand Transfer to Elevated Storage\",$J$84:$J$93,0),2)),0))),((IFERROR((OFFSET($J$99,MATCH(\"Sand Transfer to Elevated Storage\",$J$100:$J$109,0),2)),0))),((IFERROR((OFFSET($J$115,MATCH(\"Sand Transfer to Elevated Storage\",$J$116:$J$125,0),2)),0))),((IFERROR((OFFSET($J$131,MATCH(\"Sand Transfer to Elevated Storage\",$J$132:$J$141,0),2)),0))),((IFERROR((OFFSET($J$147,MATCH(\"Sand Transfer to Elevated Storage\",$J$148:$J$157,0),2)),0))),((IFERROR((OFFSET($J$164,MATCH(\"Sand Transfer to Elevated Storage\",$J$165:$J$174,0),2)),0))))","v":0}]
[null,"Daily Throughput Limit (cubic yards/day):",null,null,null,null,null,"PM2.5",null,null,null,null,null,null,null,"Weigh Hopper Loading",{"$f":"MAX((IFERROR(OFFSET($J$20,MATCH(\"Weigh Hopper Loading\",$J$21:$J$30,0),1),0)),((IFERROR((OFFSET($J$36,MATCH(\"Weigh Hopper Loading\",$J$37:$J$46,0),1)),0))),((IFERROR((OFFSET($J$51,MATCH(\"Weigh Hopper Loading\",$J$52:$J$61,0),1)),0))),((IFERROR((OFFSET($J$67,MATCH(\"Weigh Hopper Loading\",$J$68:$J$77,0),1)),0))),((IFERROR((OFFSET($J$83,MATCH(\"Weigh Hopper Loading\",$J$84:$J$93,0),1)),0))),((IFERROR((OFFSET($J$99,MATCH(\"Weigh Hopper Loading\",$J$100:$J$109,0),1)),0))),((IFERROR((OFFSET($J$115,MATCH(\"Weigh Hopper Loading\",$J$116:$J$125,0),1)),0))),((IFERROR((OFFSET($J$131,MATCH(\"Weigh Hopper Loading\",$J$132:$J$141,0),1)),0))),((IFERROR((OFFSET($J$147,MATCH(\"Weigh Hopper Loading\",$J$148:$J$157,0),1)),0))),((IFERROR((OFFSET($J$164,MATCH(\"Weigh Hopper Loading\",$J$165:$J$174,0),1)),0))))","v":0},{"$f":"SUM((IFERROR(OFFSET($J$20,MATCH(\"Weigh Hopper Loading\",$J$21:$J$30,0),2),0)),((IFERROR((OFFSET($J$36,MATCH(\"Weigh Hopper Loading\",$J$37:$J$46,0),2)),0))),((IFERROR((OFFSET($J$51,MATCH(\"Weigh Hopper Loading\",$J$52:$J$61,0),2)),0))),((IFERROR((OFFSET($J$67,MATCH(\"Weigh Hopper Loading\",$J$68:$J$77,0),2)),0))),((IFERROR((OFFSET($J$83,MATCH(\"Weigh Hopper Loading\",$J$84:$J$93,0),2)),0))),((IFERROR((OFFSET($J$99,MATCH(\"Weigh Hopper Loading\",$J$100:$J$109,0),2)),0))),((IFERROR((OFFSET($J$115,MATCH(\"Weigh Hopper Loading\",$J$116:$J$125,0),2)),0))),((IFERROR((OFFSET($J$131,MATCH(\"Weigh Hopper Loading\",$J$132:$J$141,0),2)),0))),((IFERROR((OFFSET($J$147,MATCH(\"Weigh Hopper Loading\",$J$148:$J$157,0),2)),0))),((IFERROR((OFFSET($J$164,MATCH(\"Weigh Hopper Loading\",$J$165:$J$174,0),2)),0))))","v":0}]
[null,"Hours of Operation Limit (hours/day):",null,null,null,null,null,"PM10",null,null,null,null,null,null,null,"Central Mix Loading",{"$f":"MAX((IFERROR(OFFSET($J$20,MATCH(\"Central Mix Loading\",$J$21:$J$30,0),1),0)),((IFERROR((OFFSET($J$36,MATCH(\"Central Mix Loading\",$J$37:$J$46,0),1)),0))),((IFERROR((OFFSET($J$51,MATCH(\"Central Mix Loading\",$J$52:$J$61,0),1)),0))),((IFERROR((OFFSET($J$67,MATCH(\"Central Mix Loading\",$J$68:$J$77,0),1)),0))),((IFERROR((OFFSET($J$83,MATCH(\"Central Mix Loading\",$J$84:$J$93,0),1)),0))),((IFERROR((OFFSET($J$99,MATCH(\"Central Mix Loading\",$J$100:$J$109,0),1)),0))),((IFERROR((OFFSET($J$115,MATCH(\"Central Mix Loading\",$J$116:$J$125,0),1)),0))),((IFERROR((OFFSET($J$131,MATCH(\"Central Mix Loading\",$J$132:$J$141,0),1)),0))),((IFERROR((OFFSET($J$147,MATCH(\"Central Mix Loading\",$J$148:$J$157,0),1)),0))),((IFERROR((OFFSET($J$164,MATCH(\"Central Mix Loading\",$J$165:$J$174,0),1)),0))))","v":0},{"$f":"SUM((IFERROR(OFFSET($J$20,MATCH(\"Central Mix Loading\",$J$21:$J$30,0),2),0)),((IFERROR((OFFSET($J$36,MATCH(\"Central Mix Loading\",$J$37:$J$46,0),2)),0))),((IFERROR((OFFSET($J$51,MATCH(\"Central Mix Loading\",$J$52:$J$61,0),2)),0))),((IFERROR((OFFSET($J$67,MATCH(\"Central Mix Loading\",$J$68:$J$77,0),2)),0))),((IFERROR((OFFSET($J$83,MATCH(\"Central Mix Loading\",$J$84:$J$93,0),2)),0))),((IFERROR((OFFSET($J$99,MATCH(\"Central Mix Loading\",$J$100:$J$109,0),2)),0))),((IFERROR((OFFSET($J$115,MATCH(\"Central Mix Loading\",$J$116:$J$125,0),2)),0))),((IFERROR((OFFSET($J$131,MATCH(\"Central Mix Loading\",$J$132:$J$141,0),2)),0))),((IFERROR((OFFSET($J$147,MATCH(\"Central Mix Loading\",$J$148:$J$157,0),2)),0))),((IFERROR((OFFSET($J$164,MATCH(\"Central Mix Loading\",$J$165:$J$174,0),2)),0))))","v":0}]
[null,"Note: if the plant has an hrs/day and a cubic yards/hr permit limit,",null,null,null,null,null,"SO2",null,null,null,null,null,null,null,"Truck Mix Loading",{"$f":"MAX((IFERROR(OFFSET($J$20,MATCH(\"Truck Mix Loading\",$J$21:$J$30,0),1),0)),((IFERROR((OFFSET($J$36,MATCH(\"Truck Mix Loading\",$J$37:$J$46,0),1)),0))),((IFERROR((OFFSET($J$51,MATCH(\"Truck Mix Loading\",$J$52:$J$61,0),1)),0))),((IFERROR((OFFSET($J$67,MATCH(\"Truck Mix Loading\",$J$68:$J$77,0),1)),0))),((IFERROR((OFFSET($J$83,MATCH(\"Truck Mix Loading\",$J$84:$J$93,0),1)),0))),((IFERROR((OFFSET($J$99,MATCH(\"Truck Mix Loading\",$J$100:$J$109,0),1)),0))),((IFERROR((OFFSET($J$115,MATCH(\"Truck Mix Loading\",$J$116:$J$125,0),1)),0))),((IFERROR((OFFSET($J$131,MATCH(\"Truck Mix Loading\",$J$132:$J$141,0),1)),0))),((IFERROR((OFFSET($J$147,MATCH(\"Truck Mix Loading\",$J$148:$J$157,0),1)),0))),((IFERROR((OFFSET($J$164,MATCH(\"Truck Mix Loading\",$J$165:$J$174,0),1)),0))))","v":0},{"$f":"SUM((IFERROR(OFFSET($J$20,MATCH(\"Truck Mix Loading\",$J$21:$J$30,0),2),0)),((IFERROR((OFFSET($J$36,MATCH(\"Truck Mix Loading\",$J$37:$J$46,0),2)),0))),((IFERROR((OFFSET($J$51,MATCH(\"Truck Mix Loading\",$J$52:$J$61,0),2)),0))),((IFERROR((OFFSET($J$67,MATCH(\"Truck Mix Loading\",$J$68:$J$77,0),2)),0))),((IFERROR((OFFSET($J$83,MATCH(\"Truck Mix Loading\",$J$84:$J$93,0),2)),0))),((IFERROR((OFFSET($J$99,MATCH(\"Truck Mix Loading\",$J$100:$J$109,0),2)),0))),((IFERROR((OFFSET($J$115,MATCH(\"Truck Mix Loading\",$J$116:$J$125,0),2)),0))),((IFERROR((OFFSET($J$131,MATCH(\"Truck Mix Loading\",$J$132:$J$141,0),2)),0))),((IFERROR((OFFSET($J$147,MATCH(\"Truck Mix Loading\",$J$148:$J$157,0),2)),0))),((IFERROR((OFFSET($J$164,MATCH(\"Truck Mix Loading\",$J$165:$J$174,0),2)),0))))","v":0}]
[null,"those values should be multiplied together to calculate a cubic ",null,null,null,null,null,"NOx",null,null,null,null,null,null,null,"Cement Delivery to Silo",{"$f":"MAX((IFERROR(OFFSET($J$20,MATCH(\"Cement Delivery to Silo\",$J$21:$J$30,0),1),0)),((IFERROR((OFFSET($J$36,MATCH(\"Cement Delivery to Silo\",$J$37:$J$46,0),1)),0))),((IFERROR((OFFSET($J$51,MATCH(\"Cement Delivery to Silo\",$J$52:$J$61,0),1)),0))),((IFERROR((OFFSET($J$67,MATCH(\"Cement Delivery to Silo\",$J$68:$J$77,0),1)),0))),((IFERROR((OFFSET($J$83,MATCH(\"Cement Delivery to Silo\",$J$84:$J$93,0),1)),0))),((IFERROR((OFFSET($J$99,MATCH(\"Cement Delivery to Silo\",$J$100:$J$109,0),1)),0))),((IFERROR((OFFSET($J$115,MATCH(\"Cement Delivery to Silo\",$J$116:$J$125,0),1)),0))),((IFERROR((OFFSET($J$131,MATCH(\"Cement Delivery to Silo\",$J$132:$J$141,0),1)),0))),((IFERROR((OFFSET($J$147,MATCH(\"Cement Delivery to Silo\",$J$148:$J$157,0),1)),0))),((IFERROR((OFFSET($J$164,MATCH(\"Cement Delivery to Silo\",$J$165:$J$174,0),1)),0))))","v":0},{"$f":"SUM((IFERROR(OFFSET($J$20,MATCH(\"Cement Delivery to Silo\",$J$21:$J$30,0),2),0)),((IFERROR((OFFSET($J$36,MATCH(\"Cement Delivery to Silo\",$J$37:$J$46,0),2)),0))),((IFERROR((OFFSET($J$51,MATCH(\"Cement Delivery to Silo\",$J$52:$J$61,0),2)),0))),((IFERROR((OFFSET($J$67,MATCH(\"Cement Delivery to Silo\",$J$68:$J$77,0),2)),0))),((IFERROR((OFFSET($J$83,MATCH(\"Cement Delivery to Silo\",$J$84:$J$93,0),2)),0))),((IFERROR((OFFSET($J$99,MATCH(\"Cement Delivery to Silo\",$J$100:$J$109,0),2)),0))),((IFERROR((OFFSET($J$115,MATCH(\"Cement Delivery to Silo\",$J$116:$J$125,0),2)),0))),((IFERROR((OFFSET($J$131,MATCH(\"Cement Delivery to Silo\",$J$132:$J$141,0),2)),0))),((IFERROR((OFFSET($J$147,MATCH(\"Cement Delivery to Silo\",$J$148:$J$157,0),2)),0))),((IFERROR((OFFSET($J$164,MATCH(\"Cement Delivery to Silo\",$J$165:$J$174,0),2)),0))))","v":0}]
[null,"yards/day limit and that value should be placed in cell C10.",null,null,null,null,null,"VOC",null,null,null,null,null,null,null,"Cement Supplement Delivery to Silo",{"$f":"MAX((IFERROR(OFFSET($J$20,MATCH(\"Cement Supplement Delivery to Silo\",$J$21:$J$30,0),1),0)),((IFERROR((OFFSET($J$36,MATCH(\"Cement Supplement Delivery to Silo\",$J$37:$J$46,0),1)),0))),((IFERROR((OFFSET($J$51,MATCH(\"Cement Supplement Delivery to Silo\",$J$52:$J$61,0),1)),0))),((IFERROR((OFFSET($J$67,MATCH(\"Cement Supplement Delivery to Silo\",$J$68:$J$77,0),1)),0))),((IFERROR((OFFSET($J$83,MATCH(\"Cement Supplement Delivery to Silo\",$J$84:$J$93,0),1)),0))),((IFERROR((OFFSET($J$99,MATCH(\"Cement Supplement Delivery to Silo\",$J$100:$J$109,0),1)),0))),((IFERROR((OFFSET($J$115,MATCH(\"Cement Supplement Delivery to Silo\",$J$116:$J$125,0),1)),0))),((IFERROR((OFFSET($J$131,MATCH(\"Cement Supplement Delivery to Silo\",$J$132:$J$141,0),1)),0))),((IFERROR((OFFSET($J$147,MATCH(\"Cement Supplement Delivery to Silo\",$J$148:$J$157,0),1)),0))),((IFERROR((OFFSET($J$164,MATCH(\"Cement Supplement Delivery to Silo\",$J$165:$J$174,0),1)),0))))","v":0},{"$f":"SUM((IFERROR(OFFSET($J$20,MATCH(\"Cement Supplement Delivery to Silo\",$J$21:$J$30,0),2),0)),((IFERROR((OFFSET($J$36,MATCH(\"Cement Supplement Delivery to Silo\",$J$37:$J$46,0),2)),0))),((IFERROR((OFFSET($J$51,MATCH(\"Cement Supplement Delivery to Silo\",$J$52:$J$61,0),2)),0))),((IFERROR((OFFSET($J$67,MATCH(\"Cement Supplement Delivery to Silo\",$J$68:$J$77,0),2)),0))),((IFERROR((OFFSET($J$83,MATCH(\"Cement Supplement Delivery to Silo\",$J$84:$J$93,0),2)),0))),((IFERROR((OFFSET($J$99,MATCH(\"Cement Supplement Delivery to Silo\",$J$100:$J$109,0),2)),0))),((IFERROR((OFFSET($J$115,MATCH(\"Cement Supplement Delivery to Silo\",$J$116:$J$125,0),2)),0))),((IFERROR((OFFSET($J$131,MATCH(\"Cement Supplement Delivery to Silo\",$J$132:$J$141,0),2)),0))),((IFERROR((OFFSET($J$147,MATCH(\"Cement Supplement Delivery to Silo\",$J$148:$J$157,0),2)),0))),((IFERROR((OFFSET($J$164,MATCH(\"Cement Supplement Delivery to Silo\",$J$165:$J$174,0),2)),0))))","v":0}]
[null,null,null,null,null,null,null,"CO"]
[null,null,null,null,null,null,null,null,null,null,null,null,null,null,null,null,"Maximum (acres/day)","Actual (acres-day/yr)"]
[null,null,null,null,null,null,null,null,null,null,null,null,null,null,null,"Storage Pile",{"$f":"SUM(J34,J49,J65,J81,J97,J113,J129,J145,J161,J178)","v":0},{"$f":"SUM(K34*L34,K49*L49,K65*L65,K81*L81,K97*L97,K113*L113,K129*L129,K145*L145,K161*L161,K178*L178)","v":0}]
[]
[null,null,null,null,null,null,null,null,null,null,null,null,null,null,null,"Actual Emissions for the Listed Processes at this Plant"]
[null,"Batch Plant","Site 1",null,null,null,null,"Emission Point #","Emission     Unit #","Processes","Combined Maximum Hourly Design Rate for all Like Processes (cubic yard/hr)",{"$f":"('Facility Information'!G5&\" Annual Throughput (cubic yards)\")","v":" Annual Throughput (cubic yards)"},"Truck","Central",null,"PM2.5","Maximum Design Rate (cubic yards/hr)","Emission Factor (lb/cubic yard)","Potential Uncontrolled Emissions (lb/hr)","Potential Controlled Emissions (lb/hr)","Potential Annual Emissions (tons/yr)","Actual Annual Emissions (tons/yr)"]
["YES","Site Name:",null,null,null,null,null,{"$f":"IF(J21=\"cement delivery to silo\",\"CP-1 EP-2\",IF(J21=\"cement supplement delivery to silo\",\"CP-1 EP-3\",IF(J21=\"weigh hopper loading\",\"CP-1 EP-4\",IF(J21=\"truck mix loading\",\"CP-1 EP-5\",IF(J21=\"central mix loading\",\"CP-1 EP-6\",IF(J21=\"\",\"\",\"CP-1 EP-1\"))))))","v":""},{"$f":"IF(J21=\"\",\"\",IF(J21=\"aggregate delivery to ground storage\",\"CP-1 EU-1\",IF(J21=\"sand delivery to ground storage\",\"CP-1 EU-2\",IF(J21=\"aggregate transfer to conveyor\",\"CP-1 EU-3\",IF(J21=\"sand transfer to conveyor\",\"CP-1 EU-4\",IF(J21=\"aggregate transfer to elevated storage\",\"CP-1 EU-5\",IF(J21=\"sand transfer to elevated storage\",\"CP-1 EU-6\",IF(J21=\"weigh hopper loading\",\"CP-1 EU-7\",IF(J21=\"central mix loading\",\"CP-1 EU-8\",IF(J21=\"truck mix loading\",\"CP-1 EU-9\",IF(J21=\"cement delivery to silo\",\"CP-1 EU-10\",IF(J21=\"cement supplement delivery to silo\",\"CP-1 EU-11\"))))))))))))","v":""},null,null,null,{"$f":"IF(J21=\"truck mix loading\",IF($F$24=\"yes\",L21*0.05/2000,L21/2000),\"\")","v":""},{"$f":"IF(J21=\"central mix loading\",IF($F$24=\"yes\",L21*0.05/2000,L21/2000),\"\")","v":""},null,"Aggregate Delivery to Ground Storage",{"$f":"Q4","v":0},{"$f":"IF(Q21=0,0,LOOKUP(P21,'Emission Factors'!$A$5:$A$16,'Emission Factors'!$D$5:$D$16))","v":0},{"$f":"Q21*R21","v":0},{"$f":"IF(Q21=0,\"\",IF($I$10>0,$I$10,\"\"))","v":""},{"$f":"IF($J$10>0,$J$10,IF($D$9>0,$D$9*R21/2000,IF($D$10>0,$D$10*365*R21/2000,IF($D$11>0,$D$11*365*R21*Q21/2000,IF($I$10>0,0,S21*8760/2000)))))","v":0},{"$f":"(R4*R21/2000)","v":0}]
["NO","County:",null,null,null,null,null,{"$f":"IF(J22=\"cement delivery to silo\",\"CP-1 EP-2\",IF(J22=\"cement supplement delivery to silo\",\"CP-1 EP-3\",IF(J22=\"weigh hopper loading\",\"CP-1 EP-4\",IF(J22=\"truck mix loading\",\"CP-1 EP-5\",IF(J22=\"central mix loading\",\"CP-1 EP-6\",IF(J22=\"\",\"\",\"CP-1 EP-1\"))))))","v":""},{"$f":"IF(J22=\"\",\"\",IF(J22=\"aggregate delivery to ground storage\",\"CP-1 EU-1\",IF(J22=\"sand delivery to ground storage\",\"CP-1 EU-2\",IF(J22=\"aggregate transfer to conveyor\",\"CP-1 EU-3\",IF(J22=\"sand transfer to conveyor\",\"CP-1 EU-4\",IF(J22=\"aggregate transfer to elevated storage\",\"CP-1 EU-5\",IF(J22=\"sand transfer to elevated storage\",\"CP-1 EU-6\",IF(J22=\"weigh hopper loading\",\"CP-1 EU-7\",IF(J22=\"central mix loading\",\"CP-1 EU-8\",IF(J22=\"truck mix loading\",\"CP-1 EU-9\",IF(J22=\"cement delivery to silo\",\"CP-1 EU-10\",IF(J22=\"cement supplement delivery to silo\",\"CP-1 EU-11\"))))))))))))","v":""},null,null,null,{"$f":"IF(J22=\"truck mix loading\",IF($F$24=\"yes\",L22*0.05/2000,L22/2000),\"\")","v":""},{"$f":"IF(J22=\"central mix loading\",IF($F$24=\"yes\",L22*0.05/2000,L22/2000),\"\")","v":""},null,"Sand Delivery to Ground Storage",0,{"$f":"IF(Q22=0,0,LOOKUP(P22,'Emission Factors'!$A$5:$A$16,'Emission Factors'!$D$5:$D$16))","v":0},0,{"$f":"IF(Q22=0,\"\",IF($I$10>0,$I$10,\"\"))","v":""},{"$f":"IF($J$10>0,\"\",IF($D$9>0,$D$9*R22/2000,IF($D$10>0,$D$10*365*R22/2000,IF($D$11>0,$D$11*365*R22*Q22/2000,IF($I$10>0,0,S22*8760/2000)))))","v":0},0]
[null,"Batching Period (Dates):",null,null,null,null,null,"","",null,null,null,"","",null,"Aggregate Transfer to Conveyor",0,{"$f":"IF(Q23=0,0,LOOKUP(P23,'Emission Factors'!$A$5:$A$16,'Emission Factors'!$D$5:$D$16))","v":0},0,"",0,0]
["Aggregate Delivery to Ground Storage",{"$f":"IF(OR(COUNTIF(J21:J30,\"Truck Mix Loading\")>0,(COUNTIF(J21:J30,\"Central Mix Loading\")>0)),\"Is the Central/Truck Mix Loading process controlled by a baghouse?\",\"\")","v":""},null,null,null,null,null,"","",null,null,null,"","",null,"Sand Transfer to Conveyor",0,{"$f":"IF(Q24=0,0,LOOKUP(P24,'Emission Factors'!$A$5:$A$16,'Emission Factors'!$D$5:$D$16))","v":0},0,"",0,0]
["Sand Delivery to Ground Storage",null,null,null,null,null,null,"","",null,null,null,"","",null,"Aggregate Transfer to Elevated Storage",0,{"$f":"IF(Q25=0,0,LOOKUP(P25,'Emission Factors'!$A$5:$A$16,'Emission Factors'!$D$5:$D$16))","v":0},0,"",0,0]
["Aggregate Transfer to Conveyor",{"$f":"IF(AND(B28=\"\",B29=\"\",B32=\"\",B31=\"\",B30=\"\"),\"\",\"Process (complete stack information if applicable):\")","v":""},{"$f":"IF(AND(B28=\"\",B29=\"\",B32=\"\",B31=\"\",B30=\"\"),\"\",\"Stack Height (ft):\")","v":""},{"$f":"IF(AND(B28=\"\",B29=\"\",B32=\"\",B31=\"\",B30=\"\"),\"\",\"Stack Diameter (inches):\")","v":""},{"$f":"IF(AND(B28=\"\",B29=\"\",B32=\"\",B31=\"\",B30=\"\"),\"\",\"Flow Rate (acfm):\")","v":""},{"$f":"IF(AND(B28=\"\",B29=\"\",B32=\"\",B31=\"\",B30=\"\"),\"\",\"Temp (Deg F):\")","v":""},null,"","",null,null,null,"","",null,"Sand Transfer to Elevated Storage",0,{"$f":"IF(Q26=0,0,LOOKUP(P26,'Emission Factors'!$A$5:$A$16,'Emission Factors'!$D$5:$D$16))","v":0},0,"",0,0]
["Sand Transfer to Conveyor",null,null,null,null,null,null,"","",null,null,null,"","",null,"Weigh Hopper Loading",0,{"$f":"IF(Q27=0,0,LOOKUP(P27,'Emission Factors'!$A$5:$A$16,'Emission Factors'!$D$5:$D$16))","v":0},0,"",0,0]
["Aggregate Transfer to Elevated Storage",{"$f":"IF(COUNTIF(J21:J30,\"Cement Delivery to Silo\")>0,\"EP-2 Cement Silo Stack:\",\"\")","v":""},null,null,null,null,null,"","",null,null,null,"","",null,"Central Mix Loading",0,{"$f":"IF(Q28=0,0,LOOKUP(P28,'Emission Factors'!$A$5:$A$16,'Emission Factors'!$D$5:$D$16))","v":0},0,{"$f":"IF(Q28=0,\"\",IF($I$10>0,$I$10,IF(COUNTIF($F$24:$F$168,\"no\")>0,\"\",S28*(1-0.95))))","v":""},{"$f":"IF($J$10>0,\"\",IF($D$9>0,$D$9*R28*((100-$W$30)/100)/2000,IF($D$10>0,$D$10*365*R28*((100-$W$30)/100)/2000,IF($D$11>0,$D$11*365*R28*((100-$W$30)/100)*Q28/2000,IF(T28=\"\",S28*8760/2000,T28*8760/2000)))))","v":0},{"$f":"(R28*N180)","v":0}]
["Sand Transfer to Elevated Storage",{"$f":"IF(COUNTIF(J21:J30,\"Cement Supplement Delivery to Silo\")>0,\"EP-3 Cement Supplement Silo Stack:\",\"\")","v":""},null,null,null,null,null,"","",null,null,null,"","",null,"Truck Mix Loading",0,{"$f":"IF(Q29=0,0,LOOKUP(P29,'Emission Factors'!$A$5:$A$16,'Emission Factors'!$D$5:$D$16))","v":0},0,{"$f":"IF(Q29=0,\"\",IF($I$10>0,$I$10,IF(COUNTIF($F$24:$F$168,\"no\")>0,\"\",S29*(1-0.95))))","v":""},{"$f":"IF($J$10>0,\"\",IF($D$9>0,$D$9*R29*((100-$W$30)/100)/2000,IF($D$10>0,$D$10*365*R29*((100-$W$30)/100)/2000,IF($D$11>0,$D$11*365*R29*((100-$W$30)/100)*Q29/2000,IF(T29=\"\",S29*8760/2000,T29*8760/2000)))))","v":0},{"$f":"(R29*M180)","v":0}]
["Weigh Hopper Loading",{"$f":"IF(COUNTIF(J21:J30,\"Weigh Hopper Loading\")>0,\"EP-4 Weigh Hopper Loading Stack:\",\"\")","v":""},null,null,null,null,null,"","",null,null,null,"","",null,"Cement Delivery to Silo",0,{"$f":"IF(Q30=0,0,LOOKUP(P30,'Emission Factors'!$A$5:$A$16,'Emission Factors'!$D$5:$D$16))","v":0},null,{"$f":"IF(Q30=0,0,IF($I$10>0,$I$10,Q30*R30))","v":0},{"$f":"IF($J$10>0,\"\",IF($D$9>0,$D$9*R30/2000,IF($D$10>0,$D$10*365*R30/2000,IF($D$11>0,$D$11*365*R30*Q30/2000,IF($I$10>0,0,T30*8760/2000)))))","v":0},{"$f":"(R13*R30/2000)","v":0},{"$f":"IF(COUNTIF($F$24:$F$168,\"no\")>0,0,95)","v":95}]
["Central Mix Loading",{"$f":"IF(COUNTIF(J21:J30,\"Truck Mix Loading\")>0,\"EP-5 Truck Mix Loading Stack:\",\"\")","v":""},null,null,null,null,null,null,null,null,null,null,null,null,null,"Cement Supplement Delivery to Silo",0,{"$f":"IF(Q31=0,0,LOOKUP(P31,'Emission Factors'!$A$5:$A$16,'Emission Factors'!$D$5:$D$16))","v":0},null,{"$f":"IF(Q31=0,0,IF($I$10>0,$I$10,Q31*R31))","v":0},{"$f":"IF($J$10>0,\"\",IF($D$9>0,$D$9*R31/2000,IF($D$10>0,$D$10*365*R31/2000,IF($D$11>0,$D$11*365*R31*Q31/2000,IF($I$10>0,0,T31*8760/2000)))))","v":0},{"$f":"(R14*R31/2000)","v":0}]
["Truck Mix Loading",{"$f":"IF(COUNTIF(J21:J30,\"Central Mix Loading\")>0,\"EP-6 Central Mix Loading Stack:\",\"\")","v":""},null,null,null,null,null,"Stock Pile Area"]
["Cement Delivery to Silo",null,null,null,null,null,null,null,"Emission Unit #","Maximum Storage Area (acres)","Actual Storage Area (acres)","Actual Days in Existence (days)",null,null,null,"PM10"]
["Cement Supplement Delivery to Silo",null,null,null,null,null,null,null,null,null,null,null,null,null,null,"Aggregate Delivery to Ground Storage",{"$f":"Q4","v":0},{"$f":"IF(Q34=0,0,LOOKUP(P34,'Emission Factors'!$A$5:$A$16,'Emission Factors'!$H$5:$H$16))","v":0},{"$f":"Q34*R34","v":0},{"$f":"IF(Q34=0,\"\",IF($I$11>0,$I$11,\"\"))","v":""},{"$f":"IF($J$11>0,$J$11,IF($D$9>0,$D$9*R34/2000,IF($D$10>0,$D$10*365*R34/2000,IF($D$11>0,$D$11*365*R34*Q34/2000,IF($I$11>0,0,S34*8760/2000)))))","v":0},{"$f":"(R4*R34/2000)","v":0}]
[null,null,null,null,null,null,null,null,null,null,null,null,null,null,null,"Sand Delivery to Ground Storage",0,{"$f":"IF(Q35=0,0,LOOKUP(P35,'Emission Factors'!$A$5:$A$16,'Emission Factors'!$H$5:$H$16))","v":0},{"$f":"Q35*R35","v":0},{"$f":"IF(Q35=0,\"\",IF($I$11>0,$I$11,\"\"))","v":""},{"$f":"IF($J$11>0,\"\",IF($D$9>0,$D$9*R35/2000,IF($D$10>0,$D$10*365*R35/2000,IF($D$11>0,$D$11*365*R35*Q35/2000,IF($I$11>0,0,S35*8760/2000)))))","v":0},0]
[null,{"$f":"IF('Concrete Plant (CP-1)'!$D$4>1,\"Batch Plant\",\"\")","v":""},{"$f":"IF('Concrete Plant (CP-1)'!$D$4>1,\"Site 2\",\"\")","v":""},null,null,null,null,{"$f":"IF('Concrete Plant (CP-1)'!$D$4>1,\"Emission Point #\",\"\")","v":""},{"$f":"IF('Concrete Plant (CP-1)'!$D$4>1,\"Emission     Unit #\",\"\")","v":""},{"$f":"IF('Concrete Plant (CP-1)'!$D$4>1,\"Processes\",\"\")","v":""},{"$f":"IF('Concrete Plant (CP-1)'!$D$4>1,\"Combined Maximum Hourly Design Rate for all Like Processes (cubic yard/hr)\",\"\")","v":""},{"$f":"IF('Concrete Plant (CP-1)'!$D$4>1,('Facility Information'!G5&\" Annual Throughput (cubic yards)\"),\"\")","v":""},null,null,null,"Aggregate Transfer to Conveyor",0,{"$f":"IF(Q36=0,0,LOOKUP(P36,'Emission Factors'!$A$5:$A$16,'Emission Factors'!$H$5:$H$16))","v":0},0,"",0,0]
[null,{"$f":"IF('Concrete Plant (CP-1)'!$D$4>1,\"Site Name:\",\"\")","v":""},null,null,null,null,null,{"$f":"IF(J37=\"cement delivery to silo\",\"CP-1 EP-2\",IF(J37=\"cement supplement delivery to silo\",\"CP-1 EP-3\",IF(J37=\"weigh hopper loading\",\"CP-1 EP-4\",IF(J37=\"truck mix loading\",\"CP-1 EP-5\",IF(J37=\"central mix loading\",\"CP-1 EP-6\",IF(J37=\"\",\"\",\"CP-1 EP-1\"))))))","v":""},{"$f":"IF(J37=\"\",\"\",IF(J37=\"aggregate delivery to ground storage\",\"CP-1 EU-1\",IF(J37=\"sand delivery to ground storage\",\"CP-1 EU-2\",IF(J37=\"aggregate transfer to conveyor\",\"CP-1 EU-3\",IF(J37=\"sand transfer to conveyor\",\"CP-1 EU-4\",IF(J37=\"aggregate transfer to elevated storage\",\"CP-1 EU-5\",IF(J37=\"sand transfer to elevated storage\",\"CP-1 EU-6\",IF(J37=\"weigh hopper loading\",\"CP-1 EU-7\",IF(J37=\"central mix loading\",\"CP-1 EU-8\",IF(J37=\"truck mix loading\",\"CP-1 EU-9\",IF(J37=\"cement delivery to silo\",\"CP-1 EU-10\",IF(J37=\"cement supplement delivery to silo\",\"CP-1 EU-11\"))))))))))))","v":""},null,null,null,{"$f":"IF(J37=\"truck mix loading\",IF($F$40=\"yes\",L37*0.05/2000,L37/2000),\"\")","v":""},{"$f":"IF(J37=\"central mix loading\",IF($F$40=\"yes\",L37*0.05/2000,L37/2000),\"\")","v":""},null,"Sand Transfer to Conveyor",0,{"$f":"IF(Q37=0,0,LOOKUP(P37,'Emission Factors'!$A$5:$A$16,'Emission Factors'!$H$5:$H$16))","v":0},{"$f":"Q37*R37","v":0},{"$f":"IF(Q37=0,\"\",IF($I$11>0,$I$11,\"\"))","v":""},{"$f":"IF($J$11>0,\"\",IF($D$9>0,$D$9*R37/2000,IF($D$10>0,$D$10*365*R37/2000,IF($D$11>0,$D$11*365*R37*Q37/2000,IF($I$11>0,0,S37*8760/2000)))))","v":0},0]
[null,{"$f":"IF('Concrete Plant (CP-1)'!$D$4>1,\"County:\",\"\")","v":""},null,null,null,null,null,{"$f":"IF(J38=\"cement delivery to silo\",\"CP-1 EP-2\",IF(J38=\"cement supplement delivery to silo\",\"CP-1 EP-3\",IF(J38=\"weigh hopper loading\",\"CP-1 EP-4\",IF(J38=\"truck mix loading\",\"CP-1 EP-5\",IF(J38=\"central mix loading\",\"CP-1 EP-6\",IF(J38=\"\",\"\",\"CP-1 EP-1\"))))))","v":""},{"$f":"IF(J38=\"\",\"\",IF(J38=\"aggregate delivery to ground storage\",\"CP-1 EU-1\",IF(J38=\"sand delivery to ground storage\",\"CP-1 EU-2\",IF(J38=\"aggregate transfer to conveyor\",\"CP-1 EU-3\",IF(J38=\"sand transfer to conveyor\",\"CP-1 EU-4\",IF(J38=\"aggregate transfer to elevated storage\",\"CP-1 EU-5\",IF(J38=\"sand transfer to elevated storage\",\"CP-1 EU-6\",IF(J38=\"weigh hopper loading\",\"CP-1 EU-7\",IF(J38=\"central mix loading\",\"CP-1 EU-8\",IF(J38=\"truck mix loading\",\"CP-1 EU-9\",IF(J38=\"cement delivery to silo\",\"CP-1 EU-10\",IF(J38=\"cement supplement delivery to silo\",\"CP-1 EU-11\"))))))))))))","v":""},null,null,null,{"$f":"IF(J38=\"truck mix loading\",IF($F$40=\"yes\",L38*0.05/2000,L38/2000),\"\")","v":""},{"$f":"IF(J38=\"central mix loading\",IF($F$40=\"yes\",L38*0.05/2000,L38/2000),\"\")","v":""},null,"Aggregate Transfer to Elevated Storage",0,{"$f":"IF(Q38=0,0,LOOKUP(P38,'Emission Factors'!$A$5:$A$16,'Emission Factors'!$H$5:$H$16))","v":0},0,{"$f":"IF(Q38=0,\"\",IF($I$11>0,$I$11,\"\"))","v":""},{"$f":"IF($J$11>0,\"\",IF($D$9>0,$D$9*R38/2000,IF($D$10>0,$D$10*365*R38/2000,IF($D$11>0,$D$11*365*R38*Q38/2000,IF($I$11>0,0,S38*8760/2000)))))","v":0},0]
[null,{"$f":"IF('Concrete Plant (CP-1)'!$D$4>1,\"Batching Period (Dates):\",\"\")","v":""},null,null,null,null,null,"",{"$f":"IF(J39=\"\",\"\",IF(J39=\"aggregate delivery to ground storage\",\"CP-1 EU-1\",IF(J39=\"sand delivery to ground storage\",\"CP-1 EU-2\",IF(J39=\"aggregate transfer to conveyor\",\"CP-1 EU-3\",IF(J39=\"sand transfer to conveyor\",\"CP-1 EU-4\",IF(J39=\"aggregate transfer to elevated storage\",\"CP-1 EU-5\",IF(J39=\"sand transfer to elevated storage\",\"CP-1 EU-6\",IF(J39=\"weigh hopper loading\",\"CP-1 EU-7\",IF(J39=\"central mix loading\",\"CP-1 EU-8\",IF(J39=\"truck mix loading\",\"CP-1 EU-9\",IF(J39=\"cement delivery to silo\",\"CP-1 EU-10\",IF(J39=\"cement supplement delivery to silo\",\"CP-1 EU-11\"))))))))))))","v":""},null,null,null,"","",null,"Sand Transfer to Elevated Storage",0,{"$f":"IF(Q39=0,0,LOOKUP(P39,'Emission Factors'!$A$5:$A$16,'Emission Factors'!$H$5:$H$16))","v":0},0,{"$f":"IF(Q39=0,\"\",IF($I$11>0,$I$11,\"\"))","v":""},{"$f":"IF($J$11>0,\"\",IF($D$9>0,$D$9*R39/2000,IF($D$10>0,$D$10*365*R39/2000,IF($D$11>0,$D$11*365*R39*Q39/2000,IF($I$11>0,0,S39*8760/2000)))))","v":0},0]
[null,{"$f":"IF(OR(COUNTIF(J37:J46,\"Truck Mix Loading\")>0,(COUNTIF(J37:J46,\"Central Mix Loading\")>0)),\"Is the Central/Truck Mix Loading process controlled by a baghouse?\",\"\")","v":""},null,null,null,null,null,"","",null,null,null,"","",null,"Weigh Hopper Loading",0,{"$f":"IF(Q40=0,0,LOOKUP(P40,'Emission Factors'!$A$5:$A$16,'Emission Factors'!$H$5:$H$16))","v":0},0,{"$f":"IF(Q40=0,\"\",IF($I$11>0,$I$11,\"\"))","v":""},{"$f":"IF($J$11>0,\"\",IF($D$9>0,$D$9*R40/2000,IF($D$10>0,$D$10*365*R40/2000,IF($D$11>0,$D$11*365*R40*Q40/2000,IF($I$11>0,0,S40*8760/2000)))))","v":0},0]
[null,null,null,null,null,null,null,"","",null,null,null,"","",null,"Central Mix Loading",0,{"$f":"IF(Q41=0,0,LOOKUP(P41,'Emission Factors'!$A$5:$A$16,'Emission Factors'!$H$5:$H$16))","v":0},0,{"$f":"IF(Q41=0,\"\",IF($I$11>0,$I$11,IF(COUNTIF($F$24:$F$168,\"no\")>0,\"\",S41*(1-0.95))))","v":""},{"$f":"IF($J$11>0,\"\",IF($D$9>0,$D$9*R41*((100-$W$30)/100)/2000,IF($D$10>0,$D$10*365*R41*((100-$W$30)/100)/2000,IF($D$11>0,$D$11*365*R41*((100-$W$30)/100)*Q41/2000,IF(T41=\"\",S41*8760/2000,T41*8760/2000)))))","v":0},{"$f":"(N180*R41)","v":0},{"$f":"IF(COUNTIF($F$24:$F$168,\"no\")>0,0,95)","v":95}]
[null,{"$f":"IF(AND(B44=\"\",B45=\"\",B46=\"\",B47=\"\",B48=\"\"),\"\",\"Process (complete stack information if applicable):\")","v":""},{"$f":"IF(AND(B44=\"\",B45=\"\",B46=\"\",B47=\"\",B48=\"\"),\"\",\"Stack Height (ft):\")","v":""},{"$f":"IF(AND(B44=\"\",B45=\"\",B46=\"\",B47=\"\",B48=\"\"),\"\",\"Stack Diameter (inches):\")","v":""},{"$f":"IF(AND(B44=\"\",B45=\"\",B46=\"\",B47=\"\",B48=\"\"),\"\",\"Flow Rate (acfm):\")","v":""},{"$f":"IF(AND(B44=\"\",B45=\"\",B46=\"\",B47=\"\",B48=\"\"),\"\",\"Temp (Deg F):\")","v":""},null,"","",null,null,null,"","",null,"Truck Mix Loading",0,{"$f":"IF(Q42=0,0,LOOKUP(P42,'Emission Factors'!$A$5:$A$16,'Emission Factors'!$H$5:$H$16))","v":0},0,{"$f":"IF(Q42=0,\"\",IF($I$11>0,$I$11,IF(COUNTIF($F$24:$F$168,\"no\")>0,\"\",S42*(1-0.95))))","v":""},{"$f":"IF($J$11>0,\"\",IF($D$9>0,$D$9*R42*((100-$W$30)/100)/2000,IF($D$10>0,$D$10*365*R42*((100-$W$30)/100)/2000,IF($D$11>0,$D$11*365*R42*((100-$W$30)/100)*Q42/2000,IF(T42=\"\",S42*8760/2000,T42*8760/2000)))))","v":0},{"$f":"(M180*R42)","v":0}]
[null,null,null,null,null,null,null,"","",null,null,null,"","",null,"Cement Delivery to Silo",0,{"$f":"IF(Q43=0,0,LOOKUP(P43,'Emission Factors'!$A$5:$A$16,'Emission Factors'!$H$5:$H$16))","v":0},null,{"$f":"IF(Q43=0,0,IF($I$10>0,$I$10,Q43*R43))","v":0},{"$f":"IF($J$11>0,\"\",IF($D$9>0,$D$9*R43/2000,IF($D$10>0,$D$10*365*R43/2000,IF($D$11>0,$D$11*365*R43*Q43/2000,IF($I$11>0,0,T43*8760/2000)))))","v":0},{"$f":"(R13*R43/2000)","v":0}]
[null,{"$f":"IF(COUNTIF(J37:J46,\"Cement Delivery to Silo\")>0,\"EP-2 Cement Silo Stack:\",\"\")","v":""},null,null,null,null,null,"","",null,null,null,"","",null,"Cement Supplement Delivery to Silo",0,{"$f":"IF(Q44=0,0,LOOKUP(P44,'Emission Factors'!$A$5:$A$16,'Emission Factors'!$H$5:$H$16))","v":0},null,{"$f":"IF(Q44=0,0,IF($I$10>0,$I$10,Q44*R44))","v":0},{"$f":"IF($J$11>0,\"\",IF($D$9>0,$D$9*R44/2000,IF($D$10>0,$D$10*365*R44/2000,IF($D$11>0,$D$11*365*R44*Q44/2000,IF($I$11>0,0,T44*8760/2000)))))","v":0},{"$f":"(R14*R44/2000)","v":0}]
[null,{"$f":"IF(COUNTIF(J37:J46,\"Cement Supplement Delivery to Silo\")>0,\"EP-3 Cement Supplement Silo Stack:\",\"\")","v":""},null,null,null,null,null,"","",null,null,null,"",""]
[null,{"$f":"IF(COUNTIF(J37:J46,\"Weigh Hopper Loading\")>0,\"EP-4 Weigh Hopper Loading Stack:\",\"\")","v":""},null,null,null,null,null,"","",null,null,null,"",""]
[null,{"$f":"IF(COUNTIF(J37:J46,\"Truck Mix Loading\")>0,\"EP-5 Truck Mix Loading Stack:\",\"\")","v":""},null,null,null,null,null,{"$f":"IF('Concrete Plant (CP-1)'!$D$4>1,\"Stock Pile Area\",\"\")","v":""},null,null,null,null,null,null,null,"Storage Pile","Max Design Rate (acres/day)","Emission Factor   (lb/acre-day)","Potential Uncontrolled Emissions (lb/hr)","Potential Controlled Emissions (lb/hr)","Potential Annual Emissions (tons/yr)","Actual Annual Emissions (tons/yr)"]
[null,{"$f":"IF(COUNTIF(J37:J46,\"Central Mix Loading\")>0,\"EP-6 Central Mix Loading Stack:\",\"\")","v":""},null,null,null,null,null,null,{"$f":"IF('Concrete Plant (CP-1)'!$D$4>1,\"Emission Unit #\",\"\")","v":""},{"$f":"IF('Concrete Plant (CP-1)'!$D$4>1,\"Maximum Storage Area (acres)\",\"\")","v":""},{"$f":"IF('Concrete Plant (CP-1)'!$D$4>1,\"Actual Storage Area (acres)\",\"\")","v":""},{"$f":"IF('Concrete Plant (CP-1)'!$D$4>1,\"Actual Days in Existence (days)\",\"\")","v":""},null,null,null,"PM2.5/PM10",{"$f":"Q17","v":0},3.64,{"$f":"Q48*R48*(1/24)","v":0},null,{"$f":"Q48*R48*365/2000","v":0},{"$f":"R17*R48/2000","v":0}]
[]
[]
[null,{"$f":"IF('Concrete Plant (CP-1)'!$D$4>2,\"Batch Plant\",\"\")","v":""},{"$f":"IF('Concrete Plant (CP-1)'!$D$4>2,\"Site 3\",\"\")","v":""},null,null,null,null,{"$f":"IF('Concrete Plant (CP-1)'!$D$4>2,\"Emission Point #\",\"\")","v":""},{"$f":"IF('Concrete Plant (CP-1)'!$D$4>2,\"Emission     Unit #\",\"\")","v":""},{"$f":"IF('Concrete Plant (CP-1)'!$D$4>2,\"Processes\",\"\")","v":""},{"$f":"IF('Concrete Plant (CP-1)'!$D$4>2,\"Combined Maximum Hourly Design Rate for all Like Processes (cubic yard/hr)\",\"\")","v":""},{"$f":"IF('Concrete Plant (CP-1)'!$D$4>2,('Facility Information'!G5&\" Annual Throughput (cubic yards)\"),\"\")","v":""}]
[null,{"$f":"IF('Concrete Plant (CP-1)'!$D$4>2,\"Site Name:\",\"\")","v":""},null,null,null,null,null,{"$f":"IF(J52=\"cement delivery to silo\",\"CP-1 EP-2\",IF(J52=\"cement supplement delivery to silo\",\"CP-1 EP-3\",IF(J52=\"weigh hopper loading\",\"CP-1 EP-4\",IF(J52=\"truck mix loading\",\"CP-1 EP-5\",IF(J52=\"central mix loading\",\"CP-1 EP-6\",IF(J52=\"\",\"\",\"CP-1 EP-1\"))))))","v":""},{"$f":"IF(J52=\"\",\"\",IF(J52=\"aggregate delivery to ground storage\",\"CP-1 EU-1\",IF(J52=\"sand delivery to ground storage\",\"CP-1 EU-2\",IF(J52=\"aggregate transfer to conveyor\",\"CP-1 EU-3\",IF(J52=\"sand transfer to conveyor\",\"CP-1 EU-4\",IF(J52=\"aggregate transfer to elevated storage\",\"CP-1 EU-5\",IF(J52=\"sand transfer to elevated storage\",\"CP-1 EU-6\",IF(J52=\"weigh hopper loading\",\"CP-1 EU-7\",IF(J52=\"central mix loading\",\"CP-1 EU-8\",IF(J52=\"truck mix loading\",\"CP-1 EU-9\",IF(J52=\"cement delivery to silo\",\"CP-1 EU-10\",IF(J52=\"cement supplement delivery to silo\",\"CP-1 EU-11\"))))))))))))","v":""},null,null,null,{"$f":"IF(J52=\"truck mix loading\",IF($F$55=\"yes\",L52*0.05/2000,L52/2000),\"\")","v":""},{"$f":"IF(J52=\"central mix loading\",IF($F$55=\"yes\",L52*0.05/2000,L52/2000),\"\")","v":""}]
[null,{"$f":"IF('Concrete Plant (CP-1)'!$D$4>2,\"County:\",\"\")","v":""},null,null,null,null,null,{"$f":"IF(J53=\"cement delivery to silo\",\"CP-1 EP-2\",IF(J53=\"cement supplement delivery to silo\",\"CP-1 EP-3\",IF(J53=\"weigh hopper loading\",\"CP-1 EP-4\",IF(J53=\"truck mix loading\",\"CP-1 EP-5\",IF(J53=\"central mix loading\",\"CP-1 EP-6\",IF(J53=\"\",\"\",\"CP-1 EP-1\"))))))","v":""},{"$f":"IF(J53=\"\",\"\",IF(J53=\"aggregate delivery to ground storage\",\"CP-1 EU-1\",IF(J53=\"sand delivery to ground storage\",\"CP-1 EU-2\",IF(J53=\"aggregate transfer to conveyor\",\"CP-1 EU-3\",IF(J53=\"sand transfer to conveyor\",\"CP-1 EU-4\",IF(J53=\"aggregate transfer to elevated storage\",\"CP-1 EU-5\",IF(J53=\"sand transfer to elevated storage\",\"CP-1 EU-6\",IF(J53=\"weigh hopper loading\",\"CP-1 EU-7\",IF(J53=\"central mix loading\",\"CP-1 EU-8\",IF(J53=\"truck mix loading\",\"CP-1 EU-9\",IF(J53=\"cement delivery to silo\",\"CP-1 EU-10\",IF(J53=\"cement supplement delivery to silo\",\"CP-1 EU-11\"))))))))))))","v":""},null,null,null,{"$f":"IF(J53=\"truck mix loading\",IF($F$55=\"yes\",L53*0.05/2000,L53/2000),\"\")","v":""},{"$f":"IF(J53=\"central mix loading\",IF($F$55=\"yes\",L53*0.05/2000,L53/2000),\"\")","v":""}]
[null,{"$f":"IF('Concrete Plant (CP-1)'!$D$4>2,\"Batching Period (Dates):\",\"\")","v":""},null,null,null,null,null,"","",null,null,null,"",""]
[null,{"$f":"IF(OR(COUNTIF(J52:J61,\"Truck Mix Loading\")>0,(COUNTIF(J52:J61,\"Central Mix Loading\")>0)),\"Is the Central/Truck Mix Loading process controlled by a baghouse?\",\"\")","v":""},null,null,null,null,null,"","",null,null,null,"",""]
[null,null,null,null,null,null,null,"","",null,null,null,"",""]
[null,{"$f":"IF(AND(B59=\"\",B60=\"\",B61=\"\",B62=\"\",B63=\"\"),\"\",\"Process (complete stack information if applicable):\")","v":""},{"$f":"IF(AND(B59=\"\",B60=\"\",B61=\"\",B62=\"\",B63=\"\"),\"\",\"Stack Height (ft):\")","v":""},{"$f":"IF(AND(B59=\"\",B60=\"\",B61=\"\",B62=\"\",B63=\"\"),\"\",\"Stack Diameter (inches):\")","v":""},{"$f":"IF(AND(B59=\"\",B60=\"\",B61=\"\",B62=\"\",B63=\"\"),\"\",\"Flow Rate (acfm):\")","v":""},{"$f":"IF(AND(B59=\"\",B60=\"\",B61=\"\",B62=\"\",B63=\"\"),\"\",\"Temp (Deg F):\")","v":""},null,"","",null,null,null,"",""]
[null,null,null,null,null,null,null,"","",null,null,null,"",""]
[null,{"$f":"IF(COUNTIF(J52:J61,\"Cement Delivery to Silo\")>0,\"EP-2 Cement Silo Stack:\",\"\")","v":""},null,null,null,null,null,"","",null,null,null,"",""]
[null,{"$f":"IF(COUNTIF(J52:J61,\"Cement Supplement Delivery to Silo\")>0,\"EP-3 Cement Supplement Silo Stack:\",\"\")","v":""},null,null,null,null,null,"","",null,null,null,"",""]
[null,{"$f":"IF(COUNTIF(J52:J61,\"Weigh Hopper Loading\")>0,\"EP-4 Weigh Hopper Loading Stack:\",\"\")","v":""},null,null,null,null,null,"","",null,null,null,"",""]
[null,{"$f":"IF(COUNTIF(J52:J61,\"Truck Mix Loading\")>0,\"EP-5 Truck Mix Loading Stack:\",\"\")","v":""}]
[null,{"$f":"IF(COUNTIF(J52:J61,\"Central Mix Loading\")>0,\"EP-6 Central Mix Loading Stack:\",\"\")","v":""},null,null,null,null,null,{"$f":"IF('Concrete Plant (CP-1)'!$D$4>2,\"Stock Pile Area\",\"\")","v":""}]
[null,null,null,null,null,null,null,null,{"$f":"IF('Concrete Plant (CP-1)'!$D$4>2,\"Emission Unit #\",\"\")","v":""},{"$f":"IF('Concrete Plant (CP-1)'!$D$4>2,\"Maximum Storage Area (acres)\",\"\")","v":""},{"$f":"IF('Concrete Plant (CP-1)'!$D$4>2,\"Actual Storage Area (acres)\",\"\")","v":""},{"$f":"IF('Concrete Plant (CP-1)'!$D$4>2,\"Actual Days in Existence (days)\",\"\")","v":""}]
[]
[]
[null,{"$f":"IF('Concrete Plant (CP-1)'!$D$4>3,\"Batch Plant\",\"\")","v":""},{"$f":"IF('Concrete Plant (CP-1)'!$D$4>3,\"Site 4\",\"\")","v":""},null,null,null,null,{"$f":"IF('Concrete Plant (CP-1)'!$D$4>3,\"Emission Point #\",\"\")","v":""},{"$f":"IF('Concrete Plant (CP-1)'!$D$4>3,\"Emission     Unit #\",\"\")","v":""},{"$f":"IF('Concrete Plant (CP-1)'!$D$4>3,\"Processes\",\"\")","v":""},{"$f":"IF('Concrete Plant (CP-1)'!$D$4>3,\"Combined Maximum Hourly Design Rate for all Like Processes (cubic yard/hr)\",\"\")","v":""},{"$f":"IF('Concrete Plant (CP-1)'!$D$4>3,('Facility Information'!G5&\" Annual Throughput (cubic yards)\"),\"\")","v":""}]
[null,{"$f":"IF('Concrete Plant (CP-1)'!$D$4>3,\"Site Name:\",\"\")","v":""},null,null,null,null,null,{"$f":"IF(J68=\"cement delivery to silo\",\"CP-1 EP-2\",IF(J68=\"cement supplement delivery to silo\",\"CP-1 EP-3\",IF(J68=\"weigh hopper loading\",\"CP-1 EP-4\",IF(J68=\"truck mix loading\",\"CP-1 EP-5\",IF(J68=\"central mix loading\",\"CP-1 EP-6\",IF(J68=\"\",\"\",\"CP-1 EP-1\"))))))","v":""},{"$f":"IF(J68=\"\",\"\",IF(J68=\"aggregate delivery to ground storage\",\"CP-1 EU-1\",IF(J68=\"sand delivery to ground storage\",\"CP-1 EU-2\",IF(J68=\"aggregate transfer to conveyor\",\"CP-1 EU-3\",IF(J68=\"sand transfer to conveyor\",\"CP-1 EU-4\",IF(J68=\"aggregate transfer to elevated storage\",\"CP-1 EU-5\",IF(J68=\"sand transfer to elevated storage\",\"CP-1 EU-6\",IF(J68=\"weigh hopper loading\",\"CP-1 EU-7\",IF(J68=\"central mix loading\",\"CP-1 EU-8\",IF(J68=\"truck mix loading\",\"CP-1 EU-9\",IF(J68=\"cement delivery to silo\",\"CP-1 EU-10\",IF(J68=\"cement supplement delivery to silo\",\"CP-1 EU-11\"))))))))))))","v":""},null,null,null,{"$f":"IF(J68=\"truck mix loading\",IF($F$71=\"yes\",L68*0.05/2000,L68/2000),\"\")","v":""},{"$f":"IF(J68=\"central mix loading\",IF($F$71=\"yes\",L68*0.05/2000,L68/2000),\"\")","v":""}]
[null,{"$f":"IF('Concrete Plant (CP-1)'!$D$4>3,\"County:\",\"\")","v":""},null,null,null,null,null,{"$f":"IF(J69=\"cement delivery to silo\",\"CP-1 EP-2\",IF(J69=\"cement supplement delivery to silo\",\"CP-1 EP-3\",IF(J69=\"weigh hopper loading\",\"CP-1 EP-4\",IF(J69=\"truck mix loading\",\"CP-1 EP-5\",IF(J69=\"central mix loading\",\"CP-1 EP-6\",IF(J69=\"\",\"\",\"CP-1 EP-1\"))))))","v":""},{"$f":"IF(J69=\"\",\"\",IF(J69=\"aggregate delivery to ground storage\",\"CP-1 EU-1\",IF(J69=\"sand delivery to ground storage\",\"CP-1 EU-2\",IF(J69=\"aggregate transfer to conveyor\",\"CP-1 EU-3\",IF(J69=\"sand transfer to conveyor\",\"CP-1 EU-4\",IF(J69=\"aggregate transfer to elevated storage\",\"CP-1 EU-5\",IF(J69=\"sand transfer to elevated storage\",\"CP-1 EU-6\",IF(J69=\"weigh hopper loading\",\"CP-1 EU-7\",IF(J69=\"central mix loading\",\"CP-1 EU-8\",IF(J69=\"truck mix loading\",\"CP-1 EU-9\",IF(J69=\"cement delivery to silo\",\"CP-1 EU-10\",IF(J69=\"cement supplement delivery to silo\",\"CP-1 EU-11\"))))))))))))","v":""},null,null,null,{"$f":"IF(J69=\"truck mix loading\",IF($F$71=\"yes\",L69*0.05/2000,L69/2000),\"\")","v":""},{"$f":"IF(J69=\"central mix loading\",IF($F$71=\"yes\",L69*0.05/2000,L69/2000),\"\")","v":""}]
[null,{"$f":"IF('Concrete Plant (CP-1)'!$D$4>3,\"Batching Period (Dates):\",\"\")","v":""},null,null,null,null,null,"","",null,null,null,"",""]
[null,{"$f":"IF(OR(COUNTIF(J68:J77,\"Truck Mix Loading\")>0,(COUNTIF(J68:J77,\"Central Mix Loading\")>0)),\"Is the Central/Truck Mix Loading process controlled by a baghouse?\",\"\")","v":""},null,null,null,null,null,"","",null,null,null,"",""]
[null,null,null,null,null,null,null,"","",null,null,null,"",""]
[null,{"$f":"IF(AND(B75=\"\",B76=\"\",B77=\"\",B78=\"\",B79=\"\"),\"\",\"Process (complete stack information if applicable):\")","v":""},{"$f":"IF(AND(B75=\"\",B76=\"\",B77=\"\",B78=\"\",B79=\"\"),\"\",\"Stack Height (ft):\")","v":""},{"$f":"IF(AND(B75=\"\",B76=\"\",B77=\"\",B78=\"\",B79=\"\"),\"\",\"Stack Diameter (inches):\")","v":""},{"$f":"IF(AND(B75=\"\",B76=\"\",B77=\"\",B78=\"\",B79=\"\"),\"\",\"Flow Rate (acfm):\")","v":""},{"$f":"IF(AND(B75=\"\",B76=\"\",B77=\"\",B78=\"\",B79=\"\"),\"\",\"Temperature (Deg F):\")","v":""},null,"","",null,null,null,"",""]
[null,null,null,null,null,null,null,"","",null,null,null,"",""]
[null,{"$f":"IF(COUNTIF(J68:J77,\"Cement Delivery to Silo\")>0,\"EP-2 Cement Silo Stack:\",\"\")","v":""},null,null,null,null,null,"","",null,null,null,"",""]
[null,{"$f":"IF(COUNTIF(J68:J77,\"Cement Supplement Delivery to Silo\")>0,\"EP-3 Cement Supplement Silo Stack:\",\"\")","v":""},null,null,null,null,null,"","",null,null,null,"",""]
[null,{"$f":"IF(COUNTIF(J68:J77,\"Weigh Hopper Loading\")>0,\"EP-4 Weigh Hopper Loading Stack:\",\"\")","v":""},null,null,null,null,null,"","",null,null,null,"",""]
[null,{"$f":"IF(COUNTIF(J68:J77,\"Truck Mix Loading\")>0,\"EP-5 Truck Mix Loading Stack:\",\"\")","v":""}]
[null,{"$f":"IF(COUNTIF(J68:J77,\"Central Mix Loading\")>0,\"EP-6 Central Mix Loading Stack:\",\"\")","v":""},null,null,null,null,null,{"$f":"IF('Concrete Plant (CP-1)'!$D$4>3,\"Stock Pile Area\",\"\")","v":""}]
[null,null,null,null,null,null,null,null,{"$f":"IF('Concrete Plant (CP-1)'!$D$4>3,\"Emission Unit #\",\"\")","v":""},{"$f":"IF('Concrete Plant (CP-1)'!$D$4>3,\"Maximum Storage Area (acres)\",\"\")","v":""},{"$f":"IF('Concrete Plant (CP-1)'!$D$4>3,\"Actual Storage Area (acres)\",\"\")","v":""},{"$f":"IF('Concrete Plant (CP-1)'!$D$4>3,\"Actual Days in Existence (days)\",\"\")","v":""}]
[]
[]
[null,{"$f":"IF('Concrete Plant (CP-1)'!$D$4>4,\"Batch Plant\",\"\")","v":""},{"$f":"IF('Concrete Plant (CP-1)'!$D$4>4,\"Site 5\",\"\")","v":""},null,null,null,null,{"$f":"IF('Concrete Plant (CP-1)'!$D$4>4,\"Emission Point #\",\"\")","v":""},{"$f":"IF('Concrete Plant (CP-1)'!$D$4>4,\"Emission     Unit #\",\"\")","v":""},{"$f":"IF('Concrete Plant (CP-1)'!$D$4>4,\"Processes\",\"\")","v":""},{"$f":"IF('Concrete Plant (CP-1)'!$D$4>4,\"Combined Maximum Hourly Design Rate for all Like Processes (cubic yard/hr)\",\"\")","v":""},{"$f":"IF('Concrete Plant (CP-1)'!$D$4>4,('Facility Information'!G5&\" Annual Throughput (cubic yards)\"),\"\")","v":""}]
[null,{"$f":"IF('Concrete Plant (CP-1)'!$D$4>4,\"Site Name:\",\"\")","v":""},null,null,null,null,null,{"$f":"IF(J84=\"cement delivery to silo\",\"CP-1 EP-2\",IF(J84=\"cement supplement delivery to silo\",\"CP-1 EP-3\",IF(J84=\"weigh hopper loading\",\"CP-1 EP-4\",IF(J84=\"truck mix loading\",\"CP-1 EP-5\",IF(J84=\"central mix loading\",\"CP-1 EP-6\",IF(J84=\"\",\"\",\"CP-1 EP-1\"))))))","v":""},{"$f":"IF(J84=\"\",\"\",IF(J84=\"aggregate delivery to ground storage\",\"CP-1 EU-1\",IF(J84=\"sand delivery to ground storage\",\"CP-1 EU-2\",IF(J84=\"aggregate transfer to conveyor\",\"CP-1 EU-3\",IF(J84=\"sand transfer to conveyor\",\"CP-1 EU-4\",IF(J84=\"aggregate transfer to elevated storage\",\"CP-1 EU-5\",IF(J84=\"sand transfer to elevated storage\",\"CP-1 EU-6\",IF(J84=\"weigh hopper loading\",\"CP-1 EU-7\",IF(J84=\"central mix loading\",\"CP-1 EU-8\",IF(J84=\"truck mix loading\",\"CP-1 EU-9\",IF(J84=\"cement delivery to silo\",\"CP-1 EU-10\",IF(J84=\"cement supplement delivery to silo\",\"CP-1 EU-11\"))))))))))))","v":""},null,null,null,{"$f":"IF(J84=\"truck mix loading\",IF($F$87=\"yes\",L84*0.05/2000,L84/2000),\"\")","v":""},{"$f":"IF(J84=\"central mix loading\",IF($F$87=\"yes\",L84*0.05/2000,L84/2000),\"\")","v":""}]
[null,{"$f":"IF('Concrete Plant (CP-1)'!$D$4>4,\"County:\",\"\")","v":""},null,null,null,null,null,{"$f":"IF(J85=\"cement delivery to silo\",\"CP-1 EP-2\",IF(J85=\"cement supplement delivery to silo\",\"CP-1 EP-3\",IF(J85=\"weigh hopper loading\",\"CP-1 EP-4\",IF(J85=\"truck mix loading\",\"CP-1 EP-5\",IF(J85=\"central mix loading\",\"CP-1 EP-6\",IF(J85=\"\",\"\",\"CP-1 EP-1\"))))))","v":""},{"$f":"IF(J85=\"\",\"\",IF(J85=\"aggregate delivery to ground storage\",\"CP-1 EU-1\",IF(J85=\"sand delivery to ground storage\",\"CP-1 EU-2\",IF(J85=\"aggregate transfer to conveyor\",\"CP-1 EU-3\",IF(J85=\"sand transfer to conveyor\",\"CP-1 EU-4\",IF(J85=\"aggregate transfer to elevated storage\",\"CP-1 EU-5\",IF(J85=\"sand transfer to elevated storage\",\"CP-1 EU-6\",IF(J85=\"weigh hopper loading\",\"CP-1 EU-7\",IF(J85=\"central mix loading\",\"CP-1 EU-8\",IF(J85=\"truck mix loading\",\"CP-1 EU-9\",IF(J85=\"cement delivery to silo\",\"CP-1 EU-10\",IF(J85=\"cement supplement delivery to silo\",\"CP-1 EU-11\"))))))))))))","v":""},null,null,null,{"$f":"IF(J85=\"truck mix loading\",IF($F$87=\"yes\",L85*0.05/2000,L85/2000),\"\")","v":""},{"$f":"IF(J85=\"central mix loading\",IF($F$87=\"yes\",L85*0.05/2000,L85/2000),\"\")","v":""}]
[null,{"$f":"IF('Concrete Plant (CP-1)'!$D$4>4,\"Batching Period (Dates):\",\"\")","v":""},null,null,null,null,null,"","",null,null,null,"",""]
[null,{"$f":"IF(OR(COUNTIF(J84:J93,\"Truck Mix Loading\")>0,(COUNTIF(J84:J93,\"Central Mix Loading\")>0)),\"Is the Central/Truck Mix Loading process controlled by a baghouse?\",\"\")","v":""},null,null,null,null,null,"","",null,null,null,"",""]
[null,null,null,null,null,null,null,"","",null,null,null,"",""]
[null,{"$f":"IF(AND(B91=\"\",B92=\"\",B93=\"\",B94=\"\",B95=\"\"),\"\",\"Process (complete stack information if applicable):\")","v":""},{"$f":"IF(AND(B91=\"\",B92=\"\",B93=\"\",B94=\"\",B95=\"\"),\"\",\"Stack Height (ft):\")","v":""},{"$f":"IF(AND(B91=\"\",B92=\"\",B93=\"\",B94=\"\",B95=\"\"),\"\",\"Stack Diameter (inches):\")","v":""},{"$f":"IF(AND(B91=\"\",B92=\"\",B93=\"\",B94=\"\",B95=\"\"),\"\",\"Flow Rate (acfm):\")","v":""},{"$f":"IF(AND(B91=\"\",B92=\"\",B93=\"\",B94=\"\",B95=\"\"),\"\",\"Temp (Deg F):\")","v":""},null,"","",null,null,null,"",""]
[null,null,null,null,null,null,null,"","",null,null,null,"",""]
[null,{"$f":"IF(COUNTIF(J84:J93,\"Cement Delivery to Silo\")>0,\"EP-2 Cement Silo Stack:\",\"\")","v":""},null,null,null,null,null,"","",null,null,null,"",""]
[null,{"$f":"IF(COUNTIF(J84:J93,\"Cement Supplement Delivery to Silo\")>0,\"EP-3 Cement Supplement Silo Stack:\",\"\")","v":""},null,null,null,null,null,"","",null,null,null,"",""]
[null,{"$f":"IF(COUNTIF(J84:J93,\"Weigh Hopper Loading\")>0,\"EP-4 Weigh Hopper Loading Stack:\",\"\")","v":""},null,null,null,null,null,"","",null,null,null,"",""]
[null,{"$f":"IF(COUNTIF(J84:J93,\"Truck Mix Loading\")>0,\"EP-5 Truck Mix Loading Stack:\",\"\")","v":""}]
[null,{"$f":"IF(COUNTIF(J84:J93,\"Central Mix Loading\")>0,\"EP-6 Central Mix Loading Stack:\",\"\")","v":""},null,null,null,null,null,{"$f":"IF('Concrete Plant (CP-1)'!$D$4>4,\"Stock Pile Area\",\"\")","v":""}]
[null,null,null,null,null,null,null,null,{"$f":"IF('Concrete Plant (CP-1)'!$D$4>4,\"Emission Unit #\",\"\")","v":""},{"$f":"IF('Concrete Plant (CP-1)'!$D$4>4,\"Maximum Storage Area (acres)\",\"\")","v":""},{"$f":"IF('Concrete Plant (CP-1)'!$D$4>4,\"Actual Storage Area (acres)\",\"\")","v":""},{"$f":"IF('Concrete Plant (CP-1)'!$D$4>4,\"Actual Days in Existence (days)\",\"\")","v":""}]
[]
[]
[null,{"$f":"IF('Concrete Plant (CP-1)'!$D$4>5,\"Batch Plant\",\"\")","v":""},{"$f":"IF('Concrete Plant (CP-1)'!$D$4>5,\"Site 6\",\"\")","v":""},null,null,null,null,{"$f":"IF('Concrete Plant (CP-1)'!$D$4>5,\"Emission Point #\",\"\")","v":""},{"$f":"IF('Concrete Plant (CP-1)'!$D$4>5,\"Emission     Unit #\",\"\")","v":""},{"$f":"IF('Concrete Plant (CP-1)'!$D$4>5,\"Processes\",\"\")","v":""},{"$f":"IF('Concrete Plant (CP-1)'!$D$4>5,\"Combined Maximum Hourly Design Rate for all Like Processes (cubic yard/hr)\",\"\")","v":""},{"$f":"IF('Concrete Plant (CP-1)'!$D$4>5,('Facility Information'!G5&\" Annual Throughput (cubic yards)\"),\"\")","v":""}]
[null,{"$f":"IF('Concrete Plant (CP-1)'!$D$4>5,\"Site Name:\",\"\")","v":""},null,null,null,null,null,{"$f":"IF(J100=\"cement delivery to silo\",\"CP-1 EP-2\",IF(J100=\"cement supplement delivery to silo\",\"CP-1 EP-3\",IF(J100=\"weigh hopper loading\",\"CP-1 EP-4\",IF(J100=\"truck mix loading\",\"CP-1 EP-5\",IF(J100=\"central mix loading\",\"CP-1 EP-6\",IF(J100=\"\",\"\",\"CP-1 EP-1\"))))))","v":""},{"$f":"IF(J100=\"\",\"\",IF(J100=\"aggregate delivery to ground storage\",\"CP-1 EU-1\",IF(J100=\"sand delivery to ground storage\",\"CP-1 EU-2\",IF(J100=\"aggregate transfer to conveyor\",\"CP-1 EU-3\",IF(J100=\"sand transfer to conveyor\",\"CP-1 EU-4\",IF(J100=\"aggregate transfer to elevated storage\",\"CP-1 EU-5\",IF(J100=\"sand transfer to elevated storage\",\"CP-1 EU-6\",IF(J100=\"weigh hopper loading\",\"CP-1 EU-7\",IF(J100=\"central mix loading\",\"CP-1 EU-8\",IF(J100=\"truck mix loading\",\"CP-1 EU-9\",IF(J100=\"cement delivery to silo\",\"CP-1 EU-10\",IF(J100=\"cement supplement delivery to silo\",\"CP-1 EU-11\"))))))))))))","v":""},null,null,null,{"$f":"IF(J100=\"truck mix loading\",IF($F$103=\"yes\",L100*0.05/2000,L100/2000),\"\")","v":""},{"$f":"IF(J100=\"central mix loading\",IF($F$103=\"yes\",L100*0.05/2000,L100/2000),\"\")","v":""}]
[null,{"$f":"IF('Concrete Plant (CP-1)'!$D$4>5,\"County:\",\"\")","v":""},null,null,null,null,null,{"$f":"IF(J101=\"cement delivery to silo\",\"CP-1 EP-2\",IF(J101=\"cement supplement delivery to silo\",\"CP-1 EP-3\",IF(J101=\"weigh hopper loading\",\"CP-1 EP-4\",IF(J101=\"truck mix loading\",\"CP-1 EP-5\",IF(J101=\"central mix loading\",\"CP-1 EP-6\",IF(J101=\"\",\"\",\"CP-1 EP-1\"))))))","v":""},{"$f":"IF(J101=\"\",\"\",IF(J101=\"aggregate delivery to ground storage\",\"CP-1 EU-1\",IF(J101=\"sand delivery to ground storage\",\"CP-1 EU-2\",IF(J101=\"aggregate transfer to conveyor\",\"CP-1 EU-3\",IF(J101=\"sand transfer to conveyor\",\"CP-1 EU-4\",IF(J101=\"aggregate transfer to elevated storage\",\"CP-1 EU-5\",IF(J101=\"sand transfer to elevated storage\",\"CP-1 EU-6\",IF(J101=\"weigh hopper loading\",\"CP-1 EU-7\",IF(J101=\"central mix loading\",\"CP-1 EU-8\",IF(J101=\"truck mix loading\",\"CP-1 EU-9\",IF(J101=\"cement delivery to silo\",\"CP-1 EU-10\",IF(J101=\"cement supplement delivery to silo\",\"CP-1 EU-11\"))))))))))))","v":""},null,null,null,{"$f":"IF(J101=\"truck mix loading\",IF($F$103=\"yes\",L101*0.05/2000,L101/2000),\"\")","v":""},{"$f":"IF(J101=\"central mix loading\",IF($F$103=\"yes\",L101*0.05/2000,L101/2000),\"\")","v":""}]
[null,{"$f":"IF('Concrete Plant (CP-1)'!$D$4>5,\"Batching Period (Dates):\",\"\")","v":""},null,null,null,null,null,"","",null,null,null,"",""]
[null,{"$f":"IF(OR(COUNTIF(J100:J109,\"Truck Mix Loading\")>0,(COUNTIF(J100:J109,\"Central Mix Loading\")>0)),\"Is the Central/Truck Mix Loading process controlled by a baghouse?\",\"\")","v":""},null,null,null,null,null,"","",null,null,null,"",""]
[null,null,null,null,null,null,null,"","",null,null,null,"",""]
[null,{"$f":"IF(AND(B107=\"\",B108=\"\",B109=\"\",B110=\"\",B111=\"\"),\"\",\"Process (complete stack information if applicable):\")","v":""},{"$f":"IF(AND(B107=\"\",B108=\"\",B109=\"\",B110=\"\",B111=\"\"),\"\",\"Stack Height (ft):\")","v":""},{"$f":"IF(AND(B107=\"\",B108=\"\",B109=\"\",B110=\"\",B111=\"\"),\"\",\"Stack Diameter (inches):\")","v":""},{"$f":"IF(AND(B107=\"\",B108=\"\",B109=\"\",B110=\"\",B111=\"\"),\"\",\"Flow Rate (acfm):\")","v":""},{"$f":"IF(AND(B107=\"\",B108=\"\",B109=\"\",B110=\"\",B111=\"\"),\"\",\"Temp (Deg F):\")","v":""},null,"","",null,null,null,"",""]
[null,null,null,null,null,null,null,"","",null,null,null,"",""]
[null,{"$f":"IF(COUNTIF(J100:J109,\"Cement Delivery to Silo\")>0,\"EP-2 Cement Silo Stack:\",\"\")","v":""},null,null,null,null,null,"","",null,null,null,"",""]
[null,{"$f":"IF(COUNTIF(J100:J109,\"Cement Supplement Delivery to Silo\")>0,\"EP-3 Cement Supplement Silo Stack:\",\"\")","v":""},null,null,null,null,null,"","",null,null,null,"",""]
[null,{"$f":"IF(COUNTIF(J100:J109,\"Weigh Hopper Loading\")>0,\"EP-4 Weigh Hopper Loading Stack:\",\"\")","v":""},null,null,null,null,null,"","",null,null,null,"",""]
[null,{"$f":"IF(COUNTIF(J100:J109,\"Truck Mix Loading\")>0,\"EP-5 Truck Mix Loading Stack:\",\"\")","v":""}]
[null,{"$f":"IF(COUNTIF(J100:J109,\"Central Mix Loading\")>0,\"EP-6 Central Mix Loading Stack:\",\"\")","v":""},null,null,null,null,null,{"$f":"IF('Concrete Plant (CP-1)'!$D$4>5,\"Stock Pile Area\",\"\")","v":""}]
[null,null,null,null,null,null,null,null,{"$f":"IF('Concrete Plant (CP-1)'!$D$4>5,\"Emission Unit #\",\"\")","v":""},{"$f":"IF('Concrete Plant (CP-1)'!$D$4>5,\"Maximum Storage Area (acres)\",\"\")","v":""},{"$f":"IF('Concrete Plant (CP-1)'!$D$4>5,\"Actual Storage Area (acres)\",\"\")","v":""},{"$f":"IF('Concrete Plant (CP-1)'!$D$4>5,\"Actual Days in Existence (days)\",\"\")","v":""}]
[]
[]
[null,{"$f":"IF('Concrete Plant (CP-1)'!$D$4>6,\"Batch Plant\",\"\")","v":""},{"$f":"IF('Concrete Plant (CP-1)'!$D$4>6,\"Site 7\",\"\")","v":""},null,null,null,null,{"$f":"IF('Concrete Plant (CP-1)'!$D$4>6,\"Emission Point #\",\"\")","v":""},{"$f":"IF('Concrete Plant (CP-1)'!$D$4>6,\"Emission     Unit #\",\"\")","v":""},{"$f":"IF('Concrete Plant (CP-1)'!$D$4>6,\"Processes\",\"\")","v":""},{"$f":"IF('Concrete Plant (CP-1)'!$D$4>6,\"Combined Maximum Hourly Design Rate for all Like Processes (cubic yard/hr)\",\"\")","v":""},{"$f":"IF('Concrete Plant (CP-1)'!$D$4>6,('Facility Information'!G5&\" Annual Throughput (cubic yards)\"),\"\")","v":""}]
[null,{"$f":"IF('Concrete Plant (CP-1)'!$D$4>6,\"Site Name:\",\"\")","v":""},null,null,null,null,null,{"$f":"IF(J116=\"cement delivery to silo\",\"CP-1 EP-2\",IF(J116=\"cement supplement delivery to silo\",\"CP-1 EP-3\",IF(J116=\"weigh hopper loading\",\"CP-1 EP-4\",IF(J116=\"truck mix loading\",\"CP-1 EP-5\",IF(J116=\"central mix loading\",\"CP-1 EP-6\",IF(J116=\"\",\"\",\"CP-1 EP-1\"))))))","v":""},{"$f":"IF(J116=\"\",\"\",IF(J116=\"aggregate delivery to ground storage\",\"CP-1 EU-1\",IF(J116=\"sand delivery to ground storage\",\"CP-1 EU-2\",IF(J116=\"aggregate transfer to conveyor\",\"CP-1 EU-3\",IF(J116=\"sand transfer to conveyor\",\"CP-1 EU-4\",IF(J116=\"aggregate transfer to elevated storage\",\"CP-1 EU-5\",IF(J116=\"sand transfer to elevated storage\",\"CP-1 EU-6\",IF(J116=\"weigh hopper loading\",\"CP-1 EU-7\",IF(J116=\"central mix loading\",\"CP-1 EU-8\",IF(J116=\"truck mix loading\",\"CP-1 EU-9\",IF(J116=\"cement delivery to silo\",\"CP-1 EU-10\",IF(J116=\"cement supplement delivery to silo\",\"CP-1 EU-11\"))))))))))))","v":""},null,null,null,{"$f":"IF(J116=\"truck mix loading\",IF($F$119=\"yes\",L116*0.05/2000,L116/2000),\"\")","v":""},{"$f":"IF(J116=\"central mix loading\",IF($F$119=\"yes\",L116*0.05/2000,L116/2000),\"\")","v":""}]
[null,{"$f":"IF('Concrete Plant (CP-1)'!$D$4>6,\"County:\",\"\")","v":""},null,null,null,null,null,{"$f":"IF(J117=\"cement delivery to silo\",\"CP-1 EP-2\",IF(J117=\"cement supplement delivery to silo\",\"CP-1 EP-3\",IF(J117=\"weigh hopper loading\",\"CP-1 EP-4\",IF(J117=\"truck mix loading\",\"CP-1 EP-5\",IF(J117=\"central mix loading\",\"CP-1 EP-6\",IF(J117=\"\",\"\",\"CP-1 EP-1\"))))))","v":""},{"$f":"IF(J117=\"\",\"\",IF(J117=\"aggregate delivery to ground storage\",\"CP-1 EU-1\",IF(J117=\"sand delivery to ground storage\",\"CP-1 EU-2\",IF(J117=\"aggregate transfer to conveyor\",\"CP-1 EU-3\",IF(J117=\"sand transfer to conveyor\",\"CP-1 EU-4\",IF(J117=\"aggregate transfer to elevated storage\",\"CP-1 EU-5\",IF(J117=\"sand transfer to elevated storage\",\"CP-1 EU-6\",IF(J117=\"weigh hopper loading\",\"CP-1 EU-7\",IF(J117=\"central mix loading\",\"CP-1 EU-8\",IF(J117=\"truck mix loading\",\"CP-1 EU-9\",IF(J117=\"cement delivery to silo\",\"CP-1 EU-10\",IF(J117=\"cement supplement delivery to silo\",\"CP-1 EU-11\"))))))))))))","v":""},null,null,null,{"$f":"IF(J117=\"truck mix loading\",IF($F$119=\"yes\",L117*0.05/2000,L117/2000),\"\")","v":""},{"$f":"IF(J117=\"central mix loading\",IF($F$119=\"yes\",L117*0.05/2000,L117/2000),\"\")","v":""}]
[null,{"$f":"IF('Concrete Plant (CP-1)'!$D$4>6,\"Batching Period (Dates):\",\"\")","v":""},null,null,null,null,null,"","",null,null,null,"",""]
[null,{"$f":"IF(OR(COUNTIF(J116:J125,\"Truck Mix Loading\")>0,(COUNTIF(J116:J125,\"Central Mix Loading\")>0)),\"Is the Central/Truck Mix Loading process controlled by a baghouse?\",\"\")","v":""},null,null,null,null,null,"","",null,null,null,"",""]
[null,null,null,null,null,null,null,"","",null,null,null,"",""]
[null,{"$f":"IF(AND(B123=\"\",B124=\"\",B125=\"\",B126=\"\",B127=\"\"),\"\",\"Process (complete stack information if applicable):\")","v":""},{"$f":"IF(AND(B123=\"\",B124=\"\",B125=\"\",B126=\"\",B127=\"\"),\"\",\"Stack Height (ft):\")","v":""},{"$f":"IF(AND(B123=\"\",B124=\"\",B125=\"\",B126=\"\",B127=\"\"),\"\",\"Stack Diameter (inches):\")","v":""},{"$f":"IF(AND(B123=\"\",B124=\"\",B125=\"\",B126=\"\",B127=\"\"),\"\",\"Flow Rate (acfm):\")","v":""},{"$f":"IF(AND(B123=\"\",B124=\"\",B125=\"\",B126=\"\",B127=\"\"),\"\",\"Temp (Deg F):\")","v":""},null,"","",null,null,null,"",""]
[null,null,null,null,null,null,null,"","",null,null,null,"",""]
[null,{"$f":"IF(COUNTIF(J116:J125,\"Cement Delivery to Silo\")>0,\"EP-2 Cement Silo Stack:\",\"\")","v":""},null,null,null,null,null,"","",null,null,null,"",""]
[null,{"$f":"IF(COUNTIF(J116:J125,\"Cement Supplement Delivery to Silo\")>0,\"EP-3 Cement Supplement Silo Stack:\",\"\")","v":""},null,null,null,null,null,"","",null,null,null,"",""]
[null,{"$f":"IF(COUNTIF(J116:J125,\"Weigh Hopper Loading\")>0,\"EP-4 Weigh Hopper Loading Stack:\",\"\")","v":""},null,null,null,null,null,"","",null,null,null,"",""]
[null,{"$f":"IF(COUNTIF(J116:J125,\"Truck Mix Loading\")>0,\"EP-5 Truck Mix Loading Stack:\",\"\")","v":""}]
[null,{"$f":"IF(COUNTIF(J116:J125,\"Central Mix Loading\")>0,\"EP-6 Central Mix Loading Stack:\",\"\")","v":""},null,null,null,null,null,{"$f":"IF('Concrete Plant (CP-1)'!$D$4>6,\"Stock Pile Area\",\"\")","v":""}]
[null,null,null,null,null,null,null,null,{"$f":"IF('Concrete Plant (CP-1)'!$D$4>6,\"Emission Unit #\",\"\")","v":""},{"$f":"IF('Concrete Plant (CP-1)'!$D$4>6,\"Maximum Storage Area (acres)\",\"\")","v":""},{"$f":"IF('Concrete Plant (CP-1)'!$D$4>6,\"Actual Storage Area (acres)\",\"\")","v":""},{"$f":"IF('Concrete Plant (CP-1)'!$D$4>6,\"Actual Days in Existence (days)\",\"\")","v":""}]
[]
[]
[null,{"$f":"IF('Concrete Plant (CP-1)'!$D$4>7,\"Batch Plant\",\"\")","v":""},{"$f":"IF('Concrete Plant (CP-1)'!$D$4>7,\"Site 8\",\"\")","v":""},null,null,null,null,{"$f":"IF('Concrete Plant (CP-1)'!$D$4>7,\"Emission Point #\",\"\")","v":""},{"$f":"IF('Concrete Plant (CP-1)'!$D$4>7,\"Emission     Unit #\",\"\")","v":""},{"$f":"IF('Concrete Plant (CP-1)'!$D$4>7,\"Processes\",\"\")","v":""},{"$f":"IF('Concrete Plant (CP-1)'!$D$4>7,\"Combined Maximum Hourly Design Rate for all Like Processes (cubic yard/hr)\",\"\")","v":""},{"$f":"IF('Concrete Plant (CP-1)'!$D$4>7,('Facility Information'!G5&\" Annual Throughput (cubic yards)\"),\"\")","v":""}]
[null,{"$f":"IF('Concrete Plant (CP-1)'!$D$4>7,\"Site Name:\",\"\")","v":""},null,null,null,null,null,{"$f":"IF(J132=\"cement delivery to silo\",\"CP-1 EP-2\",IF(J132=\"cement supplement delivery to silo\",\"CP-1 EP-3\",IF(J132=\"weigh hopper loading\",\"CP-1 EP-4\",IF(J132=\"truck mix loading\",\"CP-1 EP-5\",IF(J132=\"central mix loading\",\"CP-1 EP-6\",IF(J132=\"\",\"\",\"CP-1 EP-1\"))))))","v":""},{"$f":"IF(J132=\"\",\"\",IF(J132=\"aggregate delivery to ground storage\",\"CP-1 EU-1\",IF(J132=\"sand delivery to ground storage\",\"CP-1 EU-2\",IF(J132=\"aggregate transfer to conveyor\",\"CP-1 EU-3\",IF(J132=\"sand transfer to conveyor\",\"CP-1 EU-4\",IF(J132=\"aggregate transfer to elevated storage\",\"CP-1 EU-5\",IF(J132=\"sand transfer to elevated storage\",\"CP-1 EU-6\",IF(J132=\"weigh hopper loading\",\"CP-1 EU-7\",IF(J132=\"central mix loading\",\"CP-1 EU-8\",IF(J132=\"truck mix loading\",\"CP-1 EU-9\",IF(J132=\"cement delivery to silo\",\"CP-1 EU-10\",IF(J132=\"cement supplement delivery to silo\",\"CP-1 EU-11\"))))))))))))","v":""},null,null,null,{"$f":"IF(J132=\"truck mix loading\",IF($F$135=\"yes\",L132*0.05/2000,L132/2000),\"\")","v":""},{"$f":"IF(J132=\"central mix loading\",IF($F$135=\"yes\",L132*0.05/2000,L132/2000),\"\")","v":""}]
[null,{"$f":"IF('Concrete Plant (CP-1)'!$D$4>7,\"County:\",\"\")","v":""},null,null,null,null,null,{"$f":"IF(J133=\"cement delivery to silo\",\"CP-1 EP-2\",IF(J133=\"cement supplement delivery to silo\",\"CP-1 EP-3\",IF(J133=\"weigh hopper loading\",\"CP-1 EP-4\",IF(J133=\"truck mix loading\",\"CP-1 EP-5\",IF(J133=\"central mix loading\",\"CP-1 EP-6\",IF(J133=\"\",\"\",\"CP-1 EP-1\"))))))","v":""},{"$f":"IF(J133=\"\",\"\",IF(J133=\"aggregate delivery to ground storage\",\"CP-1 EU-1\",IF(J133=\"sand delivery to ground storage\",\"CP-1 EU-2\",IF(J133=\"aggregate transfer to conveyor\",\"CP-1 EU-3\",IF(J133=\"sand transfer to conveyor\",\"CP-1 EU-4\",IF(J133=\"aggregate transfer to elevated storage\",\"CP-1 EU-5\",IF(J133=\"sand transfer to elevated storage\",\"CP-1 EU-6\",IF(J133=\"weigh hopper loading\",\"CP-1 EU-7\",IF(J133=\"central mix loading\",\"CP-1 EU-8\",IF(J133=\"truck mix loading\",\"CP-1 EU-9\",IF(J133=\"cement delivery to silo\",\"CP-1 EU-10\",IF(J133=\"cement supplement delivery to silo\",\"CP-1 EU-11\"))))))))))))","v":""},null,null,null,{"$f":"IF(J133=\"truck mix loading\",IF($F$135=\"yes\",L133*0.05/2000,L133/2000),\"\")","v":""},{"$f":"IF(J133=\"central mix loading\",IF($F$135=\"yes\",L133*0.05/2000,L133/2000),\"\")","v":""}]
[null,{"$f":"IF('Concrete Plant (CP-1)'!$D$4>7,\"Batching Period (Dates):\",\"\")","v":""},null,null,null,null,null,"","",null,null,null,"",""]
[null,{"$f":"IF(OR(COUNTIF(J132:J141,\"Truck Mix Loading\")>0,(COUNTIF(J132:J141,\"Central Mix Loading\")>0)),\"Is the Central/Truck Mix Loading process controlled by a baghouse?\",\"\")","v":""},null,null,null,null,null,"","",null,null,null,"",""]
[null,null,null,null,null,null,null,"","",null,null,null,"",""]
[null,{"$f":"IF(AND(B139=\"\",B140=\"\",B141=\"\",B142=\"\",B143=\"\"),\"\",\"Process (complete stack information if applicable):\")","v":""},{"$f":"IF(AND(B139=\"\",B140=\"\",B141=\"\",B142=\"\",B143=\"\"),\"\",\"Stack Height (ft):\")","v":""},{"$f":"IF(AND(B139=\"\",B140=\"\",B141=\"\",B142=\"\",B143=\"\"),\"\",\"Stack Diameter (inches):\")","v":""},{"$f":"IF(AND(B139=\"\",B140=\"\",B141=\"\",B142=\"\",B143=\"\"),\"\",\"Flow Rate (acfm):\")","v":""},{"$f":"IF(AND(B139=\"\",B140=\"\",B141=\"\",B142=\"\",B143=\"\"),\"\",\"Temp (Deg F):\")","v":""},null,"","",null,null,null,"",""]
[null,null,null,null,null,null,null,"","",null,null,null,"",""]
[null,{"$f":"IF(COUNTIF(J132:J141,\"Cement Delivery to Silo\")>0,\"EP-2 Cement Silo Stack:\",\"\")","v":""},null,null,null,null,null,"","",null,null,null,"",""]
[null,{"$f":"IF(COUNTIF(J132:J141,\"Cement Supplement Delivery to Silo\")>0,\"EP-3 Cement Supplement Silo Stack:\",\"\")","v":""},null,null,null,null,null,"","",null,null,null,"",""]
[null,{"$f":"IF(COUNTIF(J132:J141,\"Weigh Hopper Loading\")>0,\"EP-4 Weigh Hopper Loading Stack:\",\"\")","v":""},null,null,null,null,null,"","",null,null,null,"",""]
[null,{"$f":"IF(COUNTIF(J132:J141,\"Truck Mix Loading\")>0,\"EP-5 Truck Mix Loading Stack:\",\"\")","v":""}]
[null,{"$f":"IF(COUNTIF(J132:J141,\"Central Mix Loading\")>0,\"EP-6 Central Mix Loading Stack:\",\"\")","v":""},null,null,null,null,null,{"$f":"IF('Concrete Plant (CP-1)'!$D$4>7,\"Stock Pile Area\",\"\")","v":""}]
[null,null,null,null,null,null,null,null,{"$f":"IF('Concrete Plant (CP-1)'!$D$4>7,\"Emission Unit #\",\"\")","v":""},{"$f":"IF('Concrete Plant (CP-1)'!$D$4>7,\"Maximum Storage Area (acres)\",\"\")","v":""},{"$f":"IF('Concrete Plant (CP-1)'!$D$4>7,\"Actual Storage Area (acres)\",\"\")","v":""},{"$f":"IF('Concrete Plant (CP-1)'!$D$4>7,\"Actual Days in Existence (days)\",\"\")","v":""}]
[]
[]
[null,{"$f":"IF('Concrete Plant (CP-1)'!$D$4>8,\"Batch Plant\",\"\")","v":""},{"$f":"IF('Concrete Plant (CP-1)'!$D$4>8,\"Site 9\",\"\")","v":""},null,null,null,null,{"$f":"IF('Concrete Plant (CP-1)'!$D$4>8,\"Emission Point #\",\"\")","v":""},{"$f":"IF('Concrete Plant (CP-1)'!$D$4>8,\"Emission     Unit #\",\"\")","v":""},{"$f":"IF('Concrete Plant (CP-1)'!$D$4>8,\"Processes\",\"\")","v":""},{"$f":"IF('Concrete Plant (CP-1)'!$D$4>8,\"Combined Maximum Hourly Design Rate for all Like Processes (cubic yard/hr)\",\"\")","v":""},{"$f":"IF('Concrete Plant (CP-1)'!$D$4>8,('Facility Information'!G5&\" Annual Throughput (cubic yards)\"),\"\")","v":""}]
[null,{"$f":"IF('Concrete Plant (CP-1)'!$D$4>8,\"Site Name:\",\"\")","v":""},null,null,null,null,null,{"$f":"IF(J148=\"cement delivery to silo\",\"CP-1 EP-2\",IF(J148=\"cement supplement delivery to silo\",\"CP-1 EP-3\",IF(J148=\"weigh hopper loading\",\"CP-1 EP-4\",IF(J148=\"truck mix loading\",\"CP-1 EP-5\",IF(J148=\"central mix loading\",\"CP-1 EP-6\",IF(J148=\"\",\"\",\"CP-1 EP-1\"))))))","v":""},{"$f":"IF(J148=\"\",\"\",IF(J148=\"aggregate delivery to ground storage\",\"CP-1 EU-1\",IF(J148=\"sand delivery to ground storage\",\"CP-1 EU-2\",IF(J148=\"aggregate transfer to conveyor\",\"CP-1 EU-3\",IF(J148=\"sand transfer to conveyor\",\"CP-1 EU-4\",IF(J148=\"aggregate transfer to elevated storage\",\"CP-1 EU-5\",IF(J148=\"sand transfer to elevated storage\",\"CP-1 EU-6\",IF(J148=\"weigh hopper loading\",\"CP-1 EU-7\",IF(J148=\"central mix loading\",\"CP-1 EU-8\",IF(J148=\"truck mix loading\",\"CP-1 EU-9\",IF(J148=\"cement delivery to silo\",\"CP-1 EU-10\",IF(J148=\"cement supplement delivery to silo\",\"CP-1 EU-11\"))))))))))))","v":""},null,null,null,{"$f":"IF(J148=\"truck mix loading\",IF($F$151=\"yes\",L148*0.05/2000,L148/2000),\"\")","v":""},{"$f":"IF(J148=\"central mix loading\",IF($F$151=\"yes\",L148*0.05/2000,L148/2000),\"\")","v":""}]
[null,{"$f":"IF('Concrete Plant (CP-1)'!$D$4>8,\"County:\",\"\")","v":""},null,null,null,null,null,{"$f":"IF(J149=\"cement delivery to silo\",\"CP-1 EP-2\",IF(J149=\"cement supplement delivery to silo\",\"CP-1 EP-3\",IF(J149=\"weigh hopper loading\",\"CP-1 EP-4\",IF(J149=\"truck mix loading\",\"CP-1 EP-5\",IF(J149=\"central mix loading\",\"CP-1 EP-6\",IF(J149=\"\",\"\",\"CP-1 EP-1\"))))))","v":""},{"$f":"IF(J149=\"\",\"\",IF(J149=\"aggregate delivery to ground storage\",\"CP-1 EU-1\",IF(J149=\"sand delivery to ground storage\",\"CP-1 EU-2\",IF(J149=\"aggregate transfer to conveyor\",\"CP-1 EU-3\",IF(J149=\"sand transfer to conveyor\",\"CP-1 EU-4\",IF(J149=\"aggregate transfer to elevated storage\",\"CP-1 EU-5\",IF(J149=\"sand transfer to elevated storage\",\"CP-1 EU-6\",IF(J149=\"weigh hopper loading\",\"CP-1 EU-7\",IF(J149=\"central mix loading\",\"CP-1 EU-8\",IF(J149=\"truck mix loading\",\"CP-1 EU-9\",IF(J149=\"cement delivery to silo\",\"CP-1 EU-10\",IF(J149=\"cement supplement delivery to silo\",\"CP-1 EU-11\"))))))))))))","v":""},null,null,null,{"$f":"IF(J149=\"truck mix loading\",IF($F$151=\"yes\",L149*0.05/2000,L149/2000),\"\")","v":""},{"$f":"IF(J149=\"central mix loading\",IF($F$151=\"yes\",L149*0.05/2000,L149/2000),\"\")","v":""}]
[null,{"$f":"IF('Concrete Plant (CP-1)'!$D$4>8,\"Batching Period (Dates):\",\"\")","v":""},null,null,null,null,null,"","",null,null,null,"",""]
[null,{"$f":"IF(OR(COUNTIF(J148:J157,\"Truck Mix Loading\")>0,(COUNTIF(J148:J157,\"Central Mix Loading\")>0)),\"Is the Central/Truck Mix Loading process controlled by a baghouse?\",\"\")","v":""},null,null,null,null,null,"","",null,null,null,"",""]
[null,null,null,null,null,null,null,"","",null,null,null,"",""]
[null,{"$f":"IF(AND(B155=\"\",B156=\"\",B157=\"\",B158=\"\",B159=\"\"),\"\",\"Process (complete stack information if applicable):\")","v":""},{"$f":"IF(AND(B155=\"\",B156=\"\",B157=\"\",B158=\"\",B159=\"\"),\"\",\"Stack Height (ft):\")","v":""},{"$f":"IF(AND(B155=\"\",B156=\"\",B157=\"\",B158=\"\",B159=\"\"),\"\",\"Stack Diameter (inches):\")","v":""},{"$f":"IF(AND(B155=\"\",B156=\"\",B157=\"\",B158=\"\",B159=\"\"),\"\",\"Flow Rate (acfm):\")","v":""},{"$f":"IF(AND(B155=\"\",B156=\"\",B157=\"\",B158=\"\",B159=\"\"),\"\",\"Temp (Deg F):\")","v":""},null,"","",null,null,null,"",""]
[null,null,null,null,null,null,null,"","",null,null,null,"",""]
[null,{"$f":"IF(COUNTIF(J148:J157,\"Cement Delivery to Silo\")>0,\"EP-2 Cement Silo Stack:\",\"\")","v":""},null,null,null,null,null,"","",null,null,null,"",""]
[null,{"$f":"IF(COUNTIF(J148:J157,\"Cement Supplement Delivery to Silo\")>0,\"EP-3 Cement Supplement Silo Stack:\",\"\")","v":""},null,null,null,null,null,"","",null,null,null,"",""]
[null,{"$f":"IF(COUNTIF(J148:J157,\"Weigh Hopper Loading\")>0,\"EP-4 Weigh Hopper Loading Stack:\",\"\")","v":""},null,null,null,null,null,"","",null,null,null,"",""]
[null,{"$f":"IF(COUNTIF(J148:J157,\"Truck Mix Loading\")>0,\"EP-5 Truck Mix Loading Stack:\",\"\")","v":""}]
[null,{"$f":"IF(COUNTIF(J148:J157,\"Central Mix Loading\")>0,\"EP-6 Central Mix Loading Stack:\",\"\")","v":""},null,null,null,null,null,{"$f":"IF('Concrete Plant (CP-1)'!$D$4>8,\"Stock Pile Area\",\"\")","v":""}]
[null,null,null,null,null,null,null,null,{"$f":"IF('Concrete Plant (CP-1)'!$D$4>8,\"Emission Unit #\",\"\")","v":""},{"$f":"IF('Concrete Plant (CP-1)'!$D$4>8,\"Maximum Storage Area (acres)\",\"\")","v":""},{"$f":"IF('Concrete Plant (CP-1)'!$D$4>8,\"Actual Storage Area (acres)\",\"\")","v":""},{"$f":"IF('Concrete Plant (CP-1)'!$D$4>8,\"Actual Days in Existence (days)\",\"\")","v":""}]
[]
[]
[]
[null,{"$f":"IF('Concrete Plant (CP-1)'!$D$4>9,\"Batch Plant\",\"\")","v":""},{"$f":"IF('Concrete Plant (CP-1)'!$D$4>9,\"Site 10\",\"\")","v":""},null,null,null,null,{"$f":"IF('Concrete Plant (CP-1)'!$D$4>9,\"Emission Point #\",\"\")","v":""},{"$f":"IF('Concrete Plant (CP-1)'!$D$4>9,\"Emission     Unit #\",\"\")","v":""},{"$f":"IF('Concrete Plant (CP-1)'!$D$4>9,\"Processes\",\"\")","v":""},{"$f":"IF('Concrete Plant (CP-1)'!$D$4>9,\"Combined Maximum Hourly Design Rate for all Like Processes (cubic yard/hr)\",\"\")","v":""},{"$f":"IF('Concrete Plant (CP-1)'!$D$4>9,('Facility Information'!G5&\" Annual Throughput (cubic yards)\"),\"\")","v":""}]
[null,{"$f":"IF('Concrete Plant (CP-1)'!$D$4>9,\"Site Name:\",\"\")","v":""},null,null,null,null,null,{"$f":"IF(J165=\"cement delivery to silo\",\"CP-1 EP-2\",IF(J165=\"cement supplement delivery to silo\",\"CP-1 EP-3\",IF(J165=\"weigh hopper loading\",\"CP-1 EP-4\",IF(J165=\"truck mix loading\",\"CP-1 EP-5\",IF(J165=\"central mix loading\",\"CP-1 EP-6\",IF(J165=\"\",\"\",\"CP-1 EP-1\"))))))","v":""},{"$f":"IF(J165=\"\",\"\",IF(J165=\"aggregate delivery to ground storage\",\"CP-1 EU-1\",IF(J165=\"sand delivery to ground storage\",\"CP-1 EU-2\",IF(J165=\"aggregate transfer to conveyor\",\"CP-1 EU-3\",IF(J165=\"sand transfer to conveyor\",\"CP-1 EU-4\",IF(J165=\"aggregate transfer to elevated storage\",\"CP-1 EU-5\",IF(J165=\"sand transfer to elevated storage\",\"CP-1 EU-6\",IF(J165=\"weigh hopper loading\",\"CP-1 EU-7\",IF(J165=\"central mix loading\",\"CP-1 EU-8\",IF(J165=\"truck mix loading\",\"CP-1 EU-9\",IF(J165=\"cement delivery to silo\",\"CP-1 EU-10\",IF(J165=\"cement supplement delivery to silo\",\"CP-1 EU-11\"))))))))))))","v":""},null,null,null,{"$f":"IF(J165=\"truck mix loading\",IF($F$168=\"yes\",L165*0.05/2000,L165/2000),\"\")","v":""},{"$f":"IF(J165=\"central mix loading\",IF($F$168=\"yes\",L165*0.05/2000,L165/2000),\"\")","v":""}]
[null,{"$f":"IF('Concrete Plant (CP-1)'!$D$4>9,\"County:\",\"\")","v":""},null,null,null,null,null,{"$f":"IF(J166=\"cement delivery to silo\",\"CP-1 EP-2\",IF(J166=\"cement supplement delivery to silo\",\"CP-1 EP-3\",IF(J166=\"weigh hopper loading\",\"CP-1 EP-4\",IF(J166=\"truck mix loading\",\"CP-1 EP-5\",IF(J166=\"central mix loading\",\"CP-1 EP-6\",IF(J166=\"\",\"\",\"CP-1 EP-1\"))))))","v":""},{"$f":"IF(J166=\"\",\"\",IF(J166=\"aggregate delivery to ground storage\",\"CP-1 EU-1\",IF(J166=\"sand delivery to ground storage\",\"CP-1 EU-2\",IF(J166=\"aggregate transfer to conveyor\",\"CP-1 EU-3\",IF(J166=\"sand transfer to conveyor\",\"CP-1 EU-4\",IF(J166=\"aggregate transfer to elevated storage\",\"CP-1 EU-5\",IF(J166=\"sand transfer to elevated storage\",\"CP-1 EU-6\",IF(J166=\"weigh hopper loading\",\"CP-1 EU-7\",IF(J166=\"central mix loading\",\"CP-1 EU-8\",IF(J166=\"truck mix loading\",\"CP-1 EU-9\",IF(J166=\"cement delivery to silo\",\"CP-1 EU-10\",IF(J166=\"cement supplement delivery to silo\",\"CP-1 EU-11\"))))))))))))","v":""},null,null,null,{"$f":"IF(J166=\"truck mix loading\",IF($F$168=\"yes\",L166*0.05/2000,L166/2000),\"\")","v":""},{"$f":"IF(J166=\"central mix loading\",IF($F$168=\"yes\",L166*0.05/2000,L166/2000),\"\")","v":""}]
[null,{"$f":"IF('Concrete Plant (CP-1)'!$D$4>9,\"Batching Period (Dates):\",\"\")","v":""},null,null,null,null,null,"","",null,null,null,"",""]
[null,{"$f":"IF(OR(COUNTIF(J165:J174,\"Truck Mix Loading\")>0,(COUNTIF(J165:J174,\"Central Mix Loading\")>0)),\"Is the Central/Truck Mix Loading process controlled by a baghouse?\",\"\")","v":""},null,null,null,null,null,"","",null,null,null,"",""]
[null,null,null,null,null,null,null,"","",null,null,null,"",""]
[null,{"$f":"IF(AND(B172=\"\",B173=\"\",B174=\"\",B175=\"\",B176=\"\"),\"\",\"Process (complete stack information if applicable):\")","v":""},{"$f":"IF(AND(B172=\"\",B173=\"\",B174=\"\",B175=\"\",B176=\"\"),\"\",\"Stack Height (ft):\")","v":""},{"$f":"IF(AND(B172=\"\",B173=\"\",B174=\"\",B175=\"\",B176=\"\"),\"\",\"Stack Diameter (inches):\")","v":""},{"$f":"IF(AND(B172=\"\",B173=\"\",B174=\"\",B175=\"\",B176=\"\"),\"\",\"Flow Rate (acfm):\")","v":""},{"$f":"IF(AND(B172=\"\",B173=\"\",B174=\"\",B175=\"\",B176=\"\"),\"\",\"Temp (Deg F):\")","v":""},null,"","",null,null,null,"",""]
[null,null,null,null,null,null,null,"","",null,null,null,"",""]
[null,{"$f":"IF(COUNTIF(J165:J174,\"Cement Delivery to Silo\")>0,\"EP-2 Cement Silo Stack:\",\"\")","v":""},null,null,null,null,null,"","",null,null,null,"",""]
[null,{"$f":"IF(COUNTIF(J165:J174,\"Cement Supplement Delivery to Silo\")>0,\"EP-3 Cement Supplement Silo Stack:\",\"\")","v":""},null,null,null,null,null,"","",null,null,null,"",""]
[null,{"$f":"IF(COUNTIF(J165:J174,\"Weigh Hopper Loading\")>0,\"EP-4 Weigh Hopper Loading Stack:\",\"\")","v":""},null,null,null,null,null,"","",null,null,null,"",""]
[null,{"$f":"IF(COUNTIF(J165:J174,\"Truck Mix Loading\")>0,\"EP-5 Truck Mix Loading Stack:\",\"\")","v":""}]
[null,{"$f":"IF(COUNTIF(J165:J174,\"Central Mix Loading\")>0,\"EP-6 Central Mix Loading Stack:\",\"\")","v":""},null,null,null,null,null,{"$f":"IF('Concrete Plant (CP-1)'!$D$4>9,\"Stock Pile Area\",\"\")","v":""}]
[null,null,null,null,null,null,null,null,{"$f":"IF('Concrete Plant (CP-1)'!$D$4>9,\"Emission Unit #\",\"\")","v":""},{"$f":"IF('Concrete Plant (CP-1)'!$D$4>9,\"Maximum Storage Area (acres)\",\"\")","v":""},{"$f":"IF('Concrete Plant (CP-1)'!$D$4>9,\"Actual Storage Area (acres)\",\"\")","v":""},{"$f":"IF('Concrete Plant (CP-1)'!$D$4>9,\"Actual Days in Existence (days)\",\"\")","v":""}]
[]
[]
[null,null,null,null,null,null,null,null,null,null,null,null,{"$f":"SUM(M165:M174,M148:M157,M132:M141,M116:M125,M100:M109,M84:M93,M68:M77,M52:M61,M37:M46,M21:M30)","v":0},{"$f":"SUM(N165:N174,N148:N157,N132:N141,N116:N125,N100:N109,N84:N93,N68:N77,N52:N61,N37:N46,N21:N30)","v":0}]

{"sheet":"Concrete Plant (CP-2)","index":2,"n_rows":180,"n_cols":23,"rows_kept":180,"cut":false,"hidden":true,"merged":[]}
[null,"CONCRETE BATCH PLANT (CP-2)"]
[null,"Please fill in the yellow boxes as applicable for your facility. ",null,null,null,null,null,null,null,null,null,"Values used for calculating emissions →",null,null,null,"Values Used to Calculate Actual Emissions for the Listed Processes at this Plant"]
[null,null,null,null,null,null,null,null,null,null,null,null,null,null,null,"Process","Maximum Design Rate (cubic yards/hr)","Actual throughput (cubic yards/yr)"]
[null,{"$f":"\"Number of Sites this Plant operated at in \"&'Facility Information'!G5&\":\"","v":"Number of Sites this Plant operated at in :"},null,null,null,null,null,null,null,null,null,null,null,null,null,"Aggregate Delivery to Ground Storage",{"$f":"MAX((IFERROR(OFFSET($J$20,MATCH(\"Aggregate Delivery to Ground Storage\",$J$21:$J$30,0),1),0)),((IFERROR((OFFSET($J$37,MATCH(\"Aggregate Delivery to Ground Storage\",$J$38:$J$47,0),1)),0))),((IFERROR((OFFSET($J$52,MATCH(\"Aggregate Delivery to Ground Storage\",$J$53:$J$62,0),1)),0))),((IFERROR((OFFSET($J$68,MATCH(\"Aggregate Delivery to Ground Storage\",$J$69:$J$78,0),1)),0))),((IFERROR((OFFSET($J$84,MATCH(\"Aggregate Delivery to Ground Storage\",$J$85:$J$94,0),1)),0))),((IFERROR((OFFSET($J$100,MATCH(\"Aggregate Delivery to Ground Storage\",$J$101:$J$110,0),1)),0))),((IFERROR((OFFSET($J$116,MATCH(\"Aggregate Delivery to Ground Storage\",$J$117:$J$126,0),1)),0))),((IFERROR((OFFSET($J$132,MATCH(\"Aggregate Delivery to Ground Storage\",$J$133:$J$142,0),1)),0))),((IFERROR((OFFSET($J$148,MATCH(\"Aggregate Delivery to Ground Storage\",$J$149:$J$158,0),1)),0))),((IFERROR((OFFSET($J$164,MATCH(\"Aggregate Delivery to Ground Storage\",$J$165:$J$174,0),1)),0))),)","v":0},{"$f":"SUM((IFERROR(OFFSET($J$20,MATCH(\"Aggregate Delivery to Ground Storage\",$J$21:$J$30,0),2),0)),((IFERROR((OFFSET($J$37,MATCH(\"Aggregate Delivery to Ground Storage\",$J$38:$J$47,0),2)),0))),((IFERROR((OFFSET($J$52,MATCH(\"Aggregate Delivery to Ground Storage\",$J$53:$J$62,0),2)),0))),((IFERROR((OFFSET($J$68,MATCH(\"Aggregate Delivery to Ground Storage\",$J$69:$J$78,0),2)),0))),((IFERROR((OFFSET($J$84,MATCH(\"Aggregate Delivery to Ground Storage\",$J$85:$J$94,0),2)),0))),((IFERROR((OFFSET($J$100,MATCH(\"Aggregate Delivery to Ground Storage\",$J$101:$J$110,0),2)),0))),((IFERROR((OFFSET($J$116,MATCH(\"Aggregate Delivery to Ground Storage\",$J$117:$J$126,0),2)),0))),((IFERROR((OFFSET($J$132,MATCH(\"Aggregate Delivery to Ground Storage\",$J$133:$J$142,0),2)),0))),((IFERROR((OFFSET($J$148,MATCH(\"Aggregate Delivery to Ground Storage\",$J$149:$J$158,0),2)),0))),((IFERROR((OFFSET($J$164,MATCH(\"Aggregate Delivery to Ground Storage\",$J$165:$J$174,0),2)),0))),)","v":0},"** As of 2016 Potential Emissions are no longer required to be reported in the Minor Source Emissions Inventory**"]
[null,null,null,null,null,null,null,null,null,null,null,null,null,null,null,"Sand Delivery to Ground Storage",{"$f":"MAX((IFERROR(OFFSET($J$20,MATCH(\"Sand Delivery to Ground Storage\",$J$21:$J$30,0),1),0)),((IFERROR((OFFSET($J$37,MATCH(\"Sand Delivery to Ground Storage\",$J$38:$J$47,0),1)),0))),((IFERROR((OFFSET($J$52,MATCH(\"Sand Delivery to Ground Storage\",$J$53:$J$62,0),1)),0))),((IFERROR((OFFSET($J$68,MATCH(\"Sand Delivery to Ground Storage\",$J$69:$J$78,0),1)),0))),((IFERROR((OFFSET($J$84,MATCH(\"Sand Delivery to Ground Storage\",$J$85:$J$94,0),1)),0))),((IFERROR((OFFSET($J$100,MATCH(\"Sand Delivery to Ground Storage\",$J$101:$J$110,0),1)),0))),((IFERROR((OFFSET($J$116,MATCH(\"Sand Delivery to Ground Storage\",$J$117:$J$126,0),1)),0))),((IFERROR((OFFSET($J$132,MATCH(\"Sand Delivery to Ground Storage\",$J$133:$J$142,0),1)),0))),((IFERROR((OFFSET($J$148,MATCH(\"Sand Delivery to Ground Storage\",$J$149:$J$158,0),1)),0))),((IFERROR((OFFSET($J$164,MATCH(\"Sand Delivery to Ground Storage\",$J$165:$J$174,0),1)),0))),)","v":0},{"$f":"SUM((IFERROR(OFFSET($J$20,MATCH(\"Sand Delivery to Ground Storage\",$J$21:$J$30,0),2),0)),((IFERROR((OFFSET($J$37,MATCH(\"Sand Delivery to Ground Storage\",$J$38:$J$47,0),2)),0))),((IFERROR((OFFSET($J$52,MATCH(\"Sand Delivery to Ground Storage\",$J$53:$J$62,0),2)),0))),((IFERROR((OFFSET($J$68,MATCH(\"Sand Delivery to Ground Storage\",$J$69:$J$78,0),2)),0))),((IFERROR((OFFSET($J$84,MATCH(\"Sand Delivery to Ground Storage\",$J$85:$J$94,0),2)),0))),((IFERROR((OFFSET($J$100,MATCH(\"Sand Delivery to Ground Storage\",$J$101:$J$110,0),2)),0))),((IFERROR((OFFSET($J$116,MATCH(\"Sand Delivery to Ground Storage\",$J$117:$J$126,0),2)),0))),((IFERROR((OFFSET($J$132,MATCH(\"Sand Delivery to Ground Storage\",$J$133:$J$142,0),2)),0))),((IFERROR((OFFSET($J$148,MATCH(\"Sand Delivery to Ground Storage\",$J$149:$J$158,0),2)),0))),((IFERROR((OFFSET($J$164,MATCH(\"Sand Delivery to Ground Storage\",$J$165:$J$174,0),2)),0))),)","v":0}]
[null,"Plant Specific Permit Number: ",null,null,null,null,null,null,null,null,null,null,null,null,null,"Aggregate Transfer to Conveyor",{"$f":"MAX((IFERROR(OFFSET($J$20,MATCH(\"Aggregate Transfer to Conveyor\",$J$21:$J$30,0),1),0)),((IFERROR((OFFSET($J$37,MATCH(\"Aggregate Transfer to Conveyor\",$J$38:$J$47,0),1)),0))),((IFERROR((OFFSET($J$52,MATCH(\"Aggregate Transfer to Conveyor\",$J$53:$J$62,0),1)),0))),((IFERROR((OFFSET($J$68,MATCH(\"Aggregate Transfer to Conveyor\",$J$69:$J$78,0),1)),0))),((IFERROR((OFFSET($J$84,MATCH(\"Aggregate Transfer to Conveyor\",$J$85:$J$94,0),1)),0))),((IFERROR((OFFSET($J$100,MATCH(\"Aggregate Transfer to Conveyor\",$J$101:$J$110,0),1)),0))),((IFERROR((OFFSET($J$116,MATCH(\"Aggregate Transfer to Conveyor\",$J$117:$J$126,0),1)),0))),((IFERROR((OFFSET($J$132,MATCH(\"Aggregate Transfer to Conveyor\",$J$133:$J$142,0),1)),0))),((IFERROR((OFFSET($J$148,MATCH(\"Aggregate Transfer to Conveyor\",$J$149:$J$158,0),1)),0))),((IFERROR((OFFSET($J$164,MATCH(\"Aggregate Transfer to Conveyor\",$J$165:$J$174,0),1)),0))),)","v":0},{"$f":"SUM((IFERROR(OFFSET($J$20,MATCH(\"Aggregate Transfer to Conveyor\",$J$21:$J$30,0),2),0)),((IFERROR((OFFSET($J$37,MATCH(\"Aggregate Transfer to Conveyor\",$J$38:$J$47,0),2)),0))),((IFERROR((OFFSET($J$52,MATCH(\"Aggregate Transfer to Conveyor\",$J$53:$J$62,0),2)),0))),((IFERROR((OFFSET($J$68,MATCH(\"Aggregate Transfer to Conveyor\",$J$69:$J$78,0),2)),0))),((IFERROR((OFFSET($J$84,MATCH(\"Aggregate Transfer to Conveyor\",$J$85:$J$94,0),2)),0))),((IFERROR((OFFSET($J$100,MATCH(\"Aggregate Transfer to Conveyor\",$J$101:$J$110,0),2)),0))),((IFERROR((OFFSET($J$116,MATCH(\"Aggregate Transfer to Conveyor\",$J$117:$J$126,0),2)),0))),((IFERROR((OFFSET($J$132,MATCH(\"Aggregate Transfer to Conveyor\",$J$133:$J$142,0),2)),0))),((IFERROR((OFFSET($J$148,MATCH(\"Aggregate Transfer to Conveyor\",$J$149:$J$158,0),2)),0))),((IFERROR((OFFSET($J$164,MATCH(\"Aggregate Transfer to Conveyor\",$J$165:$J$174,0),2)),0))),)","v":0}]
[null,null,null,null,null,null,null,null,null,null,null,null,null,null,null,"Sand Transfer to Conveyor",{"$f":"MAX((IFERROR(OFFSET($J$20,MATCH(\"Sand Transfer to Conveyor\",$J$21:$J$30,0),1),0)),((IFERROR((OFFSET($J$37,MATCH(\"Sand Transfer to Conveyor\",$J$38:$J$47,0),1)),0))),((IFERROR((OFFSET($J$52,MATCH(\"Sand Transfer to Conveyor\",$J$53:$J$62,0),1)),0))),((IFERROR((OFFSET($J$68,MATCH(\"Sand Transfer to Conveyor\",$J$69:$J$78,0),1)),0))),((IFERROR((OFFSET($J$84,MATCH(\"Sand Transfer to Conveyor\",$J$85:$J$94,0),1)),0))),((IFERROR((OFFSET($J$100,MATCH(\"Sand Transfer to Conveyor\",$J$101:$J$110,0),1)),0))),((IFERROR((OFFSET($J$116,MATCH(\"Sand Transfer to Conveyor\",$J$117:$J$126,0),1)),0))),((IFERROR((OFFSET($J$132,MATCH(\"Sand Transfer to Conveyor\",$J$133:$J$142,0),1)),0))),((IFERROR((OFFSET($J$148,MATCH(\"Sand Transfer to Conveyor\",$J$149:$J$158,0),1)),0))),((IFERROR((OFFSET($J$164,MATCH(\"Sand Transfer to Conveyor\",$J$165:$J$174,0),1)),0))),)","v":0},{"$f":"SUM((IFERROR(OFFSET($J$20,MATCH(\"Sand Transfer to Conveyor\",$J$21:$J$30,0),2),0)),((IFERROR((OFFSET($J$37,MATCH(\"Sand Transfer to Conveyor\",$J$38:$J$47,0),2)),0))),((IFERROR((OFFSET($J$52,MATCH(\"Sand Transfer to Conveyor\",$J$53:$J$62,0),2)),0))),((IFERROR((OFFSET($J$68,MATCH(\"Sand Transfer to Conveyor\",$J$69:$J$78,0),2)),0))),((IFERROR((OFFSET($J$84,MATCH(\"Sand Transfer to Conveyor\",$J$85:$J$94,0),2)),0))),((IFERROR((OFFSET($J$100,MATCH(\"Sand Transfer to Conveyor\",$J$101:$J$110,0),2)),0))),((IFERROR((OFFSET($J$116,MATCH(\"Sand Transfer to Conveyor\",$J$117:$J$126,0),2)),0))),((IFERROR((OFFSET($J$132,MATCH(\"Sand Transfer to Conveyor\",$J$133:$J$142,0),2)),0))),((IFERROR((OFFSET($J$148,MATCH(\"Sand Transfer to Conveyor\",$J$149:$J$158,0),2)),0))),((IFERROR((OFFSET($J$164,MATCH(\"Sand Transfer to Conveyor\",$J$165:$J$174,0),2)),0))),)","v":0}]
[null,"Plant Specific Operating Limits:",null,null,null,null,null,"Plant Specific Emission Limits:",null,null,null,null,null,null,null,"Aggregate Transfer to Elevated Storage",{"$f":"MAX((IFERROR(OFFSET($J$20,MATCH(\"Aggregate Transfer to Elevated Storage\",$J$21:$J$30,0),1),0)),((IFERROR((OFFSET($J$37,MATCH(\"Aggregate Transfer to Elevated Storage\",$J$38:$J$47,0),1)),0))),((IFERROR((OFFSET($J$52,MATCH(\"Aggregate Transfer to Elevated Storage\",$J$53:$J$62,0),1)),0))),((IFERROR((OFFSET($J$68,MATCH(\"Aggregate Transfer to Elevated Storage\",$J$69:$J$78,0),1)),0))),((IFERROR((OFFSET($J$84,MATCH(\"Aggregate Transfer to Elevated Storage\",$J$85:$J$94,0),1)),0))),((IFERROR((OFFSET($J$100,MATCH(\"Aggregate Transfer to Elevated Storage\",$J$101:$J$110,0),1)),0))),((IFERROR((OFFSET($J$116,MATCH(\"Aggregate Transfer to Elevated Storage\",$J$117:$J$126,0),1)),0))),((IFERROR((OFFSET($J$132,MATCH(\"Aggregate Transfer to Elevated Storage\",$J$133:$J$142,0),1)),0))),((IFERROR((OFFSET($J$148,MATCH(\"Aggregate Transfer to Elevated Storage\",$J$149:$J$158,0),1)),0))),((IFERROR((OFFSET($J$164,MATCH(\"Aggregate Transfer to Elevated Storage\",$J$165:$J$174,0),1)),0))),)","v":0},{"$f":"SUM((IFERROR(OFFSET($J$20,MATCH(\"Aggregate Transfer to Elevated Storage\",$J$21:$J$30,0),2),0)),((IFERROR((OFFSET($J$37,MATCH(\"Aggregate Transfer to Elevated Storage\",$J$38:$J$47,0),2)),0))),((IFERROR((OFFSET($J$52,MATCH(\"Aggregate Transfer to Elevated Storage\",$J$53:$J$62,0),2)),0))),((IFERROR((OFFSET($J$68,MATCH(\"Aggregate Transfer to Elevated Storage\",$J$69:$J$78,0),2)),0))),((IFERROR((OFFSET($J$84,MATCH(\"Aggregate Transfer to Elevated Storage\",$J$85:$J$94,0),2)),0))),((IFERROR((OFFSET($J$100,MATCH(\"Aggregate Transfer to Elevated Storage\",$J$101:$J$110,0),2)),0))),((IFERROR((OFFSET($J$116,MATCH(\"Aggregate Transfer to Elevated Storage\",$J$117:$J$126,0),2)),0))),((IFERROR((OFFSET($J$132,MATCH(\"Aggregate Transfer to Elevated Storage\",$J$133:$J$142,0),2)),0))),((IFERROR((OFFSET($J$148,MATCH(\"Aggregate Transfer to Elevated Storage\",$J$149:$J$158,0),2)),0))),((IFERROR((OFFSET($J$164,MATCH(\"Aggregate Transfer to Elevated Storage\",$J$165:$J$174,0),2)),0))),)","v":0}]
[null,"Throughput Limit (cubic yards/yr):",null,null,null,null,null,"Pollutant","lb/hr","tons/yr",null,null,null,null,null,"Sand Transfer to Elevated Storage",{"$f":"MAX((IFERROR(OFFSET($J$20,MATCH(\"Sand Transfer to Elevated Storage\",$J$21:$J$30,0),1),0)),((IFERROR((OFFSET($J$37,MATCH(\"Sand Transfer to Elevated Storage\",$J$38:$J$47,0),1)),0))),((IFERROR((OFFSET($J$52,MATCH(\"Sand Transfer to Elevated Storage\",$J$53:$J$62,0),1)),0))),((IFERROR((OFFSET($J$68,MATCH(\"Sand Transfer to Elevated Storage\",$J$69:$J$78,0),1)),0))),((IFERROR((OFFSET($J$84,MATCH(\"Sand Transfer to Elevated Storage\",$J$85:$J$94,0),1)),0))),((IFERROR((OFFSET($J$100,MATCH(\"Sand Transfer to Elevated Storage\",$J$101:$J$110,0),1)),0))),((IFERROR((OFFSET($J$116,MATCH(\"Sand Transfer to Elevated Storage\",$J$117:$J$126,0),1)),0))),((IFERROR((OFFSET($J$132,MATCH(\"Sand Transfer to Elevated Storage\",$J$133:$J$142,0),1)),0))),((IFERROR((OFFSET($J$148,MATCH(\"Sand Transfer to Elevated Storage\",$J$149:$J$158,0),1)),0))),((IFERROR((OFFSET($J$164,MATCH(\"Sand Transfer to Elevated Storage\",$J$165:$J$174,0),1)),0))),)","v":0},{"$f":"SUM((IFERROR(OFFSET($J$20,MATCH(\"Sand Transfer to Elevated Storage\",$J$21:$J$30,0),2),0)),((IFERROR((OFFSET($J$37,MATCH(\"Sand Transfer to Elevated Storage\",$J$38:$J$47,0),2)),0))),((IFERROR((OFFSET($J$52,MATCH(\"Sand Transfer to Elevated Storage\",$J$53:$J$62,0),2)),0))),((IFERROR((OFFSET($J$68,MATCH(\"Sand Transfer to Elevated Storage\",$J$69:$J$78,0),2)),0))),((IFERROR((OFFSET($J$84,MATCH(\"Sand Transfer to Elevated Storage\",$J$85:$J$94,0),2)),0))),((IFERROR((OFFSET($J$100,MATCH(\"Sand Transfer to Elevated Storage\",$J$101:$J$110,0),2)),0))),((IFERROR((OFFSET($J$116,MATCH(\"Sand Transfer to Elevated Storage\",$J$117:$J$126,0),2)),0))),((IFERROR((OFFSET($J$132,MATCH(\"Sand Transfer to Elevated Storage\",$J$133:$J$142,0),2)),0))),((IFERROR((OFFSET($J$148,MATCH(\"Sand Transfer to Elevated Storage\",$J$149:$J$158,0),2)),0))),((IFERROR((OFFSET($J$164,MATCH(\"Sand Transfer to Elevated Storage\",$J$165:$J$174,0),2)),0))),)","v":0}]
[null,"Daily Throughput Limit (cubic yards/day):",null,null,null,null,null,"PM2.5",null,null,null,null,null,null,null,"Weigh Hopper Loading",{"$f":"MAX((IFERROR(OFFSET($J$20,MATCH(\"Weigh Hopper Loading\",$J$21:$J$30,0),1),0)),((IFERROR((OFFSET($J$37,MATCH(\"Weigh Hopper Loading\",$J$38:$J$47,0),1)),0))),((IFERROR((OFFSET($J$52,MATCH(\"Weigh Hopper Loading\",$J$53:$J$62,0),1)),0))),((IFERROR((OFFSET($J$68,MATCH(\"Weigh Hopper Loading\",$J$69:$J$78,0),1)),0))),((IFERROR((OFFSET($J$84,MATCH(\"Weigh Hopper Loading\",$J$85:$J$94,0),1)),0))),((IFERROR((OFFSET($J$100,MATCH(\"Weigh Hopper Loading\",$J$101:$J$110,0),1)),0))),((IFERROR((OFFSET($J$116,MATCH(\"Weigh Hopper Loading\",$J$117:$J$126,0),1)),0))),((IFERROR((OFFSET($J$132,MATCH(\"Weigh Hopper Loading\",$J$133:$J$142,0),1)),0))),((IFERROR((OFFSET($J$148,MATCH(\"Weigh Hopper Loading\",$J$149:$J$158,0),1)),0))),((IFERROR((OFFSET($J$164,MATCH(\"Weigh Hopper Loading\",$J$165:$J$174,0),1)),0))),)","v":0},{"$f":"SUM((IFERROR(OFFSET($J$20,MATCH(\"Weigh Hopper Loading\",$J$21:$J$30,0),2),0)),((IFERROR((OFFSET($J$37,MATCH(\"Weigh Hopper Loading\",$J$38:$J$47,0),2)),0))),((IFERROR((OFFSET($J$52,MATCH(\"Weigh Hopper Loading\",$J$53:$J$62,0),2)),0))),((IFERROR((OFFSET($J$68,MATCH(\"Weigh Hopper Loading\",$J$69:$J$78,0),2)),0))),((IFERROR((OFFSET($J$84,MATCH(\"Weigh Hopper Loading\",$J$85:$J$94,0),2)),0))),((IFERROR((OFFSET($J$100,MATCH(\"Weigh Hopper Loading\",$J$101:$J$110,0),2)),0))),((IFERROR((OFFSET($J$116,MATCH(\"Weigh Hopper Loading\",$J$117:$J$126,0),2)),0))),((IFERROR((OFFSET($J$132,MATCH(\"Weigh Hopper Loading\",$J$133:$J$142,0),2)),0))),((IFERROR((OFFSET($J$148,MATCH(\"Weigh Hopper Loading\",$J$149:$J$158,0),2)),0))),((IFERROR((OFFSET($J$164,MATCH(\"Weigh Hopper Loading\",$J$165:$J$174,0),2)),0))),)","v":0}]
[null,"Hours of Operation Limit (hours/day):",null,null,null,null,null,"PM10",null,null,null,null,null,null,null,"Central Mix Loading",{"$f":"MAX((IFERROR(OFFSET($J$20,MATCH(\"Central Mix Loading\",$J$21:$J$30,0),1),0)),((IFERROR((OFFSET($J$37,MATCH(\"Central Mix Loading\",$J$38:$J$47,0),1)),0))),((IFERROR((OFFSET($J$52,MATCH(\"Central Mix Loading\",$J$53:$J$62,0),1)),0))),((IFERROR((OFFSET($J$68,MATCH(\"Central Mix Loading\",$J$69:$J$78,0),1)),0))),((IFERROR((OFFSET($J$84,MATCH(\"Central Mix Loading\",$J$85:$J$94,0),1)),0))),((IFERROR((OFFSET($J$100,MATCH(\"Central Mix Loading\",$J$101:$J$110,0),1)),0))),((IFERROR((OFFSET($J$116,MATCH(\"Central Mix Loading\",$J$117:$J$126,0),1)),0))),((IFERROR((OFFSET($J$132,MATCH(\"Central Mix Loading\",$J$133:$J$142,0),1)),0))),((IFERROR((OFFSET($J$148,MATCH(\"Central Mix Loading\",$J$149:$J$158,0),1)),0))),((IFERROR((OFFSET($J$164,MATCH(\"Central Mix Loading\",$J$165:$J$174,0),1)),0))),)","v":0},{"$f":"SUM((IFERROR(OFFSET($J$20,MATCH(\"Central Mix Loading\",$J$21:$J$30,0),2),0)),((IFERROR((OFFSET($J$37,MATCH(\"Central Mix Loading\",$J$38:$J$47,0),2)),0))),((IFERROR((OFFSET($J$52,MATCH(\"Central Mix Loading\",$J$53:$J$62,0),2)),0))),((IFERROR((OFFSET($J$68,MATCH(\"Central Mix Loading\",$J$69:$J$78,0),2)),0))),((IFERROR((OFFSET($J$84,MATCH(\"Central Mix Loading\",$J$85:$J$94,0),2)),0))),((IFERROR((OFFSET($J$100,MATCH(\"Central Mix Loading\",$J$101:$J$110,0),2)),0))),((IFERROR((OFFSET($J$116,MATCH(\"Central Mix Loading\",$J$117:$J$126,0),2)),0))),((IFERROR((OFFSET($J$132,MATCH(\"Central Mix Loading\",$J$133:$J$142,0),2)),0))),((IFERROR((OFFSET($J$148,MATCH(\"Central Mix Loading\",$J$149:$J$158,0),2)),0))),((IFERROR((OFFSET($J$164,MATCH(\"Central Mix Loading\",$J$165:$J$174,0),2)),0))),)","v":0}]
[null,"Note: if the plant has an hrs/day and a cubic yards/hr permit limit,",null,null,null,null,null,"SO2",null,null,null,null,null,null,null,"Truck Mix Loading",{"$f":"MAX((IFERROR(OFFSET($J$20,MATCH(\"Truck Mix Loading\",$J$21:$J$30,0),1),0)),((IFERROR((OFFSET($J$37,MATCH(\"Truck Mix Loading\",$J$38:$J$47,0),1)),0))),((IFERROR((OFFSET($J$52,MATCH(\"Truck Mix Loading\",$J$53:$J$62,0),1)),0))),((IFERROR((OFFSET($J$68,MATCH(\"Truck Mix Loading\",$J$69:$J$78,0),1)),0))),((IFERROR((OFFSET($J$84,MATCH(\"Truck Mix Loading\",$J$85:$J$94,0),1)),0))),((IFERROR((OFFSET($J$100,MATCH(\"Truck Mix Loading\",$J$101:$J$110,0),1)),0))),((IFERROR((OFFSET($J$116,MATCH(\"Truck Mix Loading\",$J$117:$J$126,0),1)),0))),((IFERROR((OFFSET($J$132,MATCH(\"Truck Mix Loading\",$J$133:$J$142,0),1)),0))),((IFERROR((OFFSET($J$148,MATCH(\"Truck Mix Loading\",$J$149:$J$158,0),1)),0))),((IFERROR((OFFSET($J$164,MATCH(\"Truck Mix Loading\",$J$165:$J$174,0),1)),0))),)","v":0},{"$f":"SUM((IFERROR(OFFSET($J$20,MATCH(\"Truck Mix Loading\",$J$21:$J$30,0),2),0)),((IFERROR((OFFSET($J$37,MATCH(\"Truck Mix Loading\",$J$38:$J$47,0),2)),0))),((IFERROR((OFFSET($J$52,MATCH(\"Truck Mix Loading\",$J$53:$J$62,0),2)),0))),((IFERROR((OFFSET($J$68,MATCH(\"Truck Mix Loading\",$J$69:$J$78,0),2)),0))),((IFERROR((OFFSET($J$84,MATCH(\"Truck Mix Loading\",$J$85:$J$94,0),2)),0))),((IFERROR((OFFSET($J$100,MATCH(\"Truck Mix Loading\",$J$101:$J$110,0),2)),0))),((IFERROR((OFFSET($J$116,MATCH(\"Truck Mix Loading\",$J$117:$J$126,0),2)),0))),((IFERROR((OFFSET($J$132,MATCH(\"Truck Mix Loading\",$J$133:$J$142,0),2)),0))),((IFERROR((OFFSET($J$148,MATCH(\"Truck Mix Loading\",$J$149:$J$158,0),2)),0))),((IFERROR((OFFSET($J$164,MATCH(\"Truck Mix Loading\",$J$165:$J$174,0),2)),0))),)","v":0}]
[null,"those values should be multiplied together to calculate a cubic ",null,null,null,null,null,"NOx",null,null,null,null,null,null,null,"Cement Delivery to Silo",{"$f":"MAX((IFERROR(OFFSET($J$20,MATCH(\"Cement Delivery to Silo\",$J$21:$J$30,0),1),0)),((IFERROR((OFFSET($J$37,MATCH(\"Cement Delivery to Silo\",$J$38:$J$47,0),1)),0))),((IFERROR((OFFSET($J$52,MATCH(\"Cement Delivery to Silo\",$J$53:$J$62,0),1)),0))),((IFERROR((OFFSET($J$68,MATCH(\"Cement Delivery to Silo\",$J$69:$J$78,0),1)),0))),((IFERROR((OFFSET($J$84,MATCH(\"Cement Delivery to Silo\",$J$85:$J$94,0),1)),0))),((IFERROR((OFFSET($J$100,MATCH(\"Cement Delivery to Silo\",$J$101:$J$110,0),1)),0))),((IFERROR((OFFSET($J$116,MATCH(\"Cement Delivery to Silo\",$J$117:$J$126,0),1)),0))),((IFERROR((OFFSET($J$132,MATCH(\"Cement Delivery to Silo\",$J$133:$J$142,0),1)),0))),((IFERROR((OFFSET($J$148,MATCH(\"Cement Delivery to Silo\",$J$149:$J$158,0),1)),0))),((IFERROR((OFFSET($J$164,MATCH(\"Cement Delivery to Silo\",$J$165:$J$174,0),1)),0))),)","v":0},{"$f":"SUM((IFERROR(OFFSET($J$20,MATCH(\"Cement Delivery to Silo\",$J$21:$J$30,0),2),0)),((IFERROR((OFFSET($J$37,MATCH(\"Cement Delivery to Silo\",$J$38:$J$47,0),2)),0))),((IFERROR((OFFSET($J$52,MATCH(\"Cement Delivery to Silo\",$J$53:$J$62,0),2)),0))),((IFERROR((OFFSET($J$68,MATCH(\"Cement Delivery to Silo\",$J$69:$J$78,0),2)),0))),((IFERROR((OFFSET($J$84,MATCH(\"Cement Delivery to Silo\",$J$85:$J$94,0),2)),0))),((IFERROR((OFFSET($J$100,MATCH(\"Cement Delivery to Silo\",$J$101:$J$110,0),2)),0))),((IFERROR((OFFSET($J$116,MATCH(\"Cement Delivery to Silo\",$J$117:$J$126,0),2)),0))),((IFERROR((OFFSET($J$132,MATCH(\"Cement Delivery to Silo\",$J$133:$J$142,0),2)),0))),((IFERROR((OFFSET($J$148,MATCH(\"Cement Delivery to Silo\",$J$149:$J$158,0),2)),0))),((IFERROR((OFFSET($J$164,MATCH(\"Cement Delivery to Silo\",$J$165:$J$174,0),2)),0))),)","v":0}]
[null,"yards/day limit and that value should be placed in cell C10.",null,null,null,null,null,"VOC",null,null,null,null,null,null,null,"Cement Supplement Delivery to Silo",{"$f":"MAX((IFERROR(OFFSET($J$20,MATCH(\"Cement Supplement Delivery to Silo\",$J$21:$J$30,0),1),0)),((IFERROR((OFFSET($J$37,MATCH(\"Cement Supplement Delivery to Silo\",$J$38:$J$47,0),1)),0))),((IFERROR((OFFSET($J$52,MATCH(\"Cement Supplement Delivery to Silo\",$J$53:$J$62,0),1)),0))),((IFERROR((OFFSET($J$68,MATCH(\"Cement Supplement Delivery to Silo\",$J$69:$J$78,0),1)),0))),((IFERROR((OFFSET($J$84,MATCH(\"Cement Supplement Delivery to Silo\",$J$85:$J$94,0),1)),0))),((IFERROR((OFFSET($J$100,MATCH(\"Cement Supplement Delivery to Silo\",$J$101:$J$110,0),1)),0))),((IFERROR((OFFSET($J$116,MATCH(\"Cement Supplement Delivery to Silo\",$J$117:$J$126,0),1)),0))),((IFERROR((OFFSET($J$132,MATCH(\"Cement Supplement Delivery to Silo\",$J$133:$J$142,0),1)),0))),((IFERROR((OFFSET($J$148,MATCH(\"Cement Supplement Delivery to Silo\",$J$149:$J$158,0),1)),0))),((IFERROR((OFFSET($J$164,MATCH(\"Cement Supplement Delivery to Silo\",$J$165:$J$174,0),1)),0))),)","v":0},{"$f":"SUM((IFERROR(OFFSET($J$20,MATCH(\"Cement Supplement Delivery to Silo\",$J$21:$J$30,0),2),0)),((IFERROR((OFFSET($J$37,MATCH(\"Cement Supplement Delivery to Silo\",$J$38:$J$47,0),2)),0))),((IFERROR((OFFSET($J$52,MATCH(\"Cement Supplement Delivery to Silo\",$J$53:$J$62,0),2)),0))),((IFERROR((OFFSET($J$68,MATCH(\"Cement Supplement Delivery to Silo\",$J$69:$J$78,0),2)),0))),((IFERROR((OFFSET($J$84,MATCH(\"Cement Supplement Delivery to Silo\",$J$85:$J$94,0),2)),0))),((IFERROR((OFFSET($J$100,MATCH(\"Cement Supplement Delivery to Silo\",$J$101:$J$110,0),2)),0))),((IFERROR((OFFSET($J$116,MATCH(\"Cement Supplement Delivery to Silo\",$J$117:$J$126,0),2)),0))),((IFERROR((OFFSET($J$132,MATCH(\"Cement Supplement Delivery to Silo\",$J$133:$J$142,0),2)),0))),((IFERROR((OFFSET($J$148,MATCH(\"Cement Supplement Delivery to Silo\",$J$149:$J$158,0),2)),0))),((IFERROR((OFFSET($J$164,MATCH(\"Cement Supplement Delivery to Silo\",$J$165:$J$174,0),2)),0))),)","v":0}]
[null,null,null,null,null,null,null,"CO"]
[null,null,null,null,null,null,null,null,null,null,null,null,null,null,null,null,"Maximum (acres/day)","Actual (acres-day/yr)"]
[null,null,null,null,null,null,null,null,null,null,null,null,null,null,null,"Storage Pile",{"$f":"SUM(J34,J51,J66,J82,J98,J114,J130,J146,J162,J178)","v":0},{"$f":"SUM(K34*L34,K51*L51,K66*L66,K82*L82,K98*L98,K114*L114,K130*L130,K146*L146,K162*L162,K178*L178)","v":0}]
[]
[null,null,null,null,null,null,null,null,null,null,null,null,null,null,null,"Actual Emissions for the Listed Processes at this Plant"]
[null,"Batch Plant","Site 1",null,null,null,null,"Emission Point #","Emission     Unit #","Processes","Combined Maximum Hourly Design Rate for all Like Processes (cubic yard/hr)",{"$f":"('Facility Information'!G5&\" Annual Throughput (cubic yards)\")","v":" Annual Throughput (cubic yards)"},"Truck","Central",null,"PM2.5","Maximum Design Rate (cubic yards/hr)","Emission Factor (lb/cubic yard)","Potential Uncontrolled Emissions (lb/hr)","Potential Controlled Emissions (lb/hr)","Potential Annual Emissions (tons/yr)","Actual Annual Emissions (tons/yr)"]
["YES","Site Name:",null,null,null,null,null,{"$f":"IF(J21=\"cement delivery to silo\",\"CP-1 EP-2\",IF(J21=\"cement supplement delivery to silo\",\"CP-1 EP-3\",IF(J21=\"weigh hopper loading\",\"CP-1 EP-4\",IF(J21=\"truck mix loading\",\"CP-1 EP-5\",IF(J21=\"central mix loading\",\"CP-1 EP-6\",IF(J21=\"\",\"\",\"CP-1 EP-1\"))))))","v":""},{"$f":"IF(J21=\"\",\"\",IF(J21=\"aggregate delivery to ground storage\",\"CP-2 EU-1\",IF(J21=\"sand delivery to ground storage\",\"CP-2 EU-2\",IF(J21=\"aggregate transfer to conveyor\",\"CP-2 EU-3\",IF(J21=\"sand transfer to conveyor\",\"CP-2 EU-4\",IF(J21=\"aggregate transfer to elevated storage\",\"CP-2 EU-5\",IF(J21=\"sand transfer to elevated storage\",\"CP-2 EU-6\",IF(J21=\"weigh hopper loading\",\"CP-2 EU-7\",IF(J21=\"central mix loading\",\"CP-2 EU-8\",IF(J21=\"truck mix loading\",\"CP-2 EU-9\",IF(J21=\"cement delivery to silo\",\"CP-2 EU-10\",IF(J21=\"cement supplement delivery to silo\",\"CP-2 EU-11\"))))))))))))","v":""},null,null,null,{"$f":"IF(J21=\"truck mix loading\",IF($F$24=\"yes\",L21*0.05/2000,L21/2000),\"\")","v":""},{"$f":"IF(J21=\"central mix loading\",IF($F$24=\"yes\",L21*0.05/2000,L21/2000),\"\")","v":""},null,"Aggregate Delivery to Ground Storage",{"$f":"Q4","v":0},{"$f":"IF(Q21=0,0,LOOKUP(P21,'Emission Factors'!$A$5:$A$16,'Emission Factors'!$D$5:$D$16))","v":0},{"$f":"Q21*R21","v":0},{"$f":"IF(Q21=0,\"\",IF($I$10>0,$I$10,\"\"))","v":""},{"$f":"IF($J$10>0,$J$10,IF($D$9>0,$D$9*R21/2000,IF($D$10>0,$D$10*365*R21/2000,IF($D$11>0,$D$11*365*R21*Q21/2000,IF(T21=\"\",S21*8760/2000,T21*8760/2000)))))","v":0},{"$f":"(R4*R21/2000)","v":0}]
["NO","County:",null,null,null,null,null,{"$f":"IF(J22=\"cement delivery to silo\",\"CP-1 EP-2\",IF(J22=\"cement supplement delivery to silo\",\"CP-1 EP-3\",IF(J22=\"weigh hopper loading\",\"CP-1 EP-4\",IF(J22=\"truck mix loading\",\"CP-1 EP-5\",IF(J22=\"central mix loading\",\"CP-1 EP-6\",IF(J22=\"\",\"\",\"CP-1 EP-1\"))))))","v":""},"",null,null,null,{"$f":"IF(J22=\"truck mix loading\",IF($F$24=\"yes\",L22*0.05/2000,L22/2000),\"\")","v":""},{"$f":"IF(J22=\"central mix loading\",IF($F$24=\"yes\",L22*0.05/2000,L22/2000),\"\")","v":""},null,"Sand Delivery to Ground Storage",0,{"$f":"IF(Q22=0,0,LOOKUP(P22,'Emission Factors'!$A$5:$A$16,'Emission Factors'!$D$5:$D$16))","v":0},0,{"$f":"IF(Q22=0,\"\",IF($I$10>0,$I$10,\"\"))","v":""},{"$f":"IF($J$10>0,\"\",IF($D$9>0,$D$9*R22/2000,IF($D$10>0,$D$10*365*R22/2000,IF($D$11>0,$D$11*365*R22*Q22/2000,IF(T22=\"\",S22*8760/2000,T22*8760/2000)))))","v":0},0]
[null,"Batching Period (Dates):",null,null,null,null,null,"","",null,null,null,"","",null,"Aggregate Transfer to Conveyor",0,{"$f":"IF(Q23=0,0,LOOKUP(P23,'Emission Factors'!$A$5:$A$16,'Emission Factors'!$D$5:$D$16))","v":0},0,"",0,0]
["Aggregate Delivery to Ground Storage",{"$f":"IF(OR(COUNTIF(J21:J30,\"Truck Mix Loading\")>0,(COUNTIF(J21:J30,\"Central Mix Loading\")>0)),\"Is the Central/Truck Mix Loading process controlled by a baghouse?\",\"\")","v":""},null,null,null,null,null,"","",null,null,null,"","",null,"Sand Transfer to Conveyor",0,{"$f":"IF(Q24=0,0,LOOKUP(P24,'Emission Factors'!$A$5:$A$16,'Emission Factors'!$D$5:$D$16))","v":0},0,"",0,0]
["Sand Delivery to Ground Storage",null,null,null,null,null,null,"","",null,null,null,"","",null,"Aggregate Transfer to Elevated Storage",0,{"$f":"IF(Q25=0,0,LOOKUP(P25,'Emission Factors'!$A$5:$A$16,'Emission Factors'!$D$5:$D$16))","v":0},0,"",0,0]
["Aggregate Transfer to Conveyor",{"$f":"IF(AND(B28=\"\",B29=\"\",B32=\"\",B31=\"\",B30=\"\"),\"\",\"Process (complete stack information if applicable):\")","v":""},{"$f":"IF(AND(B28=\"\",B29=\"\",B32=\"\",B31=\"\",B30=\"\"),\"\",\"Stack Height (ft):\")","v":""},{"$f":"IF(AND(B28=\"\",B29=\"\",B32=\"\",B31=\"\",B30=\"\"),\"\",\"Stack Diameter (inches):\")","v":""},{"$f":"IF(AND(B28=\"\",B29=\"\",B32=\"\",B31=\"\",B30=\"\"),\"\",\"Flow Rate (acfm):\")","v":""},{"$f":"IF(AND(B28=\"\",B29=\"\",B32=\"\",B31=\"\",B30=\"\"),\"\",\"Temp (Deg F):\")","v":""},null,"","",null,null,null,"","",null,"Sand Transfer to Elevated Storage",0,{"$f":"IF(Q26=0,0,LOOKUP(P26,'Emission Factors'!$A$5:$A$16,'Emission Factors'!$D$5:$D$16))","v":0},0,"",0,0]
["Sand Transfer to Conveyor",null,null,null,null,null,null,"","",null,null,null,"","",null,"Weigh Hopper Loading",0,{"$f":"IF(Q27=0,0,LOOKUP(P27,'Emission Factors'!$A$5:$A$16,'Emission Factors'!$D$5:$D$16))","v":0},0,"",0,0]
["Aggregate Transfer to Elevated Storage",{"$f":"IF(COUNTIF(J21:J30,\"Cement Delivery to Silo\")>0,\"EP-2 Cement Silo Stack:\",\"\")","v":""},null,null,null,null,null,"","",null,null,null,"","",null,"Central Mix Loading",0,{"$f":"IF(Q28=0,0,LOOKUP(P28,'Emission Factors'!$A$5:$A$16,'Emission Factors'!$D$5:$D$16))","v":0},0,{"$f":"IF(Q28=0,\"\",IF($I$10>0,$I$10,IF(COUNTIF($F$24:$F$168,\"no\")>0,\"\",S28*(1-0.95))))","v":""},{"$f":"IF($J$10>0,\"\",IF($D$9>0,$D$9*R28*((100-$W$30)/100)/2000,IF($D$10>0,$D$10*365*R28*((100-$W$30)/100)/2000,IF($D$11>0,$D$11*365*R28*((100-$W$30)/100)*Q28/2000,IF(T28=\"\",S28*8760/2000,T28*8760/2000)))))","v":0},{"$f":"(R28*N180)","v":0}]
["Sand Transfer to Elevated Storage",{"$f":"IF(COUNTIF(J21:J30,\"Cement Supplement Delivery to Silo\")>0,\"EP-3 Cement Supplement Silo Stack:\",\"\")","v":""},null,null,null,null,null,"","",null,null,null,"","",null,"Truck Mix Loading",0,{"$f":"IF(Q29=0,0,LOOKUP(P29,'Emission Factors'!$A$5:$A$16,'Emission Factors'!$D$5:$D$16))","v":0},0,{"$f":"IF(Q29=0,\"\",IF($I$10>0,$I$10,IF(COUNTIF($F$24:$F$168,\"no\")>0,\"\",S29*(1-0.95))))","v":""},{"$f":"IF($J$10>0,\"\",IF($D$9>0,$D$9*R29*((100-$W$30)/100)/2000,IF($D$10>0,$D$10*365*R29*((100-$W$30)/100)/2000,IF($D$11>0,$D$11*365*R29*((100-$W$30)/100)*Q29/2000,IF(T29=\"\",S29*8760/2000,T29*8760/2000)))))","v":0},{"$f":"(R29*M180)","v":0}]
["Weigh Hopper Loading",{"$f":"IF(COUNTIF(J21:J30,\"Weigh Hopper Loading\")>0,\"EP-4 Weigh Hopper Loading Stack:\",\"\")","v":""},null,null,null,null,null,"","",null,null,null,"","",null,"Cement Delivery to Silo",0,{"$f":"IF(Q30=0,0,LOOKUP(P30,'Emission Factors'!$A$5:$A$16,'Emission Factors'!$D$5:$D$16))","v":0},null,{"$f":"IF(Q30=0,0,IF($I$10>0,$I$10,Q30*R30))","v":0},{"$f":"IF($J$10>0,\"\",IF($D$9>0,$D$9*R30/2000,IF($D$10>0,$D$10*365*R30/2000,IF($D$11>0,$D$11*365*R30*Q30/2000,IF($I$10>0,0,T30*8760/2000)))))","v":0},{"$f":"(R13*R30/2000)","v":0},{"$f":"IF(COUNTIF($F$24:$F$168,\"no\")>0,0,95)","v":95}]
["Central Mix Loading",{"$f":"IF(COUNTIF(J21:J30,\"Truck Mix Loading\")>0,\"EP-5 Truck Mix Loading Stack:\",\"\")","v":""},null,null,null,null,null,null,null,null,null,null,null,null,null,"Cement Supplement Delivery to Silo",0,{"$f":"IF(Q31=0,0,LOOKUP(P31,'Emission Factors'!$A$5:$A$16,'Emission Factors'!$D$5:$D$16))","v":0},null,{"$f":"IF(Q31=0,0,IF($I$10>0,$I$10,Q31*R31))","v":0},{"$f":"IF($J$10>0,\"\",IF($D$9>0,$D$9*R31/2000,IF($D$10>0,$D$10*365*R31/2000,IF($D$11>0,$D$11*365*R31*Q31/2000,IF($I$10>0,0,T31*8760/2000)))))","v":0},{"$f":"(R14*R31/2000)","v":0}]
["Truck Mix Loading",{"$f":"IF(COUNTIF(J21:J30,\"Central Mix Loading\")>0,\"EP-6 Central Mix Loading Stack:\",\"\")","v":""},null,null,null,null,null,"Stock Pile Area"]
["Cement Delivery to Silo",null,null,null,null,null,null,null,"Emission Unit #","Maximum Storage Area (acres)","Actual Storage Area (acres)","Actual Days in Existence (days)"]
["Cement Supplement Delivery to Silo",null,null,null,null,null,null,null,null,null,null,null,null,null,null,"PM10"]
[null,null,null,null,null,null,null,null,null,null,null,null,null,null,null,"Aggregate Delivery to Ground Storage",{"$f":"Q4","v":0},{"$f":"IF(Q35=0,0,LOOKUP(P35,'Emission Factors'!$A$5:$A$16,'Emission Factors'!$H$5:$H$16))","v":0},{"$f":"Q35*R35","v":0},{"$f":"IF(Q35=0,\"\",IF($I$11>0,$I$11,\"\"))","v":""},{"$f":"IF($J$11>0,$J$11,IF($D$9>0,$D$9*R35/2000,IF($D$10>0,$D$10*365*R35/2000,IF($D$11>0,$D$11*365*R35*Q35/2000,IF(T35=\"\",S35*8760/2000,T35*8760/2000)))))","v":0},{"$f":"(R4*R35/2000)","v":0}]
[null,null,null,null,null,null,null,null,null,null,null,null,null,null,null,"Sand Delivery to Ground Storage",0,{"$f":"IF(Q36=0,0,LOOKUP(P36,'Emission Factors'!$A$5:$A$16,'Emission Factors'!$H$5:$H$16))","v":0},0,{"$f":"IF(Q36=0,\"\",IF($I$11>0,$I$11,\"\"))","v":""},{"$f":"IF($J$11>0,\"\",IF($D$9>0,$D$9*R36/2000,IF($D$10>0,$D$10*365*R36/2000,IF($D$11>0,$D$11*365*R36*Q36/2000,IF(T36=\"\",S36*8760/2000,T36*8760/2000)))))","v":0},0]
[null,{"$f":"IF('Concrete Plant (CP-2)'!$D$4>1,\"Batch Plant\",\"\")","v":""},{"$f":"IF('Concrete Plant (CP-2)'!$D$4>1,\"Site 2\",\"\")","v":""},null,null,null,null,{"$f":"IF('Concrete Plant (CP-2)'!$D$4>1,\"Emission Point #\",\"\")","v":""},{"$f":"IF('Concrete Plant (CP-2)'!$D$4>1,\"Emission     Unit #\",\"\")","v":""},{"$f":"IF('Concrete Plant (CP-2)'!$D$4>1,\"Processes\",\"\")","v":""},{"$f":"IF('Concrete Plant (CP-2)'!$D$4>1,\"Combined Maximum Hourly Design Rate for all Like Processes (cubic yard/hr)\",\"\")","v":""},{"$f":"IF('Concrete Plant (CP-2)'!$D$4>1,('Facility Information'!G5&\" Annual Throughput (cubic yards)\"),\"\")","v":""},null,null,null,"Aggregate Transfer to Conveyor",0,{"$f":"IF(Q37=0,0,LOOKUP(P37,'Emission Factors'!$A$5:$A$16,'Emission Factors'!$H$5:$H$16))","v":0},0,"",0,0]
[null,{"$f":"IF('Concrete Plant (CP-2)'!$D$4>1,\"Site Name:\",\"\")","v":""},null,null,null,null,null,{"$f":"IF(J38=\"cement delivery to silo\",\"CP-1 EP-2\",IF(J38=\"cement supplement delivery to silo\",\"CP-1 EP-3\",IF(J38=\"weigh hopper loading\",\"CP-1 EP-4\",IF(J38=\"truck mix loading\",\"CP-1 EP-5\",IF(J38=\"central mix loading\",\"CP-1 EP-6\",IF(J38=\"\",\"\",\"CP-1 EP-1\"))))))","v":""},{"$f":"IF(J38=\"\",\"\",IF(J38=\"aggregate delivery to ground storage\",\"CP-2 EU-1\",IF(J38=\"sand delivery to ground storage\",\"CP-2 EU-2\",IF(J38=\"aggregate transfer to conveyor\",\"CP-2 EU-3\",IF(J38=\"sand transfer to conveyor\",\"CP-2 EU-4\",IF(J38=\"aggregate transfer to elevated storage\",\"CP-2 EU-5\",IF(J38=\"sand transfer to elevated storage\",\"CP-2 EU-6\",IF(J38=\"weigh hopper loading\",\"CP-2 EU-7\",IF(J38=\"central mix loading\",\"CP-2 EU-8\",IF(J38=\"truck mix loading\",\"CP-2 EU-9\",IF(J38=\"cement delivery to silo\",\"CP-2 EU-10\",IF(J38=\"cement supplement delivery to silo\",\"CP-2 EU-11\"))))))))))))","v":""},null,null,null,{"$f":"IF(J38=\"truck mix loading\",IF($F$41=\"yes\",L38*0.05/2000,L38/2000),\"\")","v":""},{"$f":"IF(J38=\"central mix loading\",IF($F$41=\"yes\",L38*0.05/2000,L38/2000),\"\")","v":""},null,"Sand Transfer to Conveyor",0,{"$f":"IF(Q38=0,0,LOOKUP(P38,'Emission Factors'!$A$5:$A$16,'Emission Factors'!$H$5:$H$16))","v":0},{"$f":"Q38*R38","v":0},{"$f":"IF(Q38=0,\"\",IF($I$11>0,$I$11,\"\"))","v":""},{"$f":"IF($J$11>0,\"\",IF($D$9>0,$D$9*R38/2000,IF($D$10>0,$D$10*365*R38/2000,IF($D$11>0,$D$11*365*R38*Q38/2000,IF(T38=\"\",S38*8760/2000,T38*8760/2000)))))","v":0},0]
[null,{"$f":"IF('Concrete Plant (CP-2)'!$D$4>1,\"County:\",\"\")","v":""},null,null,null,null,null,{"$f":"IF(J39=\"cement delivery to silo\",\"CP-1 EP-2\",IF(J39=\"cement supplement delivery to silo\",\"CP-1 EP-3\",IF(J39=\"weigh hopper loading\",\"CP-1 EP-4\",IF(J39=\"truck mix loading\",\"CP-1 EP-5\",IF(J39=\"central mix loading\",\"CP-1 EP-6\",IF(J39=\"\",\"\",\"CP-1 EP-1\"))))))","v":""},"",null,null,null,{"$f":"IF(J39=\"truck mix loading\",IF($F$41=\"yes\",L39*0.05/2000,L39/2000),\"\")","v":""},{"$f":"IF(J39=\"central mix loading\",IF($F$41=\"yes\",L39*0.05/2000,L39/2000),\"\")","v":""},null,"Aggregate Transfer to Elevated Storage",0,{"$f":"IF(Q39=0,0,LOOKUP(P39,'Emission Factors'!$A$5:$A$16,'Emission Factors'!$H$5:$H$16))","v":0},0,{"$f":"IF(Q39=0,\"\",IF($I$11>0,$I$11,\"\"))","v":""},{"$f":"IF($J$11>0,\"\",IF($D$9>0,$D$9*R39/2000,IF($D$10>0,$D$10*365*R39/2000,IF($D$11>0,$D$11*365*R39*Q39/2000,IF(T39=\"\",S39*8760/2000,T39*8760/2000)))))","v":0},0]
[null,{"$f":"IF('Concrete Plant (CP-2)'!$D$4>1,\"Batching Period (Dates):\",\"\")","v":""},null,null,null,null,null,"","",null,null,null,"","",null,"Sand Transfer to Elevated Storage",0,{"$f":"IF(Q40=0,0,LOOKUP(P40,'Emission Factors'!$A$5:$A$16,'Emission Factors'!$H$5:$H$16))","v":0},0,{"$f":"IF(Q40=0,\"\",IF($I$11>0,$I$11,\"\"))","v":""},{"$f":"IF($J$11>0,\"\",IF($D$9>0,$D$9*R40/2000,IF($D$10>0,$D$10*365*R40/2000,IF($D$11>0,$D$11*365*R40*Q40/2000,IF(T40=\"\",S40*8760/2000,T40*8760/2000)))))","v":0},0]
[null,{"$f":"IF(OR(COUNTIF(J38:J47,\"Truck Mix Loading\")>0,(COUNTIF(J38:J47,\"Central Mix Loading\")>0)),\"Is the Central/Truck Mix Loading process controlled by a baghouse?\",\"\")","v":""},null,null,null,null,null,"","",null,null,null,"","",null,"Weigh Hopper Loading",0,{"$f":"IF(Q41=0,0,LOOKUP(P41,'Emission Factors'!$A$5:$A$16,'Emission Factors'!$H$5:$H$16))","v":0},0,{"$f":"IF(Q41=0,\"\",IF($I$11>0,$I$11,\"\"))","v":""},{"$f":"IF($J$11>0,\"\",IF($D$9>0,$D$9*R41/2000,IF($D$10>0,$D$10*365*R41/2000,IF($D$11>0,$D$11*365*R41*Q41/2000,IF(T41=\"\",S41*8760/2000,T41*8760/2000)))))","v":0},0,{"$f":"IF(COUNTIF($F$24:$F$168,\"no\")>0,0,95)","v":95}]
[null,null,null,null,null,null,null,"","",null,null,null,"","",null,"Central Mix Loading",0,{"$f":"IF(Q42=0,0,LOOKUP(P42,'Emission Factors'!$A$5:$A$16,'Emission Factors'!$H$5:$H$16))","v":0},0,{"$f":"IF(Q42=0,\"\",IF($I$11>0,$I$11,IF(COUNTIF($F$24:$F$168,\"no\")>0,\"\",S42*(1-0.95))))","v":""},{"$f":"IF($J$11>0,\"\",IF($D$9>0,$D$9*R42*((100-$W$30)/100)/2000,IF($D$10>0,$D$10*365*R42*((100-$W$30)/100)/2000,IF($D$11>0,$D$11*365*R42*((100-$W$30)/100)*Q42/2000,IF(T42=\"\",S42*8760/2000,T42*8760/2000)))))","v":0},{"$f":"(N180*R42)","v":0}]
[null,{"$f":"IF(AND(B45=\"\",B46=\"\",B47=\"\",B48=\"\",B49=\"\"),\"\",\"Process (complete stack information if applicable):\")","v":""},{"$f":"IF(AND(B45=\"\",B46=\"\",B47=\"\",B48=\"\",B49=\"\"),\"\",\"Stack Height (ft):\")","v":""},{"$f":"IF(AND(B45=\"\",B46=\"\",B47=\"\",B48=\"\",B49=\"\"),\"\",\"Stack Diameter (inches):\")","v":""},{"$f":"IF(AND(B45=\"\",B46=\"\",B47=\"\",B48=\"\",B49=\"\"),\"\",\"Flow Rate (acfm):\")","v":""},{"$f":"IF(AND(B45=\"\",B46=\"\",B47=\"\",B48=\"\",B49=\"\"),\"\",\"Temp (Deg F):\")","v":""},null,"","",null,null,null,"","",null,"Truck Mix Loading",0,{"$f":"IF(Q43=0,0,LOOKUP(P43,'Emission Factors'!$A$5:$A$16,'Emission Factors'!$H$5:$H$16))","v":0},0,{"$f":"IF(Q43=0,\"\",IF($I$11>0,$I$11,IF(COUNTIF($F$24:$F$168,\"no\")>0,\"\",S43*(1-0.95))))","v":""},{"$f":"IF($J$11>0,\"\",IF($D$9>0,$D$9*R43*((100-$W$30)/100)/2000,IF($D$10>0,$D$10*365*R43*((100-$W$30)/100)/2000,IF($D$11>0,$D$11*365*R43*((100-$W$30)/100)*Q43/2000,IF(T43=\"\",S43*8760/2000,T43*8760/2000)))))","v":0},{"$f":"(M180*R43)","v":0}]
[null,null,null,null,null,null,null,"","",null,null,null,"","",null,"Cement Delivery to Silo",0,{"$f":"IF(Q44=0,0,LOOKUP(P44,'Emission Factors'!$A$5:$A$16,'Emission Factors'!$H$5:$H$16))","v":0},null,{"$f":"IF(Q44=0,0,IF($I$10>0,$I$10,Q44*R44))","v":0},{"$f":"IF($J$11>0,\"\",IF($D$9>0,$D$9*R44/2000,IF($D$10>0,$D$10*365*R44/2000,IF($D$11>0,$D$11*365*R44*Q44/2000,IF($I$11>0,0,T44*8760/2000)))))","v":0},{"$f":"(R13*R44/2000)","v":0}]
[null,{"$f":"IF(COUNTIF(J38:J47,\"Cement Delivery to Silo\")>0,\"EP-2 Cement Silo Stack:\",\"\")","v":""},null,null,null,null,null,"","",null,null,null,"","",null,"Cement Supplement Delivery to Silo",0,{"$f":"IF(Q45=0,0,LOOKUP(P45,'Emission Factors'!$A$5:$A$16,'Emission Factors'!$H$5:$H$16))","v":0},null,{"$f":"IF(Q45=0,0,IF($I$10>0,$I$10,Q45*R45))","v":0},{"$f":"IF($J$11>0,\"\",IF($D$9>0,$D$9*R45/2000,IF($D$10>0,$D$10*365*R45/2000,IF($D$11>0,$D$11*365*R45*Q45/2000,IF($I$11>0,0,T45*8760/2000)))))","v":0},{"$f":"(R14*R45/2000)","v":0}]
[null,{"$f":"IF(COUNTIF(J38:J47,\"Cement Supplement Delivery to Silo\")>0,\"EP-3 Cement Supplement Silo Stack:\",\"\")","v":""},null,null,null,null,null,"","",null,null,null,"",""]
[null,{"$f":"IF(COUNTIF(J38:J47,\"Weigh Hopper Loading\")>0,\"EP-4 Weigh Hopper Loading Stack:\",\"\")","v":""},null,null,null,null,null,"","",null,null,null,"",""]
[null,{"$f":"IF(COUNTIF(J38:J47,\"Truck Mix Loading\")>0,\"EP-5 Truck Mix Loading Stack:\",\"\")","v":""},null,null,null,null,null,null,null,null,null,null,null,null,null,"Storage Pile","Max Design Rate (acres/day)","Emission Factor   (lb/acre-day)","Potential Uncontrolled Emissions (lb/hr)","Potential Controlled Emissions (lb/hr)","Potential Annual Emissions (tons/yr)","Actual Annual Emissions (tons/yr)"]
[null,{"$f":"IF(COUNTIF(J38:J47,\"Central Mix Loading\")>0,\"EP-6 Central Mix Loading Stack:\",\"\")","v":""},null,null,null,null,null,{"$f":"IF('Concrete Plant (CP-2)'!$D$4>1,\"Stock Pile Area\",\"\")","v":""},null,null,null,null,null,null,null,"PM2.5/PM10",{"$f":"Q17","v":0},3.64,{"$f":"Q49*R49*(1/24)","v":0},null,{"$f":"Q49*R49*365/2000","v":0},{"$f":"R17*R49/2000","v":0}]
[null,null,null,null,null,null,null,null,{"$f":"IF('Concrete Plant (CP-2)'!$D$4>1,\"Emission Unit #\",\"\")","v":""},{"$f":"IF('Concrete Plant (CP-2)'!$D$4>1,\"Maximum Storage Area (acres)\",\"\")","v":""},{"$f":"IF('Concrete Plant (CP-2)'!$D$4>1,\"Actual Storage Area (acres)\",\"\")","v":""},{"$f":"IF('Concrete Plant (CP-2)'!$D$4>1,\"Actual Days in Existence (days)\",\"\")","v":""}]
[]
[null,{"$f":"IF('Concrete Plant (CP-2)'!$D$4>2,\"Batch Plant\",\"\")","v":""},{"$f":"IF('Concrete Plant (CP-2)'!$D$4>2,\"Site 3\",\"\")","v":""},null,null,null,null,{"$f":"IF('Concrete Plant (CP-2)'!$D$4>2,\"Emission Point #\",\"\")","v":""},{"$f":"IF('Concrete Plant (CP-2)'!$D$4>2,\"Emission     Unit #\",\"\")","v":""},{"$f":"IF('Concrete Plant (CP-2)'!$D$4>2,\"Processes\",\"\")","v":""},{"$f":"IF('Concrete Plant (CP-2)'!$D$4>2,\"Combined Maximum Hourly Design Rate for all Like Processes (cubic yard/hr)\",\"\")","v":""},{"$f":"IF('Concrete Plant (CP-2)'!$D$4>2,('Facility Information'!G5&\" Annual Throughput (cubic yards)\"),\"\")","v":""}]
[null,{"$f":"IF('Concrete Plant (CP-2)'!$D$4>2,\"Site Name:\",\"\")","v":""},null,null,null,null,null,{"$f":"IF(J53=\"cement delivery to silo\",\"CP-1 EP-2\",IF(J53=\"cement supplement delivery to silo\",\"CP-1 EP-3\",IF(J53=\"weigh hopper loading\",\"CP-1 EP-4\",IF(J53=\"truck mix loading\",\"CP-1 EP-5\",IF(J53=\"central mix loading\",\"CP-1 EP-6\",IF(J53=\"\",\"\",\"CP-1 EP-1\"))))))","v":""},{"$f":"IF(J53=\"\",\"\",IF(J53=\"aggregate delivery to ground storage\",\"CP-2 EU-1\",IF(J53=\"sand delivery to ground storage\",\"CP-2 EU-2\",IF(J53=\"aggregate transfer to conveyor\",\"CP-2 EU-3\",IF(J53=\"sand transfer to conveyor\",\"CP-2 EU-4\",IF(J53=\"aggregate transfer to elevated storage\",\"CP-2 EU-5\",IF(J53=\"sand transfer to elevated storage\",\"CP-2 EU-6\",IF(J53=\"weigh hopper loading\",\"CP-2 EU-7\",IF(J53=\"central mix loading\",\"CP-2 EU-8\",IF(J53=\"truck mix loading\",\"CP-2 EU-9\",IF(J53=\"cement delivery to silo\",\"CP-2 EU-10\",IF(J53=\"cement supplement delivery to silo\",\"CP-2 EU-11\"))))))))))))","v":""},null,null,null,{"$f":"IF(J53=\"truck mix loading\",IF($F$56=\"yes\",L53*0.05/2000,L53/2000),\"\")","v":""},{"$f":"IF(J53=\"central mix loading\",IF($F$56=\"yes\",L53*0.05/2000,L53/2000),\"\")","v":""}]
[null,{"$f":"IF('Concrete Plant (CP-2)'!$D$4>2,\"County:\",\"\")","v":""},null,null,null,null,null,{"$f":"IF(J54=\"cement delivery to silo\",\"CP-1 EP-2\",IF(J54=\"cement supplement delivery to silo\",\"CP-1 EP-3\",IF(J54=\"weigh hopper loading\",\"CP-1 EP-4\",IF(J54=\"truck mix loading\",\"CP-1 EP-5\",IF(J54=\"central mix loading\",\"CP-1 EP-6\",IF(J54=\"\",\"\",\"CP-1 EP-1\"))))))","v":""},"",null,null,null,{"$f":"IF(J54=\"truck mix loading\",IF($F$56=\"yes\",L54*0.05/2000,L54/2000),\"\")","v":""},{"$f":"IF(J54=\"central mix loading\",IF($F$56=\"yes\",L54*0.05/2000,L54/2000),\"\")","v":""}]
[null,{"$f":"IF('Concrete Plant (CP-2)'!$D$4>2,\"Batching Period (Dates):\",\"\")","v":""},null,null,null,null,null,"","",null,null,null,"",""]
[null,{"$f":"IF(OR(COUNTIF(J53:J62,\"Truck Mix Loading\")>0,(COUNTIF(J53:J62,\"Central Mix Loading\")>0)),\"Is the Central/Truck Mix Loading process controlled by a baghouse?\",\"\")","v":""},null,null,null,null,null,"","",null,null,null,"",""]
[null,null,null,null,null,null,null,"","",null,null,null,"",""]
[null,{"$f":"IF(AND(B60=\"\",B61=\"\",B62=\"\",B63=\"\",B64=\"\"),\"\",\"Process (complete stack information if applicable):\")","v":""},{"$f":"IF(AND(B60=\"\",B61=\"\",B62=\"\",B63=\"\",B64=\"\"),\"\",\"Stack Height (ft):\")","v":""},{"$f":"IF(AND(B60=\"\",B61=\"\",B62=\"\",B63=\"\",B64=\"\"),\"\",\"Stack Diameter (inches):\")","v":""},{"$f":"IF(AND(B60=\"\",B61=\"\",B62=\"\",B63=\"\",B64=\"\"),\"\",\"Flow Rate (acfm):\")","v":""},{"$f":"IF(AND(B60=\"\",B61=\"\",B62=\"\",B63=\"\",B64=\"\"),\"\",\"Temp (Deg F):\")","v":""},null,"","",null,null,null,"",""]
[null,null,null,null,null,null,null,"","",null,null,null,"",""]
[null,{"$f":"IF(COUNTIF(J53:J62,\"Cement Delivery to Silo\")>0,\"EP-2 Cement Silo Stack:\",\"\")","v":""},null,null,null,null,null,"","",null,null,null,"",""]
[null,{"$f":"IF(COUNTIF(J53:J62,\"Cement Supplement Delivery to Silo\")>0,\"EP-3 Cement Supplement Silo Stack:\",\"\")","v":""},null,null,null,null,null,"","",null,null,null,"",""]
[null,{"$f":"IF(COUNTIF(J53:J62,\"Weigh Hopper Loading\")>0,\"EP-4 Weigh Hopper Loading Stack:\",\"\")","v":""},null,null,null,null,null,"","",null,null,null,"",""]
[null,{"$f":"IF(COUNTIF(J53:J62,\"Truck Mix Loading\")>0,\"EP-5 Truck Mix Loading Stack:\",\"\")","v":""}]
[null,{"$f":"IF(COUNTIF(J53:J62,\"Central Mix Loading\")>0,\"EP-6 Central Mix Loading Stack:\",\"\")","v":""},null,null,null,null,null,{"$f":"IF('Concrete Plant (CP-2)'!$D$4>2,\"Stock Pile Area\",\"\")","v":""}]
[null,null,null,null,null,null,null,null,{"$f":"IF('Concrete Plant (CP-2)'!$D$4>2,\"Emission Unit #\",\"\")","v":""},{"$f":"IF('Concrete Plant (CP-2)'!$D$4>2,\"Maximum Storage Area (acres)\",\"\")","v":""},{"$f":"IF('Concrete Plant (CP-2)'!$D$4>2,\"Actual Storage Area (acres)\",\"\")","v":""},{"$f":"IF('Concrete Plant (CP-2)'!$D$4>2,\"Actual Days in Existence (days)\",\"\")","v":""}]
[]
[]
[null,{"$f":"IF('Concrete Plant (CP-2)'!$D$4>3,\"Batch Plant\",\"\")","v":""},{"$f":"IF('Concrete Plant (CP-2)'!$D$4>3,\"Site 4\",\"\")","v":""},null,null,null,null,{"$f":"IF('Concrete Plant (CP-2)'!$D$4>3,\"Emission Point #\",\"\")","v":""},{"$f":"IF('Concrete Plant (CP-2)'!$D$4>3,\"Emission     Unit #\",\"\")","v":""},{"$f":"IF('Concrete Plant (CP-2)'!$D$4>3,\"Processes\",\"\")","v":""},{"$f":"IF('Concrete Plant (CP-2)'!$D$4>3,\"Combined Maximum Hourly Design Rate for all Like Processes (cubic yard/hr)\",\"\")","v":""},{"$f":"IF('Concrete Plant (CP-2)'!$D$4>3,('Facility Information'!G5&\" Annual Throughput (cubic yards)\"),\"\")","v":""}]
[null,{"$f":"IF('Concrete Plant (CP-2)'!$D$4>3,\"Site Name:\",\"\")","v":""},null,null,null,null,null,{"$f":"IF(J69=\"cement delivery to silo\",\"CP-1 EP-2\",IF(J69=\"cement supplement delivery to silo\",\"CP-1 EP-3\",IF(J69=\"weigh hopper loading\",\"CP-1 EP-4\",IF(J69=\"truck mix loading\",\"CP-1 EP-5\",IF(J69=\"central mix loading\",\"CP-1 EP-6\",IF(J69=\"\",\"\",\"CP-1 EP-1\"))))))","v":""},{"$f":"IF(J69=\"\",\"\",IF(J69=\"aggregate delivery to ground storage\",\"CP-2 EU-1\",IF(J69=\"sand delivery to ground storage\",\"CP-2 EU-2\",IF(J69=\"aggregate transfer to conveyor\",\"CP-2 EU-3\",IF(J69=\"sand transfer to conveyor\",\"CP-2 EU-4\",IF(J69=\"aggregate transfer to elevated storage\",\"CP-2 EU-5\",IF(J69=\"sand transfer to elevated storage\",\"CP-2 EU-6\",IF(J69=\"weigh hopper loading\",\"CP-2 EU-7\",IF(J69=\"central mix loading\",\"CP-2 EU-8\",IF(J69=\"truck mix loading\",\"CP-2 EU-9\",IF(J69=\"cement delivery to silo\",\"CP-2 EU-10\",IF(J69=\"cement supplement delivery to silo\",\"CP-2 EU-11\"))))))))))))","v":""},null,null,null,{"$f":"IF(J69=\"truck mix loading\",IF($F$72=\"yes\",L69*0.05/2000,L69/2000),\"\")","v":""},{"$f":"IF(J69=\"central mix loading\",IF($F$72=\"yes\",L69*0.05/2000,L69/2000),\"\")","v":""}]
[null,{"$f":"IF('Concrete Plant (CP-2)'!$D$4>3,\"County:\",\"\")","v":""},null,null,null,null,null,{"$f":"IF(J70=\"cement delivery to silo\",\"CP-1 EP-2\",IF(J70=\"cement supplement delivery to silo\",\"CP-1 EP-3\",IF(J70=\"weigh hopper loading\",\"CP-1 EP-4\",IF(J70=\"truck mix loading\",\"CP-1 EP-5\",IF(J70=\"central mix loading\",\"CP-1 EP-6\",IF(J70=\"\",\"\",\"CP-1 EP-1\"))))))","v":""},"",null,null,null,{"$f":"IF(J70=\"truck mix loading\",IF($F$72=\"yes\",L70*0.05/2000,L70/2000),\"\")","v":""},{"$f":"IF(J70=\"central mix loading\",IF($F$72=\"yes\",L70*0.05/2000,L70/2000),\"\")","v":""}]
[null,{"$f":"IF('Concrete Plant (CP-2)'!$D$4>3,\"Batching Period (Dates):\",\"\")","v":""},null,null,null,null,null,"","",null,null,null,"",""]
[null,{"$f":"IF(OR(COUNTIF(J69:J78,\"Truck Mix Loading\")>0,(COUNTIF(J69:J78,\"Central Mix Loading\")>0)),\"Is the Central/Truck Mix Loading process controlled by a baghouse?\",\"\")","v":""},null,null,null,null,null,"","",null,null,null,"",""]
[null,null,null,null,null,null,null,"","",null,null,null,"",""]
[null,{"$f":"IF(AND(B76=\"\",B77=\"\",B78=\"\",B79=\"\",B80=\"\"),\"\",\"Process (complete stack information if applicable):\")","v":""},{"$f":"IF(AND(B76=\"\",B77=\"\",B78=\"\",B79=\"\",B80=\"\"),\"\",\"Stack Height (ft):\")","v":""},{"$f":"IF(AND(B76=\"\",B77=\"\",B78=\"\",B79=\"\",B80=\"\"),\"\",\"Stack Diameter (inches):\")","v":""},{"$f":"IF(AND(B76=\"\",B77=\"\",B78=\"\",B79=\"\",B80=\"\"),\"\",\"Flow Rate (acfm):\")","v":""},{"$f":"IF(AND(B76=\"\",B77=\"\",B78=\"\",B79=\"\",B80=\"\"),\"\",\"Temp (Deg F):\")","v":""},null,"","",null,null,null,"",""]
[null,null,null,null,null,null,null,"","",null,null,null,"",""]
[null,{"$f":"IF(COUNTIF(J69:J78,\"Cement Delivery to Silo\")>0,\"EP-2 Cement Silo Stack:\",\"\")","v":""},null,null,null,null,null,"","",null,null,null,"",""]
[null,{"$f":"IF(COUNTIF(J69:J78,\"Cement Supplement Delivery to Silo\")>0,\"EP-3 Cement Supplement Silo Stack:\",\"\")","v":""},null,null,null,null,null,"","",null,null,null,"",""]
[null,{"$f":"IF(COUNTIF(J69:J78,\"Weigh Hopper Loading\")>0,\"EP-4 Weigh Hopper Loading Stack:\",\"\")","v":""},null,null,null,null,null,"","",null,null,null,"",""]
[null,{"$f":"IF(COUNTIF(J69:J78,\"Truck Mix Loading\")>0,\"EP-5 Truck Mix Loading Stack:\",\"\")","v":""}]
[null,{"$f":"IF(COUNTIF(J69:J78,\"Central Mix Loading\")>0,\"EP-6 Central Mix Loading Stack:\",\"\")","v":""},null,null,null,null,null,{"$f":"IF('Concrete Plant (CP-2)'!$D$4>3,\"Stock Pile Area\",\"\")","v":""}]
[null,null,null,null,null,null,null,null,{"$f":"IF('Concrete Plant (CP-2)'!$D$4>3,\"Emission Unit #\",\"\")","v":""},{"$f":"IF('Concrete Plant (CP-2)'!$D$4>3,\"Maximum Storage Area (acres)\",\"\")","v":""},{"$f":"IF('Concrete Plant (CP-2)'!$D$4>3,\"Actual Storage Area (acres)\",\"\")","v":""},{"$f":"IF('Concrete Plant (CP-2)'!$D$4>3,\"Actual Days in Existence (days)\",\"\")","v":""}]
[]
[]
[null,{"$f":"IF('Concrete Plant (CP-2)'!$D$4>4,\"Batch Plant\",\"\")","v":""},{"$f":"IF('Concrete Plant (CP-2)'!$D$4>4,\"Site 5\",\"\")","v":""},null,null,null,null,{"$f":"IF('Concrete Plant (CP-2)'!$D$4>4,\"Emission Point #\",\"\")","v":""},{"$f":"IF('Concrete Plant (CP-2)'!$D$4>4,\"Emission     Unit #\",\"\")","v":""},{"$f":"IF('Concrete Plant (CP-2)'!$D$4>4,\"Processes\",\"\")","v":""},{"$f":"IF('Concrete Plant (CP-2)'!$D$4>4,\"Combined Maximum Hourly Design Rate for all Like Processes (cubic yard/hr)\",\"\")","v":""},{"$f":"IF('Concrete Plant (CP-2)'!$D$4>4,('Facility Information'!G5&\" Annual Throughput (cubic yards)\"),\"\")","v":""}]
[null,{"$f":"IF('Concrete Plant (CP-2)'!$D$4>4,\"Site Name:\",\"\")","v":""},null,null,null,null,null,{"$f":"IF(J85=\"cement delivery to silo\",\"CP-1 EP-2\",IF(J85=\"cement supplement delivery to silo\",\"CP-1 EP-3\",IF(J85=\"weigh hopper loading\",\"CP-1 EP-4\",IF(J85=\"truck mix loading\",\"CP-1 EP-5\",IF(J85=\"central mix loading\",\"CP-1 EP-6\",IF(J85=\"\",\"\",\"CP-1 EP-1\"))))))","v":""},{"$f":"IF(J85=\"\",\"\",IF(J85=\"aggregate delivery to ground storage\",\"CP-2 EU-1\",IF(J85=\"sand delivery to ground storage\",\"CP-2 EU-2\",IF(J85=\"aggregate transfer to conveyor\",\"CP-2 EU-3\",IF(J85=\"sand transfer to conveyor\",\"CP-2 EU-4\",IF(J85=\"aggregate transfer to elevated storage\",\"CP-2 EU-5\",IF(J85=\"sand transfer to elevated storage\",\"CP-2 EU-6\",IF(J85=\"weigh hopper loading\",\"CP-2 EU-7\",IF(J85=\"central mix loading\",\"CP-2 EU-8\",IF(J85=\"truck mix loading\",\"CP-2 EU-9\",IF(J85=\"cement delivery to silo\",\"CP-2 EU-10\",IF(J85=\"cement supplement delivery to silo\",\"CP-2 EU-11\"))))))))))))","v":""},null,null,null,{"$f":"IF(J85=\"truck mix loading\",IF($F$88=\"yes\",L85*0.05/2000,L85/2000),\"\")","v":""},{"$f":"IF(J85=\"central mix loading\",IF($F$88=\"yes\",L85*0.05/2000,L85/2000),\"\")","v":""}]
[null,{"$f":"IF('Concrete Plant (CP-2)'!$D$4>4,\"County:\",\"\")","v":""},null,null,null,null,null,{"$f":"IF(J86=\"cement delivery to silo\",\"CP-1 EP-2\",IF(J86=\"cement supplement delivery to silo\",\"CP-1 EP-3\",IF(J86=\"weigh hopper loading\",\"CP-1 EP-4\",IF(J86=\"truck mix loading\",\"CP-1 EP-5\",IF(J86=\"central mix loading\",\"CP-1 EP-6\",IF(J86=\"\",\"\",\"CP-1 EP-1\"))))))","v":""},"",null,null,null,{"$f":"IF(J86=\"truck mix loading\",IF($F$88=\"yes\",L86*0.05/2000,L86/2000),\"\")","v":""},{"$f":"IF(J86=\"central mix loading\",IF($F$88=\"yes\",L86*0.05/2000,L86/2000),\"\")","v":""}]
[null,{"$f":"IF('Concrete Plant (CP-2)'!$D$4>4,\"Batching Period (Dates):\",\"\")","v":""},null,null,null,null,null,"","",null,null,null,"",""]
[null,{"$f":"IF(OR(COUNTIF(J85:J94,\"Truck Mix Loading\")>0,(COUNTIF(J85:J94,\"Central Mix Loading\")>0)),\"Is the Central/Truck Mix Loading process controlled by a baghouse?\",\"\")","v":""},null,null,null,null,null,"","",null,null,null,"",""]
[null,null,null,null,null,null,null,"","",null,null,null,"",""]
[null,{"$f":"IF(AND(B92=\"\",B93=\"\",B94=\"\",B95=\"\",B96=\"\"),\"\",\"Process (complete stack information if applicable):\")","v":""},{"$f":"IF(AND(B92=\"\",B93=\"\",B94=\"\",B95=\"\",B96=\"\"),\"\",\"Stack Height (ft):\")","v":""},{"$f":"IF(AND(B92=\"\",B93=\"\",B94=\"\",B95=\"\",B96=\"\"),\"\",\"Stack Diameter (inches):\")","v":""},{"$f":"IF(AND(B92=\"\",B93=\"\",B94=\"\",B95=\"\",B96=\"\"),\"\",\"Flow Rate (acfm):\")","v":""},{"$f":"IF(AND(B92=\"\",B93=\"\",B94=\"\",B95=\"\",B96=\"\"),\"\",\"Temp (Deg F):\")","v":""},null,"","",null,null,null,"",""]
[null,null,null,null,null,null,null,"","",null,null,null,"",""]
[null,{"$f":"IF(COUNTIF(J85:J94,\"Cement Delivery to Silo\")>0,\"EP-2 Cement Silo Stack:\",\"\")","v":""},null,null,null,null,null,"","",null,null,null,"",""]
[null,{"$f":"IF(COUNTIF(J85:J94,\"Cement Supplement Delivery to Silo\")>0,\"EP-3 Cement Supplement Silo Stack:\",\"\")","v":""},null,null,null,null,null,"","",null,null,null,"",""]
[null,{"$f":"IF(COUNTIF(J85:J94,\"Weigh Hopper Loading\")>0,\"EP-4 Weigh Hopper Loading Stack:\",\"\")","v":""},null,null,null,null,null,"","",null,null,null,"",""]
[null,{"$f":"IF(COUNTIF(J85:J94,\"Truck Mix Loading\")>0,\"EP-5 Truck Mix Loading Stack:\",\"\")","v":""}]
[null,{"$f":"IF(COUNTIF(J85:J94,\"Central Mix Loading\")>0,\"EP-6 Central Mix Loading Stack:\",\"\")","v":""},null,null,null,null,null,{"$f":"IF('Concrete Plant (CP-2)'!$D$4>4,\"Stock Pile Area\",\"\")","v":""}]
[null,null,null,null,null,null,null,null,{"$f":"IF('Concrete Plant (CP-2)'!$D$4>4,\"Emission Unit #\",\"\")","v":""},{"$f":"IF('Concrete Plant (CP-2)'!$D$4>4,\"Maximum Storage Area (acres)\",\"\")","v":""},{"$f":"IF('Concrete Plant (CP-2)'!$D$4>4,\"Actual Storage Area (acres)\",\"\")","v":""},{"$f":"IF('Concrete Plant (CP-2)'!$D$4>4,\"Actual Days in Existence (days)\",\"\")","v":""}]
[]
[]
[null,{"$f":"IF('Concrete Plant (CP-2)'!$D$4>5,\"Batch Plant\",\"\")","v":""},{"$f":"IF('Concrete Plant (CP-2)'!$D$4>5,\"Site 6\",\"\")","v":""},null,null,null,null,{"$f":"IF('Concrete Plant (CP-2)'!$D$4>5,\"Emission Point #\",\"\")","v":""},{"$f":"IF('Concrete Plant (CP-2)'!$D$4>5,\"Emission     Unit #\",\"\")","v":""},{"$f":"IF('Concrete Plant (CP-2)'!$D$4>5,\"Processes\",\"\")","v":""},{"$f":"IF('Concrete Plant (CP-2)'!$D$4>5,\"Combined Maximum Hourly Design Rate for all Like Processes (cubic yard/hr)\",\"\")","v":""},{"$f":"IF('Concrete Plant (CP-2)'!$D$4>5,('Facility Information'!G5&\" Annual Throughput (cubic yards)\"),\"\")","v":""}]
[null,{"$f":"IF('Concrete Plant (CP-2)'!$D$4>5,\"Site Name:\",\"\")","v":""},null,null,null,null,null,{"$f":"IF(J101=\"cement delivery to silo\",\"CP-1 EP-2\",IF(J101=\"cement supplement delivery to silo\",\"CP-1 EP-3\",IF(J101=\"weigh hopper loading\",\"CP-1 EP-4\",IF(J101=\"truck mix loading\",\"CP-1 EP-5\",IF(J101=\"central mix loading\",\"CP-1 EP-6\",IF(J101=\"\",\"\",\"CP-1 EP-1\"))))))","v":""},{"$f":"IF(J101=\"\",\"\",IF(J101=\"aggregate delivery to ground storage\",\"CP-2 EU-1\",IF(J101=\"sand delivery to ground storage\",\"CP-2 EU-2\",IF(J101=\"aggregate transfer to conveyor\",\"CP-2 EU-3\",IF(J101=\"sand transfer to conveyor\",\"CP-2 EU-4\",IF(J101=\"aggregate transfer to elevated storage\",\"CP-2 EU-5\",IF(J101=\"sand transfer to elevated storage\",\"CP-2 EU-6\",IF(J101=\"weigh hopper loading\",\"CP-2 EU-7\",IF(J101=\"central mix loading\",\"CP-2 EU-8\",IF(J101=\"truck mix loading\",\"CP-2 EU-9\",IF(J101=\"cement delivery to silo\",\"CP-2 EU-10\",IF(J101=\"cement supplement delivery to silo\",\"CP-2 EU-11\"))))))))))))","v":""},null,null,null,{"$f":"IF(J101=\"truck mix loading\",IF($F$104=\"yes\",L101*0.05/2000,L101/2000),\"\")","v":""},{"$f":"IF(J101=\"central mix loading\",IF($F$104=\"yes\",L101*0.05/2000,L101/2000),\"\")","v":""}]
[null,{"$f":"IF('Concrete Plant (CP-2)'!$D$4>5,\"County:\",\"\")","v":""},null,null,null,null,null,{"$f":"IF(J102=\"cement delivery to silo\",\"CP-1 EP-2\",IF(J102=\"cement supplement delivery to silo\",\"CP-1 EP-3\",IF(J102=\"weigh hopper loading\",\"CP-1 EP-4\",IF(J102=\"truck mix loading\",\"CP-1 EP-5\",IF(J102=\"central mix loading\",\"CP-1 EP-6\",IF(J102=\"\",\"\",\"CP-1 EP-1\"))))))","v":""},"",null,null,null,{"$f":"IF(J102=\"truck mix loading\",IF($F$104=\"yes\",L102*0.05/2000,L102/2000),\"\")","v":""},{"$f":"IF(J102=\"central mix loading\",IF($F$104=\"yes\",L102*0.05/2000,L102/2000),\"\")","v":""}]
[null,{"$f":"IF('Concrete Plant (CP-2)'!$D$4>5,\"Batching Period (Dates):\",\"\")","v":""},null,null,null,null,null,"","",null,null,null,"",""]
[null,{"$f":"IF(OR(COUNTIF(J101:J110,\"Truck Mix Loading\")>0,(COUNTIF(J101:J110,\"Central Mix Loading\")>0)),\"Is the Central/Truck Mix Loading process controlled by a baghouse?\",\"\")","v":""},null,null,null,null,null,"","",null,null,null,"",""]
[null,null,null,null,null,null,null,"","",null,null,null,"",""]
[null,{"$f":"IF(AND(B108=\"\",B109=\"\",B110=\"\",B111=\"\",B112=\"\"),\"\",\"Process (complete stack information if applicable):\")","v":""},{"$f":"IF(AND(B108=\"\",B109=\"\",B110=\"\",B111=\"\",B112=\"\"),\"\",\"Stack Height (ft):\")","v":""},{"$f":"IF(AND(B108=\"\",B109=\"\",B110=\"\",B111=\"\",B112=\"\"),\"\",\"Stack Diameter (inches):\")","v":""},{"$f":"IF(AND(B108=\"\",B109=\"\",B110=\"\",B111=\"\",B112=\"\"),\"\",\"Flow Rate (acfm):\")","v":""},{"$f":"IF(AND(B108=\"\",B109=\"\",B110=\"\",B111=\"\",B112=\"\"),\"\",\"Temp (Deg F):\")","v":""},null,"","",null,null,null,"",""]
[null,null,null,null,null,null,null,"","",null,null,null,"",""]
[null,{"$f":"IF(COUNTIF(J101:J110,\"Cement Delivery to Silo\")>0,\"EP-2 Cement Silo Stack:\",\"\")","v":""},null,null,null,null,null,"","",null,null,null,"",""]
[null,{"$f":"IF(COUNTIF(J101:J110,\"Cement Supplement Delivery to Silo\")>0,\"EP-3 Cement Supplement Silo Stack:\",\"\")","v":""},null,null,null,null,null,"","",null,null,null,"",""]
[null,{"$f":"IF(COUNTIF(J101:J110,\"Weigh Hopper Loading\")>0,\"EP-4 Weigh Hopper Loading Stack:\",\"\")","v":""},null,null,null,null,null,"","",null,null,null,"",""]
[null,{"$f":"IF(COUNTIF(J101:J110,\"Truck Mix Loading\")>0,\"EP-5 Truck Mix Loading Stack:\",\"\")","v":""}]
[null,{"$f":"IF(COUNTIF(J101:J110,\"Central Mix Loading\")>0,\"EP-6 Central Mix Loading Stack:\",\"\")","v":""},null,null,null,null,null,{"$f":"IF('Concrete Plant (CP-2)'!$D$4>5,\"Stock Pile Area\",\"\")","v":""}]
[null,null,null,null,null,null,null,null,{"$f":"IF('Concrete Plant (CP-2)'!$D$4>5,\"Emission Unit #\",\"\")","v":""},{"$f":"IF('Concrete Plant (CP-2)'!$D$4>5,\"Maximum Storage Area (acres)\",\"\")","v":""},{"$f":"IF('Concrete Plant (CP-2)'!$D$4>5,\"Actual Storage Area (acres)\",\"\")","v":""},{"$f":"IF('Concrete Plant (CP-2)'!$D$4>5,\"Actual Days in Existence (days)\",\"\")","v":""}]
[]
[]
[null,{"$f":"IF('Concrete Plant (CP-2)'!$D$4>6,\"Batch Plant\",\"\")","v":""},{"$f":"IF('Concrete Plant (CP-2)'!$D$4>6,\"Site 7\",\"\")","v":""},null,null,null,null,{"$f":"IF('Concrete Plant (CP-2)'!$D$4>6,\"Emission Point #\",\"\")","v":""},{"$f":"IF('Concrete Plant (CP-2)'!$D$4>6,\"Emission     Unit #\",\"\")","v":""},{"$f":"IF('Concrete Plant (CP-2)'!$D$4>6,\"Processes\",\"\")","v":""},{"$f":"IF('Concrete Plant (CP-2)'!$D$4>6,\"Combined Maximum Hourly Design Rate for all Like Processes (cubic yard/hr)\",\"\")","v":""},{"$f":"IF('Concrete Plant (CP-2)'!$D$4>6,('Facility Information'!G5&\" Annual Throughput (cubic yards)\"),\"\")","v":""}]
[null,{"$f":"IF('Concrete Plant (CP-2)'!$D$4>6,\"Site Name:\",\"\")","v":""},null,null,null,null,null,{"$f":"IF(J117=\"cement delivery to silo\",\"CP-1 EP-2\",IF(J117=\"cement supplement delivery to silo\",\"CP-1 EP-3\",IF(J117=\"weigh hopper loading\",\"CP-1 EP-4\",IF(J117=\"truck mix loading\",\"CP-1 EP-5\",IF(J117=\"central mix loading\",\"CP-1 EP-6\",IF(J117=\"\",\"\",\"CP-1 EP-1\"))))))","v":""},{"$f":"IF(J117=\"\",\"\",IF(J117=\"aggregate delivery to ground storage\",\"CP-2 EU-1\",IF(J117=\"sand delivery to ground storage\",\"CP-2 EU-2\",IF(J117=\"aggregate transfer to conveyor\",\"CP-2 EU-3\",IF(J117=\"sand transfer to conveyor\",\"CP-2 EU-4\",IF(J117=\"aggregate transfer to elevated storage\",\"CP-2 EU-5\",IF(J117=\"sand transfer to elevated storage\",\"CP-2 EU-6\",IF(J117=\"weigh hopper loading\",\"CP-2 EU-7\",IF(J117=\"central mix loading\",\"CP-2 EU-8\",IF(J117=\"truck mix loading\",\"CP-2 EU-9\",IF(J117=\"cement delivery to silo\",\"CP-2 EU-10\",IF(J117=\"cement supplement delivery to silo\",\"CP-2 EU-11\"))))))))))))","v":""},null,null,null,{"$f":"IF(J117=\"truck mix loading\",IF($F$120=\"yes\",L117*0.05/2000,L117/2000),\"\")","v":""},{"$f":"IF(J117=\"central mix loading\",IF($F$120=\"yes\",L117*0.05/2000,L117/2000),\"\")","v":""}]
[null,{"$f":"IF('Concrete Plant (CP-2)'!$D$4>6,\"County:\",\"\")","v":""},null,null,null,null,null,{"$f":"IF(J118=\"cement delivery to silo\",\"CP-1 EP-2\",IF(J118=\"cement supplement delivery to silo\",\"CP-1 EP-3\",IF(J118=\"weigh hopper loading\",\"CP-1 EP-4\",IF(J118=\"truck mix loading\",\"CP-1 EP-5\",IF(J118=\"central mix loading\",\"CP-1 EP-6\",IF(J118=\"\",\"\",\"CP-1 EP-1\"))))))","v":""},"",null,null,null,{"$f":"IF(J118=\"truck mix loading\",IF($F$120=\"yes\",L118*0.05/2000,L118/2000),\"\")","v":""},{"$f":"IF(J118=\"central mix loading\",IF($F$120=\"yes\",L118*0.05/2000,L118/2000),\"\")","v":""}]
[null,{"$f":"IF('Concrete Plant (CP-2)'!$D$4>6,\"Batching Period (Dates):\",\"\")","v":""},null,null,null,null,null,"","",null,null,null,"",""]
[null,{"$f":"IF(OR(COUNTIF(J117:J126,\"Truck Mix Loading\")>0,(COUNTIF(J117:J126,\"Central Mix Loading\")>0)),\"Is the Central/Truck Mix Loading process controlled by a baghouse?\",\"\")","v":""},null,null,null,null,null,"","",null,null,null,"",""]
[null,null,null,null,null,null,null,"","",null,null,null,"",""]
[null,{"$f":"IF(AND(B124=\"\",B125=\"\",B126=\"\",B127=\"\",B128=\"\"),\"\",\"Process (complete stack information if applicable):\")","v":""},{"$f":"IF(AND(B124=\"\",B125=\"\",B126=\"\",B127=\"\",B128=\"\"),\"\",\"Stack Height (ft):\")","v":""},{"$f":"IF(AND(B124=\"\",B125=\"\",B126=\"\",B127=\"\",B128=\"\"),\"\",\"Stack Diameter (inches):\")","v":""},{"$f":"IF(AND(B124=\"\",B125=\"\",B126=\"\",B127=\"\",B128=\"\"),\"\",\"Flow Rate (acfm):\")","v":""},{"$f":"IF(AND(B124=\"\",B125=\"\",B126=\"\",B127=\"\",B128=\"\"),\"\",\"Temp (Deg F):\")","v":""},null,"","",null,null,null,"",""]
[null,null,null,null,null,null,null,"","",null,null,null,"",""]
[null,{"$f":"IF(COUNTIF(J117:J126,\"Cement Delivery to Silo\")>0,\"EP-2 Cement Silo Stack:\",\"\")","v":""},null,null,null,null,null,"","",null,null,null,"",""]
[null,{"$f":"IF(COUNTIF(J117:J126,\"Cement Supplement Delivery to Silo\")>0,\"EP-3 Cement Supplement Silo Stack:\",\"\")","v":""},null,null,null,null,null,"","",null,null,null,"",""]
[null,{"$f":"IF(COUNTIF(J117:J126,\"Weigh Hopper Loading\")>0,\"EP-4 Weigh Hopper Loading Stack:\",\"\")","v":""},null,null,null,null,null,"","",null,null,null,"",""]
[null,{"$f":"IF(COUNTIF(J117:J126,\"Truck Mix Loading\")>0,\"EP-5 Truck Mix Loading Stack:\",\"\")","v":""}]
[null,{"$f":"IF(COUNTIF(J117:J126,\"Central Mix Loading\")>0,\"EP-6 Central Mix Loading Stack:\",\"\")","v":""},null,null,null,null,null,{"$f":"IF('Concrete Plant (CP-2)'!$D$4>6,\"Stock Pile Area\",\"\")","v":""}]
[null,null,null,null,null,null,null,null,{"$f":"IF('Concrete Plant (CP-2)'!$D$4>6,\"Emission Unit #\",\"\")","v":""},{"$f":"IF('Concrete Plant (CP-2)'!$D$4>6,\"Maximum Storage Area (acres)\",\"\")","v":""},{"$f":"IF('Concrete Plant (CP-2)'!$D$4>6,\"Actual Storage Area (acres)\",\"\")","v":""},{"$f":"IF('Concrete Plant (CP-2)'!$D$4>6,\"Actual Days in Existence (days)\",\"\")","v":""}]
[]
[]
[null,{"$f":"IF('Concrete Plant (CP-2)'!$D$4>7,\"Batch Plant\",\"\")","v":""},{"$f":"IF('Concrete Plant (CP-2)'!$D$4>7,\"Site 8\",\"\")","v":""},null,null,null,null,{"$f":"IF('Concrete Plant (CP-2)'!$D$4>7,\"Emission Point #\",\"\")","v":""},{"$f":"IF('Concrete Plant (CP-2)'!$D$4>7,\"Emission     Unit #\",\"\")","v":""},{"$f":"IF('Concrete Plant (CP-2)'!$D$4>7,\"Processes\",\"\")","v":""},{"$f":"IF('Concrete Plant (CP-2)'!$D$4>7,\"Combined Maximum Hourly Design Rate for all Like Processes (cubic yard/hr)\",\"\")","v":""},{"$f":"IF('Concrete Plant (CP-2)'!$D$4>7,('Facility Information'!G5&\" Annual Throughput (cubic yards)\"),\"\")","v":""}]
[null,{"$f":"IF('Concrete Plant (CP-2)'!$D$4>7,\"Site Name:\",\"\")","v":""},null,null,null,null,null,{"$f":"IF(J133=\"cement delivery to silo\",\"CP-1 EP-2\",IF(J133=\"cement supplement delivery to silo\",\"CP-1 EP-3\",IF(J133=\"weigh hopper loading\",\"CP-1 EP-4\",IF(J133=\"truck mix loading\",\"CP-1 EP-5\",IF(J133=\"central mix loading\",\"CP-1 EP-6\",IF(J133=\"\",\"\",\"CP-1 EP-1\"))))))","v":""},{"$f":"IF(J133=\"\",\"\",IF(J133=\"aggregate delivery to ground storage\",\"CP-2 EU-1\",IF(J133=\"sand delivery to ground storage\",\"CP-2 EU-2\",IF(J133=\"aggregate transfer to conveyor\",\"CP-2 EU-3\",IF(J133=\"sand transfer to conveyor\",\"CP-2 EU-4\",IF(J133=\"aggregate transfer to elevated storage\",\"CP-2 EU-5\",IF(J133=\"sand transfer to elevated storage\",\"CP-2 EU-6\",IF(J133=\"weigh hopper loading\",\"CP-2 EU-7\",IF(J133=\"central mix loading\",\"CP-2 EU-8\",IF(J133=\"truck mix loading\",\"CP-2 EU-9\",IF(J133=\"cement delivery to silo\",\"CP-2 EU-10\",IF(J133=\"cement supplement delivery to silo\",\"CP-2 EU-11\"))))))))))))","v":""},null,null,null,{"$f":"IF(J133=\"truck mix loading\",IF($F$136=\"yes\",L133*0.05/2000,L133/2000),\"\")","v":""},{"$f":"IF(J133=\"central mix loading\",IF($F$136=\"yes\",L133*0.05/2000,L133/2000),\"\")","v":""}]
[null,{"$f":"IF('Concrete Plant (CP-2)'!$D$4>7,\"County:\",\"\")","v":""},null,null,null,null,null,{"$f":"IF(J134=\"cement delivery to silo\",\"CP-1 EP-2\",IF(J134=\"cement supplement delivery to silo\",\"CP-1 EP-3\",IF(J134=\"weigh hopper loading\",\"CP-1 EP-4\",IF(J134=\"truck mix loading\",\"CP-1 EP-5\",IF(J134=\"central mix loading\",\"CP-1 EP-6\",IF(J134=\"\",\"\",\"CP-1 EP-1\"))))))","v":""},"",null,null,null,{"$f":"IF(J134=\"truck mix loading\",IF($F$136=\"yes\",L134*0.05/2000,L134/2000),\"\")","v":""},{"$f":"IF(J134=\"central mix loading\",IF($F$136=\"yes\",L134*0.05/2000,L134/2000),\"\")","v":""}]
[null,{"$f":"IF('Concrete Plant (CP-2)'!$D$4>7,\"Batching Period (Dates):\",\"\")","v":""},null,null,null,null,null,"","",null,null,null,"",""]
[null,{"$f":"IF(OR(COUNTIF(J133:J142,\"Truck Mix Loading\")>0,(COUNTIF(J133:J142,\"Central Mix Loading\")>0)),\"Is the Central/Truck Mix Loading process controlled by a baghouse?\",\"\")","v":""},null,null,null,null,null,"","",null,null,null,"",""]
[null,null,null,null,null,null,null,"","",null,null,null,"",""]
[null,{"$f":"IF(AND(B140=\"\",B141=\"\",B142=\"\",B143=\"\",B144=\"\"),\"\",\"Process (complete stack information if applicable):\")","v":""},{"$f":"IF(AND(B140=\"\",B141=\"\",B142=\"\",B143=\"\",B144=\"\"),\"\",\"Stack Height (ft):\")","v":""},{"$f":"IF(AND(B140=\"\",B141=\"\",B142=\"\",B143=\"\",B144=\"\"),\"\",\"Stack Diameter (inches):\")","v":""},{"$f":"IF(AND(B140=\"\",B141=\"\",B142=\"\",B143=\"\",B144=\"\"),\"\",\"Flow Rate (acfm):\")","v":""},{"$f":"IF(AND(B140=\"\",B141=\"\",B142=\"\",B143=\"\",B144=\"\"),\"\",\"Temp (Deg F):\")","v":""},null,"","",null,null,null,"",""]
[null,null,null,null,null,null,null,"","",null,null,null,"",""]
[null,{"$f":"IF(COUNTIF(J133:J142,\"Cement Delivery to Silo\")>0,\"EP-2 Cement Silo Stack:\",\"\")","v":""},null,null,null,null,null,"","",null,null,null,"",""]
[null,{"$f":"IF(COUNTIF(J133:J142,\"Cement Supplement Delivery to Silo\")>0,\"EP-3 Cement Supplement Silo Stack:\",\"\")","v":""},null,null,null,null,null,"","",null,null,null,"",""]
[null,{"$f":"IF(COUNTIF(J133:J142,\"Weigh Hopper Loading\")>0,\"EP-4 Weigh Hopper Loading Stack:\",\"\")","v":""},null,null,null,null,null,"","",null,null,null,"",""]
[null,{"$f":"IF(COUNTIF(J133:J142,\"Truck Mix Loading\")>0,\"EP-5 Truck Mix Loading Stack:\",\"\")","v":""}]
[null,{"$f":"IF(COUNTIF(J133:J142,\"Central Mix Loading\")>0,\"EP-6 Central Mix Loading Stack:\",\"\")","v":""},null,null,null,null,null,{"$f":"IF('Concrete Plant (CP-2)'!$D$4>7,\"Stock Pile Area\",\"\")","v":""}]
[null,null,null,null,null,null,null,null,{"$f":"IF('Concrete Plant (CP-2)'!$D$4>7,\"Emission Unit #\",\"\")","v":""},{"$f":"IF('Concrete Plant (CP-2)'!$D$4>7,\"Maximum Storage Area (acres)\",\"\")","v":""},{"$f":"IF('Concrete Plant (CP-2)'!$D$4>7,\"Actual Storage Area (acres)\",\"\")","v":""},{"$f":"IF('Concrete Plant (CP-2)'!$D$4>7,\"Actual Days in Existence (days)\",\"\")","v":""}]
[]
[]
[null,{"$f":"IF('Concrete Plant (CP-2)'!$D$4>8,\"Batch Plant\",\"\")","v":""},{"$f":"IF('Concrete Plant (CP-2)'!$D$4>8,\"Site 9\",\"\")","v":""},null,null,null,null,{"$f":"IF('Concrete Plant (CP-2)'!$D$4>8,\"Emission Point #\",\"\")","v":""},{"$f":"IF('Concrete Plant (CP-2)'!$D$4>8,\"Emission     Unit #\",\"\")","v":""},{"$f":"IF('Concrete Plant (CP-2)'!$D$4>8,\"Processes\",\"\")","v":""},{"$f":"IF('Concrete Plant (CP-2)'!$D$4>8,\"Combined Maximum Hourly Design Rate for all Like Processes (cubic yard/hr)\",\"\")","v":""},{"$f":"IF('Concrete Plant (CP-2)'!$D$4>8,('Facility Information'!G5&\" Annual Throughput (cubic yards)\"),\"\")","v":""}]
[null,{"$f":"IF('Concrete Plant (CP-2)'!$D$4>8,\"Site Name:\",\"\")","v":""},null,null,null,null,null,{"$f":"IF(J149=\"cement delivery to silo\",\"CP-1 EP-2\",IF(J149=\"cement supplement delivery to silo\",\"CP-1 EP-3\",IF(J149=\"weigh hopper loading\",\"CP-1 EP-4\",IF(J149=\"truck mix loading\",\"CP-1 EP-5\",IF(J149=\"central mix loading\",\"CP-1 EP-6\",IF(J149=\"\",\"\",\"CP-1 EP-1\"))))))","v":""},{"$f":"IF(J149=\"\",\"\",IF(J149=\"aggregate delivery to ground storage\",\"CP-2 EU-1\",IF(J149=\"sand delivery to ground storage\",\"CP-2 EU-2\",IF(J149=\"aggregate transfer to conveyor\",\"CP-2 EU-3\",IF(J149=\"sand transfer to conveyor\",\"CP-2 EU-4\",IF(J149=\"aggregate transfer to elevated storage\",\"CP-2 EU-5\",IF(J149=\"sand transfer to elevated storage\",\"CP-2 EU-6\",IF(J149=\"weigh hopper loading\",\"CP-2 EU-7\",IF(J149=\"central mix loading\",\"CP-2 EU-8\",IF(J149=\"truck mix loading\",\"CP-2 EU-9\",IF(J149=\"cement delivery to silo\",\"CP-2 EU-10\",IF(J149=\"cement supplement delivery to silo\",\"CP-2 EU-11\"))))))))))))","v":""},null,null,null,{"$f":"IF(J149=\"truck mix loading\",IF($F$152=\"yes\",L149*0.05/2000,L149/2000),\"\")","v":""},{"$f":"IF(J149=\"central mix loading\",IF($F$152=\"yes\",L149*0.05/2000,L149/2000),\"\")","v":""}]
[null,{"$f":"IF('Concrete Plant (CP-2)'!$D$4>8,\"County:\",\"\")","v":""},null,null,null,null,null,{"$f":"IF(J150=\"cement delivery to silo\",\"CP-1 EP-2\",IF(J150=\"cement supplement delivery to silo\",\"CP-1 EP-3\",IF(J150=\"weigh hopper loading\",\"CP-1 EP-4\",IF(J150=\"truck mix loading\",\"CP-1 EP-5\",IF(J150=\"central mix loading\",\"CP-1 EP-6\",IF(J150=\"\",\"\",\"CP-1 EP-1\"))))))","v":""},"",null,null,null,{"$f":"IF(J150=\"truck mix loading\",IF($F$152=\"yes\",L150*0.05/2000,L150/2000),\"\")","v":""},{"$f":"IF(J150=\"central mix loading\",IF($F$152=\"yes\",L150*0.05/2000,L150/2000),\"\")","v":""}]
[null,{"$f":"IF('Concrete Plant (CP-2)'!$D$4>8,\"Batching Period (Dates):\",\"\")","v":""},null,null,null,null,null,"","",null,null,null,"",""]
[null,{"$f":"IF(OR(COUNTIF(J149:J158,\"Truck Mix Loading\")>0,(COUNTIF(J149:J158,\"Central Mix Loading\")>0)),\"Is the Central/Truck Mix Loading process controlled by a baghouse?\",\"\")","v":""},null,null,null,null,null,"","",null,null,null,"",""]
[null,null,null,null,null,null,null,"","",null,null,null,"",""]
[null,{"$f":"IF(AND(B156=\"\",B157=\"\",B158=\"\",B159=\"\",B160=\"\"),\"\",\"Process (complete stack information if applicable):\")","v":""},{"$f":"IF(AND(B156=\"\",B157=\"\",B158=\"\",B159=\"\",B160=\"\"),\"\",\"Stack Height (ft):\")","v":""},{"$f":"IF(AND(B156=\"\",B157=\"\",B158=\"\",B159=\"\",B160=\"\"),\"\",\"Stack Diameter (inches):\")","v":""},{"$f":"IF(AND(B156=\"\",B157=\"\",B158=\"\",B159=\"\",B160=\"\"),\"\",\"Flow Rate (acfm):\")","v":""},{"$f":"IF(AND(B156=\"\",B157=\"\",B158=\"\",B159=\"\",B160=\"\"),\"\",\"Temp (Deg F):\")","v":""},null,"","",null,null,null,"",""]
[null,null,null,null,null,null,null,"","",null,null,null,"",""]
[null,{"$f":"IF(COUNTIF(J149:J158,\"Cement Delivery to Silo\")>0,\"EP-2 Cement Silo Stack:\",\"\")","v":""},null,null,null,null,null,"","",null,null,null,"",""]
[null,{"$f":"IF(COUNTIF(J149:J158,\"Cement Supplement Delivery to Silo\")>0,\"EP-3 Cement Supplement Silo Stack:\",\"\")","v":""},null,null,null,null,null,"","",null,null,null,"",""]
[null,{"$f":"IF(COUNTIF(J149:J158,\"Weigh Hopper Loading\")>0,\"EP-4 Weigh Hopper Loading Stack:\",\"\")","v":""},null,null,null,null,null,"","",null,null,null,"",""]
[null,{"$f":"IF(COUNTIF(J149:J158,\"Truck Mix Loading\")>0,\"EP-5 Truck Mix Loading Stack:\",\"\")","v":""}]
[null,{"$f":"IF(COUNTIF(J149:J158,\"Central Mix Loading\")>0,\"EP-6 Central Mix Loading Stack:\",\"\")","v":""},null,null,null,null,null,{"$f":"IF('Concrete Plant (CP-2)'!$D$4>8,\"Stock Pile Area\",\"\")","v":""}]
[null,null,null,null,null,null,null,null,{"$f":"IF('Concrete Plant (CP-2)'!$D$4>8,\"Emission Unit #\",\"\")","v":""},{"$f":"IF('Concrete Plant (CP-2)'!$D$4>8,\"Maximum Storage Area (acres)\",\"\")","v":""},{"$f":"IF('Concrete Plant (CP-2)'!$D$4>8,\"Actual Storage Area (acres)\",\"\")","v":""},{"$f":"IF('Concrete Plant (CP-2)'!$D$4>8,\"Actual Days in Existence (days)\",\"\")","v":""}]
[]
[]
[null,{"$f":"IF('Concrete Plant (CP-2)'!$D$4>9,\"Batch Plant\",\"\")","v":""},{"$f":"IF('Concrete Plant (CP-2)'!$D$4>9,\"Site 10\",\"\")","v":""},null,null,null,null,{"$f":"IF('Concrete Plant (CP-2)'!$D$4>9,\"Emission Point #\",\"\")","v":""},{"$f":"IF('Concrete Plant (CP-2)'!$D$4>9,\"Emission     Unit #\",\"\")","v":""},{"$f":"IF('Concrete Plant (CP-2)'!$D$4>9,\"Processes\",\"\")","v":""},{"$f":"IF('Concrete Plant (CP-2)'!$D$4>9,\"Combined Maximum Hourly Design Rate for all Like Processes (cubic yard/hr)\",\"\")","v":""},{"$f":"IF('Concrete Plant (CP-2)'!$D$4>9,('Facility Information'!G5&\" Annual Throughput (cubic yards)\"),\"\")","v":""}]
[null,{"$f":"IF('Concrete Plant (CP-2)'!$D$4>9,\"Site Name:\",\"\")","v":""},null,null,null,null,null,{"$f":"IF(J165=\"cement delivery to silo\",\"CP-1 EP-2\",IF(J165=\"cement supplement delivery to silo\",\"CP-1 EP-3\",IF(J165=\"weigh hopper loading\",\"CP-1 EP-4\",IF(J165=\"truck mix loading\",\"CP-1 EP-5\",IF(J165=\"central mix loading\",\"CP-1 EP-6\",IF(J165=\"\",\"\",\"CP-1 EP-1\"))))))","v":""},{"$f":"IF(J165=\"\",\"\",IF(J165=\"aggregate delivery to ground storage\",\"CP-2 EU-1\",IF(J165=\"sand delivery to ground storage\",\"CP-2 EU-2\",IF(J165=\"aggregate transfer to conveyor\",\"CP-2 EU-3\",IF(J165=\"sand transfer to conveyor\",\"CP-2 EU-4\",IF(J165=\"aggregate transfer to elevated storage\",\"CP-2 EU-5\",IF(J165=\"sand transfer to elevated storage\",\"CP-2 EU-6\",IF(J165=\"weigh hopper loading\",\"CP-2 EU-7\",IF(J165=\"central mix loading\",\"CP-2 EU-8\",IF(J165=\"truck mix loading\",\"CP-2 EU-9\",IF(J165=\"cement delivery to silo\",\"CP-2 EU-10\",IF(J165=\"cement supplement delivery to silo\",\"CP-2 EU-11\"))))))))))))","v":""},null,null,null,{"$f":"IF(J165=\"truck mix loading\",IF($F$168=\"yes\",L165*0.05/2000,L165/2000),\"\")","v":""},{"$f":"IF(J165=\"central mix loading\",IF($F$168=\"yes\",L165*0.05/2000,L165/2000),\"\")","v":""}]
[null,{"$f":"IF('Concrete Plant (CP-2)'!$D$4>9,\"County:\",\"\")","v":""},null,null,null,null,null,{"$f":"IF(J166=\"cement delivery to silo\",\"CP-1 EP-2\",IF(J166=\"cement supplement delivery to silo\",\"CP-1 EP-3\",IF(J166=\"weigh hopper loading\",\"CP-1 EP-4\",IF(J166=\"truck mix loading\",\"CP-1 EP-5\",IF(J166=\"central mix loading\",\"CP-1 EP-6\",IF(J166=\"\",\"\",\"CP-1 EP-1\"))))))","v":""},"",null,null,null,{"$f":"IF(J166=\"truck mix loading\",IF($F$168=\"yes\",L166*0.05/2000,L166/2000),\"\")","v":""},{"$f":"IF(J166=\"central mix loading\",IF($F$168=\"yes\",L166*0.05/2000,L166/2000),\"\")","v":""}]
[null,{"$f":"IF('Concrete Plant (CP-2)'!$D$4>9,\"Batching Period (Dates):\",\"\")","v":""},null,null,null,null,null,"","",null,null,null,"",""]
[null,{"$f":"IF(OR(COUNTIF(J165:J174,\"Truck Mix Loading\")>0,(COUNTIF(J165:J174,\"Central Mix Loading\")>0)),\"Is the Central/Truck Mix Loading process controlled by a baghouse?\",\"\")","v":""},null,null,null,null,null,"","",null,null,null,"",""]
[null,null,null,null,null,null,null,"","",null,null,null,"",""]
[null,{"$f":"IF(AND(B172=\"\",B173=\"\",B174=\"\",B175=\"\",B176=\"\"),\"\",\"Process (complete stack information if applicable):\")","v":""},{"$f":"IF(AND(B172=\"\",B173=\"\",B174=\"\",B175=\"\",B176=\"\"),\"\",\"Stack Height (ft):\")","v":""},{"$f":"IF(AND(B172=\"\",B173=\"\",B174=\"\",B175=\"\",B176=\"\"),\"\",\"Stack Diameter (inches):\")","v":""},{"$f":"IF(AND(B172=\"\",B173=\"\",B174=\"\",B175=\"\",B176=\"\"),\"\",\"Flow Rate (acfm):\")","v":""},{"$f":"IF(AND(B172=\"\",B173=\"\",B174=\"\",B175=\"\",B176=\"\"),\"\",\"Temp (Deg F):\")","v":""},null,"","",null,null,null,"",""]
[null,null,null,null,null,null,null,"","",null,null,null,"",""]
[null,{"$f":"IF(COUNTIF(J165:J174,\"Cement Delivery to Silo\")>0,\"EP-2 Cement Silo Stack:\",\"\")","v":""},null,null,null,null,null,"","",null,null,null,"",""]
[null,{"$f":"IF(COUNTIF(J165:J174,\"Cement Supplement Delivery to Silo\")>0,\"EP-3 Cement Supplement Silo Stack:\",\"\")","v":""},null,null,null,null,null,"","",null,null,null,"",""]
[null,{"$f":"IF(COUNTIF(J165:J174,\"Weigh Hopper Loading\")>0,\"EP-4 Weigh Hopper Loading Stack:\",\"\")","v":""},null,null,null,null,null,"","",null,null,null,"",""]
[null,{"$f":"IF(COUNTIF(J165:J174,\"Truck Mix Loading\")>0,\"EP-5 Truck Mix Loading Stack:\",\"\")","v":""}]
[null,{"$f":"IF(COUNTIF(J165:J174,\"Central Mix Loading\")>0,\"EP-6 Central Mix Loading Stack:\",\"\")","v":""},null,null,null,null,null,{"$f":"IF('Concrete Plant (CP-2)'!$D$4>9,\"Stock Pile Area\",\"\")","v":""}]
[null,null,null,null,null,null,null,null,{"$f":"IF('Concrete Plant (CP-2)'!$D$4>9,\"Emission Unit #\",\"\")","v":""},{"$f":"IF('Concrete Plant (CP-2)'!$D$4>9,\"Maximum Storage Area (acres)\",\"\")","v":""},{"$f":"IF('Concrete Plant (CP-2)'!$D$4>9,\"Actual Storage Area (acres)\",\"\")","v":""},{"$f":"IF('Concrete Plant (CP-2)'!$D$4>9,\"Actual Days in Existence (days)\",\"\")","v":""}]
[]
[]
[null,null,null,null,null,null,null,null,null,null,null,null,{"$f":"SUM(M165:M174,M149:M158,M133:M142,M117:M126,M101:M110,M85:M94,M69:M78,M53:M62,M38:M47,M21:M30)","v":0},{"$f":"SUM(N165:N174,N149:N158,N133:N142,N117:N126,N101:N110,N85:N94,N69:N78,N53:N62,N38:N47,N21:N30)","v":0}]

{"sheet":"Concrete Plant (CP-3)","index":3,"n_rows":181,"n_cols":23,"rows_kept":181,"cut":false,"hidden":true,"merged":[]}
[null,"CONCRETE BATCH PLANT (CP-3)"]
[null,"Please fill in the yellow boxes as applicable for your facility. ",null,null,null,null,null,null,null,null,null,"Values used for calculating emissions →",null,null,null,"Values Used to Calculate Actual Emissions for the Listed Processes at this Plant"]
[null,null,null,null,null,null,null,null,null,null,null,null,null,null,null,"Process","Maximum Design Rate (cubic yards/hr)","Actual throughput (cubic yards/yr)"]
[null,{"$f":"\"Number of Sites this Plant operated at in \"&'Facility Information'!G5&\":\"","v":"Number of Sites this Plant operated at in :"},null,null,null,null,null,null,null,null,null,null,null,null,null,"Aggregate Delivery to Ground Storage",{"$f":"MAX((IFERROR(OFFSET($J$20,MATCH(\"Aggregate Delivery to Ground Storage\",$J$21:$J$30,0),1),0)),((IFERROR((OFFSET($J$37,MATCH(\"Aggregate Delivery to Ground Storage\",$J$38:$J$47,0),1)),0))),((IFERROR((OFFSET($J$53,MATCH(\"Aggregate Delivery to Ground Storage\",$J$54:$J$63,0),1)),0))),((IFERROR((OFFSET($J$69,MATCH(\"Aggregate Delivery to Ground Storage\",$J$70:$J$79,0),1)),0))),((IFERROR((OFFSET($J$85,MATCH(\"Aggregate Delivery to Ground Storage\",$J$86:$J$95,0),1)),0))),((IFERROR((OFFSET($J$101,MATCH(\"Aggregate Delivery to Ground Storage\",$J$102:$J$111,0),1)),0))),((IFERROR((OFFSET($J$117,MATCH(\"Aggregate Delivery to Ground Storage\",$J$118:$J$127,0),1)),0))),((IFERROR((OFFSET($J$133,MATCH(\"Aggregate Delivery to Ground Storage\",$J$134:$J$143,0),1)),0))),((IFERROR((OFFSET($J$149,MATCH(\"Aggregate Delivery to Ground Storage\",$J$150:$J$159,0),1)),0))),((IFERROR((OFFSET($J$165,MATCH(\"Aggregate Delivery to Ground Storage\",$J$166:$J$175,0),1)),0))),)","v":0},{"$f":"SUM((IFERROR(OFFSET($J$20,MATCH(\"Aggregate Delivery to Ground Storage\",$J$21:$J$30,0),2),0)),((IFERROR((OFFSET($J$37,MATCH(\"Aggregate Delivery to Ground Storage\",$J$38:$J$47,0),2)),0))),((IFERROR((OFFSET($J$53,MATCH(\"Aggregate Delivery to Ground Storage\",$J$54:$J$63,0),2)),0))),((IFERROR((OFFSET($J$69,MATCH(\"Aggregate Delivery to Ground Storage\",$J$70:$J$79,0),2)),0))),((IFERROR((OFFSET($J$85,MATCH(\"Aggregate Delivery to Ground Storage\",$J$86:$J$95,0),2)),0))),((IFERROR((OFFSET($J$101,MATCH(\"Aggregate Delivery to Ground Storage\",$J$102:$J$111,0),2)),0))),((IFERROR((OFFSET($J$117,MATCH(\"Aggregate Delivery to Ground Storage\",$J$118:$J$127,0),2)),0))),((IFERROR((OFFSET($J$133,MATCH(\"Aggregate Delivery to Ground Storage\",$J$134:$J$143,0),2)),0))),((IFERROR((OFFSET($J$149,MATCH(\"Aggregate Delivery to Ground Storage\",$J$150:$J$159,0),2)),0))),((IFERROR((OFFSET($J$165,MATCH(\"Aggregate Delivery to Ground Storage\",$J$166:$J$175,0),2)),0))),)","v":0},"** As of 2016 Potential Emissions are no longer required to be reported in the Minor Source Emissions Inventory**"]
[null,null,null,null,null,null,null,null,null,null,null,null,null,null,null,"Sand Delivery to Ground Storage",{"$f":"MAX((IFERROR(OFFSET($J$20,MATCH(\"Sand Delivery to Ground Storage\",$J$21:$J$30,0),1),0)),((IFERROR((OFFSET($J$37,MATCH(\"Sand Delivery to Ground Storage\",$J$38:$J$47,0),1)),0))),((IFERROR((OFFSET($J$53,MATCH(\"Sand Delivery to Ground Storage\",$J$54:$J$63,0),1)),0))),((IFERROR((OFFSET($J$69,MATCH(\"Sand Delivery to Ground Storage\",$J$70:$J$79,0),1)),0))),((IFERROR((OFFSET($J$85,MATCH(\"Sand Delivery to Ground Storage\",$J$86:$J$95,0),1)),0))),((IFERROR((OFFSET($J$101,MATCH(\"Sand Delivery to Ground Storage\",$J$102:$J$111,0),1)),0))),((IFERROR((OFFSET($J$117,MATCH(\"Sand Delivery to Ground Storage\",$J$118:$J$127,0),1)),0))),((IFERROR((OFFSET($J$133,MATCH(\"Sand Delivery to Ground Storage\",$J$134:$J$143,0),1)),0))),((IFERROR((OFFSET($J$149,MATCH(\"Sand Delivery to Ground Storage\",$J$150:$J$159,0),1)),0))),((IFERROR((OFFSET($J$165,MATCH(\"Sand Delivery to Ground Storage\",$J$166:$J$175,0),1)),0))),)","v":0},{"$f":"SUM((IFERROR(OFFSET($J$20,MATCH(\"Sand Delivery to Ground Storage\",$J$21:$J$30,0),2),0)),((IFERROR((OFFSET($J$37,MATCH(\"Sand Delivery to Ground Storage\",$J$38:$J$47,0),2)),0))),((IFERROR((OFFSET($J$53,MATCH(\"Sand Delivery to Ground Storage\",$J$54:$J$63,0),2)),0))),((IFERROR((OFFSET($J$69,MATCH(\"Sand Delivery to Ground Storage\",$J$70:$J$79,0),2)),0))),((IFERROR((OFFSET($J$85,MATCH(\"Sand Delivery to Ground Storage\",$J$86:$J$95,0),2)),0))),((IFERROR((OFFSET($J$101,MATCH(\"Sand Delivery to Ground Storage\",$J$102:$J$111,0),2)),0))),((IFERROR((OFFSET($J$117,MATCH(\"Sand Delivery to Ground Storage\",$J$118:$J$127,0),2)),0))),((IFERROR((OFFSET($J$133,MATCH(\"Sand Delivery to Ground Storage\",$J$134:$J$143,0),2)),0))),((IFERROR((OFFSET($J$149,MATCH(\"Sand Delivery to Ground Storage\",$J$150:$J$159,0),2)),0))),((IFERROR((OFFSET($J$165,MATCH(\"Sand Delivery to Ground Storage\",$J$166:$J$175,0),2)),0))),)","v":0}]
[null,"Plant Specific Permit Number: ",null,null,null,null,null,null,null,null,null,null,null,null,null,"Aggregate Transfer to Conveyor",{"$f":"MAX((IFERROR(OFFSET($J$20,MATCH(\"Aggregate Transfer to Conveyor\",$J$21:$J$30,0),1),0)),((IFERROR((OFFSET($J$37,MATCH(\"Aggregate Transfer to Conveyor\",$J$38:$J$47,0),1)),0))),((IFERROR((OFFSET($J$53,MATCH(\"Aggregate Transfer to Conveyor\",$J$54:$J$63,0),1)),0))),((IFERROR((OFFSET($J$69,MATCH(\"Aggregate Transfer to Conveyor\",$J$70:$J$79,0),1)),0))),((IFERROR((OFFSET($J$85,MATCH(\"Aggregate Transfer to Conveyor\",$J$86:$J$95,0),1)),0))),((IFERROR((OFFSET($J$101,MATCH(\"Aggregate Transfer to Conveyor\",$J$102:$J$111,0),1)),0))),((IFERROR((OFFSET($J$117,MATCH(\"Aggregate Transfer to Conveyor\",$J$118:$J$127,0),1)),0))),((IFERROR((OFFSET($J$133,MATCH(\"Aggregate Transfer to Conveyor\",$J$134:$J$143,0),1)),0))),((IFERROR((OFFSET($J$149,MATCH(\"Aggregate Transfer to Conveyor\",$J$150:$J$159,0),1)),0))),((IFERROR((OFFSET($J$165,MATCH(\"Aggregate Transfer to Conveyor\",$J$166:$J$175,0),1)),0))),)","v":0},{"$f":"SUM((IFERROR(OFFSET($J$20,MATCH(\"Aggregate Transfer to Conveyor\",$J$21:$J$30,0),2),0)),((IFERROR((OFFSET($J$37,MATCH(\"Aggregate Transfer to Conveyor\",$J$38:$J$47,0),2)),0))),((IFERROR((OFFSET($J$53,MATCH(\"Aggregate Transfer to Conveyor\",$J$54:$J$63,0),2)),0))),((IFERROR((OFFSET($J$69,MATCH(\"Aggregate Transfer to Conveyor\",$J$70:$J$79,0),2)),0))),((IFERROR((OFFSET($J$85,MATCH(\"Aggregate Transfer to Conveyor\",$J$86:$J$95,0),2)),0))),((IFERROR((OFFSET($J$101,MATCH(\"Aggregate Transfer to Conveyor\",$J$102:$J$111,0),2)),0))),((IFERROR((OFFSET($J$117,MATCH(\"Aggregate Transfer to Conveyor\",$J$118:$J$127,0),2)),0))),((IFERROR((OFFSET($J$133,MATCH(\"Aggregate Transfer to Conveyor\",$J$134:$J$143,0),2)),0))),((IFERROR((OFFSET($J$149,MATCH(\"Aggregate Transfer to Conveyor\",$J$150:$J$159,0),2)),0))),((IFERROR((OFFSET($J$165,MATCH(\"Aggregate Transfer to Conveyor\",$J$166:$J$175,0),2)),0))),)","v":0}]
[null,null,null,null,null,null,null,null,null,null,null,null,null,null,null,"Sand Transfer to Conveyor",{"$f":"MAX((IFERROR(OFFSET($J$20,MATCH(\"Sand Transfer to Conveyor\",$J$21:$J$30,0),1),0)),((IFERROR((OFFSET($J$37,MATCH(\"Sand Transfer to Conveyor\",$J$38:$J$47,0),1)),0))),((IFERROR((OFFSET($J$53,MATCH(\"Sand Transfer to Conveyor\",$J$54:$J$63,0),1)),0))),((IFERROR((OFFSET($J$69,MATCH(\"Sand Transfer to Conveyor\",$J$70:$J$79,0),1)),0))),((IFERROR((OFFSET($J$85,MATCH(\"Sand Transfer to Conveyor\",$J$86:$J$95,0),1)),0))),((IFERROR((OFFSET($J$101,MATCH(\"Sand Transfer to Conveyor\",$J$102:$J$111,0),1)),0))),((IFERROR((OFFSET($J$117,MATCH(\"Sand Transfer to Conveyor\",$J$118:$J$127,0),1)),0))),((IFERROR((OFFSET($J$133,MATCH(\"Sand Transfer to Conveyor\",$J$134:$J$143,0),1)),0))),((IFERROR((OFFSET($J$149,MATCH(\"Sand Transfer to Conveyor\",$J$150:$J$159,0),1)),0))),((IFERROR((OFFSET($J$165,MATCH(\"Sand Transfer to Conveyor\",$J$166:$J$175,0),1)),0))),)","v":0},{"$f":"SUM((IFERROR(OFFSET($J$20,MATCH(\"Sand Transfer to Conveyor\",$J$21:$J$30,0),2),0)),((IFERROR((OFFSET($J$37,MATCH(\"Sand Transfer to Conveyor\",$J$38:$J$47,0),2)),0))),((IFERROR((OFFSET($J$53,MATCH(\"Sand Transfer to Conveyor\",$J$54:$J$63,0),2)),0))),((IFERROR((OFFSET($J$69,MATCH(\"Sand Transfer to Conveyor\",$J$70:$J$79,0),2)),0))),((IFERROR((OFFSET($J$85,MATCH(\"Sand Transfer to Conveyor\",$J$86:$J$95,0),2)),0))),((IFERROR((OFFSET($J$101,MATCH(\"Sand Transfer to Conveyor\",$J$102:$J$111,0),2)),0))),((IFERROR((OFFSET($J$117,MATCH(\"Sand Transfer to Conveyor\",$J$118:$J$127,0),2)),0))),((IFERROR((OFFSET($J$133,MATCH(\"Sand Transfer to Conveyor\",$J$134:$J$143,0),2)),0))),((IFERROR((OFFSET($J$149,MATCH(\"Sand Transfer to Conveyor\",$J$150:$J$159,0),2)),0))),((IFERROR((OFFSET($J$165,MATCH(\"Sand Transfer to Conveyor\",$J$166:$J$175,0),2)),0))),)","v":0}]
[null,"Plant Specific Operating Limits:",null,null,null,null,null,"Plant Specific Emission Limits:",null,null,null,null,null,null,null,"Aggregate Transfer to Elevated Storage",{"$f":"MAX((IFERROR(OFFSET($J$20,MATCH(\"Aggregate Transfer to Elevated Storage\",$J$21:$J$30,0),1),0)),((IFERROR((OFFSET($J$37,MATCH(\"Aggregate Transfer to Elevated Storage\",$J$38:$J$47,0),1)),0))),((IFERROR((OFFSET($J$53,MATCH(\"Aggregate Transfer to Elevated Storage\",$J$54:$J$63,0),1)),0))),((IFERROR((OFFSET($J$69,MATCH(\"Aggregate Transfer to Elevated Storage\",$J$70:$J$79,0),1)),0))),((IFERROR((OFFSET($J$85,MATCH(\"Aggregate Transfer to Elevated Storage\",$J$86:$J$95,0),1)),0))),((IFERROR((OFFSET($J$101,MATCH(\"Aggregate Transfer to Elevated Storage\",$J$102:$J$111,0),1)),0))),((IFERROR((OFFSET($J$117,MATCH(\"Aggregate Transfer to Elevated Storage\",$J$118:$J$127,0),1)),0))),((IFERROR((OFFSET($J$133,MATCH(\"Aggregate Transfer to Elevated Storage\",$J$134:$J$143,0),1)),0))),((IFERROR((OFFSET($J$149,MATCH(\"Aggregate Transfer to Elevated Storage\",$J$150:$J$159,0),1)),0))),((IFERROR((OFFSET($J$165,MATCH(\"Aggregate Transfer to Elevated Storage\",$J$166:$J$175,0),1)),0))),)","v":0},{"$f":"SUM((IFERROR(OFFSET($J$20,MATCH(\"Aggregate Transfer to Elevated Storage\",$J$21:$J$30,0),2),0)),((IFERROR((OFFSET($J$37,MATCH(\"Aggregate Transfer to Elevated Storage\",$J$38:$J$47,0),2)),0))),((IFERROR((OFFSET($J$53,MATCH(\"Aggregate Transfer to Elevated Storage\",$J$54:$J$63,0),2)),0))),((IFERROR((OFFSET($J$69,MATCH(\"Aggregate Transfer to Elevated Storage\",$J$70:$J$79,0),2)),0))),((IFERROR((OFFSET($J$85,MATCH(\"Aggregate Transfer to Elevated Storage\",$J$86:$J$95,0),2)),0))),((IFERROR((OFFSET($J$101,MATCH(\"Aggregate Transfer to Elevated Storage\",$J$102:$J$111,0),2)),0))),((IFERROR((OFFSET($J$117,MATCH(\"Aggregate Transfer to Elevated Storage\",$J$118:$J$127,0),2)),0))),((IFERROR((OFFSET($J$133,MATCH(\"Aggregate Transfer to Elevated Storage\",$J$134:$J$143,0),2)),0))),((IFERROR((OFFSET($J$149,MATCH(\"Aggregate Transfer to Elevated Storage\",$J$150:$J$159,0),2)),0))),((IFERROR((OFFSET($J$165,MATCH(\"Aggregate Transfer to Elevated Storage\",$J$166:$J$175,0),2)),0))),)","v":0}]
[null,"Throughput Limit (cubic yards/yr):",null,null,null,null,null,"Pollutant","lb/hr","tons/yr",null,null,null,null,null,"Sand Transfer to Elevated Storage",{"$f":"MAX((IFERROR(OFFSET($J$20,MATCH(\"Sand Transfer to Elevated Storage\",$J$21:$J$30,0),1),0)),((IFERROR((OFFSET($J$37,MATCH(\"Sand Transfer to Elevated Storage\",$J$38:$J$47,0),1)),0))),((IFERROR((OFFSET($J$53,MATCH(\"Sand Transfer to Elevated Storage\",$J$54:$J$63,0),1)),0))),((IFERROR((OFFSET($J$69,MATCH(\"Sand Transfer to Elevated Storage\",$J$70:$J$79,0),1)),0))),((IFERROR((OFFSET($J$85,MATCH(\"Sand Transfer to Elevated Storage\",$J$86:$J$95,0),1)),0))),((IFERROR((OFFSET($J$101,MATCH(\"Sand Transfer to Elevated Storage\",$J$102:$J$111,0),1)),0))),((IFERROR((OFFSET($J$117,MATCH(\"Sand Transfer to Elevated Storage\",$J$118:$J$127,0),1)),0))),((IFERROR((OFFSET($J$133,MATCH(\"Sand Transfer to Elevated Storage\",$J$134:$J$143,0),1)),0))),((IFERROR((OFFSET($J$149,MATCH(\"Sand Transfer to Elevated Storage\",$J$150:$J$159,0),1)),0))),((IFERROR((OFFSET($J$165,MATCH(\"Sand Transfer to Elevated Storage\",$J$166:$J$175,0),1)),0))),)","v":0},{"$f":"SUM((IFERROR(OFFSET($J$20,MATCH(\"Sand Transfer to Elevated Storage\",$J$21:$J$30,0),2),0)),((IFERROR((OFFSET($J$37,MATCH(\"Sand Transfer to Elevated Storage\",$J$38:$J$47,0),2)),0))),((IFERROR((OFFSET($J$53,MATCH(\"Sand Transfer to Elevated Storage\",$J$54:$J$63,0),2)),0))),((IFERROR((OFFSET($J$69,MATCH(\"Sand Transfer to Elevated Storage\",$J$70:$J$79,0),2)),0))),((IFERROR((OFFSET($J$85,MATCH(\"Sand Transfer to Elevated Storage\",$J$86:$J$95,0),2)),0))),((IFERROR((OFFSET($J$101,MATCH(\"Sand Transfer to Elevated Storage\",$J$102:$J$111,0),2)),0))),((IFERROR((OFFSET($J$117,MATCH(\"Sand Transfer to Elevated Storage\",$J$118:$J$127,0),2)),0))),((IFERROR((OFFSET($J$133,MATCH(\"Sand Transfer to Elevated Storage\",$J$134:$J$143,0),2)),0))),((IFERROR((OFFSET($J$149,MATCH(\"Sand Transfer to Elevated Storage\",$J$150:$J$159,0),2)),0))),((IFERROR((OFFSET($J$165,MATCH(\"Sand Transfer to Elevated Storage\",$J$166:$J$175,0),2)),0))),)","v":0}]
[null,"Daily Throughput Limit (cubic yards/day):",null,null,null,null,null,"PM2.5",null,null,null,null,null,null,null,"Weigh Hopper Loading",{"$f":"MAX((IFERROR(OFFSET($J$20,MATCH(\"Weigh Hopper Loading\",$J$21:$J$30,0),1),0)),((IFERROR((OFFSET($J$37,MATCH(\"Weigh Hopper Loading\",$J$38:$J$47,0),1)),0))),((IFERROR((OFFSET($J$53,MATCH(\"Weigh Hopper Loading\",$J$54:$J$63,0),1)),0))),((IFERROR((OFFSET($J$69,MATCH(\"Weigh Hopper Loading\",$J$70:$J$79,0),1)),0))),((IFERROR((OFFSET($J$85,MATCH(\"Weigh Hopper Loading\",$J$86:$J$95,0),1)),0))),((IFERROR((OFFSET($J$101,MATCH(\"Weigh Hopper Loading\",$J$102:$J$111,0),1)),0))),((IFERROR((OFFSET($J$117,MATCH(\"Weigh Hopper Loading\",$J$118:$J$127,0),1)),0))),((IFERROR((OFFSET($J$133,MATCH(\"Weigh Hopper Loading\",$J$134:$J$143,0),1)),0))),((IFERROR((OFFSET($J$149,MATCH(\"Weigh Hopper Loading\",$J$150:$J$159,0),1)),0))),((IFERROR((OFFSET($J$165,MATCH(\"Weigh Hopper Loading\",$J$166:$J$175,0),1)),0))),)","v":0},{"$f":"SUM((IFERROR(OFFSET($J$20,MATCH(\"Weigh Hopper Loading\",$J$21:$J$30,0),2),0)),((IFERROR((OFFSET($J$37,MATCH(\"Weigh Hopper Loading\",$J$38:$J$47,0),2)),0))),((IFERROR((OFFSET($J$53,MATCH(\"Weigh Hopper Loading\",$J$54:$J$63,0),2)),0))),((IFERROR((OFFSET($J$69,MATCH(\"Weigh Hopper Loading\",$J$70:$J$79,0),2)),0))),((IFERROR((OFFSET($J$85,MATCH(\"Weigh Hopper Loading\",$J$86:$J$95,0),2)),0))),((IFERROR((OFFSET($J$101,MATCH(\"Weigh Hopper Loading\",$J$102:$J$111,0),2)),0))),((IFERROR((OFFSET($J$117,MATCH(\"Weigh Hopper Loading\",$J$118:$J$127,0),2)),0))),((IFERROR((OFFSET($J$133,MATCH(\"Weigh Hopper Loading\",$J$134:$J$143,0),2)),0))),((IFERROR((OFFSET($J$149,MATCH(\"Weigh Hopper Loading\",$J$150:$J$159,0),2)),0))),((IFERROR((OFFSET($J$165,MATCH(\"Weigh Hopper Loading\",$J$166:$J$175,0),2)),0))),)","v":0}]
[null,"Hours of Operation Limit (hours/day):",null,null,null,null,null,"PM10",null,null,null,null,null,null,null,"Central Mix Loading",{"$f":"MAX((IFERROR(OFFSET($J$20,MATCH(\"Central Mix Loading\",$J$21:$J$30,0),1),0)),((IFERROR((OFFSET($J$37,MATCH(\"Central Mix Loading\",$J$38:$J$47,0),1)),0))),((IFERROR((OFFSET($J$53,MATCH(\"Central Mix Loading\",$J$54:$J$63,0),1)),0))),((IFERROR((OFFSET($J$69,MATCH(\"Central Mix Loading\",$J$70:$J$79,0),1)),0))),((IFERROR((OFFSET($J$85,MATCH(\"Central Mix Loading\",$J$86:$J$95,0),1)),0))),((IFERROR((OFFSET($J$101,MATCH(\"Central Mix Loading\",$J$102:$J$111,0),1)),0))),((IFERROR((OFFSET($J$117,MATCH(\"Central Mix Loading\",$J$118:$J$127,0),1)),0))),((IFERROR((OFFSET($J$133,MATCH(\"Central Mix Loading\",$J$134:$J$143,0),1)),0))),((IFERROR((OFFSET($J$149,MATCH(\"Central Mix Loading\",$J$150:$J$159,0),1)),0))),((IFERROR((OFFSET($J$165,MATCH(\"Central Mix Loading\",$J$166:$J$175,0),1)),0))),)","v":0},{"$f":"SUM((IFERROR(OFFSET($J$20,MATCH(\"Central Mix Loading\",$J$21:$J$30,0),2),0)),((IFERROR((OFFSET($J$37,MATCH(\"Central Mix Loading\",$J$38:$J$47,0),2)),0))),((IFERROR((OFFSET($J$53,MATCH(\"Central Mix Loading\",$J$54:$J$63,0),2)),0))),((IFERROR((OFFSET($J$69,MATCH(\"Central Mix Loading\",$J$70:$J$79,0),2)),0))),((IFERROR((OFFSET($J$85,MATCH(\"Central Mix Loading\",$J$86:$J$95,0),2)),0))),((IFERROR((OFFSET($J$101,MATCH(\"Central Mix Loading\",$J$102:$J$111,0),2)),0))),((IFERROR((OFFSET($J$117,MATCH(\"Central Mix Loading\",$J$118:$J$127,0),2)),0))),((IFERROR((OFFSET($J$133,MATCH(\"Central Mix Loading\",$J$134:$J$143,0),2)),0))),((IFERROR((OFFSET($J$149,MATCH(\"Central Mix Loading\",$J$150:$J$159,0),2)),0))),((IFERROR((OFFSET($J$165,MATCH(\"Central Mix Loading\",$J$166:$J$175,0),2)),0))),)","v":0}]
[null,"Note: if the plant has an hrs/day and a cubic yards/hr permit limit,",null,null,null,null,null,"SO2",null,null,null,null,null,null,null,"Truck Mix Loading",{"$f":"MAX((IFERROR(OFFSET($J$20,MATCH(\"Truck Mix Loading\",$J$21:$J$30,0),1),0)),((IFERROR((OFFSET($J$37,MATCH(\"Truck Mix Loading\",$J$38:$J$47,0),1)),0))),((IFERROR((OFFSET($J$53,MATCH(\"Truck Mix Loading\",$J$54:$J$63,0),1)),0))),((IFERROR((OFFSET($J$69,MATCH(\"Truck Mix Loading\",$J$70:$J$79,0),1)),0))),((IFERROR((OFFSET($J$85,MATCH(\"Truck Mix Loading\",$J$86:$J$95,0),1)),0))),((IFERROR((OFFSET($J$101,MATCH(\"Truck Mix Loading\",$J$102:$J$111,0),1)),0))),((IFERROR((OFFSET($J$117,MATCH(\"Truck Mix Loading\",$J$118:$J$127,0),1)),0))),((IFERROR((OFFSET($J$133,MATCH(\"Truck Mix Loading\",$J$134:$J$143,0),1)),0))),((IFERROR((OFFSET($J$149,MATCH(\"Truck Mix Loading\",$J$150:$J$159,0),1)),0))),((IFERROR((OFFSET($J$165,MATCH(\"Truck Mix Loading\",$J$166:$J$175,0),1)),0))),)","v":0},{"$f":"SUM((IFERROR(OFFSET($J$20,MATCH(\"Truck Mix Loading\",$J$21:$J$30,0),2),0)),((IFERROR((OFFSET($J$37,MATCH(\"Truck Mix Loading\",$J$38:$J$47,0),2)),0))),((IFERROR((OFFSET($J$53,MATCH(\"Truck Mix Loading\",$J$54:$J$63,0),2)),0))),((IFERROR((OFFSET($J$69,MATCH(\"Truck Mix Loading\",$J$70:$J$79,0),2)),0))),((IFERROR((OFFSET($J$85,MATCH(\"Truck Mix Loading\",$J$86:$J$95,0),2)),0))),((IFERROR((OFFSET($J$101,MATCH(\"Truck Mix Loading\",$J$102:$J$111,0),2)),0))),((IFERROR((OFFSET($J$117,MATCH(\"Truck Mix Loading\",$J$118:$J$127,0),2)),0))),((IFERROR((OFFSET($J$133,MATCH(\"Truck Mix Loading\",$J$134:$J$143,0),2)),0))),((IFERROR((OFFSET($J$149,MATCH(\"Truck Mix Loading\",$J$150:$J$159,0),2)),0))),((IFERROR((OFFSET($J$165,MATCH(\"Truck Mix Loading\",$J$166:$J$175,0),2)),0))),)","v":0}]
[null,"those values should be multiplied together to calculate a cubic ",null,null,null,null,null,"NOx",null,null,null,null,null,null,null,"Cement Delivery to Silo",{"$f":"MAX((IFERROR(OFFSET($J$20,MATCH(\"Cement Delivery to Silo\",$J$21:$J$30,0),1),0)),((IFERROR((OFFSET($J$37,MATCH(\"Cement Delivery to Silo\",$J$38:$J$47,0),1)),0))),((IFERROR((OFFSET($J$53,MATCH(\"Cement Delivery to Silo\",$J$54:$J$63,0),1)),0))),((IFERROR((OFFSET($J$69,MATCH(\"Cement Delivery to Silo\",$J$70:$J$79,0),1)),0))),((IFERROR((OFFSET($J$85,MATCH(\"Cement Delivery to Silo\",$J$86:$J$95,0),1)),0))),((IFERROR((OFFSET($J$101,MATCH(\"Cement Delivery to Silo\",$J$102:$J$111,0),1)),0))),((IFERROR((OFFSET($J$117,MATCH(\"Cement Delivery to Silo\",$J$118:$J$127,0),1)),0))),((IFERROR((OFFSET($J$133,MATCH(\"Cement Delivery to Silo\",$J$134:$J$143,0),1)),0))),((IFERROR((OFFSET($J$149,MATCH(\"Cement Delivery to Silo\",$J$150:$J$159,0),1)),0))),((IFERROR((OFFSET($J$165,MATCH(\"Cement Delivery to Silo\",$J$166:$J$175,0),1)),0))),)","v":0},{"$f":"SUM((IFERROR(OFFSET($J$20,MATCH(\"Cement Delivery to Silo\",$J$21:$J$30,0),2),0)),((IFERROR((OFFSET($J$37,MATCH(\"Cement Delivery to Silo\",$J$38:$J$47,0),2)),0))),((IFERROR((OFFSET($J$53,MATCH(\"Cement Delivery to Silo\",$J$54:$J$63,0),2)),0))),((IFERROR((OFFSET($J$69,MATCH(\"Cement Delivery to Silo\",$J$70:$J$79,0),2)),0))),((IFERROR((OFFSET($J$85,MATCH(\"Cement Delivery to Silo\",$J$86:$J$95,0),2)),0))),((IFERROR((OFFSET($J$101,MATCH(\"Cement Delivery to Silo\",$J$102:$J$111,0),2)),0))),((IFERROR((OFFSET($J$117,MATCH(\"Cement Delivery to Silo\",$J$118:$J$127,0),2)),0))),((IFERROR((OFFSET($J$133,MATCH(\"Cement Delivery to Silo\",$J$134:$J$143,0),2)),0))),((IFERROR((OFFSET($J$149,MATCH(\"Cement Delivery to Silo\",$J$150:$J$159,0),2)),0))),((IFERROR((OFFSET($J$165,MATCH(\"Cement Delivery to Silo\",$J$166:$J$175,0),2)),0))),)","v":0}]
[null,"yards/day limit and that value should be placed in cell C10.",null,null,null,null,null,"VOC",null,null,null,null,null,null,null,"Cement Supplement Delivery to Silo",{"$f":"MAX((IFERROR(OFFSET($J$20,MATCH(\"Cement Supplement Delivery to Silo\",$J$21:$J$30,0),1),0)),((IFERROR((OFFSET($J$37,MATCH(\"Cement Supplement Delivery to Silo\",$J$38:$J$47,0),1)),0))),((IFERROR((OFFSET($J$53,MATCH(\"Cement Supplement Delivery to Silo\",$J$54:$J$63,0),1)),0))),((IFERROR((OFFSET($J$69,MATCH(\"Cement Supplement Delivery to Silo\",$J$70:$J$79,0),1)),0))),((IFERROR((OFFSET($J$85,MATCH(\"Cement Supplement Delivery to Silo\",$J$86:$J$95,0),1)),0))),((IFERROR((OFFSET($J$101,MATCH(\"Cement Supplement Delivery to Silo\",$J$102:$J$111,0),1)),0))),((IFERROR((OFFSET($J$117,MATCH(\"Cement Supplement Delivery to Silo\",$J$118:$J$127,0),1)),0))),((IFERROR((OFFSET($J$133,MATCH(\"Cement Supplement Delivery to Silo\",$J$134:$J$143,0),1)),0))),((IFERROR((OFFSET($J$149,MATCH(\"Cement Supplement Delivery to Silo\",$J$150:$J$159,0),1)),0))),((IFERROR((OFFSET($J$165,MATCH(\"Cement Supplement Delivery to Silo\",$J$166:$J$175,0),1)),0))),)","v":0},{"$f":"SUM((IFERROR(OFFSET($J$20,MATCH(\"Cement Supplement Delivery to Silo\",$J$21:$J$30,0),2),0)),((IFERROR((OFFSET($J$37,MATCH(\"Cement Supplement Delivery to Silo\",$J$38:$J$47,0),2)),0))),((IFERROR((OFFSET($J$53,MATCH(\"Cement Supplement Delivery to Silo\",$J$54:$J$63,0),2)),0))),((IFERROR((OFFSET($J$69,MATCH(\"Cement Supplement Delivery to Silo\",$J$70:$J$79,0),2)),0))),((IFERROR((OFFSET($J$85,MATCH(\"Cement Supplement Delivery to Silo\",$J$86:$J$95,0),2)),0))),((IFERROR((OFFSET($J$101,MATCH(\"Cement Supplement Delivery to Silo\",$J$102:$J$111,0),2)),0))),((IFERROR((OFFSET($J$117,MATCH(\"Cement Supplement Delivery to Silo\",$J$118:$J$127,0),2)),0))),((IFERROR((OFFSET($J$133,MATCH(\"Cement Supplement Delivery to Silo\",$J$134:$J$143,0),2)),0))),((IFERROR((OFFSET($J$149,MATCH(\"Cement Supplement Delivery to Silo\",$J$150:$J$159,0),2)),0))),((IFERROR((OFFSET($J$165,MATCH(\"Cement Supplement Delivery to Silo\",$J$166:$J$175,0),2)),0))),)","v":0}]
[null,null,null,null,null,null,null,"CO"]
[null,null,null,null,null,null,null,null,null,null,null,null,null,null,null,null,"Maximum (acres/day)","Actual (acres-day/yr)"]
[null,null,null,null,null,null,null,null,null,null,null,null,null,null,null,"Storage Pile",{"$f":"SUM(J34,J50,J67,J83,J99,J115,J131,J147,J163,J179)","v":0},{"$f":"SUM(K34*L34,K50*L50,K67*L67,K83*L83,K99*L99,K115*L115,K131*L131,K147*L147,K163*L163,K179*L179)","v":0}]
[]
[null,null,null,null,null,null,null,null,null,null,null,null,null,null,null,"Actual Emissions for the Listed Processes at this Plant"]
[null,"Batch Plant","Site 1",null,null,null,null,"Emission Point #","Emission     Unit #","Processes","Combined Maximum Hourly Design Rate for all Like Processes (cubic yard/hr)",{"$f":"('Facility Information'!G5&\" Annual Throughput (cubic yards)\")","v":" Annual Throughput (cubic yards)"},"Truck","Central",null,"PM2.5","Maximum Design Rate (cubic yards/hr)","Emission Factor (lb/cubic yard)","Potential Uncontrolled Emissions (lb/hr)","Potential Controlled Emissions (lb/hr)","Potential Annual Emissions (tons/yr)","Actual Annual Emissions (tons/yr)"]
["YES","Site Name:",null,null,null,null,null,{"$f":"IF(J21=\"cement delivery to silo\",\"CP-1 EP-2\",IF(J21=\"cement supplement delivery to silo\",\"CP-1 EP-3\",IF(J21=\"weigh hopper loading\",\"CP-1 EP-4\",IF(J21=\"truck mix loading\",\"CP-1 EP-5\",IF(J21=\"central mix loading\",\"CP-1 EP-6\",IF(J21=\"\",\"\",\"CP-1 EP-1\"))))))","v":""},{"$f":"IF(J21=\"\",\"\",IF(J21=\"aggregate delivery to ground storage\",\"CP-3 EU-1\",IF(J21=\"sand delivery to ground storage\",\"CP-3 EU-2\",IF(J21=\"aggregate transfer to conveyor\",\"CP-3 EU-3\",IF(J21=\"sand transfer to conveyor\",\"CP-3 EU-4\",IF(J21=\"aggregate transfer to elevated storage\",\"CP-3 EU-5\",IF(J21=\"sand transfer to elevated storage\",\"CP-3 EU-6\",IF(J21=\"weigh hopper loading\",\"CP-3 EU-7\",IF(J21=\"central mix loading\",\"CP-3 EU-8\",IF(J21=\"truck mix loading\",\"CP-3 EU-9\",IF(J21=\"cement delivery to silo\",\"CP-3 EU-10\",IF(J21=\"cement supplement delivery to silo\",\"CP-3 EU-11\"))))))))))))","v":""},null,null,null,{"$f":"IF(J21=\"truck mix loading\",IF($F$24=\"yes\",L21*0.05/2000,L21/2000),\"\")","v":""},{"$f":"IF(J21=\"central mix loading\",IF($F$24=\"yes\",L21*0.05/2000,L21/2000),\"\")","v":""},null,"Aggregate Delivery to Ground Storage",{"$f":"Q4","v":0},{"$f":"IF(Q21=0,0,LOOKUP(P21,'Emission Factors'!$A$5:$A$16,'Emission Factors'!$D$5:$D$16))","v":0},{"$f":"Q21*R21","v":0},{"$f":"IF(Q21=0,\"\",IF($I$10>0,$I$10,\"\"))","v":""},{"$f":"IF($J$10>0,$J$10,IF($D$9>0,$D$9*R21/2000,IF($D$10>0,$D$10*365*R21/2000,IF($D$11>0,$D$11*365*R21*Q21/2000,IF(T21=\"\",S21*8760/2000,T21*8760/2000)))))","v":0},{"$f":"(R4*R21/2000)","v":0}]
["NO","County:",null,null,null,null,null,{"$f":"IF(J22=\"cement delivery to silo\",\"CP-1 EP-2\",IF(J22=\"cement supplement delivery to silo\",\"CP-1 EP-3\",IF(J22=\"weigh hopper loading\",\"CP-1 EP-4\",IF(J22=\"truck mix loading\",\"CP-1 EP-5\",IF(J22=\"central mix loading\",\"CP-1 EP-6\",IF(J22=\"\",\"\",\"CP-1 EP-1\"))))))","v":""},"",null,null,null,{"$f":"IF(J22=\"truck mix loading\",IF($F$24=\"yes\",L22*0.05/2000,L22/2000),\"\")","v":""},{"$f":"IF(J22=\"central mix loading\",IF($F$24=\"yes\",L22*0.05/2000,L22/2000),\"\")","v":""},null,"Sand Delivery to Ground Storage",0,{"$f":"IF(Q22=0,0,LOOKUP(P22,'Emission Factors'!$A$5:$A$16,'Emission Factors'!$D$5:$D$16))","v":0},0,{"$f":"IF(Q22=0,\"\",IF($I$10>0,$I$10,\"\"))","v":""},{"$f":"IF($J$10>0,\"\",IF($D$9>0,$D$9*R22/2000,IF($D$10>0,$D$10*365*R22/2000,IF($D$11>0,$D$11*365*R22*Q22/2000,IF(T22=\"\",S22*8760/2000,T22*8760/2000)))))","v":0},0]
[null,"Batching Period (Dates):",null,null,null,null,null,"","",null,null,null,"","",null,"Aggregate Transfer to Conveyor",0,{"$f":"IF(Q23=0,0,LOOKUP(P23,'Emission Factors'!$A$5:$A$16,'Emission Factors'!$D$5:$D$16))","v":0},0,"",0,0]
["Aggregate Delivery to Ground Storage",{"$f":"IF(OR(COUNTIF(J21:J30,\"Truck Mix Loading\")>0,(COUNTIF(J21:J30,\"Central Mix Loading\")>0)),\"Is the Central/Truck Mix Loading process controlled by a baghouse?\",\"\")","v":""},null,null,null,null,null,"","",null,null,null,"","",null,"Sand Transfer to Conveyor",0,{"$f":"IF(Q24=0,0,LOOKUP(P24,'Emission Factors'!$A$5:$A$16,'Emission Factors'!$D$5:$D$16))","v":0},0,"",0,0]
["Sand Delivery to Ground Storage",null,null,null,null,null,null,"","",null,null,null,"","",null,"Aggregate Transfer to Elevated Storage",0,{"$f":"IF(Q25=0,0,LOOKUP(P25,'Emission Factors'!$A$5:$A$16,'Emission Factors'!$D$5:$D$16))","v":0},0,"",0,0]
["Aggregate Transfer to Conveyor",{"$f":"IF(AND(B28=\"\",B29=\"\",B32=\"\",B31=\"\",B30=\"\"),\"\",\"Process (complete stack information if applicable):\")","v":""},{"$f":"IF(AND(B28=\"\",B29=\"\",B32=\"\",B31=\"\",B30=\"\"),\"\",\"Stack Height (ft):\")","v":""},{"$f":"IF(AND(B28=\"\",B29=\"\",B32=\"\",B31=\"\",B30=\"\"),\"\",\"Stack Diameter (inches):\")","v":""},{"$f":"IF(AND(B28=\"\",B29=\"\",B32=\"\",B31=\"\",B30=\"\"),\"\",\"Flow Rate (acfm):\")","v":""},{"$f":"IF(AND(B28=\"\",B29=\"\",B32=\"\",B31=\"\",B30=\"\"),\"\",\"Temp (Deg F):\")","v":""},null,"","",null,null,null,"","",null,"Sand Transfer to Elevated Storage",0,{"$f":"IF(Q26=0,0,LOOKUP(P26,'Emission Factors'!$A$5:$A$16,'Emission Factors'!$D$5:$D$16))","v":0},0,"",0,0]
["Sand Transfer to Conveyor",null,null,null,null,null,null,"","",null,null,null,"","",null,"Weigh Hopper Loading",0,{"$f":"IF(Q27=0,0,LOOKUP(P27,'Emission Factors'!$A$5:$A$16,'Emission Factors'!$D$5:$D$16))","v":0},0,"",0,0]
["Aggregate Transfer to Elevated Storage",{"$f":"IF(COUNTIF(J21:J30,\"Cement Delivery to Silo\")>0,\"EP-2 Cement Silo Stack:\",\"\")","v":""},null,null,null,null,null,"","",null,null,null,"","",null,"Central Mix Loading",0,{"$f":"IF(Q28=0,0,LOOKUP(P28,'Emission Factors'!$A$5:$A$16,'Emission Factors'!$D$5:$D$16))","v":0},0,{"$f":"IF(Q28=0,\"\",IF($I$10>0,$I$10,IF(COUNTIF($F$24:$F$169,\"no\")>0,\"\",S28*(1-0.95))))","v":""},{"$f":"IF($J$10>0,\"\",IF($D$9>0,$D$9*R28*((100-$W$30)/100)/2000,IF($D$10>0,$D$10*365*R28*((100-$W$30)/100)/2000,IF($D$11>0,$D$11*365*R28*((100-$W$30)/100)*Q28/2000,IF(T28=\"\",S28*8760/2000,T28*8760/2000)))))","v":0},{"$f":"(R28*N181)","v":0}]
["Sand Transfer to Elevated Storage",{"$f":"IF(COUNTIF(J21:J30,\"Cement Supplement Delivery to Silo\")>0,\"EP-3 Cement Supplement Silo Stack:\",\"\")","v":""},null,null,null,null,null,"","",null,null,null,"","",null,"Truck Mix Loading",0,{"$f":"IF(Q29=0,0,LOOKUP(P29,'Emission Factors'!$A$5:$A$16,'Emission Factors'!$D$5:$D$16))","v":0},0,{"$f":"IF(Q29=0,\"\",IF($I$10>0,$I$10,IF(COUNTIF($F$24:$F$169,\"no\")>0,\"\",S29*(1-0.95))))","v":""},{"$f":"IF($J$10>0,\"\",IF($D$9>0,$D$9*R29*((100-$W$30)/100)/2000,IF($D$10>0,$D$10*365*R29*((100-$W$30)/100)/2000,IF($D$11>0,$D$11*365*R29*((100-$W$30)/100)*Q29/2000,IF(T29=\"\",S29*8760/2000,T29*8760/2000)))))","v":0},{"$f":"(R29*M181)","v":0}]
["Weigh Hopper Loading",{"$f":"IF(COUNTIF(J21:J30,\"Weigh Hopper Loading\")>0,\"EP-4 Weigh Hopper Loading Stack:\",\"\")","v":""},null,null,null,null,null,"","",null,null,null,"","",null,"Cement Delivery to Silo",0,{"$f":"IF(Q30=0,0,LOOKUP(P30,'Emission Factors'!$A$5:$A$16,'Emission Factors'!$D$5:$D$16))","v":0},null,{"$f":"IF(Q30=0,0,IF($I$10>0,$I$10,Q30*R30))","v":0},{"$f":"IF($J$10>0,\"\",IF($D$9>0,$D$9*R30/2000,IF($D$10>0,$D$10*365*R30/2000,IF($D$11>0,$D$11*365*R30*Q30/2000,IF($I$10>0,0,T30*8760/2000)))))","v":0},{"$f":"(R13*R30/2000)","v":0},{"$f":"IF(COUNTIF($F$24:$F$169,\"no\")>0,0,95)","v":95}]
["Central Mix Loading",{"$f":"IF(COUNTIF(J21:J30,\"Truck Mix Loading\")>0,\"EP-5 Truck Mix Loading Stack:\",\"\")","v":""},null,null,null,null,null,null,null,null,null,null,null,null,null,"Cement Supplement Delivery to Silo",0,{"$f":"IF(Q31=0,0,LOOKUP(P31,'Emission Factors'!$A$5:$A$16,'Emission Factors'!$D$5:$D$16))","v":0},null,{"$f":"IF(Q31=0,0,IF($I$10>0,$I$10,Q31*R31))","v":0},{"$f":"IF($J$10>0,\"\",IF($D$9>0,$D$9*R31/2000,IF($D$10>0,$D$10*365*R31/2000,IF($D$11>0,$D$11*365*R31*Q31/2000,IF($I$10>0,0,T31*8760/2000)))))","v":0},{"$f":"(R14*R31/2000)","v":0}]
["Truck Mix Loading",{"$f":"IF(COUNTIF(J21:J30,\"Central Mix Loading\")>0,\"EP-6 Central Mix Loading Stack:\",\"\")","v":""},null,null,null,null,null,"Stock Pile Area"]
["Cement Delivery to Silo",null,null,null,null,null,null,null,"Emission Unit #","Maximum Storage Area (acres)","Actual Storage Area (acres)","Actual Days in Existence (days)"]
["Cement Supplement Delivery to Silo",null,null,null,null,null,null,null,null,null,null,null,null,null,null,"PM10"]
[null,null,null,null,null,null,null,null,null,null,null,null,null,null,null,"Aggregate Delivery to Ground Storage",{"$f":"Q4","v":0},{"$f":"IF(Q35=0,0,LOOKUP(P35,'Emission Factors'!$A$5:$A$16,'Emission Factors'!$H$5:$H$16))","v":0},{"$f":"Q35*R35","v":0},{"$f":"IF(Q35=0,\"\",IF($I$11>0,$I$11,\"\"))","v":""},{"$f":"IF($J$11>0,$J$11,IF($D$9>0,$D$9*R35/2000,IF($D$10>0,$D$10*365*R35/2000,IF($D$11>0,$D$11*365*R35*Q35/2000,IF(T35=\"\",S35*8760/2000,T35*8760/2000)))))","v":0},{"$f":"(R4*R35/2000)","v":0}]
[null,null,null,null,null,null,null,null,null,null,null,null,null,null,null,"Sand Delivery to Ground Storage",0,{"$f":"IF(Q36=0,0,LOOKUP(P36,'Emission Factors'!$A$5:$A$16,'Emission Factors'!$H$5:$H$16))","v":0},0,{"$f":"IF(Q36=0,\"\",IF($I$11>0,$I$11,\"\"))","v":""},{"$f":"IF($J$11>0,\"\",IF($D$9>0,$D$9*R36/2000,IF($D$10>0,$D$10*365*R36/2000,IF($D$11>0,$D$11*365*R36*Q36/2000,IF(T36=\"\",S36*8760/2000,T36*8760/2000)))))","v":0},0]
[null,{"$f":"IF('Concrete Plant (CP-3)'!$D$4>1,\"Batch Plant\",\"\")","v":""},{"$f":"IF('Concrete Plant (CP-3)'!$D$4>1,\"Site 2\",\"\")","v":""},null,null,null,null,{"$f":"IF('Concrete Plant (CP-3)'!$D$4>1,\"Emission Point #\",\"\")","v":""},{"$f":"IF('Concrete Plant (CP-3)'!$D$4>1,\"Emission     Unit #\",\"\")","v":""},{"$f":"IF('Concrete Plant (CP-3)'!$D$4>1,\"Processes\",\"\")","v":""},{"$f":"IF('Concrete Plant (CP-3)'!$D$4>1,\"Combined Maximum Hourly Design Rate for all Like Processes (cubic yard/hr)\",\"\")","v":""},{"$f":"IF('Concrete Plant (CP-3)'!$D$4>1,('Facility Information'!G5&\" Annual Throughput (cubic yards)\"),\"\")","v":""},null,null,null,"Aggregate Transfer to Conveyor",0,{"$f":"IF(Q37=0,0,LOOKUP(P37,'Emission Factors'!$A$5:$A$16,'Emission Factors'!$H$5:$H$16))","v":0},0,"",0,0]
[null,{"$f":"IF('Concrete Plant (CP-3)'!$D$4>1,\"Site Name:\",\"\")","v":""},null,null,null,null,null,{"$f":"IF(J38=\"cement delivery to silo\",\"CP-1 EP-2\",IF(J38=\"cement supplement delivery to silo\",\"CP-1 EP-3\",IF(J38=\"weigh hopper loading\",\"CP-1 EP-4\",IF(J38=\"truck mix loading\",\"CP-1 EP-5\",IF(J38=\"central mix loading\",\"CP-1 EP-6\",IF(J38=\"\",\"\",\"CP-1 EP-1\"))))))","v":""},{"$f":"IF(J38=\"\",\"\",IF(J38=\"aggregate delivery to ground storage\",\"CP-3 EU-1\",IF(J38=\"sand delivery to ground storage\",\"CP-3 EU-2\",IF(J38=\"aggregate transfer to conveyor\",\"CP-3 EU-3\",IF(J38=\"sand transfer to conveyor\",\"CP-3 EU-4\",IF(J38=\"aggregate transfer to elevated storage\",\"CP-3 EU-5\",IF(J38=\"sand transfer to elevated storage\",\"CP-3 EU-6\",IF(J38=\"weigh hopper loading\",\"CP-3 EU-7\",IF(J38=\"central mix loading\",\"CP-3 EU-8\",IF(J38=\"truck mix loading\",\"CP-3 EU-9\",IF(J38=\"cement delivery to silo\",\"CP-3 EU-10\",IF(J38=\"cement supplement delivery to silo\",\"CP-3 EU-11\"))))))))))))","v":""},null,null,null,{"$f":"IF(J38=\"truck mix loading\",IF($F$41=\"yes\",L38*0.05/2000,L38/2000),\"\")","v":""},{"$f":"IF(J38=\"central mix loading\",IF($F$41=\"yes\",L38*0.05/2000,L38/2000),\"\")","v":""},null,"Sand Transfer to Conveyor",0,{"$f":"IF(Q38=0,0,LOOKUP(P38,'Emission Factors'!$A$5:$A$16,'Emission Factors'!$H$5:$H$16))","v":0},{"$f":"Q38*R38","v":0},{"$f":"IF(Q38=0,\"\",IF($I$11>0,$I$11,\"\"))","v":""},{"$f":"IF($J$11>0,\"\",IF($D$9>0,$D$9*R38/2000,IF($D$10>0,$D$10*365*R38/2000,IF($D$11>0,$D$11*365*R38*Q38/2000,IF(T38=\"\",S38*8760/2000,T38*8760/2000)))))","v":0},0]
[null,{"$f":"IF('Concrete Plant (CP-3)'!$D$4>1,\"County:\",\"\")","v":""},null,null,null,null,null,{"$f":"IF(J39=\"cement delivery to silo\",\"CP-1 EP-2\",IF(J39=\"cement supplement delivery to silo\",\"CP-1 EP-3\",IF(J39=\"weigh hopper loading\",\"CP-1 EP-4\",IF(J39=\"truck mix loading\",\"CP-1 EP-5\",IF(J39=\"central mix loading\",\"CP-1 EP-6\",IF(J39=\"\",\"\",\"CP-1 EP-1\"))))))","v":""},"",null,null,null,{"$f":"IF(J39=\"truck mix loading\",IF($F$41=\"yes\",L39*0.05/2000,L39/2000),\"\")","v":""},{"$f":"IF(J39=\"central mix loading\",IF($F$41=\"yes\",L39*0.05/2000,L39/2000),\"\")","v":""},null,"Aggregate Transfer to Elevated Storage",0,{"$f":"IF(Q39=0,0,LOOKUP(P39,'Emission Factors'!$A$5:$A$16,'Emission Factors'!$H$5:$H$16))","v":0},0,{"$f":"IF(Q39=0,\"\",IF($I$11>0,$I$11,\"\"))","v":""},{"$f":"IF($J$11>0,\"\",IF($D$9>0,$D$9*R39/2000,IF($D$10>0,$D$10*365*R39/2000,IF($D$11>0,$D$11*365*R39*Q39/2000,IF(T39=\"\",S39*8760/2000,T39*8760/2000)))))","v":0},0]
[null,{"$f":"IF('Concrete Plant (CP-3)'!$D$4>1,\"Batching Period (Dates):\",\"\")","v":""},null,null,null,null,null,"","",null,null,null,"","",null,"Sand Transfer to Elevated Storage",0,{"$f":"IF(Q40=0,0,LOOKUP(P40,'Emission Factors'!$A$5:$A$16,'Emission Factors'!$H$5:$H$16))","v":0},0,{"$f":"IF(Q40=0,\"\",IF($I$11>0,$I$11,\"\"))","v":""},{"$f":"IF($J$11>0,\"\",IF($D$9>0,$D$9*R40/2000,IF($D$10>0,$D$10*365*R40/2000,IF($D$11>0,$D$11*365*R40*Q40/2000,IF(T40=\"\",S40*8760/2000,T40*8760/2000)))))","v":0},0]
[null,{"$f":"IF(OR(COUNTIF(J38:J47,\"Truck Mix Loading\")>0,(COUNTIF(J38:J47,\"Central Mix Loading\")>0)),\"Is the Central/Truck Mix Loading process controlled by a baghouse?\",\"\")","v":""},null,null,null,null,null,"","",null,null,null,"","",null,"Weigh Hopper Loading",0,{"$f":"IF(Q41=0,0,LOOKUP(P41,'Emission Factors'!$A$5:$A$16,'Emission Factors'!$H$5:$H$16))","v":0},0,{"$f":"IF(Q41=0,\"\",IF($I$11>0,$I$11,\"\"))","v":""},{"$f":"IF($J$11>0,\"\",IF($D$9>0,$D$9*R41/2000,IF($D$10>0,$D$10*365*R41/2000,IF($D$11>0,$D$11*365*R41*Q41/2000,IF(T41=\"\",S41*8760/2000,T41*8760/2000)))))","v":0},0,{"$f":"IF(COUNTIF($F$24:$F$169,\"no\")>0,0,95)","v":95}]
[null,null,null,null,null,null,null,"","",null,null,null,"","",null,"Central Mix Loading",0,{"$f":"IF(Q42=0,0,LOOKUP(P42,'Emission Factors'!$A$5:$A$16,'Emission Factors'!$H$5:$H$16))","v":0},0,{"$f":"IF(Q42=0,\"\",IF($I$11>0,$I$11,IF(COUNTIF($F$24:$F$169,\"no\")>0,\"\",S42*(1-0.95))))","v":""},{"$f":"IF($J$11>0,\"\",IF($D$9>0,$D$9*R42*((100-$W$30)/100)/2000,IF($D$10>0,$D$10*365*R42*((100-$W$30)/100)/2000,IF($D$11>0,$D$11*365*R42*((100-$W$30)/100)*Q42/2000,IF(T42=\"\",S42*8760/2000,T42*8760/2000)))))","v":0},{"$f":"(N181*R42)","v":0}]
[null,{"$f":"IF(AND(B45=\"\",B46=\"\",B47=\"\",B48=\"\",B49=\"\"),\"\",\"Process (complete stack information if applicable):\")","v":""},{"$f":"IF(AND(B45=\"\",B46=\"\",B47=\"\",B48=\"\",B49=\"\"),\"\",\"Stack Height (ft):\")","v":""},{"$f":"IF(AND(B45=\"\",B46=\"\",B47=\"\",B48=\"\",B49=\"\"),\"\",\"Stack Diameter (inches):\")","v":""},{"$f":"IF(AND(B45=\"\",B46=\"\",B47=\"\",B48=\"\",B49=\"\"),\"\",\"Flow Rate (acfm):\")","v":""},{"$f":"IF(AND(B45=\"\",B46=\"\",B47=\"\",B48=\"\",B49=\"\"),\"\",\"Temp (Deg F):\")","v":""},null,"","",null,null,null,"","",null,"Truck Mix Loading",0,{"$f":"IF(Q43=0,0,LOOKUP(P43,'Emission Factors'!$A$5:$A$16,'Emission Factors'!$H$5:$H$16))","v":0},0,{"$f":"IF(Q43=0,\"\",IF($I$11>0,$I$11,IF(COUNTIF($F$24:$F$169,\"no\")>0,\"\",S43*(1-0.95))))","v":""},{"$f":"IF($J$11>0,\"\",IF($D$9>0,$D$9*R43*((100-$W$30)/100)/2000,IF($D$10>0,$D$10*365*R43*((100-$W$30)/100)/2000,IF($D$11>0,$D$11*365*R43*((100-$W$30)/100)*Q43/2000,IF(T43=\"\",S43*8760/2000,T43*8760/2000)))))","v":0},{"$f":"(M181*R43)","v":0}]
[null,null,null,null,null,null,null,"","",null,null,null,"","",null,"Cement Delivery to Silo",0,{"$f":"IF(Q44=0,0,LOOKUP(P44,'Emission Factors'!$A$5:$A$16,'Emission Factors'!$H$5:$H$16))","v":0},null,{"$f":"IF(Q44=0,0,IF($I$10>0,$I$10,Q44*R44))","v":0},{"$f":"IF($J$11>0,\"\",IF($D$9>0,$D$9*R44/2000,IF($D$10>0,$D$10*365*R44/2000,IF($D$11>0,$D$11*365*R44*Q44/2000,IF($I$11>0,0,T44*8760/2000)))))","v":0},{"$f":"(R13*R44/2000)","v":0}]
[null,{"$f":"IF(COUNTIF(J38:J47,\"Cement Delivery to Silo\")>0,\"EP-2 Cement Silo Stack:\",\"\")","v":""},null,null,null,null,null,"","",null,null,null,"","",null,"Cement Supplement Delivery to Silo",0,{"$f":"IF(Q45=0,0,LOOKUP(P45,'Emission Factors'!$A$5:$A$16,'Emission Factors'!$H$5:$H$16))","v":0},null,{"$f":"IF(Q45=0,0,IF($I$10>0,$I$10,Q45*R45))","v":0},{"$f":"IF($J$11>0,\"\",IF($D$9>0,$D$9*R45/2000,IF($D$10>0,$D$10*365*R45/2000,IF($D$11>0,$D$11*365*R45*Q45/2000,IF($I$11>0,0,T45*8760/2000)))))","v":0},{"$f":"(R14*R45/2000)","v":0}]
[null,{"$f":"IF(COUNTIF(J38:J47,\"Cement Supplement Delivery to Silo\")>0,\"EP-3 Cement Supplement Silo Stack:\",\"\")","v":""},null,null,null,null,null,"","",null,null,null,"",""]
[null,{"$f":"IF(COUNTIF(J38:J47,\"Weigh Hopper Loading\")>0,\"EP-4 Weigh Hopper Loading Stack:\",\"\")","v":""},null,null,null,null,null,"","",null,null,null,"",""]
[null,{"$f":"IF(COUNTIF(J38:J47,\"Truck Mix Loading\")>0,\"EP-5 Truck Mix Loading Stack:\",\"\")","v":""},null,null,null,null,null,{"$f":"IF('Concrete Plant (CP-3)'!$D$4>1,\"Stock Pile Area\",\"\")","v":""},null,null,null,null,null,null,null,"Storage Pile","Max Design Rate (acres/day)","Emission Factor   (lb/acre-day)","Potential Uncontrolled Emissions (lb/hr)","Potential Controlled Emissions (lb/hr)","Potential Annual Emissions (tons/yr)","Actual Annual Emissions (tons/yr)"]
[null,{"$f":"IF(COUNTIF(J38:J47,\"Central Mix Loading\")>0,\"EP-6 Central Mix Loading Stack:\",\"\")","v":""},null,null,null,null,null,null,{"$f":"IF('Concrete Plant (CP-3)'!$D$4>1,\"Emission Unit #\",\"\")","v":""},{"$f":"IF('Concrete Plant (CP-3)'!$D$4>1,\"Maximum Storage Area (acres)\",\"\")","v":""},{"$f":"IF('Concrete Plant (CP-3)'!$D$4>1,\"Actual Storage Area (acres)\",\"\")","v":""},{"$f":"IF('Concrete Plant (CP-3)'!$D$4>1,\"Actual Days in Existence (days)\",\"\")","v":""},null,null,null,"PM2.5/PM10",{"$f":"Q17","v":0},3.64,{"$f":"Q49*R49*(1/24)","v":0},null,{"$f":"Q49*R49*365/2000","v":0},{"$f":"R17*R49/2000","v":0}]
[]
[]
[]
[null,{"$f":"IF('Concrete Plant (CP-3)'!$D$4>2,\"Batch Plant\",\"\")","v":""},{"$f":"IF('Concrete Plant (CP-3)'!$D$4>2,\"Site 3\",\"\")","v":""},null,null,null,null,{"$f":"IF('Concrete Plant (CP-3)'!$D$4>2,\"Emission Point #\",\"\")","v":""},{"$f":"IF('Concrete Plant (CP-3)'!$D$4>2,\"Emission     Unit #\",\"\")","v":""},{"$f":"IF('Concrete Plant (CP-3)'!$D$4>2,\"Processes\",\"\")","v":""},{"$f":"IF('Concrete Plant (CP-3)'!$D$4>2,\"Combined Maximum Hourly Design Rate for all Like Processes (cubic yard/hr)\",\"\")","v":""},{"$f":"IF('Concrete Plant (CP-3)'!$D$4>2,('Facility Information'!G5&\" Annual Throughput (cubic yards)\"),\"\")","v":""}]
[null,{"$f":"IF('Concrete Plant (CP-3)'!$D$4>2,\"Site Name:\",\"\")","v":""},null,null,null,null,null,{"$f":"IF(J54=\"cement delivery to silo\",\"CP-1 EP-2\",IF(J54=\"cement supplement delivery to silo\",\"CP-1 EP-3\",IF(J54=\"weigh hopper loading\",\"CP-1 EP-4\",IF(J54=\"truck mix loading\",\"CP-1 EP-5\",IF(J54=\"central mix loading\",\"CP-1 EP-6\",IF(J54=\"\",\"\",\"CP-1 EP-1\"))))))","v":""},{"$f":"IF(J54=\"\",\"\",IF(J54=\"aggregate delivery to ground storage\",\"CP-3 EU-1\",IF(J54=\"sand delivery to ground storage\",\"CP-3 EU-2\",IF(J54=\"aggregate transfer to conveyor\",\"CP-3 EU-3\",IF(J54=\"sand transfer to conveyor\",\"CP-3 EU-4\",IF(J54=\"aggregate transfer to elevated storage\",\"CP-3 EU-5\",IF(J54=\"sand transfer to elevated storage\",\"CP-3 EU-6\",IF(J54=\"weigh hopper loading\",\"CP-3 EU-7\",IF(J54=\"central mix loading\",\"CP-3 EU-8\",IF(J54=\"truck mix loading\",\"CP-3 EU-9\",IF(J54=\"cement delivery to silo\",\"CP-3 EU-10\",IF(J54=\"cement supplement delivery to silo\",\"CP-3 EU-11\"))))))))))))","v":""},null,null,null,{"$f":"IF(J54=\"truck mix loading\",IF($F$57=\"yes\",L54*0.05/2000,L54/2000),\"\")","v":""},{"$f":"IF(J54=\"central mix loading\",IF($F$57=\"yes\",L54*0.05/2000,L54/2000),\"\")","v":""}]
[null,{"$f":"IF('Concrete Plant (CP-3)'!$D$4>2,\"County:\",\"\")","v":""},null,null,null,null,null,{"$f":"IF(J55=\"cement delivery to silo\",\"CP-1 EP-2\",IF(J55=\"cement supplement delivery to silo\",\"CP-1 EP-3\",IF(J55=\"weigh hopper loading\",\"CP-1 EP-4\",IF(J55=\"truck mix loading\",\"CP-1 EP-5\",IF(J55=\"central mix loading\",\"CP-1 EP-6\",IF(J55=\"\",\"\",\"CP-1 EP-1\"))))))","v":""},"",null,null,null,{"$f":"IF(J55=\"truck mix loading\",IF($F$57=\"yes\",L55*0.05/2000,L55/2000),\"\")","v":""},{"$f":"IF(J55=\"central mix loading\",IF($F$57=\"yes\",L55*0.05/2000,L55/2000),\"\")","v":""}]
[null,{"$f":"IF('Concrete Plant (CP-3)'!$D$4>2,\"Batching Period (Dates):\",\"\")","v":""},null,null,null,null,null,"","",null,null,null,"",""]
[null,{"$f":"IF(OR(COUNTIF(J54:J63,\"Truck Mix Loading\")>0,(COUNTIF(J54:J63,\"Central Mix Loading\")>0)),\"Is the Central/Truck Mix Loading process controlled by a baghouse?\",\"\")","v":""},null,null,null,null,null,"","",null,null,null,"",""]
[null,null,null,null,null,null,null,"","",null,null,null,"",""]
[null,{"$f":"IF(AND(B61=\"\",B62=\"\",B63=\"\",B64=\"\",B65=\"\"),\"\",\"Process (complete stack information if applicable):\")","v":""},{"$f":"IF(AND(B61=\"\",B62=\"\",B63=\"\",B64=\"\",B65=\"\"),\"\",\"Stack Height (ft):\")","v":""},{"$f":"IF(AND(B61=\"\",B62=\"\",B63=\"\",B64=\"\",B65=\"\"),\"\",\"Stack Diameter (inches):\")","v":""},{"$f":"IF(AND(B61=\"\",B62=\"\",B63=\"\",B64=\"\",B65=\"\"),\"\",\"Flow Rate (acfm):\")","v":""},{"$f":"IF(AND(B61=\"\",B62=\"\",B63=\"\",B64=\"\",B65=\"\"),\"\",\"Temp (Deg F):\")","v":""},null,"","",null,null,null,"",""]
[null,null,null,null,null,null,null,"","",null,null,null,"",""]
[null,{"$f":"IF(COUNTIF(J54:J63,\"Cement Delivery to Silo\")>0,\"EP-2 Cement Silo Stack:\",\"\")","v":""},null,null,null,null,null,"","",null,null,null,"",""]
[null,{"$f":"IF(COUNTIF(J54:J63,\"Cement Supplement Delivery to Silo\")>0,\"EP-3 Cement Supplement Silo Stack:\",\"\")","v":""},null,null,null,null,null,"","",null,null,null,"",""]
[null,{"$f":"IF(COUNTIF(J54:J63,\"Weigh Hopper Loading\")>0,\"EP-4 Weigh Hopper Loading Stack:\",\"\")","v":""},null,null,null,null,null,"","",null,null,null,"",""]
[null,{"$f":"IF(COUNTIF(J54:J63,\"Truck Mix Loading\")>0,\"EP-5 Truck Mix Loading Stack:\",\"\")","v":""}]
[null,{"$f":"IF(COUNTIF(J54:J63,\"Central Mix Loading\")>0,\"EP-6 Central Mix Loading Stack:\",\"\")","v":""},null,null,null,null,null,{"$f":"IF('Concrete Plant (CP-3)'!$D$4>2,\"Stock Pile Area\",\"\")","v":""}]
[null,null,null,null,null,null,null,null,{"$f":"IF('Concrete Plant (CP-3)'!$D$4>2,\"Emission Unit #\",\"\")","v":""},{"$f":"IF('Concrete Plant (CP-3)'!$D$4>2,\"Maximum Storage Area (acres)\",\"\")","v":""},{"$f":"IF('Concrete Plant (CP-3)'!$D$4>2,\"Actual Storage Area (acres)\",\"\")","v":""},{"$f":"IF('Concrete Plant (CP-3)'!$D$4>2,\"Actual Days in Existence (days)\",\"\")","v":""}]
[]
[]
[null,{"$f":"IF('Concrete Plant (CP-3)'!$D$4>3,\"Batch Plant\",\"\")","v":""},{"$f":"IF('Concrete Plant (CP-3)'!$D$4>3,\"Site 4\",\"\")","v":""},null,null,null,null,{"$f":"IF('Concrete Plant (CP-3)'!$D$4>3,\"Emission Point #\",\"\")","v":""},{"$f":"IF('Concrete Plant (CP-3)'!$D$4>3,\"Emission     Unit #\",\"\")","v":""},{"$f":"IF('Concrete Plant (CP-3)'!$D$4>3,\"Processes\",\"\")","v":""},{"$f":"IF('Concrete Plant (CP-3)'!$D$4>3,\"Combined Maximum Hourly Design Rate for all Like Processes (cubic yard/hr)\",\"\")","v":""},{"$f":"IF('Concrete Plant (CP-3)'!$D$4>3,('Facility Information'!G5&\" Annual Throughput (cubic yards)\"),\"\")","v":""}]
[null,{"$f":"IF('Concrete Plant (CP-3)'!$D$4>3,\"Site Name:\",\"\")","v":""},null,null,null,null,null,{"$f":"IF(J70=\"cement delivery to silo\",\"CP-1 EP-2\",IF(J70=\"cement supplement delivery to silo\",\"CP-1 EP-3\",IF(J70=\"weigh hopper loading\",\"CP-1 EP-4\",IF(J70=\"truck mix loading\",\"CP-1 EP-5\",IF(J70=\"central mix loading\",\"CP-1 EP-6\",IF(J70=\"\",\"\",\"CP-1 EP-1\"))))))","v":""},{"$f":"IF(J70=\"\",\"\",IF(J70=\"aggregate delivery to ground storage\",\"CP-3 EU-1\",IF(J70=\"sand delivery to ground storage\",\"CP-3 EU-2\",IF(J70=\"aggregate transfer to conveyor\",\"CP-3 EU-3\",IF(J70=\"sand transfer to conveyor\",\"CP-3 EU-4\",IF(J70=\"aggregate transfer to elevated storage\",\"CP-3 EU-5\",IF(J70=\"sand transfer to elevated storage\",\"CP-3 EU-6\",IF(J70=\"weigh hopper loading\",\"CP-3 EU-7\",IF(J70=\"central mix loading\",\"CP-3 EU-8\",IF(J70=\"truck mix loading\",\"CP-3 EU-9\",IF(J70=\"cement delivery to silo\",\"CP-3 EU-10\",IF(J70=\"cement supplement delivery to silo\",\"CP-3 EU-11\"))))))))))))","v":""},null,null,null,{"$f":"IF(J70=\"truck mix loading\",IF($F$73=\"yes\",L70*0.05/2000,L70/2000),\"\")","v":""},{"$f":"IF(J70=\"central mix loading\",IF($F$73=\"yes\",L70*0.05/2000,L70/2000),\"\")","v":""}]
[null,{"$f":"IF('Concrete Plant (CP-3)'!$D$4>3,\"County:\",\"\")","v":""},null,null,null,null,null,{"$f":"IF(J71=\"cement delivery to silo\",\"CP-1 EP-2\",IF(J71=\"cement supplement delivery to silo\",\"CP-1 EP-3\",IF(J71=\"weigh hopper loading\",\"CP-1 EP-4\",IF(J71=\"truck mix loading\",\"CP-1 EP-5\",IF(J71=\"central mix loading\",\"CP-1 EP-6\",IF(J71=\"\",\"\",\"CP-1 EP-1\"))))))","v":""},"",null,null,null,{"$f":"IF(J71=\"truck mix loading\",IF($F$73=\"yes\",L71*0.05/2000,L71/2000),\"\")","v":""},{"$f":"IF(J71=\"central mix loading\",IF($F$73=\"yes\",L71*0.05/2000,L71/2000),\"\")","v":""}]
[null,{"$f":"IF('Concrete Plant (CP-3)'!$D$4>3,\"Batching Period (Dates):\",\"\")","v":""},null,null,null,null,null,"","",null,null,null,"",""]
[null,{"$f":"IF(OR(COUNTIF(J70:J79,\"Truck Mix Loading\")>0,(COUNTIF(J70:J79,\"Central Mix Loading\")>0)),\"Is the Central/Truck Mix Loading process controlled by a baghouse?\",\"\")","v":""},null,null,null,null,null,"","",null,null,null,"",""]
[null,null,null,null,null,null,null,"","",null,null,null,"",""]
[null,{"$f":"IF(AND(B77=\"\",B78=\"\",B79=\"\",B80=\"\",B81=\"\"),\"\",\"Process (complete stack information if applicable):\")","v":""},{"$f":"IF(AND(B77=\"\",B78=\"\",B79=\"\",B80=\"\",B81=\"\"),\"\",\"Stack Height (ft):\")","v":""},{"$f":"IF(AND(B77=\"\",B78=\"\",B79=\"\",B80=\"\",B81=\"\"),\"\",\"Stack Diameter (inches):\")","v":""},{"$f":"IF(AND(B77=\"\",B78=\"\",B79=\"\",B80=\"\",B81=\"\"),\"\",\"Flow Rate (acfm):\")","v":""},{"$f":"IF(AND(B77=\"\",B78=\"\",B79=\"\",B80=\"\",B81=\"\"),\"\",\"Temp (Deg F):\")","v":""},null,"","",null,null,null,"",""]
[null,null,null,null,null,null,null,"","",null,null,null,"",""]
[null,{"$f":"IF(COUNTIF(J70:J79,\"Cement Delivery to Silo\")>0,\"EP-2 Cement Silo Stack:\",\"\")","v":""},null,null,null,null,null,"","",null,null,null,"",""]
[null,{"$f":"IF(COUNTIF(J70:J79,\"Cement Supplement Delivery to Silo\")>0,\"EP-3 Cement Supplement Silo Stack:\",\"\")","v":""},null,null,null,null,null,"","",null,null,null,"",""]
[null,{"$f":"IF(COUNTIF(J70:J79,\"Weigh Hopper Loading\")>0,\"EP-4 Weigh Hopper Loading Stack:\",\"\")","v":""},null,null,null,null,null,"","",null,null,null,"",""]
[null,{"$f":"IF(COUNTIF(J70:J79,\"Truck Mix Loading\")>0,\"EP-5 Truck Mix Loading Stack:\",\"\")","v":""}]
[null,{"$f":"IF(COUNTIF(J70:J79,\"Central Mix Loading\")>0,\"EP-6 Central Mix Loading Stack:\",\"\")","v":""},null,null,null,null,null,{"$f":"IF('Concrete Plant (CP-3)'!$D$4>3,\"Stock Pile Area\",\"\")","v":""}]
[null,null,null,null,null,null,null,null,{"$f":"IF('Concrete Plant (CP-3)'!$D$4>3,\"Emission Unit #\",\"\")","v":""},{"$f":"IF('Concrete Plant (CP-3)'!$D$4>3,\"Maximum Storage Area (acres)\",\"\")","v":""},{"$f":"IF('Concrete Plant (CP-3)'!$D$4>3,\"Actual Storage Area (acres)\",\"\")","v":""},{"$f":"IF('Concrete Plant (CP-3)'!$D$4>3,\"Actual Days in Existence (days)\",\"\")","v":""}]
[]
[]
[null,{"$f":"IF('Concrete Plant (CP-3)'!$D$4>4,\"Batch Plant\",\"\")","v":""},{"$f":"IF('Concrete Plant (CP-3)'!$D$4>4,\"Site 5\",\"\")","v":""},null,null,null,null,{"$f":"IF('Concrete Plant (CP-3)'!$D$4>4,\"Emission Point #\",\"\")","v":""},{"$f":"IF('Concrete Plant (CP-3)'!$D$4>4,\"Emission     Unit #\",\"\")","v":""},{"$f":"IF('Concrete Plant (CP-3)'!$D$4>4,\"Processes\",\"\")","v":""},{"$f":"IF('Concrete Plant (CP-3)'!$D$4>4,\"Combined Maximum Hourly Design Rate for all Like Processes (cubic yard/hr)\",\"\")","v":""},{"$f":"IF('Concrete Plant (CP-3)'!$D$4>4,('Facility Information'!G5&\" Annual Throughput (cubic yards)\"),\"\")","v":""}]
[null,{"$f":"IF('Concrete Plant (CP-3)'!$D$4>4,\"Site Name:\",\"\")","v":""},null,null,null,null,null,{"$f":"IF(J86=\"cement delivery to silo\",\"CP-1 EP-2\",IF(J86=\"cement supplement delivery to silo\",\"CP-1 EP-3\",IF(J86=\"weigh hopper loading\",\"CP-1 EP-4\",IF(J86=\"truck mix loading\",\"CP-1 EP-5\",IF(J86=\"central mix loading\",\"CP-1 EP-6\",IF(J86=\"\",\"\",\"CP-1 EP-1\"))))))","v":""},{"$f":"IF(J86=\"\",\"\",IF(J86=\"aggregate delivery to ground storage\",\"CP-3 EU-1\",IF(J86=\"sand delivery to ground storage\",\"CP-3 EU-2\",IF(J86=\"aggregate transfer to conveyor\",\"CP-3 EU-3\",IF(J86=\"sand transfer to conveyor\",\"CP-3 EU-4\",IF(J86=\"aggregate transfer to elevated storage\",\"CP-3 EU-5\",IF(J86=\"sand transfer to elevated storage\",\"CP-3 EU-6\",IF(J86=\"weigh hopper loading\",\"CP-3 EU-7\",IF(J86=\"central mix loading\",\"CP-3 EU-8\",IF(J86=\"truck mix loading\",\"CP-3 EU-9\",IF(J86=\"cement delivery to silo\",\"CP-3 EU-10\",IF(J86=\"cement supplement delivery to silo\",\"CP-3 EU-11\"))))))))))))","v":""},null,null,null,{"$f":"IF(J86=\"truck mix loading\",IF($F$89=\"yes\",L86*0.05/2000,L86/2000),\"\")","v":""},{"$f":"IF(J86=\"central mix loading\",IF($F$89=\"yes\",L86*0.05/2000,L86/2000),\"\")","v":""}]
[null,{"$f":"IF('Concrete Plant (CP-3)'!$D$4>4,\"County:\",\"\")","v":""},null,null,null,null,null,{"$f":"IF(J87=\"cement delivery to silo\",\"CP-1 EP-2\",IF(J87=\"cement supplement delivery to silo\",\"CP-1 EP-3\",IF(J87=\"weigh hopper loading\",\"CP-1 EP-4\",IF(J87=\"truck mix loading\",\"CP-1 EP-5\",IF(J87=\"central mix loading\",\"CP-1 EP-6\",IF(J87=\"\",\"\",\"CP-1 EP-1\"))))))","v":""},"",null,null,null,{"$f":"IF(J87=\"truck mix loading\",IF($F$89=\"yes\",L87*0.05/2000,L87/2000),\"\")","v":""},{"$f":"IF(J87=\"central mix loading\",IF($F$89=\"yes\",L87*0.05/2000,L87/2000),\"\")","v":""}]
[null,{"$f":"IF('Concrete Plant (CP-3)'!$D$4>4,\"Batching Period (Dates):\",\"\")","v":""},null,null,null,null,null,"","",null,null,null,"",""]
[null,{"$f":"IF(OR(COUNTIF(J86:J95,\"Truck Mix Loading\")>0,(COUNTIF(J86:J95,\"Central Mix Loading\")>0)),\"Is the Central/Truck Mix Loading process controlled by a baghouse?\",\"\")","v":""},null,null,null,null,null,"","",null,null,null,"",""]
[null,null,null,null,null,null,null,"","",null,null,null,"",""]
[null,{"$f":"IF(AND(B93=\"\",B94=\"\",B95=\"\",B96=\"\",B97=\"\"),\"\",\"Process (complete stack information if applicable):\")","v":""},{"$f":"IF(AND(B93=\"\",B94=\"\",B95=\"\",B96=\"\",B97=\"\"),\"\",\"Stack Height (ft):\")","v":""},{"$f":"IF(AND(B93=\"\",B94=\"\",B95=\"\",B96=\"\",B97=\"\"),\"\",\"Stack Diameter (inches):\")","v":""},{"$f":"IF(AND(B93=\"\",B94=\"\",B95=\"\",B96=\"\",B97=\"\"),\"\",\"Flow Rate (acfm):\")","v":""},{"$f":"IF(AND(B93=\"\",B94=\"\",B95=\"\",B96=\"\",B97=\"\"),\"\",\"Temp (Deg F):\")","v":""},null,"","",null,null,null,"",""]
[null,null,null,null,null,null,null,"","",null,null,null,"",""]
[null,{"$f":"IF(COUNTIF(J86:J95,\"Cement Delivery to Silo\")>0,\"EP-2 Cement Silo Stack:\",\"\")","v":""},null,null,null,null,null,"","",null,null,null,"",""]
[null,{"$f":"IF(COUNTIF(J86:J95,\"Cement Supplement Delivery to Silo\")>0,\"EP-3 Cement Supplement Silo Stack:\",\"\")","v":""},null,null,null,null,null,"","",null,null,null,"",""]
[null,{"$f":"IF(COUNTIF(J86:J95,\"Weigh Hopper Loading\")>0,\"EP-4 Weigh Hopper Loading Stack:\",\"\")","v":""},null,null,null,null,null,"","",null,null,null,"",""]
[null,{"$f":"IF(COUNTIF(J86:J95,\"Truck Mix Loading\")>0,\"EP-5 Truck Mix Loading Stack:\",\"\")","v":""}]
[null,{"$f":"IF(COUNTIF(J86:J95,\"Central Mix Loading\")>0,\"EP-6 Central Mix Loading Stack:\",\"\")","v":""},null,null,null,null,null,{"$f":"IF('Concrete Plant (CP-3)'!$D$4>4,\"Stock Pile Area\",\"\")","v":""}]
[null,null,null,null,null,null,null,null,{"$f":"IF('Concrete Plant (CP-3)'!$D$4>4,\"Emission Unit #\",\"\")","v":""},{"$f":"IF('Concrete Plant (CP-3)'!$D$4>4,\"Maximum Storage Area (acres)\",\"\")","v":""},{"$f":"IF('Concrete Plant (CP-3)'!$D$4>4,\"Actual Storage Area (acres)\",\"\")","v":""},{"$f":"IF('Concrete Plant (CP-3)'!$D$4>4,\"Actual Days in Existence (days)\",\"\")","v":""}]
[]
[]
[null,{"$f":"IF('Concrete Plant (CP-3)'!$D$4>5,\"Batch Plant\",\"\")","v":""},{"$f":"IF('Concrete Plant (CP-3)'!$D$4>5,\"Site 6\",\"\")","v":""},null,null,null,null,{"$f":"IF('Concrete Plant (CP-3)'!$D$4>5,\"Emission Point #\",\"\")","v":""},{"$f":"IF('Concrete Plant (CP-3)'!$D$4>5,\"Emission     Unit #\",\"\")","v":""},{"$f":"IF('Concrete Plant (CP-3)'!$D$4>5,\"Processes\",\"\")","v":""},{"$f":"IF('Concrete Plant (CP-3)'!$D$4>5,\"Combined Maximum Hourly Design Rate for all Like Processes (cubic yard/hr)\",\"\")","v":""},{"$f":"IF('Concrete Plant (CP-3)'!$D$4>5,('Facility Information'!G5&\" Annual Throughput (cubic yards)\"),\"\")","v":""}]
[null,{"$f":"IF('Concrete Plant (CP-3)'!$D$4>5,\"Site Name:\",\"\")","v":""},null,null,null,null,null,{"$f":"IF(J102=\"cement delivery to silo\",\"CP-1 EP-2\",IF(J102=\"cement supplement delivery to silo\",\"CP-1 EP-3\",IF(J102=\"weigh hopper loading\",\"CP-1 EP-4\",IF(J102=\"truck mix loading\",\"CP-1 EP-5\",IF(J102=\"central mix loading\",\"CP-1 EP-6\",IF(J102=\"\",\"\",\"CP-1 EP-1\"))))))","v":""},{"$f":"IF(J102=\"\",\"\",IF(J102=\"aggregate delivery to ground storage\",\"CP-3 EU-1\",IF(J102=\"sand delivery to ground storage\",\"CP-3 EU-2\",IF(J102=\"aggregate transfer to conveyor\",\"CP-3 EU-3\",IF(J102=\"sand transfer to conveyor\",\"CP-3 EU-4\",IF(J102=\"aggregate transfer to elevated storage\",\"CP-3 EU-5\",IF(J102=\"sand transfer to elevated storage\",\"CP-3 EU-6\",IF(J102=\"weigh hopper loading\",\"CP-3 EU-7\",IF(J102=\"central mix loading\",\"CP-3 EU-8\",IF(J102=\"truck mix loading\",\"CP-3 EU-9\",IF(J102=\"cement delivery to silo\",\"CP-3 EU-10\",IF(J102=\"cement supplement delivery to silo\",\"CP-3 EU-11\"))))))))))))","v":""},null,null,null,{"$f":"IF(J102=\"truck mix loading\",IF($F$105=\"yes\",L102*0.05/2000,L102/2000),\"\")","v":""},{"$f":"IF(J102=\"central mix loading\",IF($F$105=\"yes\",L102*0.05/2000,L102/2000),\"\")","v":""}]
[null,{"$f":"IF('Concrete Plant (CP-3)'!$D$4>5,\"County:\",\"\")","v":""},null,null,null,null,null,{"$f":"IF(J103=\"cement delivery to silo\",\"CP-1 EP-2\",IF(J103=\"cement supplement delivery to silo\",\"CP-1 EP-3\",IF(J103=\"weigh hopper loading\",\"CP-1 EP-4\",IF(J103=\"truck mix loading\",\"CP-1 EP-5\",IF(J103=\"central mix loading\",\"CP-1 EP-6\",IF(J103=\"\",\"\",\"CP-1 EP-1\"))))))","v":""},"",null,null,null,{"$f":"IF(J103=\"truck mix loading\",IF($F$105=\"yes\",L103*0.05/2000,L103/2000),\"\")","v":""},{"$f":"IF(J103=\"central mix loading\",IF($F$105=\"yes\",L103*0.05/2000,L103/2000),\"\")","v":""}]
[null,{"$f":"IF('Concrete Plant (CP-3)'!$D$4>5,\"Batching Period (Dates):\",\"\")","v":""},null,null,null,null,null,"","",null,null,null,"",""]
[null,{"$f":"IF(OR(COUNTIF(J102:J111,\"Truck Mix Loading\")>0,(COUNTIF(J102:J111,\"Central Mix Loading\")>0)),\"Is the Central/Truck Mix Loading process controlled by a baghouse?\",\"\")","v":""},null,null,null,null,null,"","",null,null,null,"",""]
[null,null,null,null,null,null,null,"","",null,null,null,"",""]
[null,{"$f":"IF(AND(B109=\"\",B110=\"\",B111=\"\",B112=\"\",B113=\"\"),\"\",\"Process (complete stack information if applicable):\")","v":""},{"$f":"IF(AND(B109=\"\",B110=\"\",B111=\"\",B112=\"\",B113=\"\"),\"\",\"Stack Height (ft):\")","v":""},{"$f":"IF(AND(B109=\"\",B110=\"\",B111=\"\",B112=\"\",B113=\"\"),\"\",\"Stack Diameter (inches):\")","v":""},{"$f":"IF(AND(B109=\"\",B110=\"\",B111=\"\",B112=\"\",B113=\"\"),\"\",\"Flow Rate (acfm):\")","v":""},{"$f":"IF(AND(B109=\"\",B110=\"\",B111=\"\",B112=\"\",B113=\"\"),\"\",\"Temp (Deg F):\")","v":""},null,"","",null,null,null,"",""]
[null,null,null,null,null,null,null,"","",null,null,null,"",""]
[null,{"$f":"IF(COUNTIF(J102:J111,\"Cement Delivery to Silo\")>0,\"EP-2 Cement Silo Stack:\",\"\")","v":""},null,null,null,null,null,"","",null,null,null,"",""]
[null,{"$f":"IF(COUNTIF(J102:J111,\"Cement Supplement Delivery to Silo\")>0,\"EP-3 Cement Supplement Silo Stack:\",\"\")","v":""},null,null,null,null,null,"","",null,null,null,"",""]
[null,{"$f":"IF(COUNTIF(J102:J111,\"Weigh Hopper Loading\")>0,\"EP-4 Weigh Hopper Loading Stack:\",\"\")","v":""},null,null,null,null,null,"","",null,null,null,"",""]
[null,{"$f":"IF(COUNTIF(J102:J111,\"Truck Mix Loading\")>0,\"EP-5 Truck Mix Loading Stack:\",\"\")","v":""}]
[null,{"$f":"IF(COUNTIF(J102:J111,\"Central Mix Loading\")>0,\"EP-6 Central Mix Loading Stack:\",\"\")","v":""},null,null,null,null,null,{"$f":"IF('Concrete Plant (CP-3)'!$D$4>5,\"Stock Pile Area\",\"\")","v":""}]
[null,null,null,null,null,null,null,null,{"$f":"IF('Concrete Plant (CP-3)'!$D$4>5,\"Emission Unit #\",\"\")","v":""},{"$f":"IF('Concrete Plant (CP-3)'!$D$4>5,\"Maximum Storage Area (acres)\",\"\")","v":""},{"$f":"IF('Concrete Plant (CP-3)'!$D$4>5,\"Actual Storage Area (acres)\",\"\")","v":""},{"$f":"IF('Concrete Plant (CP-3)'!$D$4>5,\"Actual Days in Existence (days)\",\"\")","v":""}]
[]
[]
[null,{"$f":"IF('Concrete Plant (CP-3)'!$D$4>6,\"Batch Plant\",\"\")","v":""},{"$f":"IF('Concrete Plant (CP-3)'!$D$4>6,\"Site 7\",\"\")","v":""},null,null,null,null,{"$f":"IF('Concrete Plant (CP-3)'!$D$4>6,\"Emission Point #\",\"\")","v":""},{"$f":"IF('Concrete Plant (CP-3)'!$D$4>6,\"Emission     Unit #\",\"\")","v":""},{"$f":"IF('Concrete Plant (CP-3)'!$D$4>6,\"Processes\",\"\")","v":""},{"$f":"IF('Concrete Plant (CP-3)'!$D$4>6,\"Combined Maximum Hourly Design Rate for all Like Processes (cubic yard/hr)\",\"\")","v":""},{"$f":"IF('Concrete Plant (CP-3)'!$D$4>6,('Facility Information'!G5&\" Annual Throughput (cubic yards)\"),\"\")","v":""}]
[null,{"$f":"IF('Concrete Plant (CP-3)'!$D$4>6,\"Site Name:\",\"\")","v":""},null,null,null,null,null,{"$f":"IF(J118=\"cement delivery to silo\",\"CP-1 EP-2\",IF(J118=\"cement supplement delivery to silo\",\"CP-1 EP-3\",IF(J118=\"weigh hopper loading\",\"CP-1 EP-4\",IF(J118=\"truck mix loading\",\"CP-1 EP-5\",IF(J118=\"central mix loading\",\"CP-1 EP-6\",IF(J118=\"\",\"\",\"CP-1 EP-1\"))))))","v":""},{"$f":"IF(J118=\"\",\"\",IF(J118=\"aggregate delivery to ground storage\",\"CP-3 EU-1\",IF(J118=\"sand delivery to ground storage\",\"CP-3 EU-2\",IF(J118=\"aggregate transfer to conveyor\",\"CP-3 EU-3\",IF(J118=\"sand transfer to conveyor\",\"CP-3 EU-4\",IF(J118=\"aggregate transfer to elevated storage\",\"CP-3 EU-5\",IF(J118=\"sand transfer to elevated storage\",\"CP-3 EU-6\",IF(J118=\"weigh hopper loading\",\"CP-3 EU-7\",IF(J118=\"central mix loading\",\"CP-3 EU-8\",IF(J118=\"truck mix loading\",\"CP-3 EU-9\",IF(J118=\"cement delivery to silo\",\"CP-3 EU-10\",IF(J118=\"cement supplement delivery to silo\",\"CP-3 EU-11\"))))))))))))","v":""},null,null,null,{"$f":"IF(J118=\"truck mix loading\",IF($F$121=\"yes\",L118*0.05/2000,L118/2000),\"\")","v":""},{"$f":"IF(J118=\"central mix loading\",IF($F$121=\"yes\",L118*0.05/2000,L118/2000),\"\")","v":""}]
[null,{"$f":"IF('Concrete Plant (CP-3)'!$D$4>6,\"County:\",\"\")","v":""},null,null,null,null,null,{"$f":"IF(J119=\"cement delivery to silo\",\"CP-1 EP-2\",IF(J119=\"cement supplement delivery to silo\",\"CP-1 EP-3\",IF(J119=\"weigh hopper loading\",\"CP-1 EP-4\",IF(J119=\"truck mix loading\",\"CP-1 EP-5\",IF(J119=\"central mix loading\",\"CP-1 EP-6\",IF(J119=\"\",\"\",\"CP-1 EP-1\"))))))","v":""},"",null,null,null,{"$f":"IF(J119=\"truck mix loading\",IF($F$121=\"yes\",L119*0.05/2000,L119/2000),\"\")","v":""},{"$f":"IF(J119=\"central mix loading\",IF($F$121=\"yes\",L119*0.05/2000,L119/2000),\"\")","v":""}]
[null,{"$f":"IF('Concrete Plant (CP-3)'!$D$4>6,\"Batching Period (Dates):\",\"\")","v":""},null,null,null,null,null,"","",null,null,null,"",""]
[null,{"$f":"IF(OR(COUNTIF(J118:J127,\"Truck Mix Loading\")>0,(COUNTIF(J118:J127,\"Central Mix Loading\")>0)),\"Is the Central/Truck Mix Loading process controlled by a baghouse?\",\"\")","v":""},null,null,null,null,null,"","",null,null,null,"",""]
[null,null,null,null,null,null,null,"","",null,null,null,"",""]
[null,{"$f":"IF(AND(B125=\"\",B126=\"\",B127=\"\",B128=\"\",B129=\"\"),\"\",\"Process (complete stack information if applicable):\")","v":""},{"$f":"IF(AND(B125=\"\",B126=\"\",B127=\"\",B128=\"\",B129=\"\"),\"\",\"Stack Height (ft):\")","v":""},{"$f":"IF(AND(B125=\"\",B126=\"\",B127=\"\",B128=\"\",B129=\"\"),\"\",\"Stack Diameter (inches):\")","v":""},{"$f":"IF(AND(B125=\"\",B126=\"\",B127=\"\",B128=\"\",B129=\"\"),\"\",\"Flow Rate (acfm):\")","v":""},{"$f":"IF(AND(B125=\"\",B126=\"\",B127=\"\",B128=\"\",B129=\"\"),\"\",\"Temp (Deg F):\")","v":""},null,"","",null,null,null,"",""]
[null,null,null,null,null,null,null,"","",null,null,null,"",""]
[null,{"$f":"IF(COUNTIF(J118:J127,\"Cement Delivery to Silo\")>0,\"EP-2 Cement Silo Stack:\",\"\")","v":""},null,null,null,null,null,"","",null,null,null,"",""]
[null,{"$f":"IF(COUNTIF(J118:J127,\"Cement Supplement Delivery to Silo\")>0,\"EP-3 Cement Supplement Silo Stack:\",\"\")","v":""},null,null,null,null,null,"","",null,null,null,"",""]
[null,{"$f":"IF(COUNTIF(J118:J127,\"Weigh Hopper Loading\")>0,\"EP-4 Weigh Hopper Loading Stack:\",\"\")","v":""},null,null,null,null,null,"","",null,null,null,"",""]
[null,{"$f":"IF(COUNTIF(J118:J127,\"Truck Mix Loading\")>0,\"EP-5 Truck Mix Loading Stack:\",\"\")","v":""}]
[null,{"$f":"IF(COUNTIF(J118:J127,\"Central Mix Loading\")>0,\"EP-6 Central Mix Loading Stack:\",\"\")","v":""},null,null,null,null,null,{"$f":"IF('Concrete Plant (CP-3)'!$D$4>6,\"Stock Pile Area\",\"\")","v":""}]
[null,null,null,null,null,null,null,null,{"$f":"IF('Concrete Plant (CP-3)'!$D$4>6,\"Emission Unit #\",\"\")","v":""},{"$f":"IF('Concrete Plant (CP-3)'!$D$4>6,\"Maximum Storage Area (acres)\",\"\")","v":""},{"$f":"IF('Concrete Plant (CP-3)'!$D$4>6,\"Actual Storage Area (acres)\",\"\")","v":""},{"$f":"IF('Concrete Plant (CP-3)'!$D$4>6,\"Actual Days in Existence (days)\",\"\")","v":""}]
[]
[]
[null,{"$f":"IF('Concrete Plant (CP-3)'!$D$4>7,\"Batch Plant\",\"\")","v":""},{"$f":"IF('Concrete Plant (CP-3)'!$D$4>7,\"Site 8\",\"\")","v":""},null,null,null,null,{"$f":"IF('Concrete Plant (CP-3)'!$D$4>7,\"Emission Point #\",\"\")","v":""},{"$f":"IF('Concrete Plant (CP-3)'!$D$4>7,\"Emission     Unit #\",\"\")","v":""},{"$f":"IF('Concrete Plant (CP-3)'!$D$4>7,\"Processes\",\"\")","v":""},{"$f":"IF('Concrete Plant (CP-3)'!$D$4>7,\"Combined Maximum Hourly Design Rate for all Like Processes (cubic yard/hr)\",\"\")","v":""},{"$f":"IF('Concrete Plant (CP-3)'!$D$4>7,('Facility Information'!G5&\" Annual Throughput (cubic yards)\"),\"\")","v":""}]
[null,{"$f":"IF('Concrete Plant (CP-3)'!$D$4>7,\"Site Name:\",\"\")","v":""},null,null,null,null,null,{"$f":"IF(J134=\"cement delivery to silo\",\"CP-1 EP-2\",IF(J134=\"cement supplement delivery to silo\",\"CP-1 EP-3\",IF(J134=\"weigh hopper loading\",\"CP-1 EP-4\",IF(J134=\"truck mix loading\",\"CP-1 EP-5\",IF(J134=\"central mix loading\",\"CP-1 EP-6\",IF(J134=\"\",\"\",\"CP-1 EP-1\"))))))","v":""},{"$f":"IF(J134=\"\",\"\",IF(J134=\"aggregate delivery to ground storage\",\"CP-3 EU-1\",IF(J134=\"sand delivery to ground storage\",\"CP-3 EU-2\",IF(J134=\"aggregate transfer to conveyor\",\"CP-3 EU-3\",IF(J134=\"sand transfer to conveyor\",\"CP-3 EU-4\",IF(J134=\"aggregate transfer to elevated storage\",\"CP-3 EU-5\",IF(J134=\"sand transfer to elevated storage\",\"CP-3 EU-6\",IF(J134=\"weigh hopper loading\",\"CP-3 EU-7\",IF(J134=\"central mix loading\",\"CP-3 EU-8\",IF(J134=\"truck mix loading\",\"CP-3 EU-9\",IF(J134=\"cement delivery to silo\",\"CP-3 EU-10\",IF(J134=\"cement supplement delivery to silo\",\"CP-3 EU-11\"))))))))))))","v":""},null,null,null,{"$f":"IF(J134=\"truck mix loading\",IF($F$137=\"yes\",L134*0.05/2000,L134/2000),\"\")","v":""},{"$f":"IF(J134=\"central mix loading\",IF($F$137=\"yes\",L134*0.05/2000,L134/2000),\"\")","v":""}]
[null,{"$f":"IF('Concrete Plant (CP-3)'!$D$4>7,\"County:\",\"\")","v":""},null,null,null,null,null,{"$f":"IF(J135=\"cement delivery to silo\",\"CP-1 EP-2\",IF(J135=\"cement supplement delivery to silo\",\"CP-1 EP-3\",IF(J135=\"weigh hopper loading\",\"CP-1 EP-4\",IF(J135=\"truck mix loading\",\"CP-1 EP-5\",IF(J135=\"central mix loading\",\"CP-1 EP-6\",IF(J135=\"\",\"\",\"CP-1 EP-1\"))))))","v":""},"",null,null,null,{"$f":"IF(J135=\"truck mix loading\",IF($F$137=\"yes\",L135*0.05/2000,L135/2000),\"\")","v":""},{"$f":"IF(J135=\"central mix loading\",IF($F$137=\"yes\",L135*0.05/2000,L135/2000),\"\")","v":""}]
[null,{"$f":"IF('Concrete Plant (CP-3)'!$D$4>7,\"Batching Period (Dates):\",\"\")","v":""},null,null,null,null,null,"","",null,null,null,"",""]
[null,{"$f":"IF(OR(COUNTIF(J134:J143,\"Truck Mix Loading\")>0,(COUNTIF(J134:J143,\"Central Mix Loading\")>0)),\"Is the Central/Truck Mix Loading process controlled by a baghouse?\",\"\")","v":""},null,null,null,null,null,"","",null,null,null,"",""]
[null,null,null,null,null,null,null,"","",null,null,null,"",""]
[null,{"$f":"IF(AND(B141=\"\",B142=\"\",B143=\"\",B144=\"\",B145=\"\"),\"\",\"Process (complete stack information if applicable):\")","v":""},{"$f":"IF(AND(B141=\"\",B142=\"\",B143=\"\",B144=\"\",B145=\"\"),\"\",\"Stack Height (ft):\")","v":""},{"$f":"IF(AND(B141=\"\",B142=\"\",B143=\"\",B144=\"\",B145=\"\"),\"\",\"Stack Diameter (inches):\")","v":""},{"$f":"IF(AND(B141=\"\",B142=\"\",B143=\"\",B144=\"\",B145=\"\"),\"\",\"Flow Rate (acfm):\")","v":""},{"$f":"IF(AND(B141=\"\",B142=\"\",B143=\"\",B144=\"\",B145=\"\"),\"\",\"Temp (Deg F):\")","v":""},null,"","",null,null,null,"",""]
[null,null,null,null,null,null,null,"","",null,null,null,"",""]
[null,{"$f":"IF(COUNTIF(J134:J143,\"Cement Delivery to Silo\")>0,\"EP-2 Cement Silo Stack:\",\"\")","v":""},null,null,null,null,null,"","",null,null,null,"",""]
[null,{"$f":"IF(COUNTIF(J134:J143,\"Cement Supplement Delivery to Silo\")>0,\"EP-3 Cement Supplement Silo Stack:\",\"\")","v":""},null,null,null,null,null,"","",null,null,null,"",""]
[null,{"$f":"IF(COUNTIF(J134:J143,\"Weigh Hopper Loading\")>0,\"EP-4 Weigh Hopper Loading Stack:\",\"\")","v":""},null,null,null,null,null,"","",null,null,null,"",""]
[null,{"$f":"IF(COUNTIF(J134:J143,\"Truck Mix Loading\")>0,\"EP-5 Truck Mix Loading Stack:\",\"\")","v":""}]
[null,{"$f":"IF(COUNTIF(J134:J143,\"Central Mix Loading\")>0,\"EP-6 Central Mix Loading Stack:\",\"\")","v":""},null,null,null,null,null,{"$f":"IF('Concrete Plant (CP-3)'!$D$4>7,\"Stock Pile Area\",\"\")","v":""}]
[null,null,null,null,null,null,null,null,{"$f":"IF('Concrete Plant (CP-3)'!$D$4>7,\"Emission Unit #\",\"\")","v":""},{"$f":"IF('Concrete Plant (CP-3)'!$D$4>7,\"Maximum Storage Area (acres)\",\"\")","v":""},{"$f":"IF('Concrete Plant (CP-3)'!$D$4>7,\"Actual Storage Area (acres)\",\"\")","v":""},{"$f":"IF('Concrete Plant (CP-3)'!$D$4>7,\"Actual Days in Existence (days)\",\"\")","v":""}]
[]
[]
[null,{"$f":"IF('Concrete Plant (CP-3)'!$D$4>8,\"Batch Plant\",\"\")","v":""},{"$f":"IF('Concrete Plant (CP-3)'!$D$4>8,\"Site 9\",\"\")","v":""},null,null,null,null,{"$f":"IF('Concrete Plant (CP-3)'!$D$4>8,\"Emission Point #\",\"\")","v":""},{"$f":"IF('Concrete Plant (CP-3)'!$D$4>8,\"Emission     Unit #\",\"\")","v":""},{"$f":"IF('Concrete Plant (CP-3)'!$D$4>8,\"Processes\",\"\")","v":""},{"$f":"IF('Concrete Plant (CP-3)'!$D$4>8,\"Combined Maximum Hourly Design Rate for all Like Processes (cubic yard/hr)\",\"\")","v":""},{"$f":"IF('Concrete Plant (CP-3)'!$D$4>8,('Facility Information'!G5&\" Annual Throughput (cubic yards)\"),\"\")","v":""}]
[null,{"$f":"IF('Concrete Plant (CP-3)'!$D$4>8,\"Site Name:\",\"\")","v":""},null,null,null,null,null,{"$f":"IF(J150=\"cement delivery to silo\",\"CP-1 EP-2\",IF(J150=\"cement supplement delivery to silo\",\"CP-1 EP-3\",IF(J150=\"weigh hopper loading\",\"CP-1 EP-4\",IF(J150=\"truck mix loading\",\"CP-1 EP-5\",IF(J150=\"central mix loading\",\"CP-1 EP-6\",IF(J150=\"\",\"\",\"CP-1 EP-1\"))))))","v":""},{"$f":"IF(J150=\"\",\"\",IF(J150=\"aggregate delivery to ground storage\",\"CP-3 EU-1\",IF(J150=\"sand delivery to ground storage\",\"CP-3 EU-2\",IF(J150=\"aggregate transfer to conveyor\",\"CP-3 EU-3\",IF(J150=\"sand transfer to conveyor\",\"CP-3 EU-4\",IF(J150=\"aggregate transfer to elevated storage\",\"CP-3 EU-5\",IF(J150=\"sand transfer to elevated storage\",\"CP-3 EU-6\",IF(J150=\"weigh hopper loading\",\"CP-3 EU-7\",IF(J150=\"central mix loading\",\"CP-3 EU-8\",IF(J150=\"truck mix loading\",\"CP-3 EU-9\",IF(J150=\"cement delivery to silo\",\"CP-3 EU-10\",IF(J150=\"cement supplement delivery to silo\",\"CP-3 EU-11\"))))))))))))","v":""},null,null,null,{"$f":"IF(J150=\"truck mix loading\",IF($F$153=\"yes\",L150*0.05/2000,L150/2000),\"\")","v":""},{"$f":"IF(J150=\"central mix loading\",IF($F$153=\"yes\",L150*0.05/2000,L150/2000),\"\")","v":""}]
[null,{"$f":"IF('Concrete Plant (CP-3)'!$D$4>8,\"County:\",\"\")","v":""},null,null,null,null,null,{"$f":"IF(J151=\"cement delivery to silo\",\"CP-1 EP-2\",IF(J151=\"cement supplement delivery to silo\",\"CP-1 EP-3\",IF(J151=\"weigh hopper loading\",\"CP-1 EP-4\",IF(J151=\"truck mix loading\",\"CP-1 EP-5\",IF(J151=\"central mix loading\",\"CP-1 EP-6\",IF(J151=\"\",\"\",\"CP-1 EP-1\"))))))","v":""},"",null,null,null,{"$f":"IF(J151=\"truck mix loading\",IF($F$153=\"yes\",L151*0.05/2000,L151/2000),\"\")","v":""},{"$f":"IF(J151=\"central mix loading\",IF($F$153=\"yes\",L151*0.05/2000,L151/2000),\"\")","v":""}]
[null,{"$f":"IF('Concrete Plant (CP-3)'!$D$4>8,\"Batching Period (Dates):\",\"\")","v":""},null,null,null,null,null,"","",null,null,null,"",""]
[null,{"$f":"IF(OR(COUNTIF(J150:J159,\"Truck Mix Loading\")>0,(COUNTIF(J150:J159,\"Central Mix Loading\")>0)),\"Is the Central/Truck Mix Loading process controlled by a baghouse?\",\"\")","v":""},null,null,null,null,null,"","",null,null,null,"",""]
[null,null,null,null,null,null,null,"","",null,null,null,"",""]
[null,{"$f":"IF(AND(B157=\"\",B158=\"\",B159=\"\",B160=\"\",B161=\"\"),\"\",\"Process (complete stack information if applicable):\")","v":""},{"$f":"IF(AND(B157=\"\",B158=\"\",B159=\"\",B160=\"\",B161=\"\"),\"\",\"Stack Height (ft):\")","v":""},{"$f":"IF(AND(B157=\"\",B158=\"\",B159=\"\",B160=\"\",B161=\"\"),\"\",\"Stack Diameter (inches):\")","v":""},{"$f":"IF(AND(B157=\"\",B158=\"\",B159=\"\",B160=\"\",B161=\"\"),\"\",\"Flow Rate (acfm):\")","v":""},{"$f":"IF(AND(B157=\"\",B158=\"\",B159=\"\",B160=\"\",B161=\"\"),\"\",\"Temp (Deg F):\")","v":""},null,"","",null,null,null,"",""]
[null,null,null,null,null,null,null,"","",null,null,null,"",""]
[null,{"$f":"IF(COUNTIF(J150:J159,\"Cement Delivery to Silo\")>0,\"EP-2 Cement Silo Stack:\",\"\")","v":""},null,null,null,null,null,"","",null,null,null,"",""]
[null,{"$f":"IF(COUNTIF(J150:J159,\"Cement Supplement Delivery to Silo\")>0,\"EP-3 Cement Supplement Silo Stack:\",\"\")","v":""},null,null,null,null,null,"","",null,null,null,"",""]
[null,{"$f":"IF(COUNTIF(J150:J159,\"Weigh Hopper Loading\")>0,\"EP-4 Weigh Hopper Loading Stack:\",\"\")","v":""},null,null,null,null,null,"","",null,null,null,"",""]
[null,{"$f":"IF(COUNTIF(J150:J159,\"Truck Mix Loading\")>0,\"EP-5 Truck Mix Loading Stack:\",\"\")","v":""}]
[null,{"$f":"IF(COUNTIF(J150:J159,\"Central Mix Loading\")>0,\"EP-6 Central Mix Loading Stack:\",\"\")","v":""},null,null,null,null,null,{"$f":"IF('Concrete Plant (CP-3)'!$D$4>8,\"Stock Pile Area\",\"\")","v":""}]
[null,null,null,null,null,null,null,null,{"$f":"IF('Concrete Plant (CP-3)'!$D$4>8,\"Emission Unit #\",\"\")","v":""},{"$f":"IF('Concrete Plant (CP-3)'!$D$4>8,\"Maximum Storage Area (acres)\",\"\")","v":""},{"$f":"IF('Concrete Plant (CP-3)'!$D$4>8,\"Actual Storage Area (acres)\",\"\")","v":""},{"$f":"IF('Concrete Plant (CP-3)'!$D$4>8,\"Actual Days in Existence (days)\",\"\")","v":""}]
[]
[]
[null,{"$f":"IF('Concrete Plant (CP-3)'!$D$4>9,\"Batch Plant\",\"\")","v":""},{"$f":"IF('Concrete Plant (CP-3)'!$D$4>9,\"Site 10\",\"\")","v":""},null,null,null,null,{"$f":"IF('Concrete Plant (CP-3)'!$D$4>9,\"Emission Point #\",\"\")","v":""},{"$f":"IF('Concrete Plant (CP-3)'!$D$4>9,\"Emission     Unit #\",\"\")","v":""},{"$f":"IF('Concrete Plant (CP-3)'!$D$4>9,\"Processes\",\"\")","v":""},{"$f":"IF('Concrete Plant (CP-3)'!$D$4>9,\"Combined Maximum Hourly Design Rate for all Like Processes (cubic yard/hr)\",\"\")","v":""},{"$f":"IF('Concrete Plant (CP-3)'!$D$4>9,('Facility Information'!G5&\" Annual Throughput (cubic yards)\"),\"\")","v":""}]
[null,{"$f":"IF('Concrete Plant (CP-3)'!$D$4>9,\"Site Name:\",\"\")","v":""},null,null,null,null,null,{"$f":"IF(J166=\"cement delivery to silo\",\"CP-1 EP-2\",IF(J166=\"cement supplement delivery to silo\",\"CP-1 EP-3\",IF(J166=\"weigh hopper loading\",\"CP-1 EP-4\",IF(J166=\"truck mix loading\",\"CP-1 EP-5\",IF(J166=\"central mix loading\",\"CP-1 EP-6\",IF(J166=\"\",\"\",\"CP-1 EP-1\"))))))","v":""},{"$f":"IF(J166=\"\",\"\",IF(J166=\"aggregate delivery to ground storage\",\"CP-3 EU-1\",IF(J166=\"sand delivery to ground storage\",\"CP-3 EU-2\",IF(J166=\"aggregate transfer to conveyor\",\"CP-3 EU-3\",IF(J166=\"sand transfer to conveyor\",\"CP-3 EU-4\",IF(J166=\"aggregate transfer to elevated storage\",\"CP-3 EU-5\",IF(J166=\"sand transfer to elevated storage\",\"CP-3 EU-6\",IF(J166=\"weigh hopper loading\",\"CP-3 EU-7\",IF(J166=\"central mix loading\",\"CP-3 EU-8\",IF(J166=\"truck mix loading\",\"CP-3 EU-9\",IF(J166=\"cement delivery to silo\",\"CP-3 EU-10\",IF(J166=\"cement supplement delivery to silo\",\"CP-3 EU-11\"))))))))))))","v":""},null,null,null,{"$f":"IF(J166=\"truck mix loading\",IF($F$169=\"yes\",L166*0.05/2000,L166/2000),\"\")","v":""},{"$f":"IF(J166=\"central mix loading\",IF($F$169=\"yes\",L166*0.05/2000,L166/2000),\"\")","v":""}]
[null,{"$f":"IF('Concrete Plant (CP-3)'!$D$4>9,\"County:\",\"\")","v":""},null,null,null,null,null,{"$f":"IF(J167=\"cement delivery to silo\",\"CP-1 EP-2\",IF(J167=\"cement supplement delivery to silo\",\"CP-1 EP-3\",IF(J167=\"weigh hopper loading\",\"CP-1 EP-4\",IF(J167=\"truck mix loading\",\"CP-1 EP-5\",IF(J167=\"central mix loading\",\"CP-1 EP-6\",IF(J167=\"\",\"\",\"CP-1 EP-1\"))))))","v":""},"",null,null,null,{"$f":"IF(J167=\"truck mix loading\",IF($F$169=\"yes\",L167*0.05/2000,L167/2000),\"\")","v":""},{"$f":"IF(J167=\"central mix loading\",IF($F$169=\"yes\",L167*0.05/2000,L167/2000),\"\")","v":""}]
[null,{"$f":"IF('Concrete Plant (CP-3)'!$D$4>9,\"Batching Period (Dates):\",\"\")","v":""},null,null,null,null,null,"","",null,null,null,"",""]
[null,{"$f":"IF(OR(COUNTIF(J166:J175,\"Truck Mix Loading\")>0,(COUNTIF(J166:J175,\"Central Mix Loading\")>0)),\"Is the Central/Truck Mix Loading process controlled by a baghouse?\",\"\")","v":""},null,null,null,null,null,"","",null,null,null,"",""]
[null,null,null,null,null,null,null,"","",null,null,null,"",""]
[null,{"$f":"IF(AND(B173=\"\",B174=\"\",B175=\"\",B176=\"\",B177=\"\"),\"\",\"Process (complete stack information if applicable):\")","v":""},{"$f":"IF(AND(B173=\"\",B174=\"\",B175=\"\",B176=\"\",B177=\"\"),\"\",\"Stack Height (ft):\")","v":""},{"$f":"IF(AND(B173=\"\",B174=\"\",B175=\"\",B176=\"\",B177=\"\"),\"\",\"Stack Diameter (inches):\")","v":""},{"$f":"IF(AND(B173=\"\",B174=\"\",B175=\"\",B176=\"\",B177=\"\"),\"\",\"Flow Rate (acfm):\")","v":""},{"$f":"IF(AND(B173=\"\",B174=\"\",B175=\"\",B176=\"\",B177=\"\"),\"\",\"Temp (Deg F):\")","v":""},null,"","",null,null,null,"",""]
[null,null,null,null,null,null,null,"","",null,null,null,"",""]
[null,{"$f":"IF(COUNTIF(J166:J175,\"Cement Delivery to Silo\")>0,\"EP-2 Cement Silo Stack:\",\"\")","v":""},null,null,null,null,null,"","",null,null,null,"",""]
[null,{"$f":"IF(COUNTIF(J166:J175,\"Cement Supplement Delivery to Silo\")>0,\"EP-3 Cement Supplement Silo Stack:\",\"\")","v":""},null,null,null,null,null,"","",null,null,null,"",""]
[null,{"$f":"IF(COUNTIF(J166:J175,\"Weigh Hopper Loading\")>0,\"EP-4 Weigh Hopper Loading Stack:\",\"\")","v":""},null,null,null,null,null,"","",null,null,null,"",""]
[null,{"$f":"IF(COUNTIF(J166:J175,\"Truck Mix Loading\")>0,\"EP-5 Truck Mix Loading Stack:\",\"\")","v":""}]
[null,{"$f":"IF(COUNTIF(J166:J175,\"Central Mix Loading\")>0,\"EP-6 Central Mix Loading Stack:\",\"\")","v":""},null,null,null,null,null,{"$f":"IF('Concrete Plant (CP-3)'!$D$4>9,\"Stock Pile Area\",\"\")","v":""}]
[null,null,null,null,null,null,null,null,{"$f":"IF('Concrete Plant (CP-3)'!$D$4>9,\"Emission Unit #\",\"\")","v":""},{"$f":"IF('Concrete Plant (CP-3)'!$D$4>9,\"Maximum Storage Area (acres)\",\"\")","v":""},{"$f":"IF('Concrete Plant (CP-3)'!$D$4>9,\"Actual Storage Area (acres)\",\"\")","v":""},{"$f":"IF('Concrete Plant (CP-3)'!$D$4>9,\"Actual Days in Existence (days)\",\"\")","v":""}]
[]
[]
[null,null,null,null,null,null,null,null,null,null,null,null,{"$f":"SUM(M166:M175,M150:M159,M134:M143,M118:M127,M102:M111,M86:M95,M70:M79,M54:M63,M38:M47,M21:M30)","v":0},{"$f":"SUM(N166:N175,N150:N159,N134:N143,N118:N127,N102:N111,N86:N95,N70:N79,N54:N63,N38:N47,N21:N30)","v":0}]

{"sheet":"Concrete Plant (CP-4)","index":4,"n_rows":181,"n_cols":23,"rows_kept":181,"cut":false,"hidden":true,"merged":[]}
[null,"CONCRETE BATCH PLANT (CP-4)"]
[null,"Please fill in the yellow boxes as applicable for your facility. ",null,null,null,null,null,null,null,null,null,"Values used for calculating emissions →",null,null,null,"Values Used to Calculate Actual Emissions for the Listed Processes at this Plant"]
[null,null,null,null,null,null,null,null,null,null,null,null,null,null,null,"Process","Maximum Design Rate (cubic yards/hr)","Actual throughput (cubic yards/yr)"]
[null,{"$f":"\"Number of Sites this Plant operated at in \"&'Facility Information'!G5&\":\"","v":"Number of Sites this Plant operated at in :"},null,null,null,null,null,null,null,null,null,null,null,null,null,"Aggregate Delivery to Ground Storage",{"$f":"MAX((IFERROR(OFFSET($J$20,MATCH(\"Aggregate Delivery to Ground Storage\",$J$21:$J$30,0),1),0)),((IFERROR((OFFSET($J$37,MATCH(\"Aggregate Delivery to Ground Storage\",$J$38:$J$47,0),1)),0))),((IFERROR((OFFSET($J$53,MATCH(\"Aggregate Delivery to Ground Storage\",$J$54:$J$63,0),1)),0))),((IFERROR((OFFSET($J$69,MATCH(\"Aggregate Delivery to Ground Storage\",$J$70:$J$79,0),1)),0))),((IFERROR((OFFSET($J$85,MATCH(\"Aggregate Delivery to Ground Storage\",$J$86:$J$95,0),1)),0))),((IFERROR((OFFSET($J$101,MATCH(\"Aggregate Delivery to Ground Storage\",$J$102:$J$111,0),1)),0))),((IFERROR((OFFSET($J$117,MATCH(\"Aggregate Delivery to Ground Storage\",$J$118:$J$127,0),1)),0))),((IFERROR((OFFSET($J$133,MATCH(\"Aggregate Delivery to Ground Storage\",$J$134:$J$143,0),1)),0))),((IFERROR((OFFSET($J$149,MATCH(\"Aggregate Delivery to Ground Storage\",$J$150:$J$159,0),1)),0))),((IFERROR((OFFSET($J$165,MATCH(\"Aggregate Delivery to Ground Storage\",$J$166:$J$175,0),1)),0))),)","v":0},{"$f":"SUM((IFERROR(OFFSET($J$20,MATCH(\"Aggregate Delivery to Ground Storage\",$J$21:$J$30,0),2),0)),((IFERROR((OFFSET($J$37,MATCH(\"Aggregate Delivery to Ground Storage\",$J$38:$J$47,0),2)),0))),((IFERROR((OFFSET($J$53,MATCH(\"Aggregate Delivery to Ground Storage\",$J$54:$J$63,0),2)),0))),((IFERROR((OFFSET($J$69,MATCH(\"Aggregate Delivery to Ground Storage\",$J$70:$J$79,0),2)),0))),((IFERROR((OFFSET($J$85,MATCH(\"Aggregate Delivery to Ground Storage\",$J$86:$J$95,0),2)),0))),((IFERROR((OFFSET($J$101,MATCH(\"Aggregate Delivery to Ground Storage\",$J$102:$J$111,0),2)),0))),((IFERROR((OFFSET($J$117,MATCH(\"Aggregate Delivery to Ground Storage\",$J$118:$J$127,0),2)),0))),((IFERROR((OFFSET($J$133,MATCH(\"Aggregate Delivery to Ground Storage\",$J$134:$J$143,0),2)),0))),((IFERROR((OFFSET($J$149,MATCH(\"Aggregate Delivery to Ground Storage\",$J$150:$J$159,0),2)),0))),((IFERROR((OFFSET($J$165,MATCH(\"Aggregate Delivery to Ground Storage\",$J$166:$J$175,0),2)),0))),)","v":0},"** As of 2016 Potential Emissions are no longer required to be reported in the Minor Source Emissions Inventory**"]
[null,null,null,null,null,null,null,null,null,null,null,null,null,null,null,"Sand Delivery to Ground Storage",{"$f":"MAX((IFERROR(OFFSET($J$20,MATCH(\"Sand Delivery to Ground Storage\",$J$21:$J$30,0),1),0)),((IFERROR((OFFSET($J$37,MATCH(\"Sand Delivery to Ground Storage\",$J$38:$J$47,0),1)),0))),((IFERROR((OFFSET($J$53,MATCH(\"Sand Delivery to Ground Storage\",$J$54:$J$63,0),1)),0))),((IFERROR((OFFSET($J$69,MATCH(\"Sand Delivery to Ground Storage\",$J$70:$J$79,0),1)),0))),((IFERROR((OFFSET($J$85,MATCH(\"Sand Delivery to Ground Storage\",$J$86:$J$95,0),1)),0))),((IFERROR((OFFSET($J$101,MATCH(\"Sand Delivery to Ground Storage\",$J$102:$J$111,0),1)),0))),((IFERROR((OFFSET($J$117,MATCH(\"Sand Delivery to Ground Storage\",$J$118:$J$127,0),1)),0))),((IFERROR((OFFSET($J$133,MATCH(\"Sand Delivery to Ground Storage\",$J$134:$J$143,0),1)),0))),((IFERROR((OFFSET($J$149,MATCH(\"Sand Delivery to Ground Storage\",$J$150:$J$159,0),1)),0))),((IFERROR((OFFSET($J$165,MATCH(\"Sand Delivery to Ground Storage\",$J$166:$J$175,0),1)),0))),)","v":0},{"$f":"SUM((IFERROR(OFFSET($J$20,MATCH(\"Sand Delivery to Ground Storage\",$J$21:$J$30,0),2),0)),((IFERROR((OFFSET($J$37,MATCH(\"Sand Delivery to Ground Storage\",$J$38:$J$47,0),2)),0))),((IFERROR((OFFSET($J$53,MATCH(\"Sand Delivery to Ground Storage\",$J$54:$J$63,0),2)),0))),((IFERROR((OFFSET($J$69,MATCH(\"Sand Delivery to Ground Storage\",$J$70:$J$79,0),2)),0))),((IFERROR((OFFSET($J$85,MATCH(\"Sand Delivery to Ground Storage\",$J$86:$J$95,0),2)),0))),((IFERROR((OFFSET($J$101,MATCH(\"Sand Delivery to Ground Storage\",$J$102:$J$111,0),2)),0))),((IFERROR((OFFSET($J$117,MATCH(\"Sand Delivery to Ground Storage\",$J$118:$J$127,0),2)),0))),((IFERROR((OFFSET($J$133,MATCH(\"Sand Delivery to Ground Storage\",$J$134:$J$143,0),2)),0))),((IFERROR((OFFSET($J$149,MATCH(\"Sand Delivery to Ground Storage\",$J$150:$J$159,0),2)),0))),((IFERROR((OFFSET($J$165,MATCH(\"Sand Delivery to Ground Storage\",$J$166:$J$175,0),2)),0))),)","v":0}]
[null,"Plant Specific Permit Number: ",null,null,null,null,null,null,null,null,null,null,null,null,null,"Aggregate Transfer to Conveyor",{"$f":"MAX((IFERROR(OFFSET($J$20,MATCH(\"Aggregate Transfer to Conveyor\",$J$21:$J$30,0),1),0)),((IFERROR((OFFSET($J$37,MATCH(\"Aggregate Transfer to Conveyor\",$J$38:$J$47,0),1)),0))),((IFERROR((OFFSET($J$53,MATCH(\"Aggregate Transfer to Conveyor\",$J$54:$J$63,0),1)),0))),((IFERROR((OFFSET($J$69,MATCH(\"Aggregate Transfer to Conveyor\",$J$70:$J$79,0),1)),0))),((IFERROR((OFFSET($J$85,MATCH(\"Aggregate Transfer to Conveyor\",$J$86:$J$95,0),1)),0))),((IFERROR((OFFSET($J$101,MATCH(\"Aggregate Transfer to Conveyor\",$J$102:$J$111,0),1)),0))),((IFERROR((OFFSET($J$117,MATCH(\"Aggregate Transfer to Conveyor\",$J$118:$J$127,0),1)),0))),((IFERROR((OFFSET($J$133,MATCH(\"Aggregate Transfer to Conveyor\",$J$134:$J$143,0),1)),0))),((IFERROR((OFFSET($J$149,MATCH(\"Aggregate Transfer to Conveyor\",$J$150:$J$159,0),1)),0))),((IFERROR((OFFSET($J$165,MATCH(\"Aggregate Transfer to Conveyor\",$J$166:$J$175,0),1)),0))),)","v":0},{"$f":"SUM((IFERROR(OFFSET($J$20,MATCH(\"Aggregate Transfer to Conveyor\",$J$21:$J$30,0),2),0)),((IFERROR((OFFSET($J$37,MATCH(\"Aggregate Transfer to Conveyor\",$J$38:$J$47,0),2)),0))),((IFERROR((OFFSET($J$53,MATCH(\"Aggregate Transfer to Conveyor\",$J$54:$J$63,0),2)),0))),((IFERROR((OFFSET($J$69,MATCH(\"Aggregate Transfer to Conveyor\",$J$70:$J$79,0),2)),0))),((IFERROR((OFFSET($J$85,MATCH(\"Aggregate Transfer to Conveyor\",$J$86:$J$95,0),2)),0))),((IFERROR((OFFSET($J$101,MATCH(\"Aggregate Transfer to Conveyor\",$J$102:$J$111,0),2)),0))),((IFERROR((OFFSET($J$117,MATCH(\"Aggregate Transfer to Conveyor\",$J$118:$J$127,0),2)),0))),((IFERROR((OFFSET($J$133,MATCH(\"Aggregate Transfer to Conveyor\",$J$134:$J$143,0),2)),0))),((IFERROR((OFFSET($J$149,MATCH(\"Aggregate Transfer to Conveyor\",$J$150:$J$159,0),2)),0))),((IFERROR((OFFSET($J$165,MATCH(\"Aggregate Transfer to Conveyor\",$J$166:$J$175,0),2)),0))),)","v":0}]
[null,null,null,null,null,null,null,null,null,null,null,null,null,null,null,"Sand Transfer to Conveyor",{"$f":"MAX((IFERROR(OFFSET($J$20,MATCH(\"Sand Transfer to Conveyor\",$J$21:$J$30,0),1),0)),((IFERROR((OFFSET($J$37,MATCH(\"Sand Transfer to Conveyor\",$J$38:$J$47,0),1)),0))),((IFERROR((OFFSET($J$53,MATCH(\"Sand Transfer to Conveyor\",$J$54:$J$63,0),1)),0))),((IFERROR((OFFSET($J$69,MATCH(\"Sand Transfer to Conveyor\",$J$70:$J$79,0),1)),0))),((IFERROR((OFFSET($J$85,MATCH(\"Sand Transfer to Conveyor\",$J$86:$J$95,0),1)),0))),((IFERROR((OFFSET($J$101,MATCH(\"Sand Transfer to Conveyor\",$J$102:$J$111,0),1)),0))),((IFERROR((OFFSET($J$117,MATCH(\"Sand Transfer to Conveyor\",$J$118:$J$127,0),1)),0))),((IFERROR((OFFSET($J$133,MATCH(\"Sand Transfer to Conveyor\",$J$134:$J$143,0),1)),0))),((IFERROR((OFFSET($J$149,MATCH(\"Sand Transfer to Conveyor\",$J$150:$J$159,0),1)),0))),((IFERROR((OFFSET($J$165,MATCH(\"Sand Transfer to Conveyor\",$J$166:$J$175,0),1)),0))),)","v":0},{"$f":"SUM((IFERROR(OFFSET($J$20,MATCH(\"Sand Transfer to Conveyor\",$J$21:$J$30,0),2),0)),((IFERROR((OFFSET($J$37,MATCH(\"Sand Transfer to Conveyor\",$J$38:$J$47,0),2)),0))),((IFERROR((OFFSET($J$53,MATCH(\"Sand Transfer to Conveyor\",$J$54:$J$63,0),2)),0))),((IFERROR((OFFSET($J$69,MATCH(\"Sand Transfer to Conveyor\",$J$70:$J$79,0),2)),0))),((IFERROR((OFFSET($J$85,MATCH(\"Sand Transfer to Conveyor\",$J$86:$J$95,0),2)),0))),((IFERROR((OFFSET($J$101,MATCH(\"Sand Transfer to Conveyor\",$J$102:$J$111,0),2)),0))),((IFERROR((OFFSET($J$117,MATCH(\"Sand Transfer to Conveyor\",$J$118:$J$127,0),2)),0))),((IFERROR((OFFSET($J$133,MATCH(\"Sand Transfer to Conveyor\",$J$134:$J$143,0),2)),0))),((IFERROR((OFFSET($J$149,MATCH(\"Sand Transfer to Conveyor\",$J$150:$J$159,0),2)),0))),((IFERROR((OFFSET($J$165,MATCH(\"Sand Transfer to Conveyor\",$J$166:$J$175,0),2)),0))),)","v":0}]
[null,"Plant Specific Operating Limits:",null,null,null,null,null,"Plant Specific Emission Limits:",null,null,null,null,null,null,null,"Aggregate Transfer to Elevated Storage",{"$f":"MAX((IFERROR(OFFSET($J$20,MATCH(\"Aggregate Transfer to Elevated Storage\",$J$21:$J$30,0),1),0)),((IFERROR((OFFSET($J$37,MATCH(\"Aggregate Transfer to Elevated Storage\",$J$38:$J$47,0),1)),0))),((IFERROR((OFFSET($J$53,MATCH(\"Aggregate Transfer to Elevated Storage\",$J$54:$J$63,0),1)),0))),((IFERROR((OFFSET($J$69,MATCH(\"Aggregate Transfer to Elevated Storage\",$J$70:$J$79,0),1)),0))),((IFERROR((OFFSET($J$85,MATCH(\"Aggregate Transfer to Elevated Storage\",$J$86:$J$95,0),1)),0))),((IFERROR((OFFSET($J$101,MATCH(\"Aggregate Transfer to Elevated Storage\",$J$102:$J$111,0),1)),0))),((IFERROR((OFFSET($J$117,MATCH(\"Aggregate Transfer to Elevated Storage\",$J$118:$J$127,0),1)),0))),((IFERROR((OFFSET($J$133,MATCH(\"Aggregate Transfer to Elevated Storage\",$J$134:$J$143,0),1)),0))),((IFERROR((OFFSET($J$149,MATCH(\"Aggregate Transfer to Elevated Storage\",$J$150:$J$159,0),1)),0))),((IFERROR((OFFSET($J$165,MATCH(\"Aggregate Transfer to Elevated Storage\",$J$166:$J$175,0),1)),0))),)","v":0},{"$f":"SUM((IFERROR(OFFSET($J$20,MATCH(\"Aggregate Transfer to Elevated Storage\",$J$21:$J$30,0),2),0)),((IFERROR((OFFSET($J$37,MATCH(\"Aggregate Transfer to Elevated Storage\",$J$38:$J$47,0),2)),0))),((IFERROR((OFFSET($J$53,MATCH(\"Aggregate Transfer to Elevated Storage\",$J$54:$J$63,0),2)),0))),((IFERROR((OFFSET($J$69,MATCH(\"Aggregate Transfer to Elevated Storage\",$J$70:$J$79,0),2)),0))),((IFERROR((OFFSET($J$85,MATCH(\"Aggregate Transfer to Elevated Storage\",$J$86:$J$95,0),2)),0))),((IFERROR((OFFSET($J$101,MATCH(\"Aggregate Transfer to Elevated Storage\",$J$102:$J$111,0),2)),0))),((IFERROR((OFFSET($J$117,MATCH(\"Aggregate Transfer to Elevated Storage\",$J$118:$J$127,0),2)),0))),((IFERROR((OFFSET($J$133,MATCH(\"Aggregate Transfer to Elevated Storage\",$J$134:$J$143,0),2)),0))),((IFERROR((OFFSET($J$149,MATCH(\"Aggregate Transfer to Elevated Storage\",$J$150:$J$159,0),2)),0))),((IFERROR((OFFSET($J$165,MATCH(\"Aggregate Transfer to Elevated Storage\",$J$166:$J$175,0),2)),0))),)","v":0}]
[null,"Throughput Limit (cubic yards/yr):",null,null,null,null,null,"Pollutant","lb/hr","tons/yr",null,null,null,null,null,"Sand Transfer to Elevated Storage",{"$f":"MAX((IFERROR(OFFSET($J$20,MATCH(\"Sand Transfer to Elevated Storage\",$J$21:$J$30,0),1),0)),((IFERROR((OFFSET($J$37,MATCH(\"Sand Transfer to Elevated Storage\",$J$38:$J$47,0),1)),0))),((IFERROR((OFFSET($J$53,MATCH(\"Sand Transfer to Elevated Storage\",$J$54:$J$63,0),1)),0))),((IFERROR((OFFSET($J$69,MATCH(\"Sand Transfer to Elevated Storage\",$J$70:$J$79,0),1)),0))),((IFERROR((OFFSET($J$85,MATCH(\"Sand Transfer to Elevated Storage\",$J$86:$J$95,0),1)),0))),((IFERROR((OFFSET($J$101,MATCH(\"Sand Transfer to Elevated Storage\",$J$102:$J$111,0),1)),0))),((IFERROR((OFFSET($J$117,MATCH(\"Sand Transfer to Elevated Storage\",$J$118:$J$127,0),1)),0))),((IFERROR((OFFSET($J$133,MATCH(\"Sand Transfer to Elevated Storage\",$J$134:$J$143,0),1)),0))),((IFERROR((OFFSET($J$149,MATCH(\"Sand Transfer to Elevated Storage\",$J$150:$J$159,0),1)),0))),((IFERROR((OFFSET($J$165,MATCH(\"Sand Transfer to Elevated Storage\",$J$166:$J$175,0),1)),0))),)","v":0},{"$f":"SUM((IFERROR(OFFSET($J$20,MATCH(\"Sand Transfer to Elevated Storage\",$J$21:$J$30,0),2),0)),((IFERROR((OFFSET($J$37,MATCH(\"Sand Transfer to Elevated Storage\",$J$38:$J$47,0),2)),0))),((IFERROR((OFFSET($J$53,MATCH(\"Sand Transfer to Elevated Storage\",$J$54:$J$63,0),2)),0))),((IFERROR((OFFSET($J$69,MATCH(\"Sand Transfer to Elevated Storage\",$J$70:$J$79,0),2)),0))),((IFERROR((OFFSET($J$85,MATCH(\"Sand Transfer to Elevated Storage\",$J$86:$J$95,0),2)),0))),((IFERROR((OFFSET($J$101,MATCH(\"Sand Transfer to Elevated Storage\",$J$102:$J$111,0),2)),0))),((IFERROR((OFFSET($J$117,MATCH(\"Sand Transfer to Elevated Storage\",$J$118:$J$127,0),2)),0))),((IFERROR((OFFSET($J$133,MATCH(\"Sand Transfer to Elevated Storage\",$J$134:$J$143,0),2)),0))),((IFERROR((OFFSET($J$149,MATCH(\"Sand Transfer to Elevated Storage\",$J$150:$J$159,0),2)),0))),((IFERROR((OFFSET($J$165,MATCH(\"Sand Transfer to Elevated Storage\",$J$166:$J$175,0),2)),0))),)","v":0}]
[null,"Daily Throughput Limit (cubic yards/day):",null,null,null,null,null,"PM2.5",null,null,null,null,null,null,null,"Weigh Hopper Loading",{"$f":"MAX((IFERROR(OFFSET($J$20,MATCH(\"Weigh Hopper Loading\",$J$21:$J$30,0),1),0)),((IFERROR((OFFSET($J$37,MATCH(\"Weigh Hopper Loading\",$J$38:$J$47,0),1)),0))),((IFERROR((OFFSET($J$53,MATCH(\"Weigh Hopper Loading\",$J$54:$J$63,0),1)),0))),((IFERROR((OFFSET($J$69,MATCH(\"Weigh Hopper Loading\",$J$70:$J$79,0),1)),0))),((IFERROR((OFFSET($J$85,MATCH(\"Weigh Hopper Loading\",$J$86:$J$95,0),1)),0))),((IFERROR((OFFSET($J$101,MATCH(\"Weigh Hopper Loading\",$J$102:$J$111,0),1)),0))),((IFERROR((OFFSET($J$117,MATCH(\"Weigh Hopper Loading\",$J$118:$J$127,0),1)),0))),((IFERROR((OFFSET($J$133,MATCH(\"Weigh Hopper Loading\",$J$134:$J$143,0),1)),0))),((IFERROR((OFFSET($J$149,MATCH(\"Weigh Hopper Loading\",$J$150:$J$159,0),1)),0))),((IFERROR((OFFSET($J$165,MATCH(\"Weigh Hopper Loading\",$J$166:$J$175,0),1)),0))),)","v":0},{"$f":"SUM((IFERROR(OFFSET($J$20,MATCH(\"Weigh Hopper Loading\",$J$21:$J$30,0),2),0)),((IFERROR((OFFSET($J$37,MATCH(\"Weigh Hopper Loading\",$J$38:$J$47,0),2)),0))),((IFERROR((OFFSET($J$53,MATCH(\"Weigh Hopper Loading\",$J$54:$J$63,0),2)),0))),((IFERROR((OFFSET($J$69,MATCH(\"Weigh Hopper Loading\",$J$70:$J$79,0),2)),0))),((IFERROR((OFFSET($J$85,MATCH(\"Weigh Hopper Loading\",$J$86:$J$95,0),2)),0))),((IFERROR((OFFSET($J$101,MATCH(\"Weigh Hopper Loading\",$J$102:$J$111,0),2)),0))),((IFERROR((OFFSET($J$117,MATCH(\"Weigh Hopper Loading\",$J$118:$J$127,0),2)),0))),((IFERROR((OFFSET($J$133,MATCH(\"Weigh Hopper Loading\",$J$134:$J$143,0),2)),0))),((IFERROR((OFFSET($J$149,MATCH(\"Weigh Hopper Loading\",$J$150:$J$159,0),2)),0))),((IFERROR((OFFSET($J$165,MATCH(\"Weigh Hopper Loading\",$J$166:$J$175,0),2)),0))),)","v":0}]
[null,"Hours of Operation Limit (hours/day):",null,null,null,null,null,"PM10",null,null,null,null,null,null,null,"Central Mix Loading",{"$f":"MAX((IFERROR(OFFSET($J$20,MATCH(\"Central Mix Loading\",$J$21:$J$30,0),1),0)),((IFERROR((OFFSET($J$37,MATCH(\"Central Mix Loading\",$J$38:$J$47,0),1)),0))),((IFERROR((OFFSET($J$53,MATCH(\"Central Mix Loading\",$J$54:$J$63,0),1)),0))),((IFERROR((OFFSET($J$69,MATCH(\"Central Mix Loading\",$J$70:$J$79,0),1)),0))),((IFERROR((OFFSET($J$85,MATCH(\"Central Mix Loading\",$J$86:$J$95,0),1)),0))),((IFERROR((OFFSET($J$101,MATCH(\"Central Mix Loading\",$J$102:$J$111,0),1)),0))),((IFERROR((OFFSET($J$117,MATCH(\"Central Mix Loading\",$J$118:$J$127,0),1)),0))),((IFERROR((OFFSET($J$133,MATCH(\"Central Mix Loading\",$J$134:$J$143,0),1)),0))),((IFERROR((OFFSET($J$149,MATCH(\"Central Mix Loading\",$J$150:$J$159,0),1)),0))),((IFERROR((OFFSET($J$165,MATCH(\"Central Mix Loading\",$J$166:$J$175,0),1)),0))),)","v":0},{"$f":"SUM((IFERROR(OFFSET($J$20,MATCH(\"Central Mix Loading\",$J$21:$J$30,0),2),0)),((IFERROR((OFFSET($J$37,MATCH(\"Central Mix Loading\",$J$38:$J$47,0),2)),0))),((IFERROR((OFFSET($J$53,MATCH(\"Central Mix Loading\",$J$54:$J$63,0),2)),0))),((IFERROR((OFFSET($J$69,MATCH(\"Central Mix Loading\",$J$70:$J$79,0),2)),0))),((IFERROR((OFFSET($J$85,MATCH(\"Central Mix Loading\",$J$86:$J$95,0),2)),0))),((IFERROR((OFFSET($J$101,MATCH(\"Central Mix Loading\",$J$102:$J$111,0),2)),0))),((IFERROR((OFFSET($J$117,MATCH(\"Central Mix Loading\",$J$118:$J$127,0),2)),0))),((IFERROR((OFFSET($J$133,MATCH(\"Central Mix Loading\",$J$134:$J$143,0),2)),0))),((IFERROR((OFFSET($J$149,MATCH(\"Central Mix Loading\",$J$150:$J$159,0),2)),0))),((IFERROR((OFFSET($J$165,MATCH(\"Central Mix Loading\",$J$166:$J$175,0),2)),0))),)","v":0}]
[null,"Note: if the plant has an hrs/day and a cubic yards/hr permit limit,",null,null,null,null,null,"SO2",null,null,null,null,null,null,null,"Truck Mix Loading",{"$f":"MAX((IFERROR(OFFSET($J$20,MATCH(\"Truck Mix Loading\",$J$21:$J$30,0),1),0)),((IFERROR((OFFSET($J$37,MATCH(\"Truck Mix Loading\",$J$38:$J$47,0),1)),0))),((IFERROR((OFFSET($J$53,MATCH(\"Truck Mix Loading\",$J$54:$J$63,0),1)),0))),((IFERROR((OFFSET($J$69,MATCH(\"Truck Mix Loading\",$J$70:$J$79,0),1)),0))),((IFERROR((OFFSET($J$85,MATCH(\"Truck Mix Loading\",$J$86:$J$95,0),1)),0))),((IFERROR((OFFSET($J$101,MATCH(\"Truck Mix Loading\",$J$102:$J$111,0),1)),0))),((IFERROR((OFFSET($J$117,MATCH(\"Truck Mix Loading\",$J$118:$J$127,0),1)),0))),((IFERROR((OFFSET($J$133,MATCH(\"Truck Mix Loading\",$J$134:$J$143,0),1)),0))),((IFERROR((OFFSET($J$149,MATCH(\"Truck Mix Loading\",$J$150:$J$159,0),1)),0))),((IFERROR((OFFSET($J$165,MATCH(\"Truck Mix Loading\",$J$166:$J$175,0),1)),0))),)","v":0},{"$f":"SUM((IFERROR(OFFSET($J$20,MATCH(\"Truck Mix Loading\",$J$21:$J$30,0),2),0)),((IFERROR((OFFSET($J$37,MATCH(\"Truck Mix Loading\",$J$38:$J$47,0),2)),0))),((IFERROR((OFFSET($J$53,MATCH(\"Truck Mix Loading\",$J$54:$J$63,0),2)),0))),((IFERROR((OFFSET($J$69,MATCH(\"Truck Mix Loading\",$J$70:$J$79,0),2)),0))),((IFERROR((OFFSET($J$85,MATCH(\"Truck Mix Loading\",$J$86:$J$95,0),2)),0))),((IFERROR((OFFSET($J$101,MATCH(\"Truck Mix Loading\",$J$102:$J$111,0),2)),0))),((IFERROR((OFFSET($J$117,MATCH(\"Truck Mix Loading\",$J$118:$J$127,0),2)),0))),((IFERROR((OFFSET($J$133,MATCH(\"Truck Mix Loading\",$J$134:$J$143,0),2)),0))),((IFERROR((OFFSET($J$149,MATCH(\"Truck Mix Loading\",$J$150:$J$159,0),2)),0))),((IFERROR((OFFSET($J$165,MATCH(\"Truck Mix Loading\",$J$166:$J$175,0),2)),0))),)","v":0}]
[null,"those values should be multiplied together to calculate a cubic ",null,null,null,null,null,"NOx",null,null,null,null,null,null,null,"Cement Delivery to Silo",{"$f":"MAX((IFERROR(OFFSET($J$20,MATCH(\"Cement Delivery to Silo\",$J$21:$J$30,0),1),0)),((IFERROR((OFFSET($J$37,MATCH(\"Cement Delivery to Silo\",$J$38:$J$47,0),1)),0))),((IFERROR((OFFSET($J$53,MATCH(\"Cement Delivery to Silo\",$J$54:$J$63,0),1)),0))),((IFERROR((OFFSET($J$69,MATCH(\"Cement Delivery to Silo\",$J$70:$J$79,0),1)),0))),((IFERROR((OFFSET($J$85,MATCH(\"Cement Delivery to Silo\",$J$86:$J$95,0),1)),0))),((IFERROR((OFFSET($J$101,MATCH(\"Cement Delivery to Silo\",$J$102:$J$111,0),1)),0))),((IFERROR((OFFSET($J$117,MATCH(\"Cement Delivery to Silo\",$J$118:$J$127,0),1)),0))),((IFERROR((OFFSET($J$133,MATCH(\"Cement Delivery to Silo\",$J$134:$J$143,0),1)),0))),((IFERROR((OFFSET($J$149,MATCH(\"Cement Delivery to Silo\",$J$150:$J$159,0),1)),0))),((IFERROR((OFFSET($J$165,MATCH(\"Cement Delivery to Silo\",$J$166:$J$175,0),1)),0))),)","v":0},{"$f":"SUM((IFERROR(OFFSET($J$20,MATCH(\"Cement Delivery to Silo\",$J$21:$J$30,0),2),0)),((IFERROR((OFFSET($J$37,MATCH(\"Cement Delivery to Silo\",$J$38:$J$47,0),2)),0))),((IFERROR((OFFSET($J$53,MATCH(\"Cement Delivery to Silo\",$J$54:$J$63,0),2)),0))),((IFERROR((OFFSET($J$69,MATCH(\"Cement Delivery to Silo\",$J$70:$J$79,0),2)),0))),((IFERROR((OFFSET($J$85,MATCH(\"Cement Delivery to Silo\",$J$86:$J$95,0),2)),0))),((IFERROR((OFFSET($J$101,MATCH(\"Cement Delivery to Silo\",$J$102:$J$111,0),2)),0))),((IFERROR((OFFSET($J$117,MATCH(\"Cement Delivery to Silo\",$J$118:$J$127,0),2)),0))),((IFERROR((OFFSET($J$133,MATCH(\"Cement Delivery to Silo\",$J$134:$J$143,0),2)),0))),((IFERROR((OFFSET($J$149,MATCH(\"Cement Delivery to Silo\",$J$150:$J$159,0),2)),0))),((IFERROR((OFFSET($J$165,MATCH(\"Cement Delivery to Silo\",$J$166:$J$175,0),2)),0))),)","v":0}]
[null,"yards/day limit and that value should be placed in cell C10.",null,null,null,null,null,"VOC",null,null,null,null,null,null,null,"Cement Supplement Delivery to Silo",{"$f":"MAX((IFERROR(OFFSET($J$20,MATCH(\"Cement Supplement Delivery to Silo\",$J$21:$J$30,0),1),0)),((IFERROR((OFFSET($J$37,MATCH(\"Cement Supplement Delivery to Silo\",$J$38:$J$47,0),1)),0))),((IFERROR((OFFSET($J$53,MATCH(\"Cement Supplement Delivery to Silo\",$J$54:$J$63,0),1)),0))),((IFERROR((OFFSET($J$69,MATCH(\"Cement Supplement Delivery to Silo\",$J$70:$J$79,0),1)),0))),((IFERROR((OFFSET($J$85,MATCH(\"Cement Supplement Delivery to Silo\",$J$86:$J$95,0),1)),0))),((IFERROR((OFFSET($J$101,MATCH(\"Cement Supplement Delivery to Silo\",$J$102:$J$111,0),1)),0))),((IFERROR((OFFSET($J$117,MATCH(\"Cement Supplement Delivery to Silo\",$J$118:$J$127,0),1)),0))),((IFERROR((OFFSET($J$133,MATCH(\"Cement Supplement Delivery to Silo\",$J$134:$J$143,0),1)),0))),((IFERROR((OFFSET($J$149,MATCH(\"Cement Supplement Delivery to Silo\",$J$150:$J$159,0),1)),0))),((IFERROR((OFFSET($J$165,MATCH(\"Cement Supplement Delivery to Silo\",$J$166:$J$175,0),1)),0))),)","v":0},{"$f":"SUM((IFERROR(OFFSET($J$20,MATCH(\"Cement Supplement Delivery to Silo\",$J$21:$J$30,0),2),0)),((IFERROR((OFFSET($J$37,MATCH(\"Cement Supplement Delivery to Silo\",$J$38:$J$47,0),2)),0))),((IFERROR((OFFSET($J$53,MATCH(\"Cement Supplement Delivery to Silo\",$J$54:$J$63,0),2)),0))),((IFERROR((OFFSET($J$69,MATCH(\"Cement Supplement Delivery to Silo\",$J$70:$J$79,0),2)),0))),((IFERROR((OFFSET($J$85,MATCH(\"Cement Supplement Delivery to Silo\",$J$86:$J$95,0),2)),0))),((IFERROR((OFFSET($J$101,MATCH(\"Cement Supplement Delivery to Silo\",$J$102:$J$111,0),2)),0))),((IFERROR((OFFSET($J$117,MATCH(\"Cement Supplement Delivery to Silo\",$J$118:$J$127,0),2)),0))),((IFERROR((OFFSET($J$133,MATCH(\"Cement Supplement Delivery to Silo\",$J$134:$J$143,0),2)),0))),((IFERROR((OFFSET($J$149,MATCH(\"Cement Supplement Delivery to Silo\",$J$150:$J$159,0),2)),0))),((IFERROR((OFFSET($J$165,MATCH(\"Cement Supplement Delivery to Silo\",$J$166:$J$175,0),2)),0))),)","v":0}]
[null,null,null,null,null,null,null,"CO"]
[null,null,null,null,null,null,null,null,null,null,null,null,null,null,null,null,"Maximum (acres/day)","Actual (acres-day/yr)"]
[null,null,null,null,null,null,null,null,null,null,null,null,null,null,null,"Storage Pile",{"$f":"SUM(J34,J50,J67,J83,J99,J115,J131,J147,J163,J179)","v":0},{"$f":"SUM(K34*L34,K50*L50,K67*L67,K83*L83,K99*L99,K115*L115,K131*L131,K147*L147,K163*L163,K179*L179)","v":0}]
[]
[null,null,null,null,null,null,null,null,null,null,null,null,null,null,null,"Actual Emissions for the Listed Processes at this Plant"]
[null,"Batch Plant","Site 1",null,null,null,null,"Emission Point #","Emission     Unit #","Processes","Combined Maximum Hourly Design Rate for all Like Processes (cubic yard/hr)",{"$f":"('Facility Information'!G5&\" Annual Throughput (cubic yards)\")","v":" Annual Throughput (cubic yards)"},"Truck","Central",null,"PM2.5","Maximum Design Rate (cubic yards/hr)","Emission Factor (lb/cubic yard)","Potential Uncontrolled Emissions (lb/hr)","Potential Controlled Emissions (lb/hr)","Potential Annual Emissions (tons/yr)","Actual Annual Emissions (tons/yr)"]
["YES","Site Name:",null,null,null,null,null,{"$f":"IF(J21=\"cement delivery to silo\",\"CP-1 EP-2\",IF(J21=\"cement supplement delivery to silo\",\"CP-1 EP-3\",IF(J21=\"weigh hopper loading\",\"CP-1 EP-4\",IF(J21=\"truck mix loading\",\"CP-1 EP-5\",IF(J21=\"central mix loading\",\"CP-1 EP-6\",IF(J21=\"\",\"\",\"CP-1 EP-1\"))))))","v":""},{"$f":"IF(J21=\"\",\"\",IF(J21=\"aggregate delivery to ground storage\",\"CP-4 EU-1\",IF(J21=\"sand delivery to ground storage\",\"CP-4 EU-2\",IF(J21=\"aggregate transfer to conveyor\",\"CP-4 EU-3\",IF(J21=\"sand transfer to conveyor\",\"CP-4 EU-4\",IF(J21=\"aggregate transfer to elevated storage\",\"CP-4 EU-5\",IF(J21=\"sand transfer to elevated storage\",\"CP-4 EU-6\",IF(J21=\"weigh hopper loading\",\"CP-4 EU-7\",IF(J21=\"central mix loading\",\"CP-4 EU-8\",IF(J21=\"truck mix loading\",\"CP-4 EU-9\",IF(J21=\"cement delivery to silo\",\"CP-4 EU-10\",IF(J21=\"cement supplement delivery to silo\",\"CP-4 EU-11\"))))))))))))","v":""},null,null,null,{"$f":"IF(J21=\"truck mix loading\",IF($F$24=\"yes\",L21*0.05/2000,L21/2000),\"\")","v":""},{"$f":"IF(J21=\"central mix loading\",IF($F$24=\"yes\",L21*0.05/2000,L21/2000),\"\")","v":""},null,"Aggregate Delivery to Ground Storage",{"$f":"Q4","v":0},{"$f":"IF(Q21=0,0,LOOKUP(P21,'Emission Factors'!$A$5:$A$16,'Emission Factors'!$D$5:$D$16))","v":0},{"$f":"Q21*R21","v":0},{"$f":"IF(Q21=0,\"\",IF($I$10>0,$I$10,\"\"))","v":""},{"$f":"IF($J$10>0,$J$10,IF($D$9>0,$D$9*R21/2000,IF($D$10>0,$D$10*365*R21/2000,IF($D$11>0,$D$11*365*R21*Q21/2000,IF(T21=\"\",S21*8760/2000,T21*8760/2000)))))","v":0},{"$f":"(R4*R21/2000)","v":0}]
["NO","County:",null,null,null,null,null,{"$f":"IF(J22=\"cement delivery to silo\",\"CP-1 EP-2\",IF(J22=\"cement supplement delivery to silo\",\"CP-1 EP-3\",IF(J22=\"weigh hopper loading\",\"CP-1 EP-4\",IF(J22=\"truck mix loading\",\"CP-1 EP-5\",IF(J22=\"central mix loading\",\"CP-1 EP-6\",IF(J22=\"\",\"\",\"CP-1 EP-1\"))))))","v":""},"",null,null,null,{"$f":"IF(J22=\"truck mix loading\",IF($F$24=\"yes\",L22*0.05/2000,L22/2000),\"\")","v":""},{"$f":"IF(J22=\"central mix loading\",IF($F$24=\"yes\",L22*0.05/2000,L22/2000),\"\")","v":""},null,"Sand Delivery to Ground Storage",0,{"$f":"IF(Q22=0,0,LOOKUP(P22,'Emission Factors'!$A$5:$A$16,'Emission Factors'!$D$5:$D$16))","v":0},0,{"$f":"IF(Q22=0,\"\",IF($I$10>0,$I$10,\"\"))","v":""},{"$f":"IF($J$10>0,\"\",IF($D$9>0,$D$9*R22/2000,IF($D$10>0,$D$10*365*R22/2000,IF($D$11>0,$D$11*365*R22*Q22/2000,IF(T22=\"\",S22*8760/2000,T22*8760/2000)))))","v":0},0]
[null,"Batching Period (Dates):",null,null,null,null,null,"","",null,null,null,"","",null,"Aggregate Transfer to Conveyor",0,{"$f":"IF(Q23=0,0,LOOKUP(P23,'Emission Factors'!$A$5:$A$16,'Emission Factors'!$D$5:$D$16))","v":0},0,"",0,0]
["Aggregate Delivery to Ground Storage",{"$f":"IF(OR(COUNTIF(J21:J30,\"Truck Mix Loading\")>0,(COUNTIF(J21:J30,\"Central Mix Loading\")>0)),\"Is the Central/Truck Mix Loading process controlled by a baghouse?\",\"\")","v":""},null,null,null,null,null,"","",null,null,null,"","",null,"Sand Transfer to Conveyor",0,{"$f":"IF(Q24=0,0,LOOKUP(P24,'Emission Factors'!$A$5:$A$16,'Emission Factors'!$D$5:$D$16))","v":0},0,"",0,0]
["Sand Delivery to Ground Storage",null,null,null,null,null,null,"","",null,null,null,"","",null,"Aggregate Transfer to Elevated Storage",0,{"$f":"IF(Q25=0,0,LOOKUP(P25,'Emission Factors'!$A$5:$A$16,'Emission Factors'!$D$5:$D$16))","v":0},0,"",0,0]
["Aggregate Transfer to Conveyor",{"$f":"IF(AND(B28=\"\",B29=\"\",B32=\"\",B31=\"\",B30=\"\"),\"\",\"Process (complete stack information if applicable):\")","v":""},{"$f":"IF(AND(B28=\"\",B29=\"\",B32=\"\",B31=\"\",B30=\"\"),\"\",\"Stack Height (ft):\")","v":""},{"$f":"IF(AND(B28=\"\",B29=\"\",B32=\"\",B31=\"\",B30=\"\"),\"\",\"Stack Diameter (inches):\")","v":""},{"$f":"IF(AND(B28=\"\",B29=\"\",B32=\"\",B31=\"\",B30=\"\"),\"\",\"Flow Rate (acfm):\")","v":""},{"$f":"IF(AND(B28=\"\",B29=\"\",B32=\"\",B31=\"\",B30=\"\"),\"\",\"Temp (Deg F):\")","v":""},null,"","",null,null,null,"","",null,"Sand Transfer to Elevated Storage",0,{"$f":"IF(Q26=0,0,LOOKUP(P26,'Emission Factors'!$A$5:$A$16,'Emission Factors'!$D$5:$D$16))","v":0},0,"",0,0]
["Sand Transfer to Conveyor",null,null,null,null,null,null,"","",null,null,null,"","",null,"Weigh Hopper Loading",0,{"$f":"IF(Q27=0,0,LOOKUP(P27,'Emission Factors'!$A$5:$A$16,'Emission Factors'!$D$5:$D$16))","v":0},0,"",0,0]
["Aggregate Transfer to Elevated Storage",{"$f":"IF(COUNTIF(J21:J30,\"Cement Delivery to Silo\")>0,\"EP-2 Cement Silo Stack:\",\"\")","v":""},null,null,null,null,null,"","",null,null,null,"","",null,"Central Mix Loading",0,{"$f":"IF(Q28=0,0,LOOKUP(P28,'Emission Factors'!$A$5:$A$16,'Emission Factors'!$D$5:$D$16))","v":0},0,{"$f":"IF(Q28=0,\"\",IF($I$10>0,$I$10,IF(COUNTIF($F$24:$F$169,\"no\")>0,\"\",S28*(1-0.95))))","v":""},{"$f":"IF($J$10>0,\"\",IF($D$9>0,$D$9*R28*((100-$W$30)/100)/2000,IF($D$10>0,$D$10*365*R28*((100-$W$30)/100)/2000,IF($D$11>0,$D$11*365*R28*((100-$W$30)/100)*Q28/2000,IF(T28=\"\",S28*8760/2000,T28*8760/2000)))))","v":0},{"$f":"(R28*N181)","v":0}]
["Sand Transfer to Elevated Storage",{"$f":"IF(COUNTIF(J21:J30,\"Cement Supplement Delivery to Silo\")>0,\"EP-3 Cement Supplement Silo Stack:\",\"\")","v":""},null,null,null,null,null,"","",null,null,null,"","",null,"Truck Mix Loading",0,{"$f":"IF(Q29=0,0,LOOKUP(P29,'Emission Factors'!$A$5:$A$16,'Emission Factors'!$D$5:$D$16))","v":0},0,{"$f":"IF(Q29=0,\"\",IF($I$10>0,$I$10,IF(COUNTIF($F$24:$F$169,\"no\")>0,\"\",S29*(1-0.95))))","v":""},{"$f":"IF($J$10>0,\"\",IF($D$9>0,$D$9*R29*((100-$W$30)/100)/2000,IF($D$10>0,$D$10*365*R29*((100-$W$30)/100)/2000,IF($D$11>0,$D$11*365*R29*((100-$W$30)/100)*Q29/2000,IF(T29=\"\",S29*8760/2000,T29*8760/2000)))))","v":0},{"$f":"(R29*M181)","v":0}]
["Weigh Hopper Loading",{"$f":"IF(COUNTIF(J21:J30,\"Weigh Hopper Loading\")>0,\"EP-4 Weigh Hopper Loading Stack:\",\"\")","v":""},null,null,null,null,null,"","",null,null,null,"","",null,"Cement Delivery to Silo",0,{"$f":"IF(Q30=0,0,LOOKUP(P30,'Emission Factors'!$A$5:$A$16,'Emission Factors'!$D$5:$D$16))","v":0},null,{"$f":"IF(Q30=0,0,IF($I$10>0,$I$10,Q30*R30))","v":0},{"$f":"IF($J$10>0,\"\",IF($D$9>0,$D$9*R30/2000,IF($D$10>0,$D$10*365*R30/2000,IF($D$11>0,$D$11*365*R30*Q30/2000,IF($I$10>0,0,T30*8760/2000)))))","v":0},{"$f":"(R13*R30/2000)","v":0},{"$f":"IF(COUNTIF($F$24:$F$169,\"no\")>0,0,95)","v":95}]
["Central Mix Loading",{"$f":"IF(COUNTIF(J21:J30,\"Truck Mix Loading\")>0,\"EP-5 Truck Mix Loading Stack:\",\"\")","v":""},null,null,null,null,null,null,null,null,null,null,null,null,null,"Cement Supplement Delivery to Silo",0,{"$f":"IF(Q31=0,0,LOOKUP(P31,'Emission Factors'!$A$5:$A$16,'Emission Factors'!$D$5:$D$16))","v":0},null,{"$f":"IF(Q31=0,0,IF($I$10>0,$I$10,Q31*R31))","v":0},{"$f":"IF($J$10>0,\"\",IF($D$9>0,$D$9*R31/2000,IF($D$10>0,$D$10*365*R31/2000,IF($D$11>0,$D$11*365*R31*Q31/2000,IF($I$10>0,0,T31*8760/2000)))))","v":0},{"$f":"(R14*R31/2000)","v":0}]
["Truck Mix Loading",{"$f":"IF(COUNTIF(J21:J30,\"Central Mix Loading\")>0,\"EP-6 Central Mix Loading Stack:\",\"\")","v":""},null,null,null,null,null,"Stock Pile Area"]
["Cement Delivery to Silo",null,null,null,null,null,null,null,"Emission Unit #","Maximum Storage Area (acres)","Actual Storage Area (acres)","Actual Days in Existence (days)"]
["Cement Supplement Delivery to Silo",null,null,null,null,null,null,null,null,null,null,null,null,null,null,"PM10"]
[null,null,null,null,null,null,null,null,null,null,null,null,null,null,null,"Aggregate Delivery to Ground Storage",{"$f":"Q4","v":0},{"$f":"IF(Q35=0,0,LOOKUP(P35,'Emission Factors'!$A$5:$A$16,'Emission Factors'!$H$5:$H$16))","v":0},{"$f":"Q35*R35","v":0},{"$f":"IF(Q35=0,\"\",IF($I$11>0,$I$11,\"\"))","v":""},{"$f":"IF($J$11>0,$J$11,IF($D$9>0,$D$9*R35/2000,IF($D$10>0,$D$10*365*R35/2000,IF($D$11>0,$D$11*365*R35*Q35/2000,IF(T35=\"\",S35*8760/2000,T35*8760/2000)))))","v":0},{"$f":"(R4*R35/2000)","v":0}]
[null,null,null,null,null,null,null,null,null,null,null,null,null,null,null,"Sand Delivery to Ground Storage",0,{"$f":"IF(Q36=0,0,LOOKUP(P36,'Emission Factors'!$A$5:$A$16,'Emission Factors'!$H$5:$H$16))","v":0},0,{"$f":"IF(Q36=0,\"\",IF($I$11>0,$I$11,\"\"))","v":""},{"$f":"IF($J$11>0,\"\",IF($D$9>0,$D$9*R36/2000,IF($D$10>0,$D$10*365*R36/2000,IF($D$11>0,$D$11*365*R36*Q36/2000,IF(T36=\"\",S36*8760/2000,T36*8760/2000)))))","v":0},0]
[null,{"$f":"IF('Concrete Plant (CP-4)'!$D$4>1,\"Batch Plant\",\"\")","v":""},{"$f":"IF('Concrete Plant (CP-4)'!$D$4>1,\"Site 2\",\"\")","v":""},null,null,null,null,{"$f":"IF('Concrete Plant (CP-4)'!$D$4>1,\"Emission Point #\",\"\")","v":""},{"$f":"IF('Concrete Plant (CP-4)'!$D$4>1,\"Emission     Unit #\",\"\")","v":""},{"$f":"IF('Concrete Plant (CP-4)'!$D$4>1,\"Processes\",\"\")","v":""},{"$f":"IF('Concrete Plant (CP-4)'!$D$4>1,\"Combined Maximum Hourly Design Rate for all Like Processes (cubic yard/hr)\",\"\")","v":""},{"$f":"IF('Concrete Plant (CP-4)'!$D$4>1,('Facility Information'!G5&\" Annual Throughput (cubic yards)\"),\"\")","v":""},null,null,null,"Aggregate Transfer to Conveyor",0,{"$f":"IF(Q37=0,0,LOOKUP(P37,'Emission Factors'!$A$5:$A$16,'Emission Factors'!$H$5:$H$16))","v":0},0,"",0,0]
[null,{"$f":"IF('Concrete Plant (CP-4)'!$D$4>1,\"Site Name:\",\"\")","v":""},null,null,null,null,null,{"$f":"IF(J38=\"cement delivery to silo\",\"CP-1 EP-2\",IF(J38=\"cement supplement delivery to silo\",\"CP-1 EP-3\",IF(J38=\"weigh hopper loading\",\"CP-1 EP-4\",IF(J38=\"truck mix loading\",\"CP-1 EP-5\",IF(J38=\"central mix loading\",\"CP-1 EP-6\",IF(J38=\"\",\"\",\"CP-1 EP-1\"))))))","v":""},{"$f":"IF(J38=\"\",\"\",IF(J38=\"aggregate delivery to ground storage\",\"CP-4 EU-1\",IF(J38=\"sand delivery to ground storage\",\"CP-4 EU-2\",IF(J38=\"aggregate transfer to conveyor\",\"CP-4 EU-3\",IF(J38=\"sand transfer to conveyor\",\"CP-4 EU-4\",IF(J38=\"aggregate transfer to elevated storage\",\"CP-4 EU-5\",IF(J38=\"sand transfer to elevated storage\",\"CP-4 EU-6\",IF(J38=\"weigh hopper loading\",\"CP-4 EU-7\",IF(J38=\"central mix loading\",\"CP-4 EU-8\",IF(J38=\"truck mix loading\",\"CP-4 EU-9\",IF(J38=\"cement delivery to silo\",\"CP-4 EU-10\",IF(J38=\"cement supplement delivery to silo\",\"CP-4 EU-11\"))))))))))))","v":""},null,null,null,{"$f":"IF(J38=\"truck mix loading\",IF($F$41=\"yes\",L38*0.05/2000,L38/2000),\"\")","v":""},{"$f":"IF(J38=\"central mix loading\",IF($F$41=\"yes\",L38*0.05/2000,L38/2000),\"\")","v":""},null,"Sand Transfer to Conveyor",0,{"$f":"IF(Q38=0,0,LOOKUP(P38,'Emission Factors'!$A$5:$A$16,'Emission Factors'!$H$5:$H$16))","v":0},{"$f":"Q38*R38","v":0},{"$f":"IF(Q38=0,\"\",IF($I$11>0,$I$11,\"\"))","v":""},{"$f":"IF($J$11>0,\"\",IF($D$9>0,$D$9*R38/2000,IF($D$10>0,$D$10*365*R38/2000,IF($D$11>0,$D$11*365*R38*Q38/2000,IF(T38=\"\",S38*8760/2000,T38*8760/2000)))))","v":0},0]
[null,{"$f":"IF('Concrete Plant (CP-4)'!$D$4>1,\"County:\",\"\")","v":""},null,null,null,null,null,{"$f":"IF(J39=\"cement delivery to silo\",\"CP-1 EP-2\",IF(J39=\"cement supplement delivery to silo\",\"CP-1 EP-3\",IF(J39=\"weigh hopper loading\",\"CP-1 EP-4\",IF(J39=\"truck mix loading\",\"CP-1 EP-5\",IF(J39=\"central mix loading\",\"CP-1 EP-6\",IF(J39=\"\",\"\",\"CP-1 EP-1\"))))))","v":""},"",null,null,null,{"$f":"IF(J39=\"truck mix loading\",IF($F$41=\"yes\",L39*0.05/2000,L39/2000),\"\")","v":""},{"$f":"IF(J39=\"central mix loading\",IF($F$41=\"yes\",L39*0.05/2000,L39/2000),\"\")","v":""},null,"Aggregate Transfer to Elevated Storage",0,{"$f":"IF(Q39=0,0,LOOKUP(P39,'Emission Factors'!$A$5:$A$16,'Emission Factors'!$H$5:$H$16))","v":0},0,{"$f":"IF(Q39=0,\"\",IF($I$11>0,$I$11,\"\"))","v":""},{"$f":"IF($J$11>0,\"\",IF($D$9>0,$D$9*R39/2000,IF($D$10>0,$D$10*365*R39/2000,IF($D$11>0,$D$11*365*R39*Q39/2000,IF(T39=\"\",S39*8760/2000,T39*8760/2000)))))","v":0},0]
[null,{"$f":"IF('Concrete Plant (CP-4)'!$D$4>1,\"Batching Period (Dates):\",\"\")","v":""},null,null,null,null,null,"","",null,null,null,"","",null,"Sand Transfer to Elevated Storage",0,{"$f":"IF(Q40=0,0,LOOKUP(P40,'Emission Factors'!$A$5:$A$16,'Emission Factors'!$H$5:$H$16))","v":0},0,{"$f":"IF(Q40=0,\"\",IF($I$11>0,$I$11,\"\"))","v":""},{"$f":"IF($J$11>0,\"\",IF($D$9>0,$D$9*R40/2000,IF($D$10>0,$D$10*365*R40/2000,IF($D$11>0,$D$11*365*R40*Q40/2000,IF(T40=\"\",S40*8760/2000,T40*8760/2000)))))","v":0},0]
[null,{"$f":"IF(OR(COUNTIF(J38:J47,\"Truck Mix Loading\")>0,(COUNTIF(J38:J47,\"Central Mix Loading\")>0)),\"Is the Central/Truck Mix Loading process controlled by a baghouse?\",\"\")","v":""},null,null,null,null,null,"","",null,null,null,"","",null,"Weigh Hopper Loading",0,{"$f":"IF(Q41=0,0,LOOKUP(P41,'Emission Factors'!$A$5:$A$16,'Emission Factors'!$H$5:$H$16))","v":0},0,{"$f":"IF(Q41=0,\"\",IF($I$11>0,$I$11,\"\"))","v":""},{"$f":"IF($J$11>0,\"\",IF($D$9>0,$D$9*R41/2000,IF($D$10>0,$D$10*365*R41/2000,IF($D$11>0,$D$11*365*R41*Q41/2000,IF(T41=\"\",S41*8760/2000,T41*8760/2000)))))","v":0},0,{"$f":"IF(COUNTIF($F$24:$F$169,\"no\")>0,0,95)","v":95}]
[null,null,null,null,null,null,null,"","",null,null,null,"","",null,"Central Mix Loading",0,{"$f":"IF(Q42=0,0,LOOKUP(P42,'Emission Factors'!$A$5:$A$16,'Emission Factors'!$H$5:$H$16))","v":0},0,{"$f":"IF(Q42=0,\"\",IF($I$11>0,$I$11,IF(COUNTIF($F$24:$F$169,\"no\")>0,\"\",S42*(1-0.95))))","v":""},{"$f":"IF($J$11>0,\"\",IF($D$9>0,$D$9*R42*((100-$W$30)/100)/2000,IF($D$10>0,$D$10*365*R42*((100-$W$30)/100)/2000,IF($D$11>0,$D$11*365*R42*((100-$W$30)/100)*Q42/2000,IF(T42=\"\",S42*8760/2000,T42*8760/2000)))))","v":0},{"$f":"(N181*R42)","v":0}]
[null,{"$f":"IF(AND(B45=\"\",B46=\"\",B47=\"\",B48=\"\",B49=\"\"),\"\",\"Process (complete stack information if applicable):\")","v":""},{"$f":"IF(AND(B45=\"\",B46=\"\",B47=\"\",B48=\"\",B49=\"\"),\"\",\"Stack Height (ft):\")","v":""},{"$f":"IF(AND(B45=\"\",B46=\"\",B47=\"\",B48=\"\",B49=\"\"),\"\",\"Stack Diameter (inches):\")","v":""},{"$f":"IF(AND(B45=\"\",B46=\"\",B47=\"\",B48=\"\",B49=\"\"),\"\",\"Flow Rate (acfm):\")","v":""},{"$f":"IF(AND(B45=\"\",B46=\"\",B47=\"\",B48=\"\",B49=\"\"),\"\",\"Temp (Deg F):\")","v":""},null,"","",null,null,null,"","",null,"Truck Mix Loading",0,{"$f":"IF(Q43=0,0,LOOKUP(P43,'Emission Factors'!$A$5:$A$16,'Emission Factors'!$H$5:$H$16))","v":0},0,{"$f":"IF(Q43=0,\"\",IF($I$11>0,$I$11,IF(COUNTIF($F$24:$F$169,\"no\")>0,\"\",S43*(1-0.95))))","v":""},{"$f":"IF($J$11>0,\"\",IF($D$9>0,$D$9*R43*((100-$W$30)/100)/2000,IF($D$10>0,$D$10*365*R43*((100-$W$30)/100)/2000,IF($D$11>0,$D$11*365*R43*((100-$W$30)/100)*Q43/2000,IF(T43=\"\",S43*8760/2000,T43*8760/2000)))))","v":0},{"$f":"(M181*R43)","v":0}]
[null,null,null,null,null,null,null,"","",null,null,null,"","",null,"Cement Delivery to Silo",0,{"$f":"IF(Q44=0,0,LOOKUP(P44,'Emission Factors'!$A$5:$A$16,'Emission Factors'!$H$5:$H$16))","v":0},null,{"$f":"IF(Q44=0,0,IF($I$10>0,$I$10,Q44*R44))","v":0},{"$f":"IF($J$11>0,\"\",IF($D$9>0,$D$9*R44/2000,IF($D$10>0,$D$10*365*R44/2000,IF($D$11>0,$D$11*365*R44*Q44/2000,IF($I$11>0,0,T44*8760/2000)))))","v":0},{"$f":"(R13*R44/2000)","v":0}]
[null,{"$f":"IF(COUNTIF(J38:J47,\"Cement Delivery to Silo\")>0,\"EP-2 Cement Silo Stack:\",\"\")","v":""},null,null,null,null,null,"","",null,null,null,"","",null,"Cement Supplement Delivery to Silo",0,{"$f":"IF(Q45=0,0,LOOKUP(P45,'Emission Factors'!$A$5:$A$16,'Emission Factors'!$H$5:$H$16))","v":0},null,{"$f":"IF(Q45=0,0,IF($I$10>0,$I$10,Q45*R45))","v":0},{"$f":"IF($J$11>0,\"\",IF($D$9>0,$D$9*R45/2000,IF($D$10>0,$D$10*365*R45/2000,IF($D$11>0,$D$11*365*R45*Q45/2000,IF($I$11>0,0,T45*8760/2000)))))","v":0},{"$f":"(R14*R45/2000)","v":0}]
[null,{"$f":"IF(COUNTIF(J38:J47,\"Cement Supplement Delivery to Silo\")>0,\"EP-3 Cement Supplement Silo Stack:\",\"\")","v":""},null,null,null,null,null,"","",null,null,null,"",""]
[null,{"$f":"IF(COUNTIF(J38:J47,\"Weigh Hopper Loading\")>0,\"EP-4 Weigh Hopper Loading Stack:\",\"\")","v":""},null,null,null,null,null,"","",null,null,null,"",""]
[null,{"$f":"IF(COUNTIF(J38:J47,\"Truck Mix Loading\")>0,\"EP-5 Truck Mix Loading Stack:\",\"\")","v":""},null,null,null,null,null,{"$f":"IF('Concrete Plant (CP-4)'!$D$4>1,\"Stock Pile Area\",\"\")","v":""},null,null,null,null,null,null,null,"Storage Pile","Max Design Rate (acres/day)","Emission Factor   (lb/acre-day)","Potential Uncontrolled Emissions (lb/hr)","Potential Controlled Emissions (lb/hr)","Potential Annual Emissions (tons/yr)","Actual Annual Emissions (tons/yr)"]
[null,{"$f":"IF(COUNTIF(J38:J47,\"Central Mix Loading\")>0,\"EP-6 Central Mix Loading Stack:\",\"\")","v":""},null,null,null,null,null,null,{"$f":"IF('Concrete Plant (CP-4)'!$D$4>1,\"Emission Unit #\",\"\")","v":""},{"$f":"IF('Concrete Plant (CP-4)'!$D$4>1,\"Maximum Storage Area (acres)\",\"\")","v":""},{"$f":"IF('Concrete Plant (CP-4)'!$D$4>1,\"Actual Storage Area (acres)\",\"\")","v":""},{"$f":"IF('Concrete Plant (CP-4)'!$D$4>1,\"Actual Days in Existence (days)\",\"\")","v":""},null,null,null,"PM2.5/PM10",{"$f":"Q17","v":0},3.64,{"$f":"Q49*R49*(1/24)","v":0},null,{"$f":"Q49*R49*365/2000","v":0},{"$f":"R17*R49/2000","v":0}]
[]
[]
[]
[null,{"$f":"IF('Concrete Plant (CP-4)'!$D$4>2,\"Batch Plant\",\"\")","v":""},{"$f":"IF('Concrete Plant (CP-4)'!$D$4>2,\"Site 3\",\"\")","v":""},null,null,null,null,{"$f":"IF('Concrete Plant (CP-4)'!$D$4>2,\"Emission Point #\",\"\")","v":""},{"$f":"IF('Concrete Plant (CP-4)'!$D$4>2,\"Emission     Unit #\",\"\")","v":""},{"$f":"IF('Concrete Plant (CP-4)'!$D$4>2,\"Processes\",\"\")","v":""},{"$f":"IF('Concrete Plant (CP-4)'!$D$4>2,\"Combined Maximum Hourly Design Rate for all Like Processes (cubic yard/hr)\",\"\")","v":""},{"$f":"IF('Concrete Plant (CP-4)'!$D$4>2,('Facility Information'!G5&\" Annual Throughput (cubic yards)\"),\"\")","v":""}]
[null,{"$f":"IF('Concrete Plant (CP-4)'!$D$4>2,\"Site Name:\",\"\")","v":""},null,null,null,null,null,{"$f":"IF(J54=\"cement delivery to silo\",\"CP-1 EP-2\",IF(J54=\"cement supplement delivery to silo\",\"CP-1 EP-3\",IF(J54=\"weigh hopper loading\",\"CP-1 EP-4\",IF(J54=\"truck mix loading\",\"CP-1 EP-5\",IF(J54=\"central mix loading\",\"CP-1 EP-6\",IF(J54=\"\",\"\",\"CP-1 EP-1\"))))))","v":""},{"$f":"IF(J54=\"\",\"\",IF(J54=\"aggregate delivery to ground storage\",\"CP-4 EU-1\",IF(J54=\"sand delivery to ground storage\",\"CP-4 EU-2\",IF(J54=\"aggregate transfer to conveyor\",\"CP-4 EU-3\",IF(J54=\"sand transfer to conveyor\",\"CP-4 EU-4\",IF(J54=\"aggregate transfer to elevated storage\",\"CP-4 EU-5\",IF(J54=\"sand transfer to elevated storage\",\"CP-4 EU-6\",IF(J54=\"weigh hopper loading\",\"CP-4 EU-7\",IF(J54=\"central mix loading\",\"CP-4 EU-8\",IF(J54=\"truck mix loading\",\"CP-4 EU-9\",IF(J54=\"cement delivery to silo\",\"CP-4 EU-10\",IF(J54=\"cement supplement delivery to silo\",\"CP-4 EU-11\"))))))))))))","v":""},null,null,null,{"$f":"IF(J54=\"truck mix loading\",IF($F$57=\"yes\",L54*0.05/2000,L54/2000),\"\")","v":""},{"$f":"IF(J54=\"central mix loading\",IF($F$57=\"yes\",L54*0.05/2000,L54/2000),\"\")","v":""}]
[null,{"$f":"IF('Concrete Plant (CP-4)'!$D$4>2,\"County:\",\"\")","v":""},null,null,null,null,null,{"$f":"IF(J55=\"cement delivery to silo\",\"CP-1 EP-2\",IF(J55=\"cement supplement delivery to silo\",\"CP-1 EP-3\",IF(J55=\"weigh hopper loading\",\"CP-1 EP-4\",IF(J55=\"truck mix loading\",\"CP-1 EP-5\",IF(J55=\"central mix loading\",\"CP-1 EP-6\",IF(J55=\"\",\"\",\"CP-1 EP-1\"))))))","v":""},"",null,null,null,{"$f":"IF(J55=\"truck mix loading\",IF($F$57=\"yes\",L55*0.05/2000,L55/2000),\"\")","v":""},{"$f":"IF(J55=\"central mix loading\",IF($F$57=\"yes\",L55*0.05/2000,L55/2000),\"\")","v":""}]
[null,{"$f":"IF('Concrete Plant (CP-4)'!$D$4>2,\"Batching Period (Dates):\",\"\")","v":""},null,null,null,null,null,"","",null,null,null,"",""]
[null,{"$f":"IF(OR(COUNTIF(J54:J63,\"Truck Mix Loading\")>0,(COUNTIF(J54:J63,\"Central Mix Loading\")>0)),\"Is the Central/Truck Mix Loading process controlled by a baghouse?\",\"\")","v":""},null,null,null,null,null,"","",null,null,null,"",""]
[null,null,null,null,null,null,null,"","",null,null,null,"",""]
[null,{"$f":"IF(AND(B61=\"\",B62=\"\",B63=\"\",B64=\"\",B65=\"\"),\"\",\"Process (complete stack information if applicable):\")","v":""},{"$f":"IF(AND(B61=\"\",B62=\"\",B63=\"\",B64=\"\",B65=\"\"),\"\",\"Stack Height (ft):\")","v":""},{"$f":"IF(AND(B61=\"\",B62=\"\",B63=\"\",B64=\"\",B65=\"\"),\"\",\"Stack Diameter (inches):\")","v":""},{"$f":"IF(AND(B61=\"\",B62=\"\",B63=\"\",B64=\"\",B65=\"\"),\"\",\"Flow Rate (acfm):\")","v":""},{"$f":"IF(AND(B61=\"\",B62=\"\",B63=\"\",B64=\"\",B65=\"\"),\"\",\"Temp (Deg F):\")","v":""},null,"","",null,null,null,"",""]
[null,null,null,null,null,null,null,"","",null,null,null,"",""]
[null,{"$f":"IF(COUNTIF(J54:J63,\"Cement Delivery to Silo\")>0,\"EP-2 Cement Silo Stack:\",\"\")","v":""},null,null,null,null,null,"","",null,null,null,"",""]
[null,{"$f":"IF(COUNTIF(J54:J63,\"Cement Supplement Delivery to Silo\")>0,\"EP-3 Cement Supplement Silo Stack:\",\"\")","v":""},null,null,null,null,null,"","",null,null,null,"",""]
[null,{"$f":"IF(COUNTIF(J54:J63,\"Weigh Hopper Loading\")>0,\"EP-4 Weigh Hopper Loading Stack:\",\"\")","v":""},null,null,null,null,null,"","",null,null,null,"",""]
[null,{"$f":"IF(COUNTIF(J54:J63,\"Truck Mix Loading\")>0,\"EP-5 Truck Mix Loading Stack:\",\"\")","v":""}]
[null,{"$f":"IF(COUNTIF(J54:J63,\"Central Mix Loading\")>0,\"EP-6 Central Mix Loading Stack:\",\"\")","v":""},null,null,null,null,null,{"$f":"IF('Concrete Plant (CP-4)'!$D$4>2,\"Stock Pile Area\",\"\")","v":""}]
[null,null,null,null,null,null,null,null,{"$f":"IF('Concrete Plant (CP-4)'!$D$4>2,\"Emission Unit #\",\"\")","v":""},{"$f":"IF('Concrete Plant (CP-4)'!$D$4>2,\"Maximum Storage Area (acres)\",\"\")","v":""},{"$f":"IF('Concrete Plant (CP-4)'!$D$4>2,\"Actual Storage Area (acres)\",\"\")","v":""},{"$f":"IF('Concrete Plant (CP-4)'!$D$4>2,\"Actual Days in Existence (days)\",\"\")","v":""}]
[]
[]
[null,{"$f":"IF('Concrete Plant (CP-4)'!$D$4>3,\"Batch Plant\",\"\")","v":""},{"$f":"IF('Concrete Plant (CP-4)'!$D$4>3,\"Site 4\",\"\")","v":""},null,null,null,null,{"$f":"IF('Concrete Plant (CP-4)'!$D$4>3,\"Emission Point #\",\"\")","v":""},{"$f":"IF('Concrete Plant (CP-4)'!$D$4>3,\"Emission     Unit #\",\"\")","v":""},{"$f":"IF('Concrete Plant (CP-4)'!$D$4>3,\"Processes\",\"\")","v":""},{"$f":"IF('Concrete Plant (CP-4)'!$D$4>3,\"Combined Maximum Hourly Design Rate for all Like Processes (cubic yard/hr)\",\"\")","v":""},{"$f":"IF('Concrete Plant (CP-4)'!$D$4>3,('Facility Information'!G5&\" Annual Throughput (cubic yards)\"),\"\")","v":""}]
[null,{"$f":"IF('Concrete Plant (CP-4)'!$D$4>3,\"Site Name:\",\"\")","v":""},null,null,null,null,null,{"$f":"IF(J70=\"cement delivery to silo\",\"CP-1 EP-2\",IF(J70=\"cement supplement delivery to silo\",\"CP-1 EP-3\",IF(J70=\"weigh hopper loading\",\"CP-1 EP-4\",IF(J70=\"truck mix loading\",\"CP-1 EP-5\",IF(J70=\"central mix loading\",\"CP-1 EP-6\",IF(J70=\"\",\"\",\"CP-1 EP-1\"))))))","v":""},{"$f":"IF(J70=\"\",\"\",IF(J70=\"aggregate delivery to ground storage\",\"CP-4 EU-1\",IF(J70=\"sand delivery to ground storage\",\"CP-4 EU-2\",IF(J70=\"aggregate transfer to conveyor\",\"CP-4 EU-3\",IF(J70=\"sand transfer to conveyor\",\"CP-4 EU-4\",IF(J70=\"aggregate transfer to elevated storage\",\"CP-4 EU-5\",IF(J70=\"sand transfer to elevated storage\",\"CP-4 EU-6\",IF(J70=\"weigh hopper loading\",\"CP-4 EU-7\",IF(J70=\"central mix loading\",\"CP-4 EU-8\",IF(J70=\"truck mix loading\",\"CP-4 EU-9\",IF(J70=\"cement delivery to silo\",\"CP-4 EU-10\",IF(J70=\"cement supplement delivery to silo\",\"CP-4 EU-11\"))))))))))))","v":""},null,null,null,{"$f":"IF(J70=\"truck mix loading\",IF($F$73=\"yes\",L70*0.05/2000,L70/2000),\"\")","v":""},{"$f":"IF(J70=\"central mix loading\",IF($F$73=\"yes\",L70*0.05/2000,L70/2000),\"\")","v":""}]
[null,{"$f":"IF('Concrete Plant (CP-4)'!$D$4>3,\"County:\",\"\")","v":""},null,null,null,null,null,{"$f":"IF(J71=\"cement delivery to silo\",\"CP-1 EP-2\",IF(J71=\"cement supplement delivery to silo\",\"CP-1 EP-3\",IF(J71=\"weigh hopper loading\",\"CP-1 EP-4\",IF(J71=\"truck mix loading\",\"CP-1 EP-5\",IF(J71=\"central mix loading\",\"CP-1 EP-6\",IF(J71=\"\",\"\",\"CP-1 EP-1\"))))))","v":""},"",null,null,null,{"$f":"IF(J71=\"truck mix loading\",IF($F$73=\"yes\",L71*0.05/2000,L71/2000),\"\")","v":""},{"$f":"IF(J71=\"central mix loading\",IF($F$73=\"yes\",L71*0.05/2000,L71/2000),\"\")","v":""}]
[null,{"$f":"IF('Concrete Plant (CP-4)'!$D$4>3,\"Batching Period (Dates):\",\"\")","v":""},null,null,null,null,null,"","",null,null,null,"",""]
[null,{"$f":"IF(OR(COUNTIF(J70:J79,\"Truck Mix Loading\")>0,(COUNTIF(J70:J79,\"Central Mix Loading\")>0)),\"Is the Central/Truck Mix Loading process controlled by a baghouse?\",\"\")","v":""},null,null,null,null,null,"","",null,null,null,"",""]
[null,null,null,null,null,null,null,"","",null,null,null,"",""]
[null,{"$f":"IF(AND(B77=\"\",B78=\"\",B79=\"\",B80=\"\",B81=\"\"),\"\",\"Process (complete stack information if applicable):\")","v":""},{"$f":"IF(AND(B77=\"\",B78=\"\",B79=\"\",B80=\"\",B81=\"\"),\"\",\"Stack Height (ft):\")","v":""},{"$f":"IF(AND(B77=\"\",B78=\"\",B79=\"\",B80=\"\",B81=\"\"),\"\",\"Stack Diameter (inches):\")","v":""},{"$f":"IF(AND(B77=\"\",B78=\"\",B79=\"\",B80=\"\",B81=\"\"),\"\",\"Flow Rate (acfm):\")","v":""},{"$f":"IF(AND(B77=\"\",B78=\"\",B79=\"\",B80=\"\",B81=\"\"),\"\",\"Temp (Deg F):\")","v":""},null,"","",null,null,null,"",""]
[null,null,null,null,null,null,null,"","",null,null,null,"",""]
[null,{"$f":"IF(COUNTIF(J70:J79,\"Cement Delivery to Silo\")>0,\"EP-2 Cement Silo Stack:\",\"\")","v":""},null,null,null,null,null,"","",null,null,null,"",""]
[null,{"$f":"IF(COUNTIF(J70:J79,\"Cement Supplement Delivery to Silo\")>0,\"EP-3 Cement Supplement Silo Stack:\",\"\")","v":""},null,null,null,null,null,"","",null,null,null,"",""]
[null,{"$f":"IF(COUNTIF(J70:J79,\"Weigh Hopper Loading\")>0,\"EP-4 Weigh Hopper Loading Stack:\",\"\")","v":""},null,null,null,null,null,"","",null,null,null,"",""]
[null,{"$f":"IF(COUNTIF(J70:J79,\"Truck Mix Loading\")>0,\"EP-5 Truck Mix Loading Stack:\",\"\")","v":""}]
[null,{"$f":"IF(COUNTIF(J70:J79,\"Central Mix Loading\")>0,\"EP-6 Central Mix Loading Stack:\",\"\")","v":""},null,null,null,null,null,{"$f":"IF('Concrete Plant (CP-4)'!$D$4>3,\"Stock Pile Area\",\"\")","v":""}]
[null,null,null,null,null,null,null,null,{"$f":"IF('Concrete Plant (CP-4)'!$D$4>3,\"Emission Unit #\",\"\")","v":""},{"$f":"IF('Concrete Plant (CP-4)'!$D$4>3,\"Maximum Storage Area (acres)\",\"\")","v":""},{"$f":"IF('Concrete Plant (CP-4)'!$D$4>3,\"Actual Storage Area (acres)\",\"\")","v":""},{"$f":"IF('Concrete Plant (CP-4)'!$D$4>3,\"Actual Days in Existence (days)\",\"\")","v":""}]
[]
[]
[null,{"$f":"IF('Concrete Plant (CP-4)'!$D$4>4,\"Batch Plant\",\"\")","v":""},{"$f":"IF('Concrete Plant (CP-4)'!$D$4>4,\"Site 5\",\"\")","v":""},null,null,null,null,{"$f":"IF('Concrete Plant (CP-4)'!$D$4>4,\"Emission Point #\",\"\")","v":""},{"$f":"IF('Concrete Plant (CP-4)'!$D$4>4,\"Emission     Unit #\",\"\")","v":""},{"$f":"IF('Concrete Plant (CP-4)'!$D$4>4,\"Processes\",\"\")","v":""},{"$f":"IF('Concrete Plant (CP-4)'!$D$4>4,\"Combined Maximum Hourly Design Rate for all Like Processes (cubic yard/hr)\",\"\")","v":""},{"$f":"IF('Concrete Plant (CP-4)'!$D$4>4,('Facility Information'!G5&\" Annual Throughput (cubic yards)\"),\"\")","v":""}]
[null,{"$f":"IF('Concrete Plant (CP-4)'!$D$4>4,\"Site Name:\",\"\")","v":""},null,null,null,null,null,{"$f":"IF(J86=\"cement delivery to silo\",\"CP-1 EP-2\",IF(J86=\"cement supplement delivery to silo\",\"CP-1 EP-3\",IF(J86=\"weigh hopper loading\",\"CP-1 EP-4\",IF(J86=\"truck mix loading\",\"CP-1 EP-5\",IF(J86=\"central mix loading\",\"CP-1 EP-6\",IF(J86=\"\",\"\",\"CP-1 EP-1\"))))))","v":""},{"$f":"IF(J86=\"\",\"\",IF(J86=\"aggregate delivery to ground storage\",\"CP-4 EU-1\",IF(J86=\"sand delivery to ground storage\",\"CP-4 EU-2\",IF(J86=\"aggregate transfer to conveyor\",\"CP-4 EU-3\",IF(J86=\"sand transfer to conveyor\",\"CP-4 EU-4\",IF(J86=\"aggregate transfer to elevated storage\",\"CP-4 EU-5\",IF(J86=\"sand transfer to elevated storage\",\"CP-4 EU-6\",IF(J86=\"weigh hopper loading\",\"CP-4 EU-7\",IF(J86=\"central mix loading\",\"CP-4 EU-8\",IF(J86=\"truck mix loading\",\"CP-4 EU-9\",IF(J86=\"cement delivery to silo\",\"CP-4 EU-10\",IF(J86=\"cement supplement delivery to silo\",\"CP-4 EU-11\"))))))))))))","v":""},null,null,null,{"$f":"IF(J86=\"truck mix loading\",IF($F$89=\"yes\",L86*0.05/2000,L86/2000),\"\")","v":""},{"$f":"IF(J86=\"central mix loading\",IF($F$89=\"yes\",L86*0.05/2000,L86/2000),\"\")","v":""}]
[null,{"$f":"IF('Concrete Plant (CP-4)'!$D$4>4,\"County:\",\"\")","v":""},null,null,null,null,null,{"$f":"IF(J87=\"cement delivery to silo\",\"CP-1 EP-2\",IF(J87=\"cement supplement delivery to silo\",\"CP-1 EP-3\",IF(J87=\"weigh hopper loading\",\"CP-1 EP-4\",IF(J87=\"truck mix loading\",\"CP-1 EP-5\",IF(J87=\"central mix loading\",\"CP-1 EP-6\",IF(J87=\"\",\"\",\"CP-1 EP-1\"))))))","v":""},"",null,null,null,{"$f":"IF(J87=\"truck mix loading\",IF($F$89=\"yes\",L87*0.05/2000,L87/2000),\"\")","v":""},{"$f":"IF(J87=\"central mix loading\",IF($F$89=\"yes\",L87*0.05/2000,L87/2000),\"\")","v":""}]
[null,{"$f":"IF('Concrete Plant (CP-4)'!$D$4>4,\"Batching Period (Dates):\",\"\")","v":""},null,null,null,null,null,"","",null,null,null,"",""]
[null,{"$f":"IF(OR(COUNTIF(J86:J95,\"Truck Mix Loading\")>0,(COUNTIF(J86:J95,\"Central Mix Loading\")>0)),\"Is the Central/Truck Mix Loading process controlled by a baghouse?\",\"\")","v":""},null,null,null,null,null,"","",null,null,null,"",""]
[null,null,null,null,null,null,null,"","",null,null,null,"",""]
[null,{"$f":"IF(AND(B93=\"\",B94=\"\",B95=\"\",B96=\"\",B97=\"\"),\"\",\"Process (complete stack information if applicable):\")","v":""},{"$f":"IF(AND(B93=\"\",B94=\"\",B95=\"\",B96=\"\",B97=\"\"),\"\",\"Stack Height (ft):\")","v":""},{"$f":"IF(AND(B93=\"\",B94=\"\",B95=\"\",B96=\"\",B97=\"\"),\"\",\"Stack Diameter (inches):\")","v":""},{"$f":"IF(AND(B93=\"\",B94=\"\",B95=\"\",B96=\"\",B97=\"\"),\"\",\"Flow Rate (acfm):\")","v":""},{"$f":"IF(AND(B93=\"\",B94=\"\",B95=\"\",B96=\"\",B97=\"\"),\"\",\"Temp (Deg F):\")","v":""},null,"","",null,null,null,"",""]
[null,null,null,null,null,null,null,"","",null,null,null,"",""]
[null,{"$f":"IF(COUNTIF(J86:J95,\"Cement Delivery to Silo\")>0,\"EP-2 Cement Silo Stack:\",\"\")","v":""},null,null,null,null,null,"","",null,null,null,"",""]
[null,{"$f":"IF(COUNTIF(J86:J95,\"Cement Supplement Delivery to Silo\")>0,\"EP-3 Cement Supplement Silo Stack:\",\"\")","v":""},null,null,null,null,null,"","",null,null,null,"",""]
[null,{"$f":"IF(COUNTIF(J86:J95,\"Weigh Hopper Loading\")>0,\"EP-4 Weigh Hopper Loading Stack:\",\"\")","v":""},null,null,null,null,null,"","",null,null,null,"",""]
[null,{"$f":"IF(COUNTIF(J86:J95,\"Truck Mix Loading\")>0,\"EP-5 Truck Mix Loading Stack:\",\"\")","v":""}]
[null,{"$f":"IF(COUNTIF(J86:J95,\"Central Mix Loading\")>0,\"EP-6 Central Mix Loading Stack:\",\"\")","v":""},null,null,null,null,null,{"$f":"IF('Concrete Plant (CP-4)'!$D$4>4,\"Stock Pile Area\",\"\")","v":""}]
[null,null,null,null,null,null,null,null,{"$f":"IF('Concrete Plant (CP-4)'!$D$4>4,\"Emission Unit #\",\"\")","v":""},{"$f":"IF('Concrete Plant (CP-4)'!$D$4>4,\"Maximum Storage Area (acres)\",\"\")","v":""},{"$f":"IF('Concrete Plant (CP-4)'!$D$4>4,\"Actual Storage Area (acres)\",\"\")","v":""},{"$f":"IF('Concrete Plant (CP-4)'!$D$4>4,\"Actual Days in Existence (days)\",\"\")","v":""}]
[]
[]
[null,{"$f":"IF('Concrete Plant (CP-4)'!$D$4>5,\"Batch Plant\",\"\")","v":""},{"$f":"IF('Concrete Plant (CP-4)'!$D$4>5,\"Site 6\",\"\")","v":""},null,null,null,null,{"$f":"IF('Concrete Plant (CP-4)'!$D$4>5,\"Emission Point #\",\"\")","v":""},{"$f":"IF('Concrete Plant (CP-4)'!$D$4>5,\"Emission     Unit #\",\"\")","v":""},{"$f":"IF('Concrete Plant (CP-4)'!$D$4>5,\"Processes\",\"\")","v":""},{"$f":"IF('Concrete Plant (CP-4)'!$D$4>5,\"Combined Maximum Hourly Design Rate for all Like Processes (cubic yard/hr)\",\"\")","v":""},{"$f":"IF('Concrete Plant (CP-4)'!$D$4>5,('Facility Information'!G5&\" Annual Throughput (cubic yards)\"),\"\")","v":""}]
[null,{"$f":"IF('Concrete Plant (CP-4)'!$D$4>5,\"Site Name:\",\"\")","v":""},null,null,null,null,null,{"$f":"IF(J102=\"cement delivery to silo\",\"CP-1 EP-2\",IF(J102=\"cement supplement delivery to silo\",\"CP-1 EP-3\",IF(J102=\"weigh hopper loading\",\"CP-1 EP-4\",IF(J102=\"truck mix loading\",\"CP-1 EP-5\",IF(J102=\"central mix loading\",\"CP-1 EP-6\",IF(J102=\"\",\"\",\"CP-1 EP-1\"))))))","v":""},{"$f":"IF(J102=\"\",\"\",IF(J102=\"aggregate delivery to ground storage\",\"CP-4 EU-1\",IF(J102=\"sand delivery to ground storage\",\"CP-4 EU-2\",IF(J102=\"aggregate transfer to conveyor\",\"CP-4 EU-3\",IF(J102=\"sand transfer to conveyor\",\"CP-4 EU-4\",IF(J102=\"aggregate transfer to elevated storage\",\"CP-4 EU-5\",IF(J102=\"sand transfer to elevated storage\",\"CP-4 EU-6\",IF(J102=\"weigh hopper loading\",\"CP-4 EU-7\",IF(J102=\"central mix loading\",\"CP-4 EU-8\",IF(J102=\"truck mix loading\",\"CP-4 EU-9\",IF(J102=\"cement delivery to silo\",\"CP-4 EU-10\",IF(J102=\"cement supplement delivery to silo\",\"CP-4 EU-11\"))))))))))))","v":""},null,null,null,{"$f":"IF(J102=\"truck mix loading\",IF($F$105=\"yes\",L102*0.05/2000,L102/2000),\"\")","v":""},{"$f":"IF(J102=\"central mix loading\",IF($F$105=\"yes\",L102*0.05/2000,L102/2000),\"\")","v":""}]
[null,{"$f":"IF('Concrete Plant (CP-4)'!$D$4>5,\"County:\",\"\")","v":""},null,null,null,null,null,{"$f":"IF(J103=\"cement delivery to silo\",\"CP-1 EP-2\",IF(J103=\"cement supplement delivery to silo\",\"CP-1 EP-3\",IF(J103=\"weigh hopper loading\",\"CP-1 EP-4\",IF(J103=\"truck mix loading\",\"CP-1 EP-5\",IF(J103=\"central mix loading\",\"CP-1 EP-6\",IF(J103=\"\",\"\",\"CP-1 EP-1\"))))))","v":""},"",null,null,null,{"$f":"IF(J103=\"truck mix loading\",IF($F$105=\"yes\",L103*0.05/2000,L103/2000),\"\")","v":""},{"$f":"IF(J103=\"central mix loading\",IF($F$105=\"yes\",L103*0.05/2000,L103/2000),\"\")","v":""}]
[null,{"$f":"IF('Concrete Plant (CP-4)'!$D$4>5,\"Batching Period (Dates):\",\"\")","v":""},null,null,null,null,null,"","",null,null,null,"",""]
[null,{"$f":"IF(OR(COUNTIF(J102:J111,\"Truck Mix Loading\")>0,(COUNTIF(J102:J111,\"Central Mix Loading\")>0)),\"Is the Central/Truck Mix Loading process controlled by a baghouse?\",\"\")","v":""},null,null,null,null,null,"","",null,null,null,"",""]
[null,null,null,null,null,null,null,"","",null,null,null,"",""]
[null,{"$f":"IF(AND(B109=\"\",B110=\"\",B111=\"\",B112=\"\",B113=\"\"),\"\",\"Process (complete stack information if applicable):\")","v":""},{"$f":"IF(AND(B109=\"\",B110=\"\",B111=\"\",B112=\"\",B113=\"\"),\"\",\"Stack Height (ft):\")","v":""},{"$f":"IF(AND(B109=\"\",B110=\"\",B111=\"\",B112=\"\",B113=\"\"),\"\",\"Stack Diameter (inches):\")","v":""},{"$f":"IF(AND(B109=\"\",B110=\"\",B111=\"\",B112=\"\",B113=\"\"),\"\",\"Flow Rate (acfm):\")","v":""},{"$f":"IF(AND(B109=\"\",B110=\"\",B111=\"\",B112=\"\",B113=\"\"),\"\",\"Temp (Deg F):\")","v":""},null,"","",null,null,null,"",""]
[null,null,null,null,null,null,null,"","",null,null,null,"",""]
[null,{"$f":"IF(COUNTIF(J102:J111,\"Cement Delivery to Silo\")>0,\"EP-2 Cement Silo Stack:\",\"\")","v":""},null,null,null,null,null,"","",null,null,null,"",""]
[null,{"$f":"IF(COUNTIF(J102:J111,\"Cement Supplement Delivery to Silo\")>0,\"EP-3 Cement Supplement Silo Stack:\",\"\")","v":""},null,null,null,null,null,"","",null,null,null,"",""]
[null,{"$f":"IF(COUNTIF(J102:J111,\"Weigh Hopper Loading\")>0,\"EP-4 Weigh Hopper Loading Stack:\",\"\")","v":""},null,null,null,null,null,"","",null,null,null,"",""]
[null,{"$f":"IF(COUNTIF(J102:J111,\"Truck Mix Loading\")>0,\"EP-5 Truck Mix Loading Stack:\",\"\")","v":""}]
[null,{"$f":"IF(COUNTIF(J102:J111,\"Central Mix Loading\")>0,\"EP-6 Central Mix Loading Stack:\",\"\")","v":""},null,null,null,null,null,{"$f":"IF('Concrete Plant (CP-4)'!$D$4>5,\"Stock Pile Area\",\"\")","v":""}]
[null,null,null,null,null,null,null,null,{"$f":"IF('Concrete Plant (CP-4)'!$D$4>5,\"Emission Unit #\",\"\")","v":""},{"$f":"IF('Concrete Plant (CP-4)'!$D$4>5,\"Maximum Storage Area (acres)\",\"\")","v":""},{"$f":"IF('Concrete Plant (CP-4)'!$D$4>5,\"Actual Storage Area (acres)\",\"\")","v":""},{"$f":"IF('Concrete Plant (CP-4)'!$D$4>5,\"Actual Days in Existence (days)\",\"\")","v":""}]
[]
[]
[null,{"$f":"IF('Concrete Plant (CP-4)'!$D$4>6,\"Batch Plant\",\"\")","v":""},{"$f":"IF('Concrete Plant (CP-4)'!$D$4>6,\"Site 7\",\"\")","v":""},null,null,null,null,{"$f":"IF('Concrete Plant (CP-4)'!$D$4>6,\"Emission Point #\",\"\")","v":""},{"$f":"IF('Concrete Plant (CP-4)'!$D$4>6,\"Emission     Unit #\",\"\")","v":""},{"$f":"IF('Concrete Plant (CP-4)'!$D$4>6,\"Processes\",\"\")","v":""},{"$f":"IF('Concrete Plant (CP-4)'!$D$4>6,\"Combined Maximum Hourly Design Rate for all Like Processes (cubic yard/hr)\",\"\")","v":""},{"$f":"IF('Concrete Plant (CP-4)'!$D$4>6,('Facility Information'!G5&\" Annual Throughput (cubic yards)\"),\"\")","v":""}]
[null,{"$f":"IF('Concrete Plant (CP-4)'!$D$4>6,\"Site Name:\",\"\")","v":""},null,null,null,null,null,{"$f":"IF(J118=\"cement delivery to silo\",\"CP-1 EP-2\",IF(J118=\"cement supplement delivery to silo\",\"CP-1 EP-3\",IF(J118=\"weigh hopper loading\",\"CP-1 EP-4\",IF(J118=\"truck mix loading\",\"CP-1 EP-5\",IF(J118=\"central mix loading\",\"CP-1 EP-6\",IF(J118=\"\",\"\",\"CP-1 EP-1\"))))))","v":""},{"$f":"IF(J118=\"\",\"\",IF(J118=\"aggregate delivery to ground storage\",\"CP-4 EU-1\",IF(J118=\"sand delivery to ground storage\",\"CP-4 EU-2\",IF(J118=\"aggregate transfer to conveyor\",\"CP-4 EU-3\",IF(J118=\"sand transfer to conveyor\",\"CP-4 EU-4\",IF(J118=\"aggregate transfer to elevated storage\",\"CP-4 EU-5\",IF(J118=\"sand transfer to elevated storage\",\"CP-4 EU-6\",IF(J118=\"weigh hopper loading\",\"CP-4 EU-7\",IF(J118=\"central mix loading\",\"CP-4 EU-8\",IF(J118=\"truck mix loading\",\"CP-4 EU-9\",IF(J118=\"cement delivery to silo\",\"CP-4 EU-10\",IF(J118=\"cement supplement delivery to silo\",\"CP-4 EU-11\"))))))))))))","v":""},null,null,null,{"$f":"IF(J118=\"truck mix loading\",IF($F$121=\"yes\",L118*0.05/2000,L118/2000),\"\")","v":""},{"$f":"IF(J118=\"central mix loading\",IF($F$121=\"yes\",L118*0.05/2000,L118/2000),\"\")","v":""}]
[null,{"$f":"IF('Concrete Plant (CP-4)'!$D$4>6,\"County:\",\"\")","v":""},null,null,null,null,null,{"$f":"IF(J119=\"cement delivery to silo\",\"CP-1 EP-2\",IF(J119=\"cement supplement delivery to silo\",\"CP-1 EP-3\",IF(J119=\"weigh hopper loading\",\"CP-1 EP-4\",IF(J119=\"truck mix loading\",\"CP-1 EP-5\",IF(J119=\"central mix loading\",\"CP-1 EP-6\",IF(J119=\"\",\"\",\"CP-1 EP-1\"))))))","v":""},"",null,null,null,{"$f":"IF(J119=\"truck mix loading\",IF($F$121=\"yes\",L119*0.05/2000,L119/2000),\"\")","v":""},{"$f":"IF(J119=\"central mix loading\",IF($F$121=\"yes\",L119*0.05/2000,L119/2000),\"\")","v":""}]
[null,{"$f":"IF('Concrete Plant (CP-4)'!$D$4>6,\"Batching Period (Dates):\",\"\")","v":""},null,null,null,null,null,"","",null,null,null,"",""]
[null,{"$f":"IF(OR(COUNTIF(J118:J127,\"Truck Mix Loading\")>0,(COUNTIF(J118:J127,\"Central Mix Loading\")>0)),\"Is the Central/Truck Mix Loading process controlled by a baghouse?\",\"\")","v":""},null,null,null,null,null,"","",null,null,null,"",""]
[null,null,null,null,null,null,null,"","",null,null,null,"",""]
[null,{"$f":"IF(AND(B125=\"\",B126=\"\",B127=\"\",B128=\"\",B129=\"\"),\"\",\"Process (complete stack information if applicable):\")","v":""},{"$f":"IF(AND(B125=\"\",B126=\"\",B127=\"\",B128=\"\",B129=\"\"),\"\",\"Stack Height (ft):\")","v":""},{"$f":"IF(AND(B125=\"\",B126=\"\",B127=\"\",B128=\"\",B129=\"\"),\"\",\"Stack Diameter (inches):\")","v":""},{"$f":"IF(AND(B125=\"\",B126=\"\",B127=\"\",B128=\"\",B129=\"\"),\"\",\"Flow Rate (acfm):\")","v":""},{"$f":"IF(AND(B125=\"\",B126=\"\",B127=\"\",B128=\"\",B129=\"\"),\"\",\"Temp (Deg F):\")","v":""},null,"","",null,null,null,"",""]
[null,null,null,null,null,null,null,"","",null,null,null,"",""]
[null,{"$f":"IF(COUNTIF(J118:J127,\"Cement Delivery to Silo\")>0,\"EP-2 Cement Silo Stack:\",\"\")","v":""},null,null,null,null,null,"","",null,null,null,"",""]
[null,{"$f":"IF(COUNTIF(J118:J127,\"Cement Supplement Delivery to Silo\")>0,\"EP-3 Cement Supplement Silo Stack:\",\"\")","v":""},null,null,null,null,null,"","",null,null,null,"",""]
[null,{"$f":"IF(COUNTIF(J118:J127,\"Weigh Hopper Loading\")>0,\"EP-4 Weigh Hopper Loading Stack:\",\"\")","v":""},null,null,null,null,null,"","",null,null,null,"",""]
[null,{"$f":"IF(COUNTIF(J118:J127,\"Truck Mix Loading\")>0,\"EP-5 Truck Mix Loading Stack:\",\"\")","v":""}]
[null,{"$f":"IF(COUNTIF(J118:J127,\"Central Mix Loading\")>0,\"EP-6 Central Mix Loading Stack:\",\"\")","v":""},null,null,null,null,null,{"$f":"IF('Concrete Plant (CP-4)'!$D$4>6,\"Stock Pile Area\",\"\")","v":""}]
[null,null,null,null,null,null,null,null,{"$f":"IF('Concrete Plant (CP-4)'!$D$4>6,\"Emission Unit #\",\"\")","v":""},{"$f":"IF('Concrete Plant (CP-4)'!$D$4>6,\"Maximum Storage Area (acres)\",\"\")","v":""},{"$f":"IF('Concrete Plant (CP-4)'!$D$4>6,\"Actual Storage Area (acres)\",\"\")","v":""},{"$f":"IF('Concrete Plant (CP-4)'!$D$4>6,\"Actual Days in Existence (days)\",\"\")","v":""}]
[]
[]
[null,{"$f":"IF('Concrete Plant (CP-4)'!$D$4>7,\"Batch Plant\",\"\")","v":""},{"$f":"IF('Concrete Plant (CP-4)'!$D$4>7,\"Site 8\",\"\")","v":""},null,null,null,null,{"$f":"IF('Concrete Plant (CP-4)'!$D$4>7,\"Emission Point #\",\"\")","v":""},{"$f":"IF('Concrete Plant (CP-4)'!$D$4>7,\"Emission     Unit #\",\"\")","v":""},{"$f":"IF('Concrete Plant (CP-4)'!$D$4>7,\"Processes\",\"\")","v":""},{"$f":"IF('Concrete Plant (CP-4)'!$D$4>7,\"Combined Maximum Hourly Design Rate for all Like Processes (cubic yard/hr)\",\"\")","v":""},{"$f":"IF('Concrete Plant (CP-4)'!$D$4>7,('Facility Information'!G5&\" Annual Throughput (cubic yards)\"),\"\")","v":""}]
[null,{"$f":"IF('Concrete Plant (CP-4)'!$D$4>7,\"Site Name:\",\"\")","v":""},null,null,null,null,null,{"$f":"IF(J134=\"cement delivery to silo\",\"CP-1 EP-2\",IF(J134=\"cement supplement delivery to silo\",\"CP-1 EP-3\",IF(J134=\"weigh hopper loading\",\"CP-1 EP-4\",IF(J134=\"truck mix loading\",\"CP-1 EP-5\",IF(J134=\"central mix loading\",\"CP-1 EP-6\",IF(J134=\"\",\"\",\"CP-1 EP-1\"))))))","v":""},{"$f":"IF(J134=\"\",\"\",IF(J134=\"aggregate delivery to ground storage\",\"CP-4 EU-1\",IF(J134=\"sand delivery to ground storage\",\"CP-4 EU-2\",IF(J134=\"aggregate transfer to conveyor\",\"CP-4 EU-3\",IF(J134=\"sand transfer to conveyor\",\"CP-4 EU-4\",IF(J134=\"aggregate transfer to elevated storage\",\"CP-4 EU-5\",IF(J134=\"sand transfer to elevated storage\",\"CP-4 EU-6\",IF(J134=\"weigh hopper loading\",\"CP-4 EU-7\",IF(J134=\"central mix loading\",\"CP-4 EU-8\",IF(J134=\"truck mix loading\",\"CP-4 EU-9\",IF(J134=\"cement delivery to silo\",\"CP-4 EU-10\",IF(J134=\"cement supplement delivery to silo\",\"CP-4 EU-11\"))))))))))))","v":""},null,null,null,{"$f":"IF(J134=\"truck mix loading\",IF($F$137=\"yes\",L134*0.05/2000,L134/2000),\"\")","v":""},{"$f":"IF(J134=\"central mix loading\",IF($F$137=\"yes\",L134*0.05/2000,L134/2000),\"\")","v":""}]
[null,{"$f":"IF('Concrete Plant (CP-4)'!$D$4>7,\"County:\",\"\")","v":""},null,null,null,null,null,{"$f":"IF(J135=\"cement delivery to silo\",\"CP-1 EP-2\",IF(J135=\"cement supplement delivery to silo\",\"CP-1 EP-3\",IF(J135=\"weigh hopper loading\",\"CP-1 EP-4\",IF(J135=\"truck mix loading\",\"CP-1 EP-5\",IF(J135=\"central mix loading\",\"CP-1 EP-6\",IF(J135=\"\",\"\",\"CP-1 EP-1\"))))))","v":""},"",null,null,null,{"$f":"IF(J135=\"truck mix loading\",IF($F$137=\"yes\",L135*0.05/2000,L135/2000),\"\")","v":""},{"$f":"IF(J135=\"central mix loading\",IF($F$137=\"yes\",L135*0.05/2000,L135/2000),\"\")","v":""}]
[null,{"$f":"IF('Concrete Plant (CP-4)'!$D$4>7,\"Batching Period (Dates):\",\"\")","v":""},null,null,null,null,null,"","",null,null,null,"",""]
[null,{"$f":"IF(OR(COUNTIF(J134:J143,\"Truck Mix Loading\")>0,(COUNTIF(J134:J143,\"Central Mix Loading\")>0)),\"Is the Central/Truck Mix Loading process controlled by a baghouse?\",\"\")","v":""},null,null,null,null,null,"","",null,null,null,"",""]
[null,null,null,null,null,null,null,"","",null,null,null,"",""]
[null,{"$f":"IF(AND(B141=\"\",B142=\"\",B143=\"\",B144=\"\",B145=\"\"),\"\",\"Process (complete stack information if applicable):\")","v":""},{"$f":"IF(AND(B141=\"\",B142=\"\",B143=\"\",B144=\"\",B145=\"\"),\"\",\"Stack Height (ft):\")","v":""},{"$f":"IF(AND(B141=\"\",B142=\"\",B143=\"\",B144=\"\",B145=\"\"),\"\",\"Stack Diameter (inches):\")","v":""},{"$f":"IF(AND(B141=\"\",B142=\"\",B143=\"\",B144=\"\",B145=\"\"),\"\",\"Flow Rate (acfm):\")","v":""},{"$f":"IF(AND(B141=\"\",B142=\"\",B143=\"\",B144=\"\",B145=\"\"),\"\",\"Temp (Deg F):\")","v":""},null,"","",null,null,null,"",""]
[null,null,null,null,null,null,null,"","",null,null,null,"",""]
[null,{"$f":"IF(COUNTIF(J134:J143,\"Cement Delivery to Silo\")>0,\"EP-2 Cement Silo Stack:\",\"\")","v":""},null,null,null,null,null,"","",null,null,null,"",""]
[null,{"$f":"IF(COUNTIF(J134:J143,\"Cement Supplement Delivery to Silo\")>0,\"EP-3 Cement Supplement Silo Stack:\",\"\")","v":""},null,null,null,null,null,"","",null,null,null,"",""]
[null,{"$f":"IF(COUNTIF(J134:J143,\"Weigh Hopper Loading\")>0,\"EP-4 Weigh Hopper Loading Stack:\",\"\")","v":""},null,null,null,null,null,"","",null,null,null,"",""]
[null,{"$f":"IF(COUNTIF(J134:J143,\"Truck Mix Loading\")>0,\"EP-5 Truck Mix Loading Stack:\",\"\")","v":""}]
[null,{"$f":"IF(COUNTIF(J134:J143,\"Central Mix Loading\")>0,\"EP-6 Central Mix Loading Stack:\",\"\")","v":""},null,null,null,null,null,{"$f":"IF('Concrete Plant (CP-4)'!$D$4>7,\"Stock Pile Area\",\"\")","v":""}]
[null,null,null,null,null,null,null,null,{"$f":"IF('Concrete Plant (CP-4)'!$D$4>7,\"Emission Unit #\",\"\")","v":""},{"$f":"IF('Concrete Plant (CP-4)'!$D$4>7,\"Maximum Storage Area (acres)\",\"\")","v":""},{"$f":"IF('Concrete Plant (CP-4)'!$D$4>7,\"Actual Storage Area (acres)\",\"\")","v":""},{"$f":"IF('Concrete Plant (CP-4)'!$D$4>7,\"Actual Days in Existence (days)\",\"\")","v":""}]
[]
[]
[null,{"$f":"IF('Concrete Plant (CP-4)'!$D$4>8,\"Batch Plant\",\"\")","v":""},{"$f":"IF('Concrete Plant (CP-4)'!$D$4>8,\"Site 9\",\"\")","v":""},null,null,null,null,{"$f":"IF('Concrete Plant (CP-4)'!$D$4>8,\"Emission Point #\",\"\")","v":""},{"$f":"IF('Concrete Plant (CP-4)'!$D$4>8,\"Emission     Unit #\",\"\")","v":""},{"$f":"IF('Concrete Plant (CP-4)'!$D$4>8,\"Processes\",\"\")","v":""},{"$f":"IF('Concrete Plant (CP-4)'!$D$4>8,\"Combined Maximum Hourly Design Rate for all Like Processes (cubic yard/hr)\",\"\")","v":""},{"$f":"IF('Concrete Plant (CP-4)'!$D$4>8,('Facility Information'!G5&\" Annual Throughput (cubic yards)\"),\"\")","v":""}]
[null,{"$f":"IF('Concrete Plant (CP-4)'!$D$4>8,\"Site Name:\",\"\")","v":""},null,null,null,null,null,{"$f":"IF(J150=\"cement delivery to silo\",\"CP-1 EP-2\",IF(J150=\"cement supplement delivery to silo\",\"CP-1 EP-3\",IF(J150=\"weigh hopper loading\",\"CP-1 EP-4\",IF(J150=\"truck mix loading\",\"CP-1 EP-5\",IF(J150=\"central mix loading\",\"CP-1 EP-6\",IF(J150=\"\",\"\",\"CP-1 EP-1\"))))))","v":""},{"$f":"IF(J150=\"\",\"\",IF(J150=\"aggregate delivery to ground storage\",\"CP-4 EU-1\",IF(J150=\"sand delivery to ground storage\",\"CP-4 EU-2\",IF(J150=\"aggregate transfer to conveyor\",\"CP-4 EU-3\",IF(J150=\"sand transfer to conveyor\",\"CP-4 EU-4\",IF(J150=\"aggregate transfer to elevated storage\",\"CP-4 EU-5\",IF(J150=\"sand transfer to elevated storage\",\"CP-4 EU-6\",IF(J150=\"weigh hopper loading\",\"CP-4 EU-7\",IF(J150=\"central mix loading\",\"CP-4 EU-8\",IF(J150=\"truck mix loading\",\"CP-4 EU-9\",IF(J150=\"cement delivery to silo\",\"CP-4 EU-10\",IF(J150=\"cement supplement delivery to silo\",\"CP-4 EU-11\"))))))))))))","v":""},null,null,null,{"$f":"IF(J150=\"truck mix loading\",IF($F$153=\"yes\",L150*0.05/2000,L150/2000),\"\")","v":""},{"$f":"IF(J150=\"central mix loading\",IF($F$153=\"yes\",L150*0.05/2000,L150/2000),\"\")","v":""}]
[null,{"$f":"IF('Concrete Plant (CP-4)'!$D$4>8,\"County:\",\"\")","v":""},null,null,null,null,null,{"$f":"IF(J151=\"cement delivery to silo\",\"CP-1 EP-2\",IF(J151=\"cement supplement delivery to silo\",\"CP-1 EP-3\",IF(J151=\"weigh hopper loading\",\"CP-1 EP-4\",IF(J151=\"truck mix loading\",\"CP-1 EP-5\",IF(J151=\"central mix loading\",\"CP-1 EP-6\",IF(J151=\"\",\"\",\"CP-1 EP-1\"))))))","v":""},"",null,null,null,{"$f":"IF(J151=\"truck mix loading\",IF($F$153=\"yes\",L151*0.05/2000,L151/2000),\"\")","v":""},{"$f":"IF(J151=\"central mix loading\",IF($F$153=\"yes\",L151*0.05/2000,L151/2000),\"\")","v":""}]
[null,{"$f":"IF('Concrete Plant (CP-4)'!$D$4>8,\"Batching Period (Dates):\",\"\")","v":""},null,null,null,null,null,"","",null,null,null,"",""]
[null,{"$f":"IF(OR(COUNTIF(J150:J159,\"Truck Mix Loading\")>0,(COUNTIF(J150:J159,\"Central Mix Loading\")>0)),\"Is the Central/Truck Mix Loading process controlled by a baghouse?\",\"\")","v":""},null,null,null,null,null,"","",null,null,null,"",""]
[null,null,null,null,null,null,null,"","",null,null,null,"",""]
[null,{"$f":"IF(AND(B157=\"\",B158=\"\",B159=\"\",B160=\"\",B161=\"\"),\"\",\"Process (complete stack information if applicable):\")","v":""},{"$f":"IF(AND(B157=\"\",B158=\"\",B159=\"\",B160=\"\",B161=\"\"),\"\",\"Stack Height (ft):\")","v":""},{"$f":"IF(AND(B157=\"\",B158=\"\",B159=\"\",B160=\"\",B161=\"\"),\"\",\"Stack Diameter (inches):\")","v":""},{"$f":"IF(AND(B157=\"\",B158=\"\",B159=\"\",B160=\"\",B161=\"\"),\"\",\"Flow Rate (acfm):\")","v":""},{"$f":"IF(AND(B157=\"\",B158=\"\",B159=\"\",B160=\"\",B161=\"\"),\"\",\"Temp (Deg F):\")","v":""},null,"","",null,null,null,"",""]
[null,null,null,null,null,null,null,"","",null,null,null,"",""]
[null,{"$f":"IF(COUNTIF(J150:J159,\"Cement Delivery to Silo\")>0,\"EP-2 Cement Silo Stack:\",\"\")","v":""},null,null,null,null,null,"","",null,null,null,"",""]
[null,{"$f":"IF(COUNTIF(J150:J159,\"Cement Supplement Delivery to Silo\")>0,\"EP-3 Cement Supplement Silo Stack:\",\"\")","v":""},null,null,null,null,null,"","",null,null,null,"",""]
[null,{"$f":"IF(COUNTIF(J150:J159,\"Weigh Hopper Loading\")>0,\"EP-4 Weigh Hopper Loading Stack:\",\"\")","v":""},null,null,null,null,null,"","",null,null,null,"",""]
[null,{"$f":"IF(COUNTIF(J150:J159,\"Truck Mix Loading\")>0,\"EP-5 Truck Mix Loading Stack:\",\"\")","v":""}]
[null,{"$f":"IF(COUNTIF(J150:J159,\"Central Mix Loading\")>0,\"EP-6 Central Mix Loading Stack:\",\"\")","v":""},null,null,null,null,null,{"$f":"IF('Concrete Plant (CP-4)'!$D$4>8,\"Stock Pile Area\",\"\")","v":""}]
[null,null,null,null,null,null,null,null,{"$f":"IF('Concrete Plant (CP-4)'!$D$4>8,\"Emission Unit #\",\"\")","v":""},{"$f":"IF('Concrete Plant (CP-4)'!$D$4>8,\"Maximum Storage Area (acres)\",\"\")","v":""},{"$f":"IF('Concrete Plant (CP-4)'!$D$4>8,\"Actual Storage Area (acres)\",\"\")","v":""},{"$f":"IF('Concrete Plant (CP-4)'!$D$4>8,\"Actual Days in Existence (days)\",\"\")","v":""}]
[]
[]
[null,{"$f":"IF('Concrete Plant (CP-4)'!$D$4>9,\"Batch Plant\",\"\")","v":""},{"$f":"IF('Concrete Plant (CP-4)'!$D$4>9,\"Site 10\",\"\")","v":""},null,null,null,null,{"$f":"IF('Concrete Plant (CP-4)'!$D$4>9,\"Emission Point #\",\"\")","v":""},{"$f":"IF('Concrete Plant (CP-4)'!$D$4>9,\"Emission     Unit #\",\"\")","v":""},{"$f":"IF('Concrete Plant (CP-4)'!$D$4>9,\"Processes\",\"\")","v":""},{"$f":"IF('Concrete Plant (CP-4)'!$D$4>9,\"Combined Maximum Hourly Design Rate for all Like Processes (cubic yard/hr)\",\"\")","v":""},{"$f":"IF('Concrete Plant (CP-4)'!$D$4>9,('Facility Information'!G5&\" Annual Throughput (cubic yards)\"),\"\")","v":""}]
[null,{"$f":"IF('Concrete Plant (CP-4)'!$D$4>9,\"Site Name:\",\"\")","v":""},null,null,null,null,null,{"$f":"IF(J166=\"cement delivery to silo\",\"CP-1 EP-2\",IF(J166=\"cement supplement delivery to silo\",\"CP-1 EP-3\",IF(J166=\"weigh hopper loading\",\"CP-1 EP-4\",IF(J166=\"truck mix loading\",\"CP-1 EP-5\",IF(J166=\"central mix loading\",\"CP-1 EP-6\",IF(J166=\"\",\"\",\"CP-1 EP-1\"))))))","v":""},{"$f":"IF(J166=\"\",\"\",IF(J166=\"aggregate delivery to ground storage\",\"CP-4 EU-1\",IF(J166=\"sand delivery to ground storage\",\"CP-4 EU-2\",IF(J166=\"aggregate transfer to conveyor\",\"CP-4 EU-3\",IF(J166=\"sand transfer to conveyor\",\"CP-4 EU-4\",IF(J166=\"aggregate transfer to elevated storage\",\"CP-4 EU-5\",IF(J166=\"sand transfer to elevated storage\",\"CP-4 EU-6\",IF(J166=\"weigh hopper loading\",\"CP-4 EU-7\",IF(J166=\"central mix loading\",\"CP-4 EU-8\",IF(J166=\"truck mix loading\",\"CP-4 EU-9\",IF(J166=\"cement delivery to silo\",\"CP-4 EU-10\",IF(J166=\"cement supplement delivery to silo\",\"CP-4 EU-11\"))))))))))))","v":""},null,null,null,{"$f":"IF(J166=\"truck mix loading\",IF($F$169=\"yes\",L166*0.05/2000,L166/2000),\"\")","v":""},{"$f":"IF(J166=\"central mix loading\",IF($F$169=\"yes\",L166*0.05/2000,L166/2000),\"\")","v":""}]
[null,{"$f":"IF('Concrete Plant (CP-4)'!$D$4>9,\"County:\",\"\")","v":""},null,null,null,null,null,{"$f":"IF(J167=\"cement delivery to silo\",\"CP-1 EP-2\",IF(J167=\"cement supplement delivery to silo\",\"CP-1 EP-3\",IF(J167=\"weigh hopper loading\",\"CP-1 EP-4\",IF(J167=\"truck mix loading\",\"CP-1 EP-5\",IF(J167=\"central mix loading\",\"CP-1 EP-6\",IF(J167=\"\",\"\",\"CP-1 EP-1\"))))))","v":""},"",null,null,null,{"$f":"IF(J167=\"truck mix loading\",IF($F$169=\"yes\",L167*0.05/2000,L167/2000),\"\")","v":""},{"$f":"IF(J167=\"central mix loading\",IF($F$169=\"yes\",L167*0.05/2000,L167/2000),\"\")","v":""}]
[null,{"$f":"IF('Concrete Plant (CP-4)'!$D$4>9,\"Batching Period (Dates):\",\"\")","v":""},null,null,null,null,null,"","",null,null,null,"",""]
[null,{"$f":"IF(OR(COUNTIF(J166:J175,\"Truck Mix Loading\")>0,(COUNTIF(J166:J175,\"Central Mix Loading\")>0)),\"Is the Central/Truck Mix Loading process controlled by a baghouse?\",\"\")","v":""},null,null,null,null,null,"","",null,null,null,"",""]
[null,null,null,null,null,null,null,"","",null,null,null,"",""]
[null,{"$f":"IF(AND(B173=\"\",B174=\"\",B175=\"\",B176=\"\",B177=\"\"),\"\",\"Process (complete stack information if applicable):\")","v":""},{"$f":"IF(AND(B173=\"\",B174=\"\",B175=\"\",B176=\"\",B177=\"\"),\"\",\"Stack Height (ft):\")","v":""},{"$f":"IF(AND(B173=\"\",B174=\"\",B175=\"\",B176=\"\",B177=\"\"),\"\",\"Stack Diameter (inches):\")","v":""},{"$f":"IF(AND(B173=\"\",B174=\"\",B175=\"\",B176=\"\",B177=\"\"),\"\",\"Flow Rate (acfm):\")","v":""},{"$f":"IF(AND(B173=\"\",B174=\"\",B175=\"\",B176=\"\",B177=\"\"),\"\",\"Temp (Deg F):\")","v":""},null,"","",null,null,null,"",""]
[null,null,null,null,null,null,null,"","",null,null,null,"",""]
[null,{"$f":"IF(COUNTIF(J166:J175,\"Cement Delivery to Silo\")>0,\"EP-2 Cement Silo Stack:\",\"\")","v":""},null,null,null,null,null,"","",null,null,null,"",""]
[null,{"$f":"IF(COUNTIF(J166:J175,\"Cement Supplement Delivery to Silo\")>0,\"EP-3 Cement Supplement Silo Stack:\",\"\")","v":""},null,null,null,null,null,"","",null,null,null,"",""]
[null,{"$f":"IF(COUNTIF(J166:J175,\"Weigh Hopper Loading\")>0,\"EP-4 Weigh Hopper Loading Stack:\",\"\")","v":""},null,null,null,null,null,"","",null,null,null,"",""]
[null,{"$f":"IF(COUNTIF(J166:J175,\"Truck Mix Loading\")>0,\"EP-5 Truck Mix Loading Stack:\",\"\")","v":""}]
[null,{"$f":"IF(COUNTIF(J166:J175,\"Central Mix Loading\")>0,\"EP-6 Central Mix Loading Stack:\",\"\")","v":""},null,null,null,null,null,{"$f":"IF('Concrete Plant (CP-4)'!$D$4>9,\"Stock Pile Area\",\"\")","v":""}]
[null,null,null,null,null,null,null,null,{"$f":"IF('Concrete Plant (CP-4)'!$D$4>9,\"Emission Unit #\",\"\")","v":""},{"$f":"IF('Concrete Plant (CP-4)'!$D$4>9,\"Maximum Storage Area (acres)\",\"\")","v":""},{"$f":"IF('Concrete Plant (CP-4)'!$D$4>9,\"Actual Storage Area (acres)\",\"\")","v":""},{"$f":"IF('Concrete Plant (CP-4)'!$D$4>9,\"Actual Days in Existence (days)\",\"\")","v":""}]
[]
[]
[null,null,null,null,null,null,null,null,null,null,null,null,{"$f":"SUM(M166:M175,M150:M159,M134:M143,M118:M127,M102:M111,M86:M95,M70:M79,M54:M63,M38:M47,M21:M30)","v":0},{"$f":"SUM(N166:N175,N150:N159,N134:N143,N118:N127,N102:N111,N86:N95,N70:N79,N54:N63,N38:N47,N21:N30)","v":0}]

{"sheet":"Concrete Plant (CP-5)","index":5,"n_rows":182,"n_cols":23,"rows_kept":182,"cut":false,"hidden":true,"merged":[]}
[null,"CONCRETE BATCH PLANT (CP-5)"]
[null,"Please fill in the yellow boxes as applicable for your facility. ",null,null,null,null,null,null,null,null,null,"Values used for calculating emissions →",null,null,null,"Values Used to Calculate Actual Emissions for the Listed Processes at this Plant"]
[null,null,null,null,null,null,null,null,null,null,null,null,null,null,null,"Process","Maximum Design Rate (cubic yards/hr)","Actual throughput (cubic yards/yr)"]
[null,{"$f":"\"Number of Sites this Plant operated at in \"&'Facility Information'!G5&\":\"","v":"Number of Sites this Plant operated at in :"},null,null,null,null,null,null,null,null,null,null,null,null,null,"Aggregate Delivery to Ground Storage",{"$f":"MAX((IFERROR(OFFSET($J$20,MATCH(\"Aggregate Delivery to Ground Storage\",$J$21:$J$30,0),1),0)),((IFERROR((OFFSET($J$37,MATCH(\"Aggregate Delivery to Ground Storage\",$J$38:$J$47,0),1)),0))),((IFERROR((OFFSET($J$53,MATCH(\"Aggregate Delivery to Ground Storage\",$J$54:$J$63,0),1)),0))),((IFERROR((OFFSET($J$69,MATCH(\"Aggregate Delivery to Ground Storage\",$J$70:$J$79,0),1)),0))),((IFERROR((OFFSET($J$85,MATCH(\"Aggregate Delivery to Ground Storage\",$J$86:$J$95,0),1)),0))),((IFERROR((OFFSET($J$101,MATCH(\"Aggregate Delivery to Ground Storage\",$J$102:$J$111,0),1)),0))),((IFERROR((OFFSET($J$117,MATCH(\"Aggregate Delivery to Ground Storage\",$J$118:$J$127,0),1)),0))),((IFERROR((OFFSET($J$133,MATCH(\"Aggregate Delivery to Ground Storage\",$J$134:$J$143,0),1)),0))),((IFERROR((OFFSET($J$149,MATCH(\"Aggregate Delivery to Ground Storage\",$J$150:$J$159,0),1)),0))),((IFERROR((OFFSET($J$165,MATCH(\"Aggregate Delivery to Ground Storage\",$J$166:$J$175,0),1)),0))),)","v":0},{"$f":"SUM((IFERROR(OFFSET($J$20,MATCH(\"Aggregate Delivery to Ground Storage\",$J$21:$J$30,0),2),0)),((IFERROR((OFFSET($J$37,MATCH(\"Aggregate Delivery to Ground Storage\",$J$38:$J$47,0),2)),0))),((IFERROR((OFFSET($J$53,MATCH(\"Aggregate Delivery to Ground Storage\",$J$54:$J$63,0),2)),0))),((IFERROR((OFFSET($J$69,MATCH(\"Aggregate Delivery to Ground Storage\",$J$70:$J$79,0),2)),0))),((IFERROR((OFFSET($J$85,MATCH(\"Aggregate Delivery to Ground Storage\",$J$86:$J$95,0),2)),0))),((IFERROR((OFFSET($J$101,MATCH(\"Aggregate Delivery to Ground Storage\",$J$102:$J$111,0),2)),0))),((IFERROR((OFFSET($J$117,MATCH(\"Aggregate Delivery to Ground Storage\",$J$118:$J$127,0),2)),0))),((IFERROR((OFFSET($J$133,MATCH(\"Aggregate Delivery to Ground Storage\",$J$134:$J$143,0),2)),0))),((IFERROR((OFFSET($J$149,MATCH(\"Aggregate Delivery to Ground Storage\",$J$150:$J$159,0),2)),0))),((IFERROR((OFFSET($J$165,MATCH(\"Aggregate Delivery to Ground Storage\",$J$166:$J$175,0),2)),0))),)","v":0},"** As of 2016 Potential Emissions are no longer required to be reported in the Minor Source Emissions Inventory**"]
[null,null,null,null,null,null,null,null,null,null,null,null,null,null,null,"Sand Delivery to Ground Storage",{"$f":"MAX((IFERROR(OFFSET($J$20,MATCH(\"Sand Delivery to Ground Storage\",$J$21:$J$30,0),1),0)),((IFERROR((OFFSET($J$37,MATCH(\"Sand Delivery to Ground Storage\",$J$38:$J$47,0),1)),0))),((IFERROR((OFFSET($J$53,MATCH(\"Sand Delivery to Ground Storage\",$J$54:$J$63,0),1)),0))),((IFERROR((OFFSET($J$69,MATCH(\"Sand Delivery to Ground Storage\",$J$70:$J$79,0),1)),0))),((IFERROR((OFFSET($J$85,MATCH(\"Sand Delivery to Ground Storage\",$J$86:$J$95,0),1)),0))),((IFERROR((OFFSET($J$101,MATCH(\"Sand Delivery to Ground Storage\",$J$102:$J$111,0),1)),0))),((IFERROR((OFFSET($J$117,MATCH(\"Sand Delivery to Ground Storage\",$J$118:$J$127,0),1)),0))),((IFERROR((OFFSET($J$133,MATCH(\"Sand Delivery to Ground Storage\",$J$134:$J$143,0),1)),0))),((IFERROR((OFFSET($J$149,MATCH(\"Sand Delivery to Ground Storage\",$J$150:$J$159,0),1)),0))),((IFERROR((OFFSET($J$165,MATCH(\"Sand Delivery to Ground Storage\",$J$166:$J$175,0),1)),0))),)","v":0},{"$f":"SUM((IFERROR(OFFSET($J$20,MATCH(\"Sand Delivery to Ground Storage\",$J$21:$J$30,0),2),0)),((IFERROR((OFFSET($J$37,MATCH(\"Sand Delivery to Ground Storage\",$J$38:$J$47,0),2)),0))),((IFERROR((OFFSET($J$53,MATCH(\"Sand Delivery to Ground Storage\",$J$54:$J$63,0),2)),0))),((IFERROR((OFFSET($J$69,MATCH(\"Sand Delivery to Ground Storage\",$J$70:$J$79,0),2)),0))),((IFERROR((OFFSET($J$85,MATCH(\"Sand Delivery to Ground Storage\",$J$86:$J$95,0),2)),0))),((IFERROR((OFFSET($J$101,MATCH(\"Sand Delivery to Ground Storage\",$J$102:$J$111,0),2)),0))),((IFERROR((OFFSET($J$117,MATCH(\"Sand Delivery to Ground Storage\",$J$118:$J$127,0),2)),0))),((IFERROR((OFFSET($J$133,MATCH(\"Sand Delivery to Ground Storage\",$J$134:$J$143,0),2)),0))),((IFERROR((OFFSET($J$149,MATCH(\"Sand Delivery to Ground Storage\",$J$150:$J$159,0),2)),0))),((IFERROR((OFFSET($J$165,MATCH(\"Sand Delivery to Ground Storage\",$J$166:$J$175,0),2)),0))),)","v":0}]
[null,"Plant Specific Permit Number: ",null,null,null,null,null,null,null,null,null,null,null,null,null,"Aggregate Transfer to Conveyor",{"$f":"MAX((IFERROR(OFFSET($J$20,MATCH(\"Aggregate Transfer to Conveyor\",$J$21:$J$30,0),1),0)),((IFERROR((OFFSET($J$37,MATCH(\"Aggregate Transfer to Conveyor\",$J$38:$J$47,0),1)),0))),((IFERROR((OFFSET($J$53,MATCH(\"Aggregate Transfer to Conveyor\",$J$54:$J$63,0),1)),0))),((IFERROR((OFFSET($J$69,MATCH(\"Aggregate Transfer to Conveyor\",$J$70:$J$79,0),1)),0))),((IFERROR((OFFSET($J$85,MATCH(\"Aggregate Transfer to Conveyor\",$J$86:$J$95,0),1)),0))),((IFERROR((OFFSET($J$101,MATCH(\"Aggregate Transfer to Conveyor\",$J$102:$J$111,0),1)),0))),((IFERROR((OFFSET($J$117,MATCH(\"Aggregate Transfer to Conveyor\",$J$118:$J$127,0),1)),0))),((IFERROR((OFFSET($J$133,MATCH(\"Aggregate Transfer to Conveyor\",$J$134:$J$143,0),1)),0))),((IFERROR((OFFSET($J$149,MATCH(\"Aggregate Transfer to Conveyor\",$J$150:$J$159,0),1)),0))),((IFERROR((OFFSET($J$165,MATCH(\"Aggregate Transfer to Conveyor\",$J$166:$J$175,0),1)),0))),)","v":0},{"$f":"SUM((IFERROR(OFFSET($J$20,MATCH(\"Aggregate Transfer to Conveyor\",$J$21:$J$30,0),2),0)),((IFERROR((OFFSET($J$37,MATCH(\"Aggregate Transfer to Conveyor\",$J$38:$J$47,0),2)),0))),((IFERROR((OFFSET($J$53,MATCH(\"Aggregate Transfer to Conveyor\",$J$54:$J$63,0),2)),0))),((IFERROR((OFFSET($J$69,MATCH(\"Aggregate Transfer to Conveyor\",$J$70:$J$79,0),2)),0))),((IFERROR((OFFSET($J$85,MATCH(\"Aggregate Transfer to Conveyor\",$J$86:$J$95,0),2)),0))),((IFERROR((OFFSET($J$101,MATCH(\"Aggregate Transfer to Conveyor\",$J$102:$J$111,0),2)),0))),((IFERROR((OFFSET($J$117,MATCH(\"Aggregate Transfer to Conveyor\",$J$118:$J$127,0),2)),0))),((IFERROR((OFFSET($J$133,MATCH(\"Aggregate Transfer to Conveyor\",$J$134:$J$143,0),2)),0))),((IFERROR((OFFSET($J$149,MATCH(\"Aggregate Transfer to Conveyor\",$J$150:$J$159,0),2)),0))),((IFERROR((OFFSET($J$165,MATCH(\"Aggregate Transfer to Conveyor\",$J$166:$J$175,0),2)),0))),)","v":0}]
[null,null,null,null,null,null,null,null,null,null,null,null,null,null,null,"Sand Transfer to Conveyor",{"$f":"MAX((IFERROR(OFFSET($J$20,MATCH(\"Sand Transfer to Conveyor\",$J$21:$J$30,0),1),0)),((IFERROR((OFFSET($J$37,MATCH(\"Sand Transfer to Conveyor\",$J$38:$J$47,0),1)),0))),((IFERROR((OFFSET($J$53,MATCH(\"Sand Transfer to Conveyor\",$J$54:$J$63,0),1)),0))),((IFERROR((OFFSET($J$69,MATCH(\"Sand Transfer to Conveyor\",$J$70:$J$79,0),1)),0))),((IFERROR((OFFSET($J$85,MATCH(\"Sand Transfer to Conveyor\",$J$86:$J$95,0),1)),0))),((IFERROR((OFFSET($J$101,MATCH(\"Sand Transfer to Conveyor\",$J$102:$J$111,0),1)),0))),((IFERROR((OFFSET($J$117,MATCH(\"Sand Transfer to Conveyor\",$J$118:$J$127,0),1)),0))),((IFERROR((OFFSET($J$133,MATCH(\"Sand Transfer to Conveyor\",$J$134:$J$143,0),1)),0))),((IFERROR((OFFSET($J$149,MATCH(\"Sand Transfer to Conveyor\",$J$150:$J$159,0),1)),0))),((IFERROR((OFFSET($J$165,MATCH(\"Sand Transfer to Conveyor\",$J$166:$J$175,0),1)),0))),)","v":0},{"$f":"SUM((IFERROR(OFFSET($J$20,MATCH(\"Sand Transfer to Conveyor\",$J$21:$J$30,0),2),0)),((IFERROR((OFFSET($J$37,MATCH(\"Sand Transfer to Conveyor\",$J$38:$J$47,0),2)),0))),((IFERROR((OFFSET($J$53,MATCH(\"Sand Transfer to Conveyor\",$J$54:$J$63,0),2)),0))),((IFERROR((OFFSET($J$69,MATCH(\"Sand Transfer to Conveyor\",$J$70:$J$79,0),2)),0))),((IFERROR((OFFSET($J$85,MATCH(\"Sand Transfer to Conveyor\",$J$86:$J$95,0),2)),0))),((IFERROR((OFFSET($J$101,MATCH(\"Sand Transfer to Conveyor\",$J$102:$J$111,0),2)),0))),((IFERROR((OFFSET($J$117,MATCH(\"Sand Transfer to Conveyor\",$J$118:$J$127,0),2)),0))),((IFERROR((OFFSET($J$133,MATCH(\"Sand Transfer to Conveyor\",$J$134:$J$143,0),2)),0))),((IFERROR((OFFSET($J$149,MATCH(\"Sand Transfer to Conveyor\",$J$150:$J$159,0),2)),0))),((IFERROR((OFFSET($J$165,MATCH(\"Sand Transfer to Conveyor\",$J$166:$J$175,0),2)),0))),)","v":0}]
[null,"Plant Specific Operating Limits:",null,null,null,null,null,"Plant Specific Emission Limits:",null,null,null,null,null,null,null,"Aggregate Transfer to Elevated Storage",{"$f":"MAX((IFERROR(OFFSET($J$20,MATCH(\"Aggregate Transfer to Elevated Storage\",$J$21:$J$30,0),1),0)),((IFERROR((OFFSET($J$37,MATCH(\"Aggregate Transfer to Elevated Storage\",$J$38:$J$47,0),1)),0))),((IFERROR((OFFSET($J$53,MATCH(\"Aggregate Transfer to Elevated Storage\",$J$54:$J$63,0),1)),0))),((IFERROR((OFFSET($J$69,MATCH(\"Aggregate Transfer to Elevated Storage\",$J$70:$J$79,0),1)),0))),((IFERROR((OFFSET($J$85,MATCH(\"Aggregate Transfer to Elevated Storage\",$J$86:$J$95,0),1)),0))),((IFERROR((OFFSET($J$101,MATCH(\"Aggregate Transfer to Elevated Storage\",$J$102:$J$111,0),1)),0))),((IFERROR((OFFSET($J$117,MATCH(\"Aggregate Transfer to Elevated Storage\",$J$118:$J$127,0),1)),0))),((IFERROR((OFFSET($J$133,MATCH(\"Aggregate Transfer to Elevated Storage\",$J$134:$J$143,0),1)),0))),((IFERROR((OFFSET($J$149,MATCH(\"Aggregate Transfer to Elevated Storage\",$J$150:$J$159,0),1)),0))),((IFERROR((OFFSET($J$165,MATCH(\"Aggregate Transfer to Elevated Storage\",$J$166:$J$175,0),1)),0))),)","v":0},{"$f":"SUM((IFERROR(OFFSET($J$20,MATCH(\"Aggregate Transfer to Elevated Storage\",$J$21:$J$30,0),2),0)),((IFERROR((OFFSET($J$37,MATCH(\"Aggregate Transfer to Elevated Storage\",$J$38:$J$47,0),2)),0))),((IFERROR((OFFSET($J$53,MATCH(\"Aggregate Transfer to Elevated Storage\",$J$54:$J$63,0),2)),0))),((IFERROR((OFFSET($J$69,MATCH(\"Aggregate Transfer to Elevated Storage\",$J$70:$J$79,0),2)),0))),((IFERROR((OFFSET($J$85,MATCH(\"Aggregate Transfer to Elevated Storage\",$J$86:$J$95,0),2)),0))),((IFERROR((OFFSET($J$101,MATCH(\"Aggregate Transfer to Elevated Storage\",$J$102:$J$111,0),2)),0))),((IFERROR((OFFSET($J$117,MATCH(\"Aggregate Transfer to Elevated Storage\",$J$118:$J$127,0),2)),0))),((IFERROR((OFFSET($J$133,MATCH(\"Aggregate Transfer to Elevated Storage\",$J$134:$J$143,0),2)),0))),((IFERROR((OFFSET($J$149,MATCH(\"Aggregate Transfer to Elevated Storage\",$J$150:$J$159,0),2)),0))),((IFERROR((OFFSET($J$165,MATCH(\"Aggregate Transfer to Elevated Storage\",$J$166:$J$175,0),2)),0))),)","v":0}]
[null,"Throughput Limit (cubic yards/yr):",null,null,null,null,null,"Pollutant","lb/hr","tons/yr",null,null,null,null,null,"Sand Transfer to Elevated Storage",{"$f":"MAX((IFERROR(OFFSET($J$20,MATCH(\"Sand Transfer to Elevated Storage\",$J$21:$J$30,0),1),0)),((IFERROR((OFFSET($J$37,MATCH(\"Sand Transfer to Elevated Storage\",$J$38:$J$47,0),1)),0))),((IFERROR((OFFSET($J$53,MATCH(\"Sand Transfer to Elevated Storage\",$J$54:$J$63,0),1)),0))),((IFERROR((OFFSET($J$69,MATCH(\"Sand Transfer to Elevated Storage\",$J$70:$J$79,0),1)),0))),((IFERROR((OFFSET($J$85,MATCH(\"Sand Transfer to Elevated Storage\",$J$86:$J$95,0),1)),0))),((IFERROR((OFFSET($J$101,MATCH(\"Sand Transfer to Elevated Storage\",$J$102:$J$111,0),1)),0))),((IFERROR((OFFSET($J$117,MATCH(\"Sand Transfer to Elevated Storage\",$J$118:$J$127,0),1)),0))),((IFERROR((OFFSET($J$133,MATCH(\"Sand Transfer to Elevated Storage\",$J$134:$J$143,0),1)),0))),((IFERROR((OFFSET($J$149,MATCH(\"Sand Transfer to Elevated Storage\",$J$150:$J$159,0),1)),0))),((IFERROR((OFFSET($J$165,MATCH(\"Sand Transfer to Elevated Storage\",$J$166:$J$175,0),1)),0))),)","v":0},{"$f":"SUM((IFERROR(OFFSET($J$20,MATCH(\"Sand Transfer to Elevated Storage\",$J$21:$J$30,0),2),0)),((IFERROR((OFFSET($J$37,MATCH(\"Sand Transfer to Elevated Storage\",$J$38:$J$47,0),2)),0))),((IFERROR((OFFSET($J$53,MATCH(\"Sand Transfer to Elevated Storage\",$J$54:$J$63,0),2)),0))),((IFERROR((OFFSET($J$69,MATCH(\"Sand Transfer to Elevated Storage\",$J$70:$J$79,0),2)),0))),((IFERROR((OFFSET($J$85,MATCH(\"Sand Transfer to Elevated Storage\",$J$86:$J$95,0),2)),0))),((IFERROR((OFFSET($J$101,MATCH(\"Sand Transfer to Elevated Storage\",$J$102:$J$111,0),2)),0))),((IFERROR((OFFSET($J$117,MATCH(\"Sand Transfer to Elevated Storage\",$J$118:$J$127,0),2)),0))),((IFERROR((OFFSET($J$133,MATCH(\"Sand Transfer to Elevated Storage\",$J$134:$J$143,0),2)),0))),((IFERROR((OFFSET($J$149,MATCH(\"Sand Transfer to Elevated Storage\",$J$150:$J$159,0),2)),0))),((IFERROR((OFFSET($J$165,MATCH(\"Sand Transfer to Elevated Storage\",$J$166:$J$175,0),2)),0))),)","v":0}]
[null,"Daily Throughput Limit (cubic yards/day):",null,null,null,null,null,"PM2.5",null,null,null,null,null,null,null,"Weigh Hopper Loading",{"$f":"MAX((IFERROR(OFFSET($J$20,MATCH(\"Weigh Hopper Loading\",$J$21:$J$30,0),1),0)),((IFERROR((OFFSET($J$37,MATCH(\"Weigh Hopper Loading\",$J$38:$J$47,0),1)),0))),((IFERROR((OFFSET($J$53,MATCH(\"Weigh Hopper Loading\",$J$54:$J$63,0),1)),0))),((IFERROR((OFFSET($J$69,MATCH(\"Weigh Hopper Loading\",$J$70:$J$79,0),1)),0))),((IFERROR((OFFSET($J$85,MATCH(\"Weigh Hopper Loading\",$J$86:$J$95,0),1)),0))),((IFERROR((OFFSET($J$101,MATCH(\"Weigh Hopper Loading\",$J$102:$J$111,0),1)),0))),((IFERROR((OFFSET($J$117,MATCH(\"Weigh Hopper Loading\",$J$118:$J$127,0),1)),0))),((IFERROR((OFFSET($J$133,MATCH(\"Weigh Hopper Loading\",$J$134:$J$143,0),1)),0))),((IFERROR((OFFSET($J$149,MATCH(\"Weigh Hopper Loading\",$J$150:$J$159,0),1)),0))),((IFERROR((OFFSET($J$165,MATCH(\"Weigh Hopper Loading\",$J$166:$J$175,0),1)),0))),)","v":0},{"$f":"SUM((IFERROR(OFFSET($J$20,MATCH(\"Weigh Hopper Loading\",$J$21:$J$30,0),2),0)),((IFERROR((OFFSET($J$37,MATCH(\"Weigh Hopper Loading\",$J$38:$J$47,0),2)),0))),((IFERROR((OFFSET($J$53,MATCH(\"Weigh Hopper Loading\",$J$54:$J$63,0),2)),0))),((IFERROR((OFFSET($J$69,MATCH(\"Weigh Hopper Loading\",$J$70:$J$79,0),2)),0))),((IFERROR((OFFSET($J$85,MATCH(\"Weigh Hopper Loading\",$J$86:$J$95,0),2)),0))),((IFERROR((OFFSET($J$101,MATCH(\"Weigh Hopper Loading\",$J$102:$J$111,0),2)),0))),((IFERROR((OFFSET($J$117,MATCH(\"Weigh Hopper Loading\",$J$118:$J$127,0),2)),0))),((IFERROR((OFFSET($J$133,MATCH(\"Weigh Hopper Loading\",$J$134:$J$143,0),2)),0))),((IFERROR((OFFSET($J$149,MATCH(\"Weigh Hopper Loading\",$J$150:$J$159,0),2)),0))),((IFERROR((OFFSET($J$165,MATCH(\"Weigh Hopper Loading\",$J$166:$J$175,0),2)),0))),)","v":0}]
[null,"Hours of Operation Limit (hours/day):",null,null,null,null,null,"PM10",null,null,null,null,null,null,null,"Central Mix Loading",{"$f":"MAX((IFERROR(OFFSET($J$20,MATCH(\"Central Mix Loading\",$J$21:$J$30,0),1),0)),((IFERROR((OFFSET($J$37,MATCH(\"Central Mix Loading\",$J$38:$J$47,0),1)),0))),((IFERROR((OFFSET($J$53,MATCH(\"Central Mix Loading\",$J$54:$J$63,0),1)),0))),((IFERROR((OFFSET($J$69,MATCH(\"Central Mix Loading\",$J$70:$J$79,0),1)),0))),((IFERROR((OFFSET($J$85,MATCH(\"Central Mix Loading\",$J$86:$J$95,0),1)),0))),((IFERROR((OFFSET($J$101,MATCH(\"Central Mix Loading\",$J$102:$J$111,0),1)),0))),((IFERROR((OFFSET($J$117,MATCH(\"Central Mix Loading\",$J$118:$J$127,0),1)),0))),((IFERROR((OFFSET($J$133,MATCH(\"Central Mix Loading\",$J$134:$J$143,0),1)),0))),((IFERROR((OFFSET($J$149,MATCH(\"Central Mix Loading\",$J$150:$J$159,0),1)),0))),((IFERROR((OFFSET($J$165,MATCH(\"Central Mix Loading\",$J$166:$J$175,0),1)),0))),)","v":0},{"$f":"SUM((IFERROR(OFFSET($J$20,MATCH(\"Central Mix Loading\",$J$21:$J$30,0),2),0)),((IFERROR((OFFSET($J$37,MATCH(\"Central Mix Loading\",$J$38:$J$47,0),2)),0))),((IFERROR((OFFSET($J$53,MATCH(\"Central Mix Loading\",$J$54:$J$63,0),2)),0))),((IFERROR((OFFSET($J$69,MATCH(\"Central Mix Loading\",$J$70:$J$79,0),2)),0))),((IFERROR((OFFSET($J$85,MATCH(\"Central Mix Loading\",$J$86:$J$95,0),2)),0))),((IFERROR((OFFSET($J$101,MATCH(\"Central Mix Loading\",$J$102:$J$111,0),2)),0))),((IFERROR((OFFSET($J$117,MATCH(\"Central Mix Loading\",$J$118:$J$127,0),2)),0))),((IFERROR((OFFSET($J$133,MATCH(\"Central Mix Loading\",$J$134:$J$143,0),2)),0))),((IFERROR((OFFSET($J$149,MATCH(\"Central Mix Loading\",$J$150:$J$159,0),2)),0))),((IFERROR((OFFSET($J$165,MATCH(\"Central Mix Loading\",$J$166:$J$175,0),2)),0))),)","v":0}]
[null,"Note: if the plant has an hrs/day and a cubic yards/hr permit limit,",null,null,null,null,null,"SO2",null,null,null,null,null,null,null,"Truck Mix Loading",{"$f":"MAX((IFERROR(OFFSET($J$20,MATCH(\"Truck Mix Loading\",$J$21:$J$30,0),1),0)),((IFERROR((OFFSET($J$37,MATCH(\"Truck Mix Loading\",$J$38:$J$47,0),1)),0))),((IFERROR((OFFSET($J$53,MATCH(\"Truck Mix Loading\",$J$54:$J$63,0),1)),0))),((IFERROR((OFFSET($J$69,MATCH(\"Truck Mix Loading\",$J$70:$J$79,0),1)),0))),((IFERROR((OFFSET($J$85,MATCH(\"Truck Mix Loading\",$J$86:$J$95,0),1)),0))),((IFERROR((OFFSET($J$101,MATCH(\"Truck Mix Loading\",$J$102:$J$111,0),1)),0))),((IFERROR((OFFSET($J$117,MATCH(\"Truck Mix Loading\",$J$118:$J$127,0),1)),0))),((IFERROR((OFFSET($J$133,MATCH(\"Truck Mix Loading\",$J$134:$J$143,0),1)),0))),((IFERROR((OFFSET($J$149,MATCH(\"Truck Mix Loading\",$J$150:$J$159,0),1)),0))),((IFERROR((OFFSET($J$165,MATCH(\"Truck Mix Loading\",$J$166:$J$175,0),1)),0))),)","v":0},{"$f":"SUM((IFERROR(OFFSET($J$20,MATCH(\"Truck Mix Loading\",$J$21:$J$30,0),2),0)),((IFERROR((OFFSET($J$37,MATCH(\"Truck Mix Loading\",$J$38:$J$47,0),2)),0))),((IFERROR((OFFSET($J$53,MATCH(\"Truck Mix Loading\",$J$54:$J$63,0),2)),0))),((IFERROR((OFFSET($J$69,MATCH(\"Truck Mix Loading\",$J$70:$J$79,0),2)),0))),((IFERROR((OFFSET($J$85,MATCH(\"Truck Mix Loading\",$J$86:$J$95,0),2)),0))),((IFERROR((OFFSET($J$101,MATCH(\"Truck Mix Loading\",$J$102:$J$111,0),2)),0))),((IFERROR((OFFSET($J$117,MATCH(\"Truck Mix Loading\",$J$118:$J$127,0),2)),0))),((IFERROR((OFFSET($J$133,MATCH(\"Truck Mix Loading\",$J$134:$J$143,0),2)),0))),((IFERROR((OFFSET($J$149,MATCH(\"Truck Mix Loading\",$J$150:$J$159,0),2)),0))),((IFERROR((OFFSET($J$165,MATCH(\"Truck Mix Loading\",$J$166:$J$175,0),2)),0))),)","v":0}]
[null,"those values should be multiplied together to calculate a cubic ",null,null,null,null,null,"NOx",null,null,null,null,null,null,null,"Cement Delivery to Silo",{"$f":"MAX((IFERROR(OFFSET($J$20,MATCH(\"Cement Delivery to Silo\",$J$21:$J$30,0),1),0)),((IFERROR((OFFSET($J$37,MATCH(\"Cement Delivery to Silo\",$J$38:$J$47,0),1)),0))),((IFERROR((OFFSET($J$53,MATCH(\"Cement Delivery to Silo\",$J$54:$J$63,0),1)),0))),((IFERROR((OFFSET($J$69,MATCH(\"Cement Delivery to Silo\",$J$70:$J$79,0),1)),0))),((IFERROR((OFFSET($J$85,MATCH(\"Cement Delivery to Silo\",$J$86:$J$95,0),1)),0))),((IFERROR((OFFSET($J$101,MATCH(\"Cement Delivery to Silo\",$J$102:$J$111,0),1)),0))),((IFERROR((OFFSET($J$117,MATCH(\"Cement Delivery to Silo\",$J$118:$J$127,0),1)),0))),((IFERROR((OFFSET($J$133,MATCH(\"Cement Delivery to Silo\",$J$134:$J$143,0),1)),0))),((IFERROR((OFFSET($J$149,MATCH(\"Cement Delivery to Silo\",$J$150:$J$159,0),1)),0))),((IFERROR((OFFSET($J$165,MATCH(\"Cement Delivery to Silo\",$J$166:$J$175,0),1)),0))),)","v":0},{"$f":"SUM((IFERROR(OFFSET($J$20,MATCH(\"Cement Delivery to Silo\",$J$21:$J$30,0),2),0)),((IFERROR((OFFSET($J$37,MATCH(\"Cement Delivery to Silo\",$J$38:$J$47,0),2)),0))),((IFERROR((OFFSET($J$53,MATCH(\"Cement Delivery to Silo\",$J$54:$J$63,0),2)),0))),((IFERROR((OFFSET($J$69,MATCH(\"Cement Delivery to Silo\",$J$70:$J$79,0),2)),0))),((IFERROR((OFFSET($J$85,MATCH(\"Cement Delivery to Silo\",$J$86:$J$95,0),2)),0))),((IFERROR((OFFSET($J$101,MATCH(\"Cement Delivery to Silo\",$J$102:$J$111,0),2)),0))),((IFERROR((OFFSET($J$117,MATCH(\"Cement Delivery to Silo\",$J$118:$J$127,0),2)),0))),((IFERROR((OFFSET($J$133,MATCH(\"Cement Delivery to Silo\",$J$134:$J$143,0),2)),0))),((IFERROR((OFFSET($J$149,MATCH(\"Cement Delivery to Silo\",$J$150:$J$159,0),2)),0))),((IFERROR((OFFSET($J$165,MATCH(\"Cement Delivery to Silo\",$J$166:$J$175,0),2)),0))),)","v":0}]
[null,"yards/day limit and that value should be placed in cell C10.",null,null,null,null,null,"VOC",null,null,null,null,null,null,null,"Cement Supplement Delivery to Silo",{"$f":"MAX((IFERROR(OFFSET($J$20,MATCH(\"Cement Supplement Delivery to Silo\",$J$21:$J$30,0),1),0)),((IFERROR((OFFSET($J$37,MATCH(\"Cement Supplement Delivery to Silo\",$J$38:$J$47,0),1)),0))),((IFERROR((OFFSET($J$53,MATCH(\"Cement Supplement Delivery to Silo\",$J$54:$J$63,0),1)),0))),((IFERROR((OFFSET($J$69,MATCH(\"Cement Supplement Delivery to Silo\",$J$70:$J$79,0),1)),0))),((IFERROR((OFFSET($J$85,MATCH(\"Cement Supplement Delivery to Silo\",$J$86:$J$95,0),1)),0))),((IFERROR((OFFSET($J$101,MATCH(\"Cement Supplement Delivery to Silo\",$J$102:$J$111,0),1)),0))),((IFERROR((OFFSET($J$117,MATCH(\"Cement Supplement Delivery to Silo\",$J$118:$J$127,0),1)),0))),((IFERROR((OFFSET($J$133,MATCH(\"Cement Supplement Delivery to Silo\",$J$134:$J$143,0),1)),0))),((IFERROR((OFFSET($J$149,MATCH(\"Cement Supplement Delivery to Silo\",$J$150:$J$159,0),1)),0))),((IFERROR((OFFSET($J$165,MATCH(\"Cement Supplement Delivery to Silo\",$J$166:$J$175,0),1)),0))),)","v":0},{"$f":"SUM((IFERROR(OFFSET($J$20,MATCH(\"Cement Supplement Delivery to Silo\",$J$21:$J$30,0),2),0)),((IFERROR((OFFSET($J$37,MATCH(\"Cement Supplement Delivery to Silo\",$J$38:$J$47,0),2)),0))),((IFERROR((OFFSET($J$53,MATCH(\"Cement Supplement Delivery to Silo\",$J$54:$J$63,0),2)),0))),((IFERROR((OFFSET($J$69,MATCH(\"Cement Supplement Delivery to Silo\",$J$70:$J$79,0),2)),0))),((IFERROR((OFFSET($J$85,MATCH(\"Cement Supplement Delivery to Silo\",$J$86:$J$95,0),2)),0))),((IFERROR((OFFSET($J$101,MATCH(\"Cement Supplement Delivery to Silo\",$J$102:$J$111,0),2)),0))),((IFERROR((OFFSET($J$117,MATCH(\"Cement Supplement Delivery to Silo\",$J$118:$J$127,0),2)),0))),((IFERROR((OFFSET($J$133,MATCH(\"Cement Supplement Delivery to Silo\",$J$134:$J$143,0),2)),0))),((IFERROR((OFFSET($J$149,MATCH(\"Cement Supplement Delivery to Silo\",$J$150:$J$159,0),2)),0))),((IFERROR((OFFSET($J$165,MATCH(\"Cement Supplement Delivery to Silo\",$J$166:$J$175,0),2)),0))),)","v":0}]
[null,null,null,null,null,null,null,"CO"]
[null,null,null,null,null,null,null,null,null,null,null,null,null,null,null,null,"Maximum (acres/day)","Actual (acres-day/yr)"]
[null,null,null,null,null,null,null,null,null,null,null,null,null,null,null,"Storage Pile",{"$f":"SUM(J34,J50,J67,J83,J99,J115,J131,J147,J163,J179)","v":0},{"$f":"SUM(K34*L34,K50*L50,K67*L67,K83*L83,K99*L99,K115*L115,K131*L131,K147*L147,K163*L163,K179*L179)","v":0}]
[]
[null,null,null,null,null,null,null,null,null,null,null,null,null,null,null,"Actual Emissions for the Listed Processes at this Plant"]
[null,"Batch Plant","Site 1",null,null,null,null,"Emission Point #","Emission     Unit #","Processes","Combined Maximum Hourly Design Rate for all Like Processes (cubic yard/hr)",{"$f":"('Facility Information'!G5&\" Annual Throughput (cubic yards)\")","v":" Annual Throughput (cubic yards)"},"Truck","Central",null,"PM2.5","Maximum Design Rate (cubic yards/hr)","Emission Factor (lb/cubic yard)","Potential Uncontrolled Emissions (lb/hr)","Potential Controlled Emissions (lb/hr)","Potential Annual Emissions (tons/yr)","Actual Annual Emissions (tons/yr)"]
["YES","Site Name:",null,null,null,null,null,{"$f":"IF(J21=\"cement delivery to silo\",\"CP-1 EP-2\",IF(J21=\"cement supplement delivery to silo\",\"CP-1 EP-3\",IF(J21=\"weigh hopper loading\",\"CP-1 EP-4\",IF(J21=\"truck mix loading\",\"CP-1 EP-5\",IF(J21=\"central mix loading\",\"CP-1 EP-6\",IF(J21=\"\",\"\",\"CP-1 EP-1\"))))))","v":""},{"$f":"IF(J21=\"\",\"\",IF(J21=\"aggregate delivery to ground storage\",\"CP-5 EU-1\",IF(J21=\"sand delivery to ground storage\",\"CP-5 EU-2\",IF(J21=\"aggregate transfer to conveyor\",\"CP-5 EU-3\",IF(J21=\"sand transfer to conveyor\",\"CP-5 EU-4\",IF(J21=\"aggregate transfer to elevated storage\",\"CP-5 EU-5\",IF(J21=\"sand transfer to elevated storage\",\"CP-5 EU-6\",IF(J21=\"weigh hopper loading\",\"CP-5 EU-7\",IF(J21=\"central mix loading\",\"CP-5 EU-8\",IF(J21=\"truck mix loading\",\"CP-5 EU-9\",IF(J21=\"cement delivery to silo\",\"CP-5 EU-10\",IF(J21=\"cement supplement delivery to silo\",\"CP-5 EU-11\"))))))))))))","v":""},null,null,null,{"$f":"IF(J21=\"truck mix loading\",IF($F$24=\"yes\",L21*0.05/2000,L21/2000),\"\")","v":""},{"$f":"IF(J21=\"central mix loading\",IF($F$24=\"yes\",L21*0.05/2000,L21/2000),\"\")","v":""},null,"Aggregate Delivery to Ground Storage",{"$f":"Q4","v":0},{"$f":"IF(Q21=0,0,LOOKUP(P21,'Emission Factors'!$A$5:$A$16,'Emission Factors'!$D$5:$D$16))","v":0},{"$f":"Q21*R21","v":0},{"$f":"IF(Q21=0,\"\",IF($I$10>0,$I$10,\"\"))","v":""},{"$f":"IF($J$10>0,$J$10,IF($D$9>0,$D$9*R21/2000,IF($D$10>0,$D$10*365*R21/2000,IF($D$11>0,$D$11*365*R21*Q21/2000,IF(T21=\"\",S21*8760/2000,T21*8760/2000)))))","v":0},{"$f":"(R4*R21/2000)","v":0}]
["NO","County:",null,null,null,null,null,{"$f":"IF(J22=\"cement delivery to silo\",\"CP-1 EP-2\",IF(J22=\"cement supplement delivery to silo\",\"CP-1 EP-3\",IF(J22=\"weigh hopper loading\",\"CP-1 EP-4\",IF(J22=\"truck mix loading\",\"CP-1 EP-5\",IF(J22=\"central mix loading\",\"CP-1 EP-6\",IF(J22=\"\",\"\",\"CP-1 EP-1\"))))))","v":""},"",null,null,null,{"$f":"IF(J22=\"truck mix loading\",IF($F$24=\"yes\",L22*0.05/2000,L22/2000),\"\")","v":""},{"$f":"IF(J22=\"central mix loading\",IF($F$24=\"yes\",L22*0.05/2000,L22/2000),\"\")","v":""},null,"Sand Delivery to Ground Storage",0,{"$f":"IF(Q22=0,0,LOOKUP(P22,'Emission Factors'!$A$5:$A$16,'Emission Factors'!$D$5:$D$16))","v":0},0,{"$f":"IF(Q22=0,\"\",IF($I$10>0,$I$10,\"\"))","v":""},{"$f":"IF($J$10>0,\"\",IF($D$9>0,$D$9*R22/2000,IF($D$10>0,$D$10*365*R22/2000,IF($D$11>0,$D$11*365*R22*Q22/2000,IF(T22=\"\",S22*8760/2000,T22*8760/2000)))))","v":0},0]
[null,"Batching Period (Dates):",null,null,null,null,null,"","",null,null,null,"","",null,"Aggregate Transfer to Conveyor",0,{"$f":"IF(Q23=0,0,LOOKUP(P23,'Emission Factors'!$A$5:$A$16,'Emission Factors'!$D$5:$D$16))","v":0},0,"",0,0]
["Aggregate Delivery to Ground Storage",{"$f":"IF(OR(COUNTIF(J21:J30,\"Truck Mix Loading\")>0,(COUNTIF(J21:J30,\"Central Mix Loading\")>0)),\"Is the Central/Truck Mix Loading process controlled by a baghouse?\",\"\")","v":""},null,null,null,null,null,"","",null,null,null,"","",null,"Sand Transfer to Conveyor",0,{"$f":"IF(Q24=0,0,LOOKUP(P24,'Emission Factors'!$A$5:$A$16,'Emission Factors'!$D$5:$D$16))","v":0},0,"",0,0]
["Sand Delivery to Ground Storage",null,null,null,null,null,null,"","",null,null,null,"","",null,"Aggregate Transfer to Elevated Storage",0,{"$f":"IF(Q25=0,0,LOOKUP(P25,'Emission Factors'!$A$5:$A$16,'Emission Factors'!$D$5:$D$16))","v":0},0,"",0,0]
["Aggregate Transfer to Conveyor",{"$f":"IF(AND(B28=\"\",B29=\"\",B32=\"\",B31=\"\",B30=\"\"),\"\",\"Process (complete stack information if applicable):\")","v":""},{"$f":"IF(AND(B28=\"\",B29=\"\",B32=\"\",B31=\"\",B30=\"\"),\"\",\"Stack Height (ft):\")","v":""},{"$f":"IF(AND(B28=\"\",B29=\"\",B32=\"\",B31=\"\",B30=\"\"),\"\",\"Stack Diameter (inches):\")","v":""},{"$f":"IF(AND(B28=\"\",B29=\"\",B32=\"\",B31=\"\",B30=\"\"),\"\",\"Flow Rate (acfm):\")","v":""},{"$f":"IF(AND(B28=\"\",B29=\"\",B32=\"\",B31=\"\",B30=\"\"),\"\",\"Temp (Deg F):\")","v":""},null,"","",null,null,null,"","",null,"Sand Transfer to Elevated Storage",0,{"$f":"IF(Q26=0,0,LOOKUP(P26,'Emission Factors'!$A$5:$A$16,'Emission Factors'!$D$5:$D$16))","v":0},0,"",0,0]
["Sand Transfer to Conveyor",null,null,null,null,null,null,"","",null,null,null,"","",null,"Weigh Hopper Loading",0,{"$f":"IF(Q27=0,0,LOOKUP(P27,'Emission Factors'!$A$5:$A$16,'Emission Factors'!$D$5:$D$16))","v":0},0,"",0,0]
["Aggregate Transfer to Elevated Storage",{"$f":"IF(COUNTIF(J21:J30,\"Cement Delivery to Silo\")>0,\"EP-2 Cement Silo Stack:\",\"\")","v":""},null,null,null,null,null,"","",null,null,null,"","",null,"Central Mix Loading",0,{"$f":"IF(Q28=0,0,LOOKUP(P28,'Emission Factors'!$A$5:$A$16,'Emission Factors'!$D$5:$D$16))","v":0},0,{"$f":"IF(Q28=0,\"\",IF($I$10>0,$I$10,IF(COUNTIF($F$24:$F$170,\"no\")>0,\"\",S28*(1-0.95))))","v":""},{"$f":"IF($J$10>0,\"\",IF($D$9>0,$D$9*R28*((100-$W$30)/100)/2000,IF($D$10>0,$D$10*365*R28*((100-$W$30)/100)/2000,IF($D$11>0,$D$11*365*R28*((100-$W$30)/100)*Q28/2000,IF(T28=\"\",S28*8760/2000,T28*8760/2000)))))","v":0},{"$f":"(R28*N182)","v":0}]
["Sand Transfer to Elevated Storage",{"$f":"IF(COUNTIF(J21:J30,\"Cement Supplement Delivery to Silo\")>0,\"EP-3 Cement Supplement Silo Stack:\",\"\")","v":""},null,null,null,null,null,"","",null,null,null,"","",null,"Truck Mix Loading",0,{"$f":"IF(Q29=0,0,LOOKUP(P29,'Emission Factors'!$A$5:$A$16,'Emission Factors'!$D$5:$D$16))","v":0},0,{"$f":"IF(Q29=0,\"\",IF($I$10>0,$I$10,IF(COUNTIF($F$24:$F$170,\"no\")>0,\"\",S29*(1-0.95))))","v":""},{"$f":"IF($J$10>0,\"\",IF($D$9>0,$D$9*R29*((100-$W$30)/100)/2000,IF($D$10>0,$D$10*365*R29*((100-$W$30)/100)/2000,IF($D$11>0,$D$11*365*R29*((100-$W$30)/100)*Q29/2000,IF(T29=\"\",S29*8760/2000,T29*8760/2000)))))","v":0},{"$f":"(R29*M182)","v":0}]
["Weigh Hopper Loading",{"$f":"IF(COUNTIF(J21:J30,\"Weigh Hopper Loading\")>0,\"EP-4 Weigh Hopper Loading Stack:\",\"\")","v":""},null,null,null,null,null,"","",null,null,null,"","",null,"Cement Delivery to Silo",0,{"$f":"IF(Q30=0,0,LOOKUP(P30,'Emission Factors'!$A$5:$A$16,'Emission Factors'!$D$5:$D$16))","v":0},null,{"$f":"IF(Q30=0,0,IF($I$10>0,$I$10,Q30*R30))","v":0},{"$f":"IF($J$10>0,\"\",IF($D$9>0,$D$9*R30/2000,IF($D$10>0,$D$10*365*R30/2000,IF($D$11>0,$D$11*365*R30*Q30/2000,IF($I$10>0,0,T30*8760/2000)))))","v":0},{"$f":"(R13*R30/2000)","v":0},{"$f":"IF(COUNTIF($F$24:$F$170,\"no\")>0,0,95)","v":95}]
["Central Mix Loading",{"$f":"IF(COUNTIF(J21:J30,\"Truck Mix Loading\")>0,\"EP-5 Truck Mix Loading Stack:\",\"\")","v":""},null,null,null,null,null,null,null,null,null,null,null,null,null,"Cement Supplement Delivery to Silo",0,{"$f":"IF(Q31=0,0,LOOKUP(P31,'Emission Factors'!$A$5:$A$16,'Emission Factors'!$D$5:$D$16))","v":0},null,{"$f":"IF(Q31=0,0,IF($I$10>0,$I$10,Q31*R31))","v":0},{"$f":"IF($J$10>0,\"\",IF($D$9>0,$D$9*R31/2000,IF($D$10>0,$D$10*365*R31/2000,IF($D$11>0,$D$11*365*R31*Q31/2000,IF($I$10>0,0,T31*8760/2000)))))","v":0},{"$f":"(R14*R31/2000)","v":0}]
["Truck Mix Loading",{"$f":"IF(COUNTIF(J21:J30,\"Central Mix Loading\")>0,\"EP-6 Central Mix Loading Stack:\",\"\")","v":""},null,null,null,null,null,"Stock Pile Area"]
["Cement Delivery to Silo",null,null,null,null,null,null,null,"Emission Unit #","Maximum Storage Area (acres)","Actual Storage Area (acres)","Actual Days in Existence (days)"]
["Cement Supplement Delivery to Silo",null,null,null,null,null,null,null,null,null,null,null,null,null,null,"PM10"]
[null,null,null,null,null,null,null,null,null,null,null,null,null,null,null,"Aggregate Delivery to Ground Storage",{"$f":"Q4","v":0},{"$f":"IF(Q35=0,0,LOOKUP(P35,'Emission Factors'!$A$5:$A$16,'Emission Factors'!$H$5:$H$16))","v":0},{"$f":"Q35*R35","v":0},{"$f":"IF(Q35=0,\"\",IF($I$11>0,$I$11,\"\"))","v":""},{"$f":"IF($J$11>0,$J$11,IF($D$9>0,$D$9*R35/2000,IF($D$10>0,$D$10*365*R35/2000,IF($D$11>0,$D$11*365*R35*Q35/2000,IF(T35=\"\",S35*8760/2000,T35*8760/2000)))))","v":0},{"$f":"(R4*R35/2000)","v":0}]
[null,null,null,null,null,null,null,null,null,null,null,null,null,null,null,"Sand Delivery to Ground Storage",0,{"$f":"IF(Q36=0,0,LOOKUP(P36,'Emission Factors'!$A$5:$A$16,'Emission Factors'!$H$5:$H$16))","v":0},0,{"$f":"IF(Q36=0,\"\",IF($I$11>0,$I$11,\"\"))","v":""},{"$f":"IF($J$11>0,\"\",IF($D$9>0,$D$9*R36/2000,IF($D$10>0,$D$10*365*R36/2000,IF($D$11>0,$D$11*365*R36*Q36/2000,IF(T36=\"\",S36*8760/2000,T36*8760/2000)))))","v":0},0]
[null,{"$f":"IF('Concrete Plant (CP-5)'!$D$4>1,\"Batch Plant\",\"\")","v":""},{"$f":"IF('Concrete Plant (CP-5)'!$D$4>1,\"Site 2\",\"\")","v":""},null,null,null,null,{"$f":"IF('Concrete Plant (CP-5)'!$D$4>1,\"Emission Point #\",\"\")","v":""},{"$f":"IF('Concrete Plant (CP-5)'!$D$4>1,\"Emission     Unit #\",\"\")","v":""},{"$f":"IF('Concrete Plant (CP-5)'!$D$4>1,\"Processes\",\"\")","v":""},{"$f":"IF('Concrete Plant (CP-5)'!$D$4>1,\"Combined Maximum Hourly Design Rate for all Like Processes (cubic yard/hr)\",\"\")","v":""},{"$f":"IF('Concrete Plant (CP-5)'!$D$4>1,('Facility Information'!G5&\" Annual Throughput (cubic yards)\"),\"\")","v":""},null,null,null,"Aggregate Transfer to Conveyor",0,{"$f":"IF(Q37=0,0,LOOKUP(P37,'Emission Factors'!$A$5:$A$16,'Emission Factors'!$H$5:$H$16))","v":0},0,"",0,0]
[null,{"$f":"IF('Concrete Plant (CP-5)'!$D$4>1,\"Site Name:\",\"\")","v":""},null,null,null,null,null,{"$f":"IF(J38=\"cement delivery to silo\",\"CP-1 EP-2\",IF(J38=\"cement supplement delivery to silo\",\"CP-1 EP-3\",IF(J38=\"weigh hopper loading\",\"CP-1 EP-4\",IF(J38=\"truck mix loading\",\"CP-1 EP-5\",IF(J38=\"central mix loading\",\"CP-1 EP-6\",IF(J38=\"\",\"\",\"CP-1 EP-1\"))))))","v":""},{"$f":"IF(J38=\"\",\"\",IF(J38=\"aggregate delivery to ground storage\",\"CP-5 EU-1\",IF(J38=\"sand delivery to ground storage\",\"CP-5 EU-2\",IF(J38=\"aggregate transfer to conveyor\",\"CP-5 EU-3\",IF(J38=\"sand transfer to conveyor\",\"CP-5 EU-4\",IF(J38=\"aggregate transfer to elevated storage\",\"CP-5 EU-5\",IF(J38=\"sand transfer to elevated storage\",\"CP-5 EU-6\",IF(J38=\"weigh hopper loading\",\"CP-5 EU-7\",IF(J38=\"central mix loading\",\"CP-5 EU-8\",IF(J38=\"truck mix loading\",\"CP-5 EU-9\",IF(J38=\"cement delivery to silo\",\"CP-5 EU-10\",IF(J38=\"cement supplement delivery to silo\",\"CP-5 EU-11\"))))))))))))","v":""},null,null,null,{"$f":"IF(J38=\"truck mix loading\",IF($F$41=\"yes\",L38*0.05/2000,L38/2000),\"\")","v":""},{"$f":"IF(J38=\"central mix loading\",IF($F$41=\"yes\",L38*0.05/2000,L38/2000),\"\")","v":""},null,"Sand Transfer to Conveyor",0,{"$f":"IF(Q38=0,0,LOOKUP(P38,'Emission Factors'!$A$5:$A$16,'Emission Factors'!$H$5:$H$16))","v":0},{"$f":"Q38*R38","v":0},{"$f":"IF(Q38=0,\"\",IF($I$11>0,$I$11,\"\"))","v":""},{"$f":"IF($J$11>0,\"\",IF($D$9>0,$D$9*R38/2000,IF($D$10>0,$D$10*365*R38/2000,IF($D$11>0,$D$11*365*R38*Q38/2000,IF(T38=\"\",S38*8760/2000,T38*8760/2000)))))","v":0},0]
[null,{"$f":"IF('Concrete Plant (CP-5)'!$D$4>1,\"County:\",\"\")","v":""},null,null,null,null,null,{"$f":"IF(J39=\"cement delivery to silo\",\"CP-1 EP-2\",IF(J39=\"cement supplement delivery to silo\",\"CP-1 EP-3\",IF(J39=\"weigh hopper loading\",\"CP-1 EP-4\",IF(J39=\"truck mix loading\",\"CP-1 EP-5\",IF(J39=\"central mix loading\",\"CP-1 EP-6\",IF(J39=\"\",\"\",\"CP-1 EP-1\"))))))","v":""},"",null,null,null,{"$f":"IF(J39=\"truck mix loading\",IF($F$41=\"yes\",L39*0.05/2000,L39/2000),\"\")","v":""},{"$f":"IF(J39=\"central mix loading\",IF($F$41=\"yes\",L39*0.05/2000,L39/2000),\"\")","v":""},null,"Aggregate Transfer to Elevated Storage",0,{"$f":"IF(Q39=0,0,LOOKUP(P39,'Emission Factors'!$A$5:$A$16,'Emission Factors'!$H$5:$H$16))","v":0},0,{"$f":"IF(Q39=0,\"\",IF($I$11>0,$I$11,\"\"))","v":""},{"$f":"IF($J$11>0,\"\",IF($D$9>0,$D$9*R39/2000,IF($D$10>0,$D$10*365*R39/2000,IF($D$11>0,$D$11*365*R39*Q39/2000,IF(T39=\"\",S39*8760/2000,T39*8760/2000)))))","v":0},0]
[null,{"$f":"IF('Concrete Plant (CP-5)'!$D$4>1,\"Batching Period (Dates):\",\"\")","v":""},null,null,null,null,null,"","",null,null,null,"","",null,"Sand Transfer to Elevated Storage",0,{"$f":"IF(Q40=0,0,LOOKUP(P40,'Emission Factors'!$A$5:$A$16,'Emission Factors'!$H$5:$H$16))","v":0},0,{"$f":"IF(Q40=0,\"\",IF($I$11>0,$I$11,\"\"))","v":""},{"$f":"IF($J$11>0,\"\",IF($D$9>0,$D$9*R40/2000,IF($D$10>0,$D$10*365*R40/2000,IF($D$11>0,$D$11*365*R40*Q40/2000,IF(T40=\"\",S40*8760/2000,T40*8760/2000)))))","v":0},0]
[null,{"$f":"IF(OR(COUNTIF(J38:J47,\"Truck Mix Loading\")>0,(COUNTIF(J38:J47,\"Central Mix Loading\")>0)),\"Is the Central/Truck Mix Loading process controlled by a baghouse?\",\"\")","v":""},null,null,null,null,null,"","",null,null,null,"","",null,"Weigh Hopper Loading",0,{"$f":"IF(Q41=0,0,LOOKUP(P41,'Emission Factors'!$A$5:$A$16,'Emission Factors'!$H$5:$H$16))","v":0},0,{"$f":"IF(Q41=0,\"\",IF($I$11>0,$I$11,\"\"))","v":""},{"$f":"IF($J$11>0,\"\",IF($D$9>0,$D$9*R41/2000,IF($D$10>0,$D$10*365*R41/2000,IF($D$11>0,$D$11*365*R41*Q41/2000,IF(T41=\"\",S41*8760/2000,T41*8760/2000)))))","v":0},0,{"$f":"IF(COUNTIF($F$24:$F$170,\"no\")>0,0,95)","v":95}]
[null,null,null,null,null,null,null,"","",null,null,null,"","",null,"Central Mix Loading",0,{"$f":"IF(Q42=0,0,LOOKUP(P42,'Emission Factors'!$A$5:$A$16,'Emission Factors'!$H$5:$H$16))","v":0},0,{"$f":"IF(Q42=0,\"\",IF($I$11>0,$I$11,IF(COUNTIF($F$24:$F$170,\"no\")>0,\"\",S42*(1-0.95))))","v":""},{"$f":"IF($J$11>0,\"\",IF($D$9>0,$D$9*R42*((100-$W$30)/100)/2000,IF($D$10>0,$D$10*365*R42*((100-$W$30)/100)/2000,IF($D$11>0,$D$11*365*R42*((100-$W$30)/100)*Q42/2000,IF(T42=\"\",S42*8760/2000,T42*8760/2000)))))","v":0},{"$f":"(N182*R42)","v":0}]
[null,{"$f":"IF(AND(B45=\"\",B46=\"\",B47=\"\",B48=\"\",B49=\"\"),\"\",\"Process (complete stack information if applicable):\")","v":""},{"$f":"IF(AND(B45=\"\",B46=\"\",B47=\"\",B48=\"\",B49=\"\"),\"\",\"Stack Height (ft):\")","v":""},{"$f":"IF(AND(B45=\"\",B46=\"\",B47=\"\",B48=\"\",B49=\"\"),\"\",\"Stack Diameter (inches):\")","v":""},{"$f":"IF(AND(B45=\"\",B46=\"\",B47=\"\",B48=\"\",B49=\"\"),\"\",\"Flow Rate (acfm):\")","v":""},{"$f":"IF(AND(B45=\"\",B46=\"\",B47=\"\",B48=\"\",B49=\"\"),\"\",\"Temp (Deg F):\")","v":""},null,"","",null,null,null,"","",null,"Truck Mix Loading",0,{"$f":"IF(Q43=0,0,LOOKUP(P43,'Emission Factors'!$A$5:$A$16,'Emission Factors'!$H$5:$H$16))","v":0},0,{"$f":"IF(Q43=0,\"\",IF($I$11>0,$I$11,IF(COUNTIF($F$24:$F$170,\"no\")>0,\"\",S43*(1-0.95))))","v":""},{"$f":"IF($J$11>0,\"\",IF($D$9>0,$D$9*R43*((100-$W$30)/100)/2000,IF($D$10>0,$D$10*365*R43*((100-$W$30)/100)/2000,IF($D$11>0,$D$11*365*R43*((100-$W$30)/100)*Q43/2000,IF(T43=\"\",S43*8760/2000,T43*8760/2000)))))","v":0},{"$f":"(M182*R43)","v":0}]
[null,null,null,null,null,null,null,"","",null,null,null,"","",null,"Cement Delivery to Silo",0,{"$f":"IF(Q44=0,0,LOOKUP(P44,'Emission Factors'!$A$5:$A$16,'Emission Factors'!$H$5:$H$16))","v":0},null,{"$f":"IF(Q44=0,0,IF($I$10>0,$I$10,Q44*R44))","v":0},{"$f":"IF($J$11>0,\"\",IF($D$9>0,$D$9*R44/2000,IF($D$10>0,$D$10*365*R44/2000,IF($D$11>0,$D$11*365*R44*Q44/2000,IF($I$11>0,0,T44*8760/2000)))))","v":0},{"$f":"(R13*R44/2000)","v":0}]
[null,{"$f":"IF(COUNTIF(J38:J47,\"Cement Delivery to Silo\")>0,\"EP-2 Cement Silo Stack:\",\"\")","v":""},null,null,null,null,null,"","",null,null,null,"","",null,"Cement Supplement Delivery to Silo",0,{"$f":"IF(Q45=0,0,LOOKUP(P45,'Emission Factors'!$A$5:$A$16,'Emission Factors'!$H$5:$H$16))","v":0},null,{"$f":"IF(Q45=0,0,IF($I$10>0,$I$10,Q45*R45))","v":0},{"$f":"IF($J$11>0,\"\",IF($D$9>0,$D$9*R45/2000,IF($D$10>0,$D$10*365*R45/2000,IF($D$11>0,$D$11*365*R45*Q45/2000,IF($I$11>0,0,T45*8760/2000)))))","v":0},{"$f":"(R14*R45/2000)","v":0}]
[null,{"$f":"IF(COUNTIF(J38:J47,\"Cement Supplement Delivery to Silo\")>0,\"EP-3 Cement Supplement Silo Stack:\",\"\")","v":""},null,null,null,null,null,"","",null,null,null,"",""]
[null,{"$f":"IF(COUNTIF(J38:J47,\"Weigh Hopper Loading\")>0,\"EP-4 Weigh Hopper Loading Stack:\",\"\")","v":""},null,null,null,null,null,"","",null,null,null,"",""]
[null,{"$f":"IF(COUNTIF(J38:J47,\"Truck Mix Loading\")>0,\"EP-5 Truck Mix Loading Stack:\",\"\")","v":""},null,null,null,null,null,{"$f":"IF('Concrete Plant (CP-5)'!$D$4>1,\"Stock Pile Area\",\"\")","v":""},null,null,null,null,null,null,null,"Storage Pile","Max Design Rate (acres/day)","Emission Factor   (lb/acre-day)","Potential Uncontrolled Emissions (lb/hr)","Potential Controlled Emissions (lb/hr)","Potential Annual Emissions (tons/yr)","Actual Annual Emissions (tons/yr)"]
[null,{"$f":"IF(COUNTIF(J38:J47,\"Central Mix Loading\")>0,\"EP-6 Central Mix Loading Stack:\",\"\")","v":""},null,null,null,null,null,null,{"$f":"IF('Concrete Plant (CP-5)'!$D$4>1,\"Emission Unit #\",\"\")","v":""},{"$f":"IF('Concrete Plant (CP-5)'!$D$4>1,\"Maximum Storage Area (acres)\",\"\")","v":""},{"$f":"IF('Concrete Plant (CP-5)'!$D$4>1,\"Actual Storage Area (acres)\",\"\")","v":""},{"$f":"IF('Concrete Plant (CP-5)'!$D$4>1,\"Actual Days in Existence (days)\",\"\")","v":""},null,null,null,"PM2.5/PM10",{"$f":"Q17","v":0},3.64,{"$f":"Q49*R49*(1/24)","v":0},null,{"$f":"Q49*R49*365/2000","v":0},{"$f":"R17*R49/2000","v":0}]
[]
[]
[]
[null,{"$f":"IF('Concrete Plant (CP-5)'!$D$4>2,\"Batch Plant\",\"\")","v":""},{"$f":"IF('Concrete Plant (CP-5)'!$D$4>2,\"Site 3\",\"\")","v":""},null,null,null,null,{"$f":"IF('Concrete Plant (CP-5)'!$D$4>2,\"Emission Point #\",\"\")","v":""},{"$f":"IF('Concrete Plant (CP-5)'!$D$4>2,\"Emission     Unit #\",\"\")","v":""},{"$f":"IF('Concrete Plant (CP-5)'!$D$4>2,\"Processes\",\"\")","v":""},{"$f":"IF('Concrete Plant (CP-5)'!$D$4>2,\"Combined Maximum Hourly Design Rate for all Like Processes (cubic yard/hr)\",\"\")","v":""},{"$f":"IF('Concrete Plant (CP-5)'!$D$4>2,('Facility Information'!G5&\" Annual Throughput (cubic yards)\"),\"\")","v":""}]
[null,{"$f":"IF('Concrete Plant (CP-5)'!$D$4>2,\"Site Name:\",\"\")","v":""},null,null,null,null,null,{"$f":"IF(J54=\"cement delivery to silo\",\"CP-1 EP-2\",IF(J54=\"cement supplement delivery to silo\",\"CP-1 EP-3\",IF(J54=\"weigh hopper loading\",\"CP-1 EP-4\",IF(J54=\"truck mix loading\",\"CP-1 EP-5\",IF(J54=\"central mix loading\",\"CP-1 EP-6\",IF(J54=\"\",\"\",\"CP-1 EP-1\"))))))","v":""},{"$f":"IF(J54=\"\",\"\",IF(J54=\"aggregate delivery to ground storage\",\"CP-5 EU-1\",IF(J54=\"sand delivery to ground storage\",\"CP-5 EU-2\",IF(J54=\"aggregate transfer to conveyor\",\"CP-5 EU-3\",IF(J54=\"sand transfer to conveyor\",\"CP-5 EU-4\",IF(J54=\"aggregate transfer to elevated storage\",\"CP-5 EU-5\",IF(J54=\"sand transfer to elevated storage\",\"CP-5 EU-6\",IF(J54=\"weigh hopper loading\",\"CP-5 EU-7\",IF(J54=\"central mix loading\",\"CP-5 EU-8\",IF(J54=\"truck mix loading\",\"CP-5 EU-9\",IF(J54=\"cement delivery to silo\",\"CP-5 EU-10\",IF(J54=\"cement supplement delivery to silo\",\"CP-5 EU-11\"))))))))))))","v":""},null,null,null,{"$f":"IF(J54=\"truck mix loading\",IF($F$57=\"yes\",L54*0.05/2000,L54/2000),\"\")","v":""},{"$f":"IF(J54=\"central mix loading\",IF($F$57=\"yes\",L54*0.05/2000,L54/2000),\"\")","v":""}]
[null,{"$f":"IF('Concrete Plant (CP-5)'!$D$4>2,\"County:\",\"\")","v":""},null,null,null,null,null,{"$f":"IF(J55=\"cement delivery to silo\",\"CP-1 EP-2\",IF(J55=\"cement supplement delivery to silo\",\"CP-1 EP-3\",IF(J55=\"weigh hopper loading\",\"CP-1 EP-4\",IF(J55=\"truck mix loading\",\"CP-1 EP-5\",IF(J55=\"central mix loading\",\"CP-1 EP-6\",IF(J55=\"\",\"\",\"CP-1 EP-1\"))))))","v":""},"",null,null,null,{"$f":"IF(J55=\"truck mix loading\",IF($F$57=\"yes\",L55*0.05/2000,L55/2000),\"\")","v":""},{"$f":"IF(J55=\"central mix loading\",IF($F$57=\"yes\",L55*0.05/2000,L55/2000),\"\")","v":""}]
[null,{"$f":"IF('Concrete Plant (CP-5)'!$D$4>2,\"Batching Period (Dates):\",\"\")","v":""},null,null,null,null,null,"","",null,null,null,"",""]
[null,{"$f":"IF(OR(COUNTIF(J54:J63,\"Truck Mix Loading\")>0,(COUNTIF(J54:J63,\"Central Mix Loading\")>0)),\"Is the Central/Truck Mix Loading process controlled by a baghouse?\",\"\")","v":""},null,null,null,null,null,"","",null,null,null,"",""]
[null,null,null,null,null,null,null,"","",null,null,null,"",""]
[null,{"$f":"IF(AND(B61=\"\",B62=\"\",B63=\"\",B64=\"\",B65=\"\"),\"\",\"Process (complete stack information if applicable):\")","v":""},{"$f":"IF(AND(B61=\"\",B62=\"\",B63=\"\",B64=\"\",B65=\"\"),\"\",\"Stack Height (ft):\")","v":""},{"$f":"IF(AND(B61=\"\",B62=\"\",B63=\"\",B64=\"\",B65=\"\"),\"\",\"Stack Diameter (inches):\")","v":""},{"$f":"IF(AND(B61=\"\",B62=\"\",B63=\"\",B64=\"\",B65=\"\"),\"\",\"Flow Rate (acfm):\")","v":""},{"$f":"IF(AND(B61=\"\",B62=\"\",B63=\"\",B64=\"\",B65=\"\"),\"\",\"Temp (Deg F):\")","v":""},null,"","",null,null,null,"",""]
[null,null,null,null,null,null,null,"","",null,null,null,"",""]
[null,{"$f":"IF(COUNTIF(J54:J63,\"Cement Delivery to Silo\")>0,\"EP-2 Cement Silo Stack:\",\"\")","v":""},null,null,null,null,null,"","",null,null,null,"",""]
[null,{"$f":"IF(COUNTIF(J54:J63,\"Cement Supplement Delivery to Silo\")>0,\"EP-3 Cement Supplement Silo Stack:\",\"\")","v":""},null,null,null,null,null,"","",null,null,null,"",""]
[null,{"$f":"IF(COUNTIF(J54:J63,\"Weigh Hopper Loading\")>0,\"EP-4 Weigh Hopper Loading Stack:\",\"\")","v":""},null,null,null,null,null,"","",null,null,null,"",""]
[null,{"$f":"IF(COUNTIF(J54:J63,\"Truck Mix Loading\")>0,\"EP-5 Truck Mix Loading Stack:\",\"\")","v":""}]
[null,{"$f":"IF(COUNTIF(J54:J63,\"Central Mix Loading\")>0,\"EP-6 Central Mix Loading Stack:\",\"\")","v":""},null,null,null,null,null,{"$f":"IF('Concrete Plant (CP-5)'!$D$4>2,\"Stock Pile Area\",\"\")","v":""}]
[null,null,null,null,null,null,null,null,{"$f":"IF('Concrete Plant (CP-5)'!$D$4>2,\"Emission Unit #\",\"\")","v":""},{"$f":"IF('Concrete Plant (CP-5)'!$D$4>2,\"Maximum Storage Area (acres)\",\"\")","v":""},{"$f":"IF('Concrete Plant (CP-5)'!$D$4>2,\"Actual Storage Area (acres)\",\"\")","v":""},{"$f":"IF('Concrete Plant (CP-5)'!$D$4>2,\"Actual Days in Existence (days)\",\"\")","v":""}]
[]
[]
[null,{"$f":"IF('Concrete Plant (CP-5)'!$D$4>3,\"Batch Plant\",\"\")","v":""},{"$f":"IF('Concrete Plant (CP-5)'!$D$4>3,\"Site 4\",\"\")","v":""},null,null,null,null,{"$f":"IF('Concrete Plant (CP-5)'!$D$4>3,\"Emission Point #\",\"\")","v":""},{"$f":"IF('Concrete Plant (CP-5)'!$D$4>3,\"Emission     Unit #\",\"\")","v":""},{"$f":"IF('Concrete Plant (CP-5)'!$D$4>3,\"Processes\",\"\")","v":""},{"$f":"IF('Concrete Plant (CP-5)'!$D$4>3,\"Combined Maximum Hourly Design Rate for all Like Processes (cubic yard/hr)\",\"\")","v":""},{"$f":"IF('Concrete Plant (CP-5)'!$D$4>3,('Facility Information'!G5&\" Annual Throughput (cubic yards)\"),\"\")","v":""}]
[null,{"$f":"IF('Concrete Plant (CP-5)'!$D$4>3,\"Site Name:\",\"\")","v":""},null,null,null,null,null,{"$f":"IF(J70=\"cement delivery to silo\",\"CP-1 EP-2\",IF(J70=\"cement supplement delivery to silo\",\"CP-1 EP-3\",IF(J70=\"weigh hopper loading\",\"CP-1 EP-4\",IF(J70=\"truck mix loading\",\"CP-1 EP-5\",IF(J70=\"central mix loading\",\"CP-1 EP-6\",IF(J70=\"\",\"\",\"CP-1 EP-1\"))))))","v":""},{"$f":"IF(J70=\"\",\"\",IF(J70=\"aggregate delivery to ground storage\",\"CP-5 EU-1\",IF(J70=\"sand delivery to ground storage\",\"CP-5 EU-2\",IF(J70=\"aggregate transfer to conveyor\",\"CP-5 EU-3\",IF(J70=\"sand transfer to conveyor\",\"CP-5 EU-4\",IF(J70=\"aggregate transfer to elevated storage\",\"CP-5 EU-5\",IF(J70=\"sand transfer to elevated storage\",\"CP-5 EU-6\",IF(J70=\"weigh hopper loading\",\"CP-5 EU-7\",IF(J70=\"central mix loading\",\"CP-5 EU-8\",IF(J70=\"truck mix loading\",\"CP-5 EU-9\",IF(J70=\"cement delivery to silo\",\"CP-5 EU-10\",IF(J70=\"cement supplement delivery to silo\",\"CP-5 EU-11\"))))))))))))","v":""},null,null,null,{"$f":"IF(J70=\"truck mix loading\",IF($F$73=\"yes\",L70*0.05/2000,L70/2000),\"\")","v":""},{"$f":"IF(J70=\"central mix loading\",IF($F$73=\"yes\",L70*0.05/2000,L70/2000),\"\")","v":""}]
[null,{"$f":"IF('Concrete Plant (CP-5)'!$D$4>3,\"County:\",\"\")","v":""},null,null,null,null,null,{"$f":"IF(J71=\"cement delivery to silo\",\"CP-1 EP-2\",IF(J71=\"cement supplement delivery to silo\",\"CP-1 EP-3\",IF(J71=\"weigh hopper loading\",\"CP-1 EP-4\",IF(J71=\"truck mix loading\",\"CP-1 EP-5\",IF(J71=\"central mix loading\",\"CP-1 EP-6\",IF(J71=\"\",\"\",\"CP-1 EP-1\"))))))","v":""},"",null,null,null,{"$f":"IF(J71=\"truck mix loading\",IF($F$73=\"yes\",L71*0.05/2000,L71/2000),\"\")","v":""},{"$f":"IF(J71=\"central mix loading\",IF($F$73=\"yes\",L71*0.05/2000,L71/2000),\"\")","v":""}]
[null,{"$f":"IF('Concrete Plant (CP-5)'!$D$4>3,\"Batching Period (Dates):\",\"\")","v":""},null,null,null,null,null,"","",null,null,null,"",""]
[null,{"$f":"IF(OR(COUNTIF(J70:J79,\"Truck Mix Loading\")>0,(COUNTIF(J70:J79,\"Central Mix Loading\")>0)),\"Is the Central/Truck Mix Loading process controlled by a baghouse?\",\"\")","v":""},null,null,null,null,null,"","",null,null,null,"",""]
[null,null,null,null,null,null,null,"","",null,null,null,"",""]
[null,{"$f":"IF(AND(B77=\"\",B78=\"\",B79=\"\",B80=\"\",B81=\"\"),\"\",\"Process (complete stack information if applicable):\")","v":""},{"$f":"IF(AND(B77=\"\",B78=\"\",B79=\"\",B80=\"\",B81=\"\"),\"\",\"Stack Height (ft):\")","v":""},{"$f":"IF(AND(B77=\"\",B78=\"\",B79=\"\",B80=\"\",B81=\"\"),\"\",\"Stack Diameter (inches):\")","v":""},{"$f":"IF(AND(B77=\"\",B78=\"\",B79=\"\",B80=\"\",B81=\"\"),\"\",\"Flow Rate (acfm):\")","v":""},{"$f":"IF(AND(B77=\"\",B78=\"\",B79=\"\",B80=\"\",B81=\"\"),\"\",\"Temp (Deg F):\")","v":""},null,"","",null,null,null,"",""]
[null,null,null,null,null,null,null,"","",null,null,null,"",""]
[null,{"$f":"IF(COUNTIF(J70:J79,\"Cement Delivery to Silo\")>0,\"EP-2 Cement Silo Stack:\",\"\")","v":""},null,null,null,null,null,"","",null,null,null,"",""]
[null,{"$f":"IF(COUNTIF(J70:J79,\"Cement Supplement Delivery to Silo\")>0,\"EP-3 Cement Supplement Silo Stack:\",\"\")","v":""},null,null,null,null,null,"","",null,null,null,"",""]
[null,{"$f":"IF(COUNTIF(J70:J79,\"Weigh Hopper Loading\")>0,\"EP-4 Weigh Hopper Loading Stack:\",\"\")","v":""},null,null,null,null,null,"","",null,null,null,"",""]
[null,{"$f":"IF(COUNTIF(J70:J79,\"Truck Mix Loading\")>0,\"EP-5 Truck Mix Loading Stack:\",\"\")","v":""}]
[null,{"$f":"IF(COUNTIF(J70:J79,\"Central Mix Loading\")>0,\"EP-6 Central Mix Loading Stack:\",\"\")","v":""},null,null,null,null,null,{"$f":"IF('Concrete Plant (CP-5)'!$D$4>3,\"Stock Pile Area\",\"\")","v":""}]
[null,null,null,null,null,null,null,null,{"$f":"IF('Concrete Plant (CP-5)'!$D$4>3,\"Emission Unit #\",\"\")","v":""},{"$f":"IF('Concrete Plant (CP-5)'!$D$4>3,\"Maximum Storage Area (acres)\",\"\")","v":""},{"$f":"IF('Concrete Plant (CP-5)'!$D$4>3,\"Actual Storage Area (acres)\",\"\")","v":""},{"$f":"IF('Concrete Plant (CP-5)'!$D$4>3,\"Actual Days in Existence (days)\",\"\")","v":""}]
[]
[]
[null,{"$f":"IF('Concrete Plant (CP-5)'!$D$4>4,\"Batch Plant\",\"\")","v":""},{"$f":"IF('Concrete Plant (CP-5)'!$D$4>4,\"Site 5\",\"\")","v":""},null,null,null,null,{"$f":"IF('Concrete Plant (CP-5)'!$D$4>4,\"Emission Point #\",\"\")","v":""},{"$f":"IF('Concrete Plant (CP-5)'!$D$4>4,\"Emission     Unit #\",\"\")","v":""},{"$f":"IF('Concrete Plant (CP-5)'!$D$4>4,\"Processes\",\"\")","v":""},{"$f":"IF('Concrete Plant (CP-5)'!$D$4>4,\"Combined Maximum Hourly Design Rate for all Like Processes (cubic yard/hr)\",\"\")","v":""},{"$f":"IF('Concrete Plant (CP-5)'!$D$4>4,('Facility Information'!G5&\" Annual Throughput (cubic yards)\"),\"\")","v":""}]
[null,{"$f":"IF('Concrete Plant (CP-5)'!$D$4>4,\"Site Name:\",\"\")","v":""},null,null,null,null,null,{"$f":"IF(J86=\"cement delivery to silo\",\"CP-1 EP-2\",IF(J86=\"cement supplement delivery to silo\",\"CP-1 EP-3\",IF(J86=\"weigh hopper loading\",\"CP-1 EP-4\",IF(J86=\"truck mix loading\",\"CP-1 EP-5\",IF(J86=\"central mix loading\",\"CP-1 EP-6\",IF(J86=\"\",\"\",\"CP-1 EP-1\"))))))","v":""},{"$f":"IF(J86=\"\",\"\",IF(J86=\"aggregate delivery to ground storage\",\"CP-5 EU-1\",IF(J86=\"sand delivery to ground storage\",\"CP-5 EU-2\",IF(J86=\"aggregate transfer to conveyor\",\"CP-5 EU-3\",IF(J86=\"sand transfer to conveyor\",\"CP-5 EU-4\",IF(J86=\"aggregate transfer to elevated storage\",\"CP-5 EU-5\",IF(J86=\"sand transfer to elevated storage\",\"CP-5 EU-6\",IF(J86=\"weigh hopper loading\",\"CP-5 EU-7\",IF(J86=\"central mix loading\",\"CP-5 EU-8\",IF(J86=\"truck mix loading\",\"CP-5 EU-9\",IF(J86=\"cement delivery to silo\",\"CP-5 EU-10\",IF(J86=\"cement supplement delivery to silo\",\"CP-5 EU-11\"))))))))))))","v":""},null,null,null,{"$f":"IF(J86=\"truck mix loading\",IF($F$89=\"yes\",L86*0.05/2000,L86/2000),\"\")","v":""},{"$f":"IF(J86=\"central mix loading\",IF($F$89=\"yes\",L86*0.05/2000,L86/2000),\"\")","v":""}]
[null,{"$f":"IF('Concrete Plant (CP-5)'!$D$4>4,\"County:\",\"\")","v":""},null,null,null,null,null,{"$f":"IF(J87=\"cement delivery to silo\",\"CP-1 EP-2\",IF(J87=\"cement supplement delivery to silo\",\"CP-1 EP-3\",IF(J87=\"weigh hopper loading\",\"CP-1 EP-4\",IF(J87=\"truck mix loading\",\"CP-1 EP-5\",IF(J87=\"central mix loading\",\"CP-1 EP-6\",IF(J87=\"\",\"\",\"CP-1 EP-1\"))))))","v":""},"",null,null,null,{"$f":"IF(J87=\"truck mix loading\",IF($F$89=\"yes\",L87*0.05/2000,L87/2000),\"\")","v":""},{"$f":"IF(J87=\"central mix loading\",IF($F$89=\"yes\",L87*0.05/2000,L87/2000),\"\")","v":""}]
[null,{"$f":"IF('Concrete Plant (CP-5)'!$D$4>4,\"Batching Period (Dates):\",\"\")","v":""},null,null,null,null,null,"","",null,null,null,"",""]
[null,{"$f":"IF(OR(COUNTIF(J86:J95,\"Truck Mix Loading\")>0,(COUNTIF(J86:J95,\"Central Mix Loading\")>0)),\"Is the Central/Truck Mix Loading process controlled by a baghouse?\",\"\")","v":""},null,null,null,null,null,"","",null,null,null,"",""]
[null,null,null,null,null,null,null,"","",null,null,null,"",""]
[null,{"$f":"IF(AND(B93=\"\",B94=\"\",B95=\"\",B96=\"\",B97=\"\"),\"\",\"Process (complete stack information if applicable):\")","v":""},{"$f":"IF(AND(B93=\"\",B94=\"\",B95=\"\",B96=\"\",B97=\"\"),\"\",\"Stack Height (ft):\")","v":""},{"$f":"IF(AND(B93=\"\",B94=\"\",B95=\"\",B96=\"\",B97=\"\"),\"\",\"Stack Diameter (inches):\")","v":""},{"$f":"IF(AND(B93=\"\",B94=\"\",B95=\"\",B96=\"\",B97=\"\"),\"\",\"Flow Rate (acfm):\")","v":""},{"$f":"IF(AND(B93=\"\",B94=\"\",B95=\"\",B96=\"\",B97=\"\"),\"\",\"Temp (Deg F):\")","v":""},null,"","",null,null,null,"",""]
[null,null,null,null,null,null,null,"","",null,null,null,"",""]
[null,{"$f":"IF(COUNTIF(J86:J95,\"Cement Delivery to Silo\")>0,\"EP-2 Cement Silo Stack:\",\"\")","v":""},null,null,null,null,null,"","",null,null,null,"",""]
[null,{"$f":"IF(COUNTIF(J86:J95,\"Cement Supplement Delivery to Silo\")>0,\"EP-3 Cement Supplement Silo Stack:\",\"\")","v":""},null,null,null,null,null,"","",null,null,null,"",""]
[null,{"$f":"IF(COUNTIF(J86:J95,\"Weigh Hopper Loading\")>0,\"EP-4 Weigh Hopper Loading Stack:\",\"\")","v":""},null,null,null,null,null,"","",null,null,null,"",""]
[null,{"$f":"IF(COUNTIF(J86:J95,\"Truck Mix Loading\")>0,\"EP-5 Truck Mix Loading Stack:\",\"\")","v":""}]
[null,{"$f":"IF(COUNTIF(J86:J95,\"Central Mix Loading\")>0,\"EP-6 Central Mix Loading Stack:\",\"\")","v":""},null,null,null,null,null,{"$f":"IF('Concrete Plant (CP-5)'!$D$4>4,\"Stock Pile Area\",\"\")","v":""}]
[null,null,null,null,null,null,null,null,{"$f":"IF('Concrete Plant (CP-5)'!$D$4>4,\"Emission Unit #\",\"\")","v":""},{"$f":"IF('Concrete Plant (CP-5)'!$D$4>4,\"Maximum Storage Area (acres)\",\"\")","v":""},{"$f":"IF('Concrete Plant (CP-5)'!$D$4>4,\"Actual Storage Area (acres)\",\"\")","v":""},{"$f":"IF('Concrete Plant (CP-5)'!$D$4>4,\"Actual Days in Existence (days)\",\"\")","v":""}]
[]
[]
[null,{"$f":"IF('Concrete Plant (CP-5)'!$D$4>5,\"Batch Plant\",\"\")","v":""},{"$f":"IF('Concrete Plant (CP-5)'!$D$4>5,\"Site 6\",\"\")","v":""},null,null,null,null,{"$f":"IF('Concrete Plant (CP-5)'!$D$4>5,\"Emission Point #\",\"\")","v":""},{"$f":"IF('Concrete Plant (CP-5)'!$D$4>5,\"Emission     Unit #\",\"\")","v":""},{"$f":"IF('Concrete Plant (CP-5)'!$D$4>5,\"Processes\",\"\")","v":""},{"$f":"IF('Concrete Plant (CP-5)'!$D$4>5,\"Combined Maximum Hourly Design Rate for all Like Processes (cubic yard/hr)\",\"\")","v":""},{"$f":"IF('Concrete Plant (CP-5)'!$D$4>5,('Facility Information'!G5&\" Annual Throughput (cubic yards)\"),\"\")","v":""}]
[null,{"$f":"IF('Concrete Plant (CP-5)'!$D$4>5,\"Site Name:\",\"\")","v":""},null,null,null,null,null,{"$f":"IF(J102=\"cement delivery to silo\",\"CP-1 EP-2\",IF(J102=\"cement supplement delivery to silo\",\"CP-1 EP-3\",IF(J102=\"weigh hopper loading\",\"CP-1 EP-4\",IF(J102=\"truck mix loading\",\"CP-1 EP-5\",IF(J102=\"central mix loading\",\"CP-1 EP-6\",IF(J102=\"\",\"\",\"CP-1 EP-1\"))))))","v":""},{"$f":"IF(J102=\"\",\"\",IF(J102=\"aggregate delivery to ground storage\",\"CP-5 EU-1\",IF(J102=\"sand delivery to ground storage\",\"CP-5 EU-2\",IF(J102=\"aggregate transfer to conveyor\",\"CP-5 EU-3\",IF(J102=\"sand transfer to conveyor\",\"CP-5 EU-4\",IF(J102=\"aggregate transfer to elevated storage\",\"CP-5 EU-5\",IF(J102=\"sand transfer to elevated storage\",\"CP-5 EU-6\",IF(J102=\"weigh hopper loading\",\"CP-5 EU-7\",IF(J102=\"central mix loading\",\"CP-5 EU-8\",IF(J102=\"truck mix loading\",\"CP-5 EU-9\",IF(J102=\"cement delivery to silo\",\"CP-5 EU-10\",IF(J102=\"cement supplement delivery to silo\",\"CP-5 EU-11\"))))))))))))","v":""},null,null,null,{"$f":"IF(J102=\"truck mix loading\",IF($F$105=\"yes\",L102*0.05/2000,L102/2000),\"\")","v":""},{"$f":"IF(J102=\"central mix loading\",IF($F$105=\"yes\",L102*0.05/2000,L102/2000),\"\")","v":""}]
[null,{"$f":"IF('Concrete Plant (CP-5)'!$D$4>5,\"County:\",\"\")","v":""},null,null,null,null,null,{"$f":"IF(J103=\"cement delivery to silo\",\"CP-1 EP-2\",IF(J103=\"cement supplement delivery to silo\",\"CP-1 EP-3\",IF(J103=\"weigh hopper loading\",\"CP-1 EP-4\",IF(J103=\"truck mix loading\",\"CP-1 EP-5\",IF(J103=\"central mix loading\",\"CP-1 EP-6\",IF(J103=\"\",\"\",\"CP-1 EP-1\"))))))","v":""},"",null,null,null,{"$f":"IF(J103=\"truck mix loading\",IF($F$105=\"yes\",L103*0.05/2000,L103/2000),\"\")","v":""},{"$f":"IF(J103=\"central mix loading\",IF($F$105=\"yes\",L103*0.05/2000,L103/2000),\"\")","v":""}]
[null,{"$f":"IF('Concrete Plant (CP-5)'!$D$4>5,\"Batching Period (Dates):\",\"\")","v":""},null,null,null,null,null,"","",null,null,null,"",""]
[null,{"$f":"IF(OR(COUNTIF(J102:J111,\"Truck Mix Loading\")>0,(COUNTIF(J102:J111,\"Central Mix Loading\")>0)),\"Is the Central/Truck Mix Loading process controlled by a baghouse?\",\"\")","v":""},null,null,null,null,null,"","",null,null,null,"",""]
[null,null,null,null,null,null,null,"","",null,null,null,"",""]
[null,{"$f":"IF(AND(B109=\"\",B110=\"\",B111=\"\",B112=\"\",B113=\"\"),\"\",\"Process (complete stack information if applicable):\")","v":""},{"$f":"IF(AND(B109=\"\",B110=\"\",B111=\"\",B112=\"\",B113=\"\"),\"\",\"Stack Height (ft):\")","v":""},{"$f":"IF(AND(B109=\"\",B110=\"\",B111=\"\",B112=\"\",B113=\"\"),\"\",\"Stack Diameter (inches):\")","v":""},{"$f":"IF(AND(B109=\"\",B110=\"\",B111=\"\",B112=\"\",B113=\"\"),\"\",\"Flow Rate (acfm):\")","v":""},{"$f":"IF(AND(B109=\"\",B110=\"\",B111=\"\",B112=\"\",B113=\"\"),\"\",\"Temp (Deg F):\")","v":""},null,"","",null,null,null,"",""]
[null,null,null,null,null,null,null,"","",null,null,null,"",""]
[null,{"$f":"IF(COUNTIF(J102:J111,\"Cement Delivery to Silo\")>0,\"EP-2 Cement Silo Stack:\",\"\")","v":""},null,null,null,null,null,"","",null,null,null,"",""]
[null,{"$f":"IF(COUNTIF(J102:J111,\"Cement Supplement Delivery to Silo\")>0,\"EP-3 Cement Supplement Silo Stack:\",\"\")","v":""},null,null,null,null,null,"","",null,null,null,"",""]
[null,{"$f":"IF(COUNTIF(J102:J111,\"Weigh Hopper Loading\")>0,\"EP-4 Weigh Hopper Loading Stack:\",\"\")","v":""},null,null,null,null,null,"","",null,null,null,"",""]
[null,{"$f":"IF(COUNTIF(J102:J111,\"Truck Mix Loading\")>0,\"EP-5 Truck Mix Loading Stack:\",\"\")","v":""}]
[null,{"$f":"IF(COUNTIF(J102:J111,\"Central Mix Loading\")>0,\"EP-6 Central Mix Loading Stack:\",\"\")","v":""},null,null,null,null,null,{"$f":"IF('Concrete Plant (CP-5)'!$D$4>5,\"Stock Pile Area\",\"\")","v":""}]
[null,null,null,null,null,null,null,null,{"$f":"IF('Concrete Plant (CP-5)'!$D$4>5,\"Emission Unit #\",\"\")","v":""},{"$f":"IF('Concrete Plant (CP-5)'!$D$4>5,\"Maximum Storage Area (acres)\",\"\")","v":""},{"$f":"IF('Concrete Plant (CP-5)'!$D$4>5,\"Actual Storage Area (acres)\",\"\")","v":""},{"$f":"IF('Concrete Plant (CP-5)'!$D$4>5,\"Actual Days in Existence (days)\",\"\")","v":""}]
[]
[]
[null,{"$f":"IF('Concrete Plant (CP-5)'!$D$4>6,\"Batch Plant\",\"\")","v":""},{"$f":"IF('Concrete Plant (CP-5)'!$D$4>6,\"Site 7\",\"\")","v":""},null,null,null,null,{"$f":"IF('Concrete Plant (CP-5)'!$D$4>6,\"Emission Point #\",\"\")","v":""},{"$f":"IF('Concrete Plant (CP-5)'!$D$4>6,\"Emission     Unit #\",\"\")","v":""},{"$f":"IF('Concrete Plant (CP-5)'!$D$4>6,\"Processes\",\"\")","v":""},{"$f":"IF('Concrete Plant (CP-5)'!$D$4>6,\"Combined Maximum Hourly Design Rate for all Like Processes (cubic yard/hr)\",\"\")","v":""},{"$f":"IF('Concrete Plant (CP-5)'!$D$4>6,('Facility Information'!G5&\" Annual Throughput (cubic yards)\"),\"\")","v":""}]
[null,{"$f":"IF('Concrete Plant (CP-5)'!$D$4>6,\"Site Name:\",\"\")","v":""},null,null,null,null,null,{"$f":"IF(J118=\"cement delivery to silo\",\"CP-1 EP-2\",IF(J118=\"cement supplement delivery to silo\",\"CP-1 EP-3\",IF(J118=\"weigh hopper loading\",\"CP-1 EP-4\",IF(J118=\"truck mix loading\",\"CP-1 EP-5\",IF(J118=\"central mix loading\",\"CP-1 EP-6\",IF(J118=\"\",\"\",\"CP-1 EP-1\"))))))","v":""},{"$f":"IF(J118=\"\",\"\",IF(J118=\"aggregate delivery to ground storage\",\"CP-5 EU-1\",IF(J118=\"sand delivery to ground storage\",\"CP-5 EU-2\",IF(J118=\"aggregate transfer to conveyor\",\"CP-5 EU-3\",IF(J118=\"sand transfer to conveyor\",\"CP-5 EU-4\",IF(J118=\"aggregate transfer to elevated storage\",\"CP-5 EU-5\",IF(J118=\"sand transfer to elevated storage\",\"CP-5 EU-6\",IF(J118=\"weigh hopper loading\",\"CP-5 EU-7\",IF(J118=\"central mix loading\",\"CP-5 EU-8\",IF(J118=\"truck mix loading\",\"CP-5 EU-9\",IF(J118=\"cement delivery to silo\",\"CP-5 EU-10\",IF(J118=\"cement supplement delivery to silo\",\"CP-5 EU-11\"))))))))))))","v":""},null,null,null,{"$f":"IF(J118=\"truck mix loading\",IF($F$121=\"yes\",L118*0.05/2000,L118/2000),\"\")","v":""},{"$f":"IF(J118=\"central mix loading\",IF($F$121=\"yes\",L118*0.05/2000,L118/2000),\"\")","v":""}]
[null,{"$f":"IF('Concrete Plant (CP-5)'!$D$4>6,\"County:\",\"\")","v":""},null,null,null,null,null,{"$f":"IF(J119=\"cement delivery to silo\",\"CP-1 EP-2\",IF(J119=\"cement supplement delivery to silo\",\"CP-1 EP-3\",IF(J119=\"weigh hopper loading\",\"CP-1 EP-4\",IF(J119=\"truck mix loading\",\"CP-1 EP-5\",IF(J119=\"central mix loading\",\"CP-1 EP-6\",IF(J119=\"\",\"\",\"CP-1 EP-1\"))))))","v":""},"",null,null,null,{"$f":"IF(J119=\"truck mix loading\",IF($F$121=\"yes\",L119*0.05/2000,L119/2000),\"\")","v":""},{"$f":"IF(J119=\"central mix loading\",IF($F$121=\"yes\",L119*0.05/2000,L119/2000),\"\")","v":""}]
[null,{"$f":"IF('Concrete Plant (CP-5)'!$D$4>6,\"Batching Period (Dates):\",\"\")","v":""},null,null,null,null,null,"","",null,null,null,"",""]
[null,{"$f":"IF(OR(COUNTIF(J118:J127,\"Truck Mix Loading\")>0,(COUNTIF(J118:J127,\"Central Mix Loading\")>0)),\"Is the Central/Truck Mix Loading process controlled by a baghouse?\",\"\")","v":""},null,null,null,null,null,"","",null,null,null,"",""]
[null,null,null,null,null,null,null,"","",null,null,null,"",""]
[null,{"$f":"IF(AND(B125=\"\",B126=\"\",B127=\"\",B128=\"\",B129=\"\"),\"\",\"Process (complete stack information if applicable):\")","v":""},{"$f":"IF(AND(B125=\"\",B126=\"\",B127=\"\",B128=\"\",B129=\"\"),\"\",\"Stack Height (ft):\")","v":""},{"$f":"IF(AND(B125=\"\",B126=\"\",B127=\"\",B128=\"\",B129=\"\"),\"\",\"Stack Diameter (inches):\")","v":""},{"$f":"IF(AND(B125=\"\",B126=\"\",B127=\"\",B128=\"\",B129=\"\"),\"\",\"Flow Rate (acfm):\")","v":""},{"$f":"IF(AND(B125=\"\",B126=\"\",B127=\"\",B128=\"\",B129=\"\"),\"\",\"Temp (Deg F):\")","v":""},null,"","",null,null,null,"",""]
[null,null,null,null,null,null,null,"","",null,null,null,"",""]
[null,{"$f":"IF(COUNTIF(J118:J127,\"Cement Delivery to Silo\")>0,\"EP-2 Cement Silo Stack:\",\"\")","v":""},null,null,null,null,null,"","",null,null,null,"",""]
[null,{"$f":"IF(COUNTIF(J118:J127,\"Cement Supplement Delivery to Silo\")>0,\"EP-3 Cement Supplement Silo Stack:\",\"\")","v":""},null,null,null,null,null,"","",null,null,null,"",""]
[null,{"$f":"IF(COUNTIF(J118:J127,\"Weigh Hopper Loading\")>0,\"EP-4 Weigh Hopper Loading Stack:\",\"\")","v":""},null,null,null,null,null,"","",null,null,null,"",""]
[null,{"$f":"IF(COUNTIF(J118:J127,\"Truck Mix Loading\")>0,\"EP-5 Truck Mix Loading Stack:\",\"\")","v":""}]
[null,{"$f":"IF(COUNTIF(J118:J127,\"Central Mix Loading\")>0,\"EP-6 Central Mix Loading Stack:\",\"\")","v":""},null,null,null,null,null,{"$f":"IF('Concrete Plant (CP-5)'!$D$4>6,\"Stock Pile Area\",\"\")","v":""}]
[null,null,null,null,null,null,null,null,{"$f":"IF('Concrete Plant (CP-5)'!$D$4>6,\"Emission Unit #\",\"\")","v":""},{"$f":"IF('Concrete Plant (CP-5)'!$D$4>6,\"Maximum Storage Area (acres)\",\"\")","v":""},{"$f":"IF('Concrete Plant (CP-5)'!$D$4>6,\"Actual Storage Area (acres)\",\"\")","v":""},{"$f":"IF('Concrete Plant (CP-5)'!$D$4>6,\"Actual Days in Existence (days)\",\"\")","v":""}]
[]
[]
[null,{"$f":"IF('Concrete Plant (CP-5)'!$D$4>7,\"Batch Plant\",\"\")","v":""},{"$f":"IF('Concrete Plant (CP-5)'!$D$4>7,\"Site 8\",\"\")","v":""},null,null,null,null,{"$f":"IF('Concrete Plant (CP-5)'!$D$4>7,\"Emission Point #\",\"\")","v":""},{"$f":"IF('Concrete Plant (CP-5)'!$D$4>7,\"Emission     Unit #\",\"\")","v":""},{"$f":"IF('Concrete Plant (CP-5)'!$D$4>7,\"Processes\",\"\")","v":""},{"$f":"IF('Concrete Plant (CP-5)'!$D$4>7,\"Combined Maximum Hourly Design Rate for all Like Processes (cubic yard/hr)\",\"\")","v":""},{"$f":"IF('Concrete Plant (CP-5)'!$D$4>7,('Facility Information'!G5&\" Annual Throughput (cubic yards)\"),\"\")","v":""}]
[null,{"$f":"IF('Concrete Plant (CP-5)'!$D$4>7,\"Site Name:\",\"\")","v":""},null,null,null,null,null,{"$f":"IF(J134=\"cement delivery to silo\",\"CP-1 EP-2\",IF(J134=\"cement supplement delivery to silo\",\"CP-1 EP-3\",IF(J134=\"weigh hopper loading\",\"CP-1 EP-4\",IF(J134=\"truck mix loading\",\"CP-1 EP-5\",IF(J134=\"central mix loading\",\"CP-1 EP-6\",IF(J134=\"\",\"\",\"CP-1 EP-1\"))))))","v":""},{"$f":"IF(J134=\"\",\"\",IF(J134=\"aggregate delivery to ground storage\",\"CP-5 EU-1\",IF(J134=\"sand delivery to ground storage\",\"CP-5 EU-2\",IF(J134=\"aggregate transfer to conveyor\",\"CP-5 EU-3\",IF(J134=\"sand transfer to conveyor\",\"CP-5 EU-4\",IF(J134=\"aggregate transfer to elevated storage\",\"CP-5 EU-5\",IF(J134=\"sand transfer to elevated storage\",\"CP-5 EU-6\",IF(J134=\"weigh hopper loading\",\"CP-5 EU-7\",IF(J134=\"central mix loading\",\"CP-5 EU-8\",IF(J134=\"truck mix loading\",\"CP-5 EU-9\",IF(J134=\"cement delivery to silo\",\"CP-5 EU-10\",IF(J134=\"cement supplement delivery to silo\",\"CP-5 EU-11\"))))))))))))","v":""},null,null,null,{"$f":"IF(J134=\"truck mix loading\",IF($F$137=\"yes\",L134*0.05/2000,L134/2000),\"\")","v":""},{"$f":"IF(J134=\"central mix loading\",IF($F$137=\"yes\",L134*0.05/2000,L134/2000),\"\")","v":""}]
[null,{"$f":"IF('Concrete Plant (CP-5)'!$D$4>7,\"County:\",\"\")","v":""},null,null,null,null,null,{"$f":"IF(J135=\"cement delivery to silo\",\"CP-1 EP-2\",IF(J135=\"cement supplement delivery to silo\",\"CP-1 EP-3\",IF(J135=\"weigh hopper loading\",\"CP-1 EP-4\",IF(J135=\"truck mix loading\",\"CP-1 EP-5\",IF(J135=\"central mix loading\",\"CP-1 EP-6\",IF(J135=\"\",\"\",\"CP-1 EP-1\"))))))","v":""},"",null,null,null,{"$f":"IF(J135=\"truck mix loading\",IF($F$137=\"yes\",L135*0.05/2000,L135/2000),\"\")","v":""},{"$f":"IF(J135=\"central mix loading\",IF($F$137=\"yes\",L135*0.05/2000,L135/2000),\"\")","v":""}]
[null,{"$f":"IF('Concrete Plant (CP-5)'!$D$4>7,\"Batching Period (Dates):\",\"\")","v":""},null,null,null,null,null,"","",null,null,null,"",""]
[null,{"$f":"IF(OR(COUNTIF(J134:J143,\"Truck Mix Loading\")>0,(COUNTIF(J134:J143,\"Central Mix Loading\")>0)),\"Is the Central/Truck Mix Loading process controlled by a baghouse?\",\"\")","v":""},null,null,null,null,null,"","",null,null,null,"",""]
[null,{"$f":"IF(AND(B140=\"\",B141=\"\",B142=\"\",B143=\"\",B144=\"\"),\"\",\"Process (complete stack information if applicable):\")","v":""},{"$f":"IF(AND(B140=\"\",B141=\"\",B142=\"\",B143=\"\",B144=\"\"),\"\",\"Stack Height (ft):\")","v":""},{"$f":"IF(AND(B140=\"\",B141=\"\",B142=\"\",B143=\"\",B144=\"\"),\"\",\"Stack Diameter (inches):\")","v":""},{"$f":"IF(AND(B140=\"\",B141=\"\",B142=\"\",B143=\"\",B144=\"\"),\"\",\"Flow Rate (acfm):\")","v":""},{"$f":"IF(AND(B140=\"\",B141=\"\",B142=\"\",B143=\"\",B144=\"\"),\"\",\"Temp (Deg F):\")","v":""},null,"","",null,null,null,"",""]
[null,null,null,null,null,null,null,"","",null,null,null,"",""]
[null,{"$f":"IF(COUNTIF(J134:J143,\"Cement Delivery to Silo\")>0,\"EP-2 Cement Silo Stack:\",\"\")","v":""},null,null,null,null,null,"","",null,null,null,"",""]
[null,{"$f":"IF(COUNTIF(J134:J143,\"Cement Supplement Delivery to Silo\")>0,\"EP-3 Cement Supplement Silo Stack:\",\"\")","v":""},null,null,null,null,null,"","",null,null,null,"",""]
[null,{"$f":"IF(COUNTIF(J134:J143,\"Weigh Hopper Loading\")>0,\"EP-4 Weigh Hopper Loading Stack:\",\"\")","v":""},null,null,null,null,null,"","",null,null,null,"",""]
[null,{"$f":"IF(COUNTIF(J134:J143,\"Truck Mix Loading\")>0,\"EP-5 Truck Mix Loading Stack:\",\"\")","v":""},null,null,null,null,null,"","",null,null,null,"",""]
[null,{"$f":"IF(COUNTIF(J134:J143,\"Central Mix Loading\")>0,\"EP-6 Central Mix Loading Stack:\",\"\")","v":""}]
[null,null,null,null,null,null,null,{"$f":"IF('Concrete Plant (CP-5)'!$D$4>7,\"Stock Pile Area\",\"\")","v":""}]
[null,null,null,null,null,null,null,null,{"$f":"IF('Concrete Plant (CP-5)'!$D$4>7,\"Emission Unit #\",\"\")","v":""},{"$f":"IF('Concrete Plant (CP-5)'!$D$4>7,\"Maximum Storage Area (acres)\",\"\")","v":""},{"$f":"IF('Concrete Plant (CP-5)'!$D$4>7,\"Actual Storage Area (acres)\",\"\")","v":""},{"$f":"IF('Concrete Plant (CP-5)'!$D$4>7,\"Actual Days in Existence (days)\",\"\")","v":""}]
[]
[]
[null,{"$f":"IF('Concrete Plant (CP-5)'!$D$4>8,\"Batch Plant\",\"\")","v":""},{"$f":"IF('Concrete Plant (CP-5)'!$D$4>8,\"Site 9\",\"\")","v":""},null,null,null,null,{"$f":"IF('Concrete Plant (CP-5)'!$D$4>8,\"Emission Point #\",\"\")","v":""},{"$f":"IF('Concrete Plant (CP-5)'!$D$4>8,\"Emission     Unit #\",\"\")","v":""},{"$f":"IF('Concrete Plant (CP-5)'!$D$4>8,\"Processes\",\"\")","v":""},{"$f":"IF('Concrete Plant (CP-5)'!$D$4>8,\"Combined Maximum Hourly Design Rate for all Like Processes (cubic yard/hr)\",\"\")","v":""},{"$f":"IF('Concrete Plant (CP-5)'!$D$4>8,('Facility Information'!G5&\" Annual Throughput (cubic yards)\"),\"\")","v":""}]
[null,{"$f":"IF('Concrete Plant (CP-5)'!$D$4>8,\"Site Name:\",\"\")","v":""},null,null,null,null,null,{"$f":"IF(J150=\"cement delivery to silo\",\"CP-1 EP-2\",IF(J150=\"cement supplement delivery to silo\",\"CP-1 EP-3\",IF(J150=\"weigh hopper loading\",\"CP-1 EP-4\",IF(J150=\"truck mix loading\",\"CP-1 EP-5\",IF(J150=\"central mix loading\",\"CP-1 EP-6\",IF(J150=\"\",\"\",\"CP-1 EP-1\"))))))","v":""},{"$f":"IF(J150=\"\",\"\",IF(J150=\"aggregate delivery to ground storage\",\"CP-5 EU-1\",IF(J150=\"sand delivery to ground storage\",\"CP-5 EU-2\",IF(J150=\"aggregate transfer to conveyor\",\"CP-5 EU-3\",IF(J150=\"sand transfer to conveyor\",\"CP-5 EU-4\",IF(J150=\"aggregate transfer to elevated storage\",\"CP-5 EU-5\",IF(J150=\"sand transfer to elevated storage\",\"CP-5 EU-6\",IF(J150=\"weigh hopper loading\",\"CP-5 EU-7\",IF(J150=\"central mix loading\",\"CP-5 EU-8\",IF(J150=\"truck mix loading\",\"CP-5 EU-9\",IF(J150=\"cement delivery to silo\",\"CP-5 EU-10\",IF(J150=\"cement supplement delivery to silo\",\"CP-5 EU-11\"))))))))))))","v":""},null,null,null,"Truck","Central"]
[null,{"$f":"IF('Concrete Plant (CP-5)'!$D$4>8,\"County:\",\"\")","v":""},null,null,null,null,null,{"$f":"IF(J151=\"cement delivery to silo\",\"CP-1 EP-2\",IF(J151=\"cement supplement delivery to silo\",\"CP-1 EP-3\",IF(J151=\"weigh hopper loading\",\"CP-1 EP-4\",IF(J151=\"truck mix loading\",\"CP-1 EP-5\",IF(J151=\"central mix loading\",\"CP-1 EP-6\",IF(J151=\"\",\"\",\"CP-1 EP-1\"))))))","v":""},"",null,null,null,{"$f":"IF(J150=\"truck mix loading\",IF($F$154=\"yes\",L150*0.05/2000,L150/2000),\"\")","v":""},{"$f":"IF(J150=\"central mix loading\",IF($F$154=\"yes\",L150*0.05/2000,L150/2000),\"\")","v":""}]
[null,{"$f":"IF('Concrete Plant (CP-5)'!$D$4>8,\"Batching Period (Dates):\",\"\")","v":""},null,null,null,null,null,"","",null,null,null,"",""]
[null,{"$f":"IF(OR(COUNTIF(J150:J158,\"Truck Mix Loading\")>0,(COUNTIF(J150:J158,\"Central Mix Loading\")>0)),\"Is the Central/Truck Mix Loading process controlled by a baghouse?\",\"\")","v":""},null,null,null,null,null,"","",null,null,null,"",""]
[null,null,null,null,null,null,null,"","",null,null,null,"",""]
[null,{"$f":"IF(AND(B157=\"\",B158=\"\",B159=\"\",B160=\"\",B161=\"\"),\"\",\"Process (complete stack information if applicable):\")","v":""},{"$f":"IF(AND(B157=\"\",B158=\"\",B159=\"\",B160=\"\",B161=\"\"),\"\",\"Stack Height (ft):\")","v":""},{"$f":"IF(AND(B157=\"\",B158=\"\",B159=\"\",B160=\"\",B161=\"\"),\"\",\"Stack Diameter (inches):\")","v":""},{"$f":"IF(AND(B157=\"\",B158=\"\",B159=\"\",B160=\"\",B161=\"\"),\"\",\"Flow Rate (acfm):\")","v":""},{"$f":"IF(AND(B157=\"\",B158=\"\",B159=\"\",B160=\"\",B161=\"\"),\"\",\"Temp (Deg F):\")","v":""},null,"","",null,null,null,"",""]
[null,null,null,null,null,null,null,"","",null,null,null,"",""]
[null,{"$f":"IF(COUNTIF(J150:J159,\"Cement Delivery to Silo\")>0,\"EP-2 Cement Silo Stack:\",\"\")","v":""},null,null,null,null,null,"","",null,null,null,"",""]
[null,{"$f":"IF(COUNTIF(J150:J159,\"Cement Supplement Delivery to Silo\")>0,\"EP-3 Cement Supplement Silo Stack:\",\"\")","v":""},null,null,null,null,null,"","",null,null,null,"",""]
[null,{"$f":"IF(COUNTIF(J150:J159,\"Weigh Hopper Loading\")>0,\"EP-4 Weigh Hopper Loading Stack:\",\"\")","v":""},null,null,null,null,null,"","",null,null,null,"",""]
[null,{"$f":"IF(COUNTIF(J150:J159,\"Truck Mix Loading\")>0,\"EP-5 Truck Mix Loading Stack:\",\"\")","v":""},null,null,null,null,null,null,null,null,null,null,"",""]
[null,{"$f":"IF(COUNTIF(J150:J159,\"Central Mix Loading\")>0,\"EP-6 Central Mix Loading Stack:\",\"\")","v":""},null,null,null,null,null,{"$f":"IF('Concrete Plant (CP-5)'!$D$4>8,\"Stock Pile Area\",\"\")","v":""}]
[null,null,null,null,null,null,null,null,{"$f":"IF('Concrete Plant (CP-5)'!$D$4>8,\"Emission Unit #\",\"\")","v":""},{"$f":"IF('Concrete Plant (CP-5)'!$D$4>8,\"Maximum Storage Area (acres)\",\"\")","v":""},{"$f":"IF('Concrete Plant (CP-5)'!$D$4>8,\"Actual Storage Area (acres)\",\"\")","v":""},{"$f":"IF('Concrete Plant (CP-5)'!$D$4>8,\"Actual Days in Existence (days)\",\"\")","v":""}]
[]
[]
[null,{"$f":"IF('Concrete Plant (CP-5)'!$D$4>9,\"Batch Plant\",\"\")","v":""},{"$f":"IF('Concrete Plant (CP-5)'!$D$4>9,\"Site 10\",\"\")","v":""},null,null,null,null,{"$f":"IF('Concrete Plant (CP-5)'!$D$4>9,\"Emission Point #\",\"\")","v":""},{"$f":"IF('Concrete Plant (CP-5)'!$D$4>9,\"Emission     Unit #\",\"\")","v":""},{"$f":"IF('Concrete Plant (CP-5)'!$D$4>9,\"Processes\",\"\")","v":""},{"$f":"IF('Concrete Plant (CP-5)'!$D$4>9,\"Combined Maximum Hourly Design Rate for all Like Processes (cubic yard/hr)\",\"\")","v":""},{"$f":"IF('Concrete Plant (CP-5)'!$D$4>9,('Facility Information'!G5&\" Annual Throughput (cubic yards)\"),\"\")","v":""}]
[null,{"$f":"IF('Concrete Plant (CP-5)'!$D$4>9,\"Site Name:\",\"\")","v":""},null,null,null,null,null,{"$f":"IF(J166=\"cement delivery to silo\",\"CP-1 EP-2\",IF(J166=\"cement supplement delivery to silo\",\"CP-1 EP-3\",IF(J166=\"weigh hopper loading\",\"CP-1 EP-4\",IF(J166=\"truck mix loading\",\"CP-1 EP-5\",IF(J166=\"central mix loading\",\"CP-1 EP-6\",IF(J166=\"\",\"\",\"CP-1 EP-1\"))))))","v":""},{"$f":"IF(J166=\"\",\"\",IF(J166=\"aggregate delivery to ground storage\",\"CP-5 EU-1\",IF(J166=\"sand delivery to ground storage\",\"CP-5 EU-2\",IF(J166=\"aggregate transfer to conveyor\",\"CP-5 EU-3\",IF(J166=\"sand transfer to conveyor\",\"CP-5 EU-4\",IF(J166=\"aggregate transfer to elevated storage\",\"CP-5 EU-5\",IF(J166=\"sand transfer to elevated storage\",\"CP-5 EU-6\",IF(J166=\"weigh hopper loading\",\"CP-5 EU-7\",IF(J166=\"central mix loading\",\"CP-5 EU-8\",IF(J166=\"truck mix loading\",\"CP-5 EU-9\",IF(J166=\"cement delivery to silo\",\"CP-5 EU-10\",IF(J166=\"cement supplement delivery to silo\",\"CP-5 EU-11\"))))))))))))","v":""},null,null,null,"Truck","Central"]
[null,{"$f":"IF('Concrete Plant (CP-5)'!$D$4>9,\"County:\",\"\")","v":""},null,null,null,null,null,{"$f":"IF(J167=\"cement delivery to silo\",\"CP-1 EP-2\",IF(J167=\"cement supplement delivery to silo\",\"CP-1 EP-3\",IF(J167=\"weigh hopper loading\",\"CP-1 EP-4\",IF(J167=\"truck mix loading\",\"CP-1 EP-5\",IF(J167=\"central mix loading\",\"CP-1 EP-6\",IF(J167=\"\",\"\",\"CP-1 EP-1\"))))))","v":""},"",null,null,null,{"$f":"IF(J166=\"truck mix loading\",IF($F$170=\"yes\",L166*0.05/2000,L166/2000),\"\")","v":""},{"$f":"IF(J166=\"central mix loading\",IF($F$170=\"yes\",L166*0.05/2000,L166/2000),\"\")","v":""}]
[null,{"$f":"IF('Concrete Plant (CP-5)'!$D$4>9,\"Batching Period (Dates):\",\"\")","v":""},null,null,null,null,null,"","",null,null,null,"",""]
[null,{"$f":"IF(OR(COUNTIF(J166:J174,\"Truck Mix Loading\")>0,(COUNTIF(J166:J174,\"Central Mix Loading\")>0)),\"Is the Central/Truck Mix Loading process controlled by a baghouse?\",\"\")","v":""},null,null,null,null,null,"","",null,null,null,"",""]
[null,null,null,null,null,null,null,"","",null,null,null,"",""]
[null,{"$f":"IF(AND(B173=\"\",B174=\"\",B175=\"\",B176=\"\",B177=\"\"),\"\",\"Process (complete stack information if applicable):\")","v":""},{"$f":"IF(AND(B173=\"\",B174=\"\",B175=\"\",B176=\"\",B177=\"\"),\"\",\"Stack Height (ft):\")","v":""},{"$f":"IF(AND(B173=\"\",B174=\"\",B175=\"\",B176=\"\",B177=\"\"),\"\",\"Stack Diameter (inches):\")","v":""},{"$f":"IF(AND(B173=\"\",B174=\"\",B175=\"\",B176=\"\",B177=\"\"),\"\",\"Flow Rate (acfm):\")","v":""},{"$f":"IF(AND(B173=\"\",B174=\"\",B175=\"\",B176=\"\",B177=\"\"),\"\",\"Temp (Deg F):\")","v":""},null,"","",null,null,null,"",""]
[null,null,null,null,null,null,null,"","",null,null,null,"",""]
[null,{"$f":"IF(COUNTIF(J166:J175,\"Cement Delivery to Silo\")>0,\"EP-2 Cement Silo Stack:\",\"\")","v":""},null,null,null,null,null,"","",null,null,null,"",""]
[null,{"$f":"IF(COUNTIF(J166:J175,\"Cement Supplement Delivery to Silo\")>0,\"EP-3 Cement Supplement Silo Stack:\",\"\")","v":""},null,null,null,null,null,"","",null,null,null,"",""]
[null,{"$f":"IF(COUNTIF(J166:J175,\"Weigh Hopper Loading\")>0,\"EP-4 Weigh Hopper Loading Stack:\",\"\")","v":""},null,null,null,null,null,"","",null,null,null,"",""]
[null,{"$f":"IF(COUNTIF(J166:J175,\"Truck Mix Loading\")>0,\"EP-5 Truck Mix Loading Stack:\",\"\")","v":""},null,null,null,null,null,null,null,null,null,null,"",""]
[null,{"$f":"IF(COUNTIF(J166:J175,\"Central Mix Loading\")>0,\"EP-6 Central Mix Loading Stack:\",\"\")","v":""},null,null,null,null,null,{"$f":"IF('Concrete Plant (CP-5)'!$D$4>9,\"Stock Pile Area\",\"\")","v":""}]
[null,null,null,null,null,null,null,null,{"$f":"IF('Concrete Plant (CP-5)'!$D$4>9,\"Emission Unit #\",\"\")","v":""},{"$f":"IF('Concrete Plant (CP-5)'!$D$4>9,\"Maximum Storage Area (acres)\",\"\")","v":""},{"$f":"IF('Concrete Plant (CP-5)'!$D$4>9,\"Actual Storage Area (acres)\",\"\")","v":""},{"$f":"IF('Concrete Plant (CP-5)'!$D$4>9,\"Actual Days in Existence (days)\",\"\")","v":""}]
[]
[]
[]
[null,null,null,null,null,null,null,null,null,null,null,null,{"$f":"SUM(M167:M176,M151:M160,M134:M143,M118:M127,M102:M111,M86:M95,M70:M79,M54:M63,M38:M47,M21:M30)","v":0},{"$f":"SUM(N167:N176,N151:N160,N134:N143,N118:N127,N102:N111,N86:N95,N70:N79,N54:N63,N38:N47,N21:N30)","v":0}]

{"sheet":"Concrete Plant (CP-6)","index":6,"n_rows":181,"n_cols":23,"rows_kept":181,"cut":false,"hidden":true,"merged":[]}
[null,"CONCRETE BATCH PLANT (CP-6)"]
[null,"Please fill in the yellow boxes as applicable for your facility. ",null,null,null,null,null,null,null,null,null,"Values used for calculating emissions →",null,null,null,"Values Used to CalculateActual Emissions for the Listed Processes at this Plant"]
[null,null,null,null,null,null,null,null,null,null,null,null,null,null,null,"Process","Maximum Design Rate (cubic yards/hr)","Actual throughput (cubic yards/yr)"]
[null,{"$f":"\"Number of Sites this Plant operated at in \"&'Facility Information'!G5&\":\"","v":"Number of Sites this Plant operated at in :"},null,null,null,null,null,null,null,null,null,null,null,null,null,"Aggregate Delivery to Ground Storage",{"$f":"MAX((IFERROR(OFFSET($J$20,MATCH(\"Aggregate Delivery to Ground Storage\",$J$21:$J$30,0),1),0)),((IFERROR((OFFSET($J$37,MATCH(\"Aggregate Delivery to Ground Storage\",$J$38:$J$47,0),1)),0))),((IFERROR((OFFSET($J$52,MATCH(\"Aggregate Delivery to Ground Storage\",$J$53:$J$62,0),1)),0))),((IFERROR((OFFSET($J$69,MATCH(\"Aggregate Delivery to Ground Storage\",$J$70:$J$79,0),1)),0))),((IFERROR((OFFSET($J$85,MATCH(\"Aggregate Delivery to Ground Storage\",$J$86:$J$95,0),1)),0))),((IFERROR((OFFSET($J$101,MATCH(\"Aggregate Delivery to Ground Storage\",$J$102:$J$111,0),1)),0))),((IFERROR((OFFSET($J$117,MATCH(\"Aggregate Delivery to Ground Storage\",$J$118:$J$127,0),1)),0))),((IFERROR((OFFSET($J$133,MATCH(\"Aggregate Delivery to Ground Storage\",$J$134:$J$143,0),1)),0))),((IFERROR((OFFSET($J$149,MATCH(\"Aggregate Delivery to Ground Storage\",$J$150:$J$159,0),1)),0))),((IFERROR((OFFSET($J$165,MATCH(\"Aggregate Delivery to Ground Storage\",$J$166:$J$175,0),1)),0))),)","v":0},{"$f":"SUM((IFERROR(OFFSET($J$20,MATCH(\"Aggregate Delivery to Ground Storage\",$J$21:$J$30,0),2),0)),((IFERROR((OFFSET($J$37,MATCH(\"Aggregate Delivery to Ground Storage\",$J$38:$J$47,0),2)),0))),((IFERROR((OFFSET($J$52,MATCH(\"Aggregate Delivery to Ground Storage\",$J$53:$J$62,0),2)),0))),((IFERROR((OFFSET($J$69,MATCH(\"Aggregate Delivery to Ground Storage\",$J$70:$J$79,0),2)),0))),((IFERROR((OFFSET($J$85,MATCH(\"Aggregate Delivery to Ground Storage\",$J$86:$J$95,0),2)),0))),((IFERROR((OFFSET($J$101,MATCH(\"Aggregate Delivery to Ground Storage\",$J$102:$J$111,0),2)),0))),((IFERROR((OFFSET($J$117,MATCH(\"Aggregate Delivery to Ground Storage\",$J$118:$J$127,0),2)),0))),((IFERROR((OFFSET($J$133,MATCH(\"Aggregate Delivery to Ground Storage\",$J$134:$J$143,0),2)),0))),((IFERROR((OFFSET($J$149,MATCH(\"Aggregate Delivery to Ground Storage\",$J$150:$J$159,0),2)),0))),((IFERROR((OFFSET($J$165,MATCH(\"Aggregate Delivery to Ground Storage\",$J$166:$J$175,0),2)),0))),)","v":0},"** As of 2016 Potential Emissions are no longer required to be reported in the Minor Source Emissions Inventory**"]
[null,null,null,null,null,null,null,null,null,null,null,null,null,null,null,"Sand Delivery to Ground Storage",{"$f":"MAX((IFERROR(OFFSET($J$20,MATCH(\"Sand Delivery to Ground Storage\",$J$21:$J$30,0),1),0)),((IFERROR((OFFSET($J$37,MATCH(\"Sand Delivery to Ground Storage\",$J$38:$J$47,0),1)),0))),((IFERROR((OFFSET($J$52,MATCH(\"Sand Delivery to Ground Storage\",$J$53:$J$62,0),1)),0))),((IFERROR((OFFSET($J$69,MATCH(\"Sand Delivery to Ground Storage\",$J$70:$J$79,0),1)),0))),((IFERROR((OFFSET($J$85,MATCH(\"Sand Delivery to Ground Storage\",$J$86:$J$95,0),1)),0))),((IFERROR((OFFSET($J$101,MATCH(\"Sand Delivery to Ground Storage\",$J$102:$J$111,0),1)),0))),((IFERROR((OFFSET($J$117,MATCH(\"Sand Delivery to Ground Storage\",$J$118:$J$127,0),1)),0))),((IFERROR((OFFSET($J$133,MATCH(\"Sand Delivery to Ground Storage\",$J$134:$J$143,0),1)),0))),((IFERROR((OFFSET($J$149,MATCH(\"Sand Delivery to Ground Storage\",$J$150:$J$159,0),1)),0))),((IFERROR((OFFSET($J$165,MATCH(\"Sand Delivery to Ground Storage\",$J$166:$J$175,0),1)),0))),)","v":0},{"$f":"SUM((IFERROR(OFFSET($J$20,MATCH(\"Sand Delivery to Ground Storage\",$J$21:$J$30,0),2),0)),((IFERROR((OFFSET($J$37,MATCH(\"Sand Delivery to Ground Storage\",$J$38:$J$47,0),2)),0))),((IFERROR((OFFSET($J$52,MATCH(\"Sand Delivery to Ground Storage\",$J$53:$J$62,0),2)),0))),((IFERROR((OFFSET($J$69,MATCH(\"Sand Delivery to Ground Storage\",$J$70:$J$79,0),2)),0))),((IFERROR((OFFSET($J$85,MATCH(\"Sand Delivery to Ground Storage\",$J$86:$J$95,0),2)),0))),((IFERROR((OFFSET($J$101,MATCH(\"Sand Delivery to Ground Storage\",$J$102:$J$111,0),2)),0))),((IFERROR((OFFSET($J$117,MATCH(\"Sand Delivery to Ground Storage\",$J$118:$J$127,0),2)),0))),((IFERROR((OFFSET($J$133,MATCH(\"Sand Delivery to Ground Storage\",$J$134:$J$143,0),2)),0))),((IFERROR((OFFSET($J$149,MATCH(\"Sand Delivery to Ground Storage\",$J$150:$J$159,0),2)),0))),((IFERROR((OFFSET($J$165,MATCH(\"Sand Delivery to Ground Storage\",$J$166:$J$175,0),2)),0))),)","v":0}]
[null,"Plant Specific Permit Number: ",null,null,null,null,null,null,null,null,null,null,null,null,null,"Aggregate Transfer to Conveyor",{"$f":"MAX((IFERROR(OFFSET($J$20,MATCH(\"Aggregate Transfer to Conveyor\",$J$21:$J$30,0),1),0)),((IFERROR((OFFSET($J$37,MATCH(\"Aggregate Transfer to Conveyor\",$J$38:$J$47,0),1)),0))),((IFERROR((OFFSET($J$52,MATCH(\"Aggregate Transfer to Conveyor\",$J$53:$J$62,0),1)),0))),((IFERROR((OFFSET($J$69,MATCH(\"Aggregate Transfer to Conveyor\",$J$70:$J$79,0),1)),0))),((IFERROR((OFFSET($J$85,MATCH(\"Aggregate Transfer to Conveyor\",$J$86:$J$95,0),1)),0))),((IFERROR((OFFSET($J$101,MATCH(\"Aggregate Transfer to Conveyor\",$J$102:$J$111,0),1)),0))),((IFERROR((OFFSET($J$117,MATCH(\"Aggregate Transfer to Conveyor\",$J$118:$J$127,0),1)),0))),((IFERROR((OFFSET($J$133,MATCH(\"Aggregate Transfer to Conveyor\",$J$134:$J$143,0),1)),0))),((IFERROR((OFFSET($J$149,MATCH(\"Aggregate Transfer to Conveyor\",$J$150:$J$159,0),1)),0))),((IFERROR((OFFSET($J$165,MATCH(\"Aggregate Transfer to Conveyor\",$J$166:$J$175,0),1)),0))),)","v":0},{"$f":"SUM((IFERROR(OFFSET($J$20,MATCH(\"Aggregate Transfer to Conveyor\",$J$21:$J$30,0),2),0)),((IFERROR((OFFSET($J$37,MATCH(\"Aggregate Transfer to Conveyor\",$J$38:$J$47,0),2)),0))),((IFERROR((OFFSET($J$52,MATCH(\"Aggregate Transfer to Conveyor\",$J$53:$J$62,0),2)),0))),((IFERROR((OFFSET($J$69,MATCH(\"Aggregate Transfer to Conveyor\",$J$70:$J$79,0),2)),0))),((IFERROR((OFFSET($J$85,MATCH(\"Aggregate Transfer to Conveyor\",$J$86:$J$95,0),2)),0))),((IFERROR((OFFSET($J$101,MATCH(\"Aggregate Transfer to Conveyor\",$J$102:$J$111,0),2)),0))),((IFERROR((OFFSET($J$117,MATCH(\"Aggregate Transfer to Conveyor\",$J$118:$J$127,0),2)),0))),((IFERROR((OFFSET($J$133,MATCH(\"Aggregate Transfer to Conveyor\",$J$134:$J$143,0),2)),0))),((IFERROR((OFFSET($J$149,MATCH(\"Aggregate Transfer to Conveyor\",$J$150:$J$159,0),2)),0))),((IFERROR((OFFSET($J$165,MATCH(\"Aggregate Transfer to Conveyor\",$J$166:$J$175,0),2)),0))),)","v":0}]
[null,null,null,null,null,null,null,null,null,null,null,null,null,null,null,"Sand Transfer to Conveyor",{"$f":"MAX((IFERROR(OFFSET($J$20,MATCH(\"Sand Transfer to Conveyor\",$J$21:$J$30,0),1),0)),((IFERROR((OFFSET($J$37,MATCH(\"Sand Transfer to Conveyor\",$J$38:$J$47,0),1)),0))),((IFERROR((OFFSET($J$52,MATCH(\"Sand Transfer to Conveyor\",$J$53:$J$62,0),1)),0))),((IFERROR((OFFSET($J$69,MATCH(\"Sand Transfer to Conveyor\",$J$70:$J$79,0),1)),0))),((IFERROR((OFFSET($J$85,MATCH(\"Sand Transfer to Conveyor\",$J$86:$J$95,0),1)),0))),((IFERROR((OFFSET($J$101,MATCH(\"Sand Transfer to Conveyor\",$J$102:$J$111,0),1)),0))),((IFERROR((OFFSET($J$117,MATCH(\"Sand Transfer to Conveyor\",$J$118:$J$127,0),1)),0))),((IFERROR((OFFSET($J$133,MATCH(\"Sand Transfer to Conveyor\",$J$134:$J$143,0),1)),0))),((IFERROR((OFFSET($J$149,MATCH(\"Sand Transfer to Conveyor\",$J$150:$J$159,0),1)),0))),((IFERROR((OFFSET($J$165,MATCH(\"Sand Transfer to Conveyor\",$J$166:$J$175,0),1)),0))),)","v":0},{"$f":"SUM((IFERROR(OFFSET($J$20,MATCH(\"Sand Transfer to Conveyor\",$J$21:$J$30,0),2),0)),((IFERROR((OFFSET($J$37,MATCH(\"Sand Transfer to Conveyor\",$J$38:$J$47,0),2)),0))),((IFERROR((OFFSET($J$52,MATCH(\"Sand Transfer to Conveyor\",$J$53:$J$62,0),2)),0))),((IFERROR((OFFSET($J$69,MATCH(\"Sand Transfer to Conveyor\",$J$70:$J$79,0),2)),0))),((IFERROR((OFFSET($J$85,MATCH(\"Sand Transfer to Conveyor\",$J$86:$J$95,0),2)),0))),((IFERROR((OFFSET($J$101,MATCH(\"Sand Transfer to Conveyor\",$J$102:$J$111,0),2)),0))),((IFERROR((OFFSET($J$117,MATCH(\"Sand Transfer to Conveyor\",$J$118:$J$127,0),2)),0))),((IFERROR((OFFSET($J$133,MATCH(\"Sand Transfer to Conveyor\",$J$134:$J$143,0),2)),0))),((IFERROR((OFFSET($J$149,MATCH(\"Sand Transfer to Conveyor\",$J$150:$J$159,0),2)),0))),((IFERROR((OFFSET($J$165,MATCH(\"Sand Transfer to Conveyor\",$J$166:$J$175,0),2)),0))),)","v":0}]
[null,"Plant Specific Operating Limits:",null,null,null,null,null,"Plant Specific Emission Limits:",null,null,null,null,null,null,null,"Aggregate Transfer to Elevated Storage",{"$f":"MAX((IFERROR(OFFSET($J$20,MATCH(\"Aggregate Transfer to Elevated Storage\",$J$21:$J$30,0),1),0)),((IFERROR((OFFSET($J$37,MATCH(\"Aggregate Transfer to Elevated Storage\",$J$38:$J$47,0),1)),0))),((IFERROR((OFFSET($J$52,MATCH(\"Aggregate Transfer to Elevated Storage\",$J$53:$J$62,0),1)),0))),((IFERROR((OFFSET($J$69,MATCH(\"Aggregate Transfer to Elevated Storage\",$J$70:$J$79,0),1)),0))),((IFERROR((OFFSET($J$85,MATCH(\"Aggregate Transfer to Elevated Storage\",$J$86:$J$95,0),1)),0))),((IFERROR((OFFSET($J$101,MATCH(\"Aggregate Transfer to Elevated Storage\",$J$102:$J$111,0),1)),0))),((IFERROR((OFFSET($J$117,MATCH(\"Aggregate Transfer to Elevated Storage\",$J$118:$J$127,0),1)),0))),((IFERROR((OFFSET($J$133,MATCH(\"Aggregate Transfer to Elevated Storage\",$J$134:$J$143,0),1)),0))),((IFERROR((OFFSET($J$149,MATCH(\"Aggregate Transfer to Elevated Storage\",$J$150:$J$159,0),1)),0))),((IFERROR((OFFSET($J$165,MATCH(\"Aggregate Transfer to Elevated Storage\",$J$166:$J$175,0),1)),0))),)","v":0},{"$f":"SUM((IFERROR(OFFSET($J$20,MATCH(\"Aggregate Transfer to Elevated Storage\",$J$21:$J$30,0),2),0)),((IFERROR((OFFSET($J$37,MATCH(\"Aggregate Transfer to Elevated Storage\",$J$38:$J$47,0),2)),0))),((IFERROR((OFFSET($J$52,MATCH(\"Aggregate Transfer to Elevated Storage\",$J$53:$J$62,0),2)),0))),((IFERROR((OFFSET($J$69,MATCH(\"Aggregate Transfer to Elevated Storage\",$J$70:$J$79,0),2)),0))),((IFERROR((OFFSET($J$85,MATCH(\"Aggregate Transfer to Elevated Storage\",$J$86:$J$95,0),2)),0))),((IFERROR((OFFSET($J$101,MATCH(\"Aggregate Transfer to Elevated Storage\",$J$102:$J$111,0),2)),0))),((IFERROR((OFFSET($J$117,MATCH(\"Aggregate Transfer to Elevated Storage\",$J$118:$J$127,0),2)),0))),((IFERROR((OFFSET($J$133,MATCH(\"Aggregate Transfer to Elevated Storage\",$J$134:$J$143,0),2)),0))),((IFERROR((OFFSET($J$149,MATCH(\"Aggregate Transfer to Elevated Storage\",$J$150:$J$159,0),2)),0))),((IFERROR((OFFSET($J$165,MATCH(\"Aggregate Transfer to Elevated Storage\",$J$166:$J$175,0),2)),0))),)","v":0}]
[null,"Throughput Limit (cubic yards/yr):",null,null,null,null,null,"Pollutant","lb/hr","tons/yr",null,null,null,null,null,"Sand Transfer to Elevated Storage",{"$f":"MAX((IFERROR(OFFSET($J$20,MATCH(\"Sand Transfer to Elevated Storage\",$J$21:$J$30,0),1),0)),((IFERROR((OFFSET($J$37,MATCH(\"Sand Transfer to Elevated Storage\",$J$38:$J$47,0),1)),0))),((IFERROR((OFFSET($J$52,MATCH(\"Sand Transfer to Elevated Storage\",$J$53:$J$62,0),1)),0))),((IFERROR((OFFSET($J$69,MATCH(\"Sand Transfer to Elevated Storage\",$J$70:$J$79,0),1)),0))),((IFERROR((OFFSET($J$85,MATCH(\"Sand Transfer to Elevated Storage\",$J$86:$J$95,0),1)),0))),((IFERROR((OFFSET($J$101,MATCH(\"Sand Transfer to Elevated Storage\",$J$102:$J$111,0),1)),0))),((IFERROR((OFFSET($J$117,MATCH(\"Sand Transfer to Elevated Storage\",$J$118:$J$127,0),1)),0))),((IFERROR((OFFSET($J$133,MATCH(\"Sand Transfer to Elevated Storage\",$J$134:$J$143,0),1)),0))),((IFERROR((OFFSET($J$149,MATCH(\"Sand Transfer to Elevated Storage\",$J$150:$J$159,0),1)),0))),((IFERROR((OFFSET($J$165,MATCH(\"Sand Transfer to Elevated Storage\",$J$166:$J$175,0),1)),0))),)","v":0},{"$f":"SUM((IFERROR(OFFSET($J$20,MATCH(\"Sand Transfer to Elevated Storage\",$J$21:$J$30,0),2),0)),((IFERROR((OFFSET($J$37,MATCH(\"Sand Transfer to Elevated Storage\",$J$38:$J$47,0),2)),0))),((IFERROR((OFFSET($J$52,MATCH(\"Sand Transfer to Elevated Storage\",$J$53:$J$62,0),2)),0))),((IFERROR((OFFSET($J$69,MATCH(\"Sand Transfer to Elevated Storage\",$J$70:$J$79,0),2)),0))),((IFERROR((OFFSET($J$85,MATCH(\"Sand Transfer to Elevated Storage\",$J$86:$J$95,0),2)),0))),((IFERROR((OFFSET($J$101,MATCH(\"Sand Transfer to Elevated Storage\",$J$102:$J$111,0),2)),0))),((IFERROR((OFFSET($J$117,MATCH(\"Sand Transfer to Elevated Storage\",$J$118:$J$127,0),2)),0))),((IFERROR((OFFSET($J$133,MATCH(\"Sand Transfer to Elevated Storage\",$J$134:$J$143,0),2)),0))),((IFERROR((OFFSET($J$149,MATCH(\"Sand Transfer to Elevated Storage\",$J$150:$J$159,0),2)),0))),((IFERROR((OFFSET($J$165,MATCH(\"Sand Transfer to Elevated Storage\",$J$166:$J$175,0),2)),0))),)","v":0}]
[null,"Daily Throughput Limit (cubic yards/day):",null,null,null,null,null,"PM2.5",null,null,null,null,null,null,null,"Weigh Hopper Loading",{"$f":"MAX((IFERROR(OFFSET($J$20,MATCH(\"Weigh Hopper Loading\",$J$21:$J$30,0),1),0)),((IFERROR((OFFSET($J$37,MATCH(\"Weigh Hopper Loading\",$J$38:$J$47,0),1)),0))),((IFERROR((OFFSET($J$52,MATCH(\"Weigh Hopper Loading\",$J$53:$J$62,0),1)),0))),((IFERROR((OFFSET($J$69,MATCH(\"Weigh Hopper Loading\",$J$70:$J$79,0),1)),0))),((IFERROR((OFFSET($J$85,MATCH(\"Weigh Hopper Loading\",$J$86:$J$95,0),1)),0))),((IFERROR((OFFSET($J$101,MATCH(\"Weigh Hopper Loading\",$J$102:$J$111,0),1)),0))),((IFERROR((OFFSET($J$117,MATCH(\"Weigh Hopper Loading\",$J$118:$J$127,0),1)),0))),((IFERROR((OFFSET($J$133,MATCH(\"Weigh Hopper Loading\",$J$134:$J$143,0),1)),0))),((IFERROR((OFFSET($J$149,MATCH(\"Weigh Hopper Loading\",$J$150:$J$159,0),1)),0))),((IFERROR((OFFSET($J$165,MATCH(\"Weigh Hopper Loading\",$J$166:$J$175,0),1)),0))),)","v":0},{"$f":"SUM((IFERROR(OFFSET($J$20,MATCH(\"Weigh Hopper Loading\",$J$21:$J$30,0),2),0)),((IFERROR((OFFSET($J$37,MATCH(\"Weigh Hopper Loading\",$J$38:$J$47,0),2)),0))),((IFERROR((OFFSET($J$52,MATCH(\"Weigh Hopper Loading\",$J$53:$J$62,0),2)),0))),((IFERROR((OFFSET($J$69,MATCH(\"Weigh Hopper Loading\",$J$70:$J$79,0),2)),0))),((IFERROR((OFFSET($J$85,MATCH(\"Weigh Hopper Loading\",$J$86:$J$95,0),2)),0))),((IFERROR((OFFSET($J$101,MATCH(\"Weigh Hopper Loading\",$J$102:$J$111,0),2)),0))),((IFERROR((OFFSET($J$117,MATCH(\"Weigh Hopper Loading\",$J$118:$J$127,0),2)),0))),((IFERROR((OFFSET($J$133,MATCH(\"Weigh Hopper Loading\",$J$134:$J$143,0),2)),0))),((IFERROR((OFFSET($J$149,MATCH(\"Weigh Hopper Loading\",$J$150:$J$159,0),2)),0))),((IFERROR((OFFSET($J$165,MATCH(\"Weigh Hopper Loading\",$J$166:$J$175,0),2)),0))),)","v":0}]
[null,"Hours of Operation Limit (hours/day):",null,null,null,null,null,"PM10",null,null,null,null,null,null,null,"Central Mix Loading",{"$f":"MAX((IFERROR(OFFSET($J$20,MATCH(\"Central Mix Loading\",$J$21:$J$30,0),1),0)),((IFERROR((OFFSET($J$37,MATCH(\"Central Mix Loading\",$J$38:$J$47,0),1)),0))),((IFERROR((OFFSET($J$52,MATCH(\"Central Mix Loading\",$J$53:$J$62,0),1)),0))),((IFERROR((OFFSET($J$69,MATCH(\"Central Mix Loading\",$J$70:$J$79,0),1)),0))),((IFERROR((OFFSET($J$85,MATCH(\"Central Mix Loading\",$J$86:$J$95,0),1)),0))),((IFERROR((OFFSET($J$101,MATCH(\"Central Mix Loading\",$J$102:$J$111,0),1)),0))),((IFERROR((OFFSET($J$117,MATCH(\"Central Mix Loading\",$J$118:$J$127,0),1)),0))),((IFERROR((OFFSET($J$133,MATCH(\"Central Mix Loading\",$J$134:$J$143,0),1)),0))),((IFERROR((OFFSET($J$149,MATCH(\"Central Mix Loading\",$J$150:$J$159,0),1)),0))),((IFERROR((OFFSET($J$165,MATCH(\"Central Mix Loading\",$J$166:$J$175,0),1)),0))),)","v":0},{"$f":"SUM((IFERROR(OFFSET($J$20,MATCH(\"Central Mix Loading\",$J$21:$J$30,0),2),0)),((IFERROR((OFFSET($J$37,MATCH(\"Central Mix Loading\",$J$38:$J$47,0),2)),0))),((IFERROR((OFFSET($J$52,MATCH(\"Central Mix Loading\",$J$53:$J$62,0),2)),0))),((IFERROR((OFFSET($J$69,MATCH(\"Central Mix Loading\",$J$70:$J$79,0),2)),0))),((IFERROR((OFFSET($J$85,MATCH(\"Central Mix Loading\",$J$86:$J$95,0),2)),0))),((IFERROR((OFFSET($J$101,MATCH(\"Central Mix Loading\",$J$102:$J$111,0),2)),0))),((IFERROR((OFFSET($J$117,MATCH(\"Central Mix Loading\",$J$118:$J$127,0),2)),0))),((IFERROR((OFFSET($J$133,MATCH(\"Central Mix Loading\",$J$134:$J$143,0),2)),0))),((IFERROR((OFFSET($J$149,MATCH(\"Central Mix Loading\",$J$150:$J$159,0),2)),0))),((IFERROR((OFFSET($J$165,MATCH(\"Central Mix Loading\",$J$166:$J$175,0),2)),0))),)","v":0}]
[null,"Note: if the plant has an hrs/day and a cubic yards/hr permit limit,",null,null,null,null,null,"SO2",null,null,null,null,null,null,null,"Truck Mix Loading",{"$f":"MAX((IFERROR(OFFSET($J$20,MATCH(\"Truck Mix Loading\",$J$21:$J$30,0),1),0)),((IFERROR((OFFSET($J$37,MATCH(\"Truck Mix Loading\",$J$38:$J$47,0),1)),0))),((IFERROR((OFFSET($J$52,MATCH(\"Truck Mix Loading\",$J$53:$J$62,0),1)),0))),((IFERROR((OFFSET($J$69,MATCH(\"Truck Mix Loading\",$J$70:$J$79,0),1)),0))),((IFERROR((OFFSET($J$85,MATCH(\"Truck Mix Loading\",$J$86:$J$95,0),1)),0))),((IFERROR((OFFSET($J$101,MATCH(\"Truck Mix Loading\",$J$102:$J$111,0),1)),0))),((IFERROR((OFFSET($J$117,MATCH(\"Truck Mix Loading\",$J$118:$J$127,0),1)),0))),((IFERROR((OFFSET($J$133,MATCH(\"Truck Mix Loading\",$J$134:$J$143,0),1)),0))),((IFERROR((OFFSET($J$149,MATCH(\"Truck Mix Loading\",$J$150:$J$159,0),1)),0))),((IFERROR((OFFSET($J$165,MATCH(\"Truck Mix Loading\",$J$166:$J$175,0),1)),0))),)","v":0},{"$f":"SUM((IFERROR(OFFSET($J$20,MATCH(\"Truck Mix Loading\",$J$21:$J$30,0),2),0)),((IFERROR((OFFSET($J$37,MATCH(\"Truck Mix Loading\",$J$38:$J$47,0),2)),0))),((IFERROR((OFFSET($J$52,MATCH(\"Truck Mix Loading\",$J$53:$J$62,0),2)),0))),((IFERROR((OFFSET($J$69,MATCH(\"Truck Mix Loading\",$J$70:$J$79,0),2)),0))),((IFERROR((OFFSET($J$85,MATCH(\"Truck Mix Loading\",$J$86:$J$95,0),2)),0))),((IFERROR((OFFSET($J$101,MATCH(\"Truck Mix Loading\",$J$102:$J$111,0),2)),0))),((IFERROR((OFFSET($J$117,MATCH(\"Truck Mix Loading\",$J$118:$J$127,0),2)),0))),((IFERROR((OFFSET($J$133,MATCH(\"Truck Mix Loading\",$J$134:$J$143,0),2)),0))),((IFERROR((OFFSET($J$149,MATCH(\"Truck Mix Loading\",$J$150:$J$159,0),2)),0))),((IFERROR((OFFSET($J$165,MATCH(\"Truck Mix Loading\",$J$166:$J$175,0),2)),0))),)","v":0}]
[null,"those values should be multiplied together to calculate a cubic ",null,null,null,null,null,"NOx",null,null,null,null,null,null,null,"Cement Delivery to Silo",{"$f":"MAX((IFERROR(OFFSET($J$20,MATCH(\"Cement Delivery to Silo\",$J$21:$J$30,0),1),0)),((IFERROR((OFFSET($J$37,MATCH(\"Cement Delivery to Silo\",$J$38:$J$47,0),1)),0))),((IFERROR((OFFSET($J$52,MATCH(\"Cement Delivery to Silo\",$J$53:$J$62,0),1)),0))),((IFERROR((OFFSET($J$69,MATCH(\"Cement Delivery to Silo\",$J$70:$J$79,0),1)),0))),((IFERROR((OFFSET($J$85,MATCH(\"Cement Delivery to Silo\",$J$86:$J$95,0),1)),0))),((IFERROR((OFFSET($J$101,MATCH(\"Cement Delivery to Silo\",$J$102:$J$111,0),1)),0))),((IFERROR((OFFSET($J$117,MATCH(\"Cement Delivery to Silo\",$J$118:$J$127,0),1)),0))),((IFERROR((OFFSET($J$133,MATCH(\"Cement Delivery to Silo\",$J$134:$J$143,0),1)),0))),((IFERROR((OFFSET($J$149,MATCH(\"Cement Delivery to Silo\",$J$150:$J$159,0),1)),0))),((IFERROR((OFFSET($J$165,MATCH(\"Cement Delivery to Silo\",$J$166:$J$175,0),1)),0))),)","v":0},{"$f":"SUM((IFERROR(OFFSET($J$20,MATCH(\"Cement Delivery to Silo\",$J$21:$J$30,0),2),0)),((IFERROR((OFFSET($J$37,MATCH(\"Cement Delivery to Silo\",$J$38:$J$47,0),2)),0))),((IFERROR((OFFSET($J$52,MATCH(\"Cement Delivery to Silo\",$J$53:$J$62,0),2)),0))),((IFERROR((OFFSET($J$69,MATCH(\"Cement Delivery to Silo\",$J$70:$J$79,0),2)),0))),((IFERROR((OFFSET($J$85,MATCH(\"Cement Delivery to Silo\",$J$86:$J$95,0),2)),0))),((IFERROR((OFFSET($J$101,MATCH(\"Cement Delivery to Silo\",$J$102:$J$111,0),2)),0))),((IFERROR((OFFSET($J$117,MATCH(\"Cement Delivery to Silo\",$J$118:$J$127,0),2)),0))),((IFERROR((OFFSET($J$133,MATCH(\"Cement Delivery to Silo\",$J$134:$J$143,0),2)),0))),((IFERROR((OFFSET($J$149,MATCH(\"Cement Delivery to Silo\",$J$150:$J$159,0),2)),0))),((IFERROR((OFFSET($J$165,MATCH(\"Cement Delivery to Silo\",$J$166:$J$175,0),2)),0))),)","v":0}]
[null,"yards/day limit and that value should be placed in cell C10.",null,null,null,null,null,"VOC",null,null,null,null,null,null,null,"Cement Supplement Delivery to Silo",{"$f":"MAX((IFERROR(OFFSET($J$20,MATCH(\"Cement Supplement Delivery to Silo\",$J$21:$J$30,0),1),0)),((IFERROR((OFFSET($J$37,MATCH(\"Cement Supplement Delivery to Silo\",$J$38:$J$47,0),1)),0))),((IFERROR((OFFSET($J$52,MATCH(\"Cement Supplement Delivery to Silo\",$J$53:$J$62,0),1)),0))),((IFERROR((OFFSET($J$69,MATCH(\"Cement Supplement Delivery to Silo\",$J$70:$J$79,0),1)),0))),((IFERROR((OFFSET($J$85,MATCH(\"Cement Supplement Delivery to Silo\",$J$86:$J$95,0),1)),0))),((IFERROR((OFFSET($J$101,MATCH(\"Cement Supplement Delivery to Silo\",$J$102:$J$111,0),1)),0))),((IFERROR((OFFSET($J$117,MATCH(\"Cement Supplement Delivery to Silo\",$J$118:$J$127,0),1)),0))),((IFERROR((OFFSET($J$133,MATCH(\"Cement Supplement Delivery to Silo\",$J$134:$J$143,0),1)),0))),((IFERROR((OFFSET($J$149,MATCH(\"Cement Supplement Delivery to Silo\",$J$150:$J$159,0),1)),0))),((IFERROR((OFFSET($J$165,MATCH(\"Cement Supplement Delivery to Silo\",$J$166:$J$175,0),1)),0))),)","v":0},{"$f":"SUM((IFERROR(OFFSET($J$20,MATCH(\"Cement Supplement Delivery to Silo\",$J$21:$J$30,0),2),0)),((IFERROR((OFFSET($J$37,MATCH(\"Cement Supplement Delivery to Silo\",$J$38:$J$47,0),2)),0))),((IFERROR((OFFSET($J$52,MATCH(\"Cement Supplement Delivery to Silo\",$J$53:$J$62,0),2)),0))),((IFERROR((OFFSET($J$69,MATCH(\"Cement Supplement Delivery to Silo\",$J$70:$J$79,0),2)),0))),((IFERROR((OFFSET($J$85,MATCH(\"Cement Supplement Delivery to Silo\",$J$86:$J$95,0),2)),0))),((IFERROR((OFFSET($J$101,MATCH(\"Cement Supplement Delivery to Silo\",$J$102:$J$111,0),2)),0))),((IFERROR((OFFSET($J$117,MATCH(\"Cement Supplement Delivery to Silo\",$J$118:$J$127,0),2)),0))),((IFERROR((OFFSET($J$133,MATCH(\"Cement Supplement Delivery to Silo\",$J$134:$J$143,0),2)),0))),((IFERROR((OFFSET($J$149,MATCH(\"Cement Supplement Delivery to Silo\",$J$150:$J$159,0),2)),0))),((IFERROR((OFFSET($J$165,MATCH(\"Cement Supplement Delivery to Silo\",$J$166:$J$175,0),2)),0))),)","v":0}]
[null,null,null,null,null,null,null,"CO"]
[null,null,null,null,null,null,null,null,null,null,null,null,null,null,null,null,"Maximum (acres/day)","Actual (acres-day/yr)"]
[null,null,null,null,null,null,null,null,null,null,null,null,null,null,null,"Storage Pile",{"$f":"SUM(J34,J50,J66,J83,J99,J115,J131,J147,J163,J179)","v":0},{"$f":"SUM(K34*L34,K50*L50,K66*L66,K83*L83,K99*L99,K115*L115,K131*L131,K147*L147,K163*L163,K179*L179)","v":0}]
[]
[null,null,null,null,null,null,null,null,null,null,null,null,null,null,null,"Actual Emissions for the Listed Processes at this Plant"]
[null,"Batch Plant","Site 1",null,null,null,null,"Emission Point #","Emission     Unit #","Processes","Combined Maximum Hourly Design Rate for all Like Processes (cubic yard/hr)",{"$f":"('Facility Information'!G5&\" Annual Throughput (cubic yards)\")","v":" Annual Throughput (cubic yards)"},"Truck","Central",null,"PM2.5","Maximum Design Rate (cubic yards/hr)","Emission Factor (lb/cubic yard)","Potential Uncontrolled Emissions (lb/hr)","Potential Controlled Emissions (lb/hr)","Potential Annual Emissions (tons/yr)","Actual Annual Emissions (tons/yr)"]
["YES","Site Name:",null,null,null,null,null,{"$f":"IF(J21=\"cement delivery to silo\",\"CP-1 EP-2\",IF(J21=\"cement supplement delivery to silo\",\"CP-1 EP-3\",IF(J21=\"weigh hopper loading\",\"CP-1 EP-4\",IF(J21=\"truck mix loading\",\"CP-1 EP-5\",IF(J21=\"central mix loading\",\"CP-1 EP-6\",IF(J21=\"\",\"\",\"CP-1 EP-1\"))))))","v":""},{"$f":"IF(J21=\"\",\"\",IF(J21=\"aggregate delivery to ground storage\",\"CP-6 EU-1\",IF(J21=\"sand delivery to ground storage\",\"CP-6 EU-2\",IF(J21=\"aggregate transfer to conveyor\",\"CP-6 EU-3\",IF(J21=\"sand transfer to conveyor\",\"CP-6 EU-4\",IF(J21=\"aggregate transfer to elevated storage\",\"CP-6 EU-5\",IF(J21=\"sand transfer to elevated storage\",\"CP-6 EU-6\",IF(J21=\"weigh hopper loading\",\"CP-6 EU-7\",IF(J21=\"central mix loading\",\"CP-6 EU-8\",IF(J21=\"truck mix loading\",\"CP-6 EU-9\",IF(J21=\"cement delivery to silo\",\"CP-6 EU-10\",IF(J21=\"cement supplement delivery to silo\",\"CP-6 EU-11\"))))))))))))","v":""},null,null,null,{"$f":"IF(J21=\"truck mix loading\",IF($F$24=\"yes\",L21*0.05/2000,L21/2000),\"\")","v":""},{"$f":"IF(J21=\"central mix loading\",IF($F$24=\"yes\",L21*0.05/2000,L21/2000),\"\")","v":""},null,"Aggregate Delivery to Ground Storage",{"$f":"Q4","v":0},{"$f":"IF(Q21=0,0,LOOKUP(P21,'Emission Factors'!$A$5:$A$16,'Emission Factors'!$D$5:$D$16))","v":0},{"$f":"Q21*R21","v":0},{"$f":"IF(Q21=0,\"\",IF($I$10>0,$I$10,\"\"))","v":""},{"$f":"IF($J$10>0,$J$10,IF($D$9>0,$D$9*R21/2000,IF($D$10>0,$D$10*365*R21/2000,IF($D$11>0,$D$11*365*R21*Q21/2000,IF(T21=\"\",S21*8760/2000,T21*8760/2000)))))","v":0},{"$f":"(R4*R21/2000)","v":0}]
["NO","County:",null,null,null,null,null,{"$f":"IF(J22=\"cement delivery to silo\",\"CP-1 EP-2\",IF(J22=\"cement supplement delivery to silo\",\"CP-1 EP-3\",IF(J22=\"weigh hopper loading\",\"CP-1 EP-4\",IF(J22=\"truck mix loading\",\"CP-1 EP-5\",IF(J22=\"central mix loading\",\"CP-1 EP-6\",IF(J22=\"\",\"\",\"CP-1 EP-1\"))))))","v":""},"",null,null,null,{"$f":"IF(J22=\"truck mix loading\",IF($F$24=\"yes\",L22*0.05/2000,L22/2000),\"\")","v":""},{"$f":"IF(J22=\"central mix loading\",IF($F$24=\"yes\",L22*0.05/2000,L22/2000),\"\")","v":""},null,"Sand Delivery to Ground Storage",0,{"$f":"IF(Q22=0,0,LOOKUP(P22,'Emission Factors'!$A$5:$A$16,'Emission Factors'!$D$5:$D$16))","v":0},0,{"$f":"IF(Q22=0,\"\",IF($I$10>0,$I$10,\"\"))","v":""},{"$f":"IF($J$10>0,\"\",IF($D$9>0,$D$9*R22/2000,IF($D$10>0,$D$10*365*R22/2000,IF($D$11>0,$D$11*365*R22*Q22/2000,IF(T22=\"\",S22*8760/2000,T22*8760/2000)))))","v":0},0]
[null,"Batching Period (Dates):",null,null,null,null,null,"","",null,null,null,"","",null,"Aggregate Transfer to Conveyor",0,{"$f":"IF(Q23=0,0,LOOKUP(P23,'Emission Factors'!$A$5:$A$16,'Emission Factors'!$D$5:$D$16))","v":0},0,"",0,0]
["Aggregate Delivery to Ground Storage",{"$f":"IF(OR(COUNTIF(J21:J30,\"Truck Mix Loading\")>0,(COUNTIF(J21:J30,\"Central Mix Loading\")>0)),\"Is the Central/Truck Mix Loading process controlled by a baghouse?\",\"\")","v":""},null,null,null,null,null,"","",null,null,null,"","",null,"Sand Transfer to Conveyor",0,{"$f":"IF(Q24=0,0,LOOKUP(P24,'Emission Factors'!$A$5:$A$16,'Emission Factors'!$D$5:$D$16))","v":0},0,"",0,0]
["Sand Delivery to Ground Storage",null,null,null,null,null,null,"","",null,null,null,"","",null,"Aggregate Transfer to Elevated Storage",0,{"$f":"IF(Q25=0,0,LOOKUP(P25,'Emission Factors'!$A$5:$A$16,'Emission Factors'!$D$5:$D$16))","v":0},0,"",0,0]
["Aggregate Transfer to Conveyor",{"$f":"IF(AND(B28=\"\",B29=\"\",B32=\"\",B31=\"\",B30=\"\"),\"\",\"Process (complete stack information if applicable):\")","v":""},{"$f":"IF(AND(B28=\"\",B29=\"\",B32=\"\",B31=\"\",B30=\"\"),\"\",\"Stack Height (ft):\")","v":""},{"$f":"IF(AND(B28=\"\",B29=\"\",B32=\"\",B31=\"\",B30=\"\"),\"\",\"Stack Diameter (inches):\")","v":""},{"$f":"IF(AND(B28=\"\",B29=\"\",B32=\"\",B31=\"\",B30=\"\"),\"\",\"Flow Rate (acfm):\")","v":""},{"$f":"IF(AND(B28=\"\",B29=\"\",B32=\"\",B31=\"\",B30=\"\"),\"\",\"Temp (Deg F):\")","v":""},null,"","",null,null,null,"","",null,"Sand Transfer to Elevated Storage",0,{"$f":"IF(Q26=0,0,LOOKUP(P26,'Emission Factors'!$A$5:$A$16,'Emission Factors'!$D$5:$D$16))","v":0},0,"",0,0]
["Sand Transfer to Conveyor",null,null,null,null,null,null,"","",null,null,null,"","",null,"Weigh Hopper Loading",0,{"$f":"IF(Q27=0,0,LOOKUP(P27,'Emission Factors'!$A$5:$A$16,'Emission Factors'!$D$5:$D$16))","v":0},0,"",0,0]
["Aggregate Transfer to Elevated Storage",{"$f":"IF(COUNTIF(J21:J30,\"Cement Delivery to Silo\")>0,\"EP-2 Cement Silo Stack:\",\"\")","v":""},null,null,null,null,null,"","",null,null,null,"","",null,"Central Mix Loading",0,{"$f":"IF(Q28=0,0,LOOKUP(P28,'Emission Factors'!$A$5:$A$16,'Emission Factors'!$D$5:$D$16))","v":0},0,{"$f":"IF(Q28=0,\"\",IF($I$10>0,$I$10,IF(COUNTIF($F$24:$F$169,\"no\")>0,\"\",S28*(1-0.95))))","v":""},{"$f":"IF($J$10>0,\"\",IF($D$9>0,$D$9*R28*((100-$W$30)/100)/2000,IF($D$10>0,$D$10*365*R28*((100-$W$30)/100)/2000,IF($D$11>0,$D$11*365*R28*((100-$W$30)/100)*Q28/2000,IF(T28=\"\",S28*8760/2000,T28*8760/2000)))))","v":0},{"$f":"(R28*N181)","v":0}]
["Sand Transfer to Elevated Storage",{"$f":"IF(COUNTIF(J21:J30,\"Cement Supplement Delivery to Silo\")>0,\"EP-3 Cement Supplement Silo Stack:\",\"\")","v":""},null,null,null,null,null,"","",null,null,null,"","",null,"Truck Mix Loading",0,{"$f":"IF(Q29=0,0,LOOKUP(P29,'Emission Factors'!$A$5:$A$16,'Emission Factors'!$D$5:$D$16))","v":0},0,{"$f":"IF(Q29=0,\"\",IF($I$10>0,$I$10,IF(COUNTIF($F$24:$F$169,\"no\")>0,\"\",S29*(1-0.95))))","v":""},{"$f":"IF($J$10>0,\"\",IF($D$9>0,$D$9*R29*((100-$W$30)/100)/2000,IF($D$10>0,$D$10*365*R29*((100-$W$30)/100)/2000,IF($D$11>0,$D$11*365*R29*((100-$W$30)/100)*Q29/2000,IF(T29=\"\",S29*8760/2000,T29*8760/2000)))))","v":0},{"$f":"(R29*M181)","v":0}]
["Weigh Hopper Loading",{"$f":"IF(COUNTIF(J21:J30,\"Weigh Hopper Loading\")>0,\"EP-4 Weigh Hopper Loading Stack:\",\"\")","v":""},null,null,null,null,null,"","",null,null,null,"","",null,"Cement Delivery to Silo",0,{"$f":"IF(Q30=0,0,LOOKUP(P30,'Emission Factors'!$A$5:$A$16,'Emission Factors'!$D$5:$D$16))","v":0},null,{"$f":"IF(Q30=0,0,IF($I$10>0,$I$10,Q30*R30))","v":0},{"$f":"IF($J$10>0,\"\",IF($D$9>0,$D$9*R30/2000,IF($D$10>0,$D$10*365*R30/2000,IF($D$11>0,$D$11*365*R30*Q30/2000,IF($I$10>0,0,T30*8760/2000)))))","v":0},{"$f":"(R13*R30/2000)","v":0},{"$f":"IF(COUNTIF($F$24:$F$169,\"no\")>0,0,95)","v":95}]
["Central Mix Loading",{"$f":"IF(COUNTIF(J21:J30,\"Truck Mix Loading\")>0,\"EP-5 Truck Mix Loading Stack:\",\"\")","v":""},null,null,null,null,null,null,null,null,null,null,null,null,null,"Cement Supplement Delivery to Silo",0,{"$f":"IF(Q31=0,0,LOOKUP(P31,'Emission Factors'!$A$5:$A$16,'Emission Factors'!$D$5:$D$16))","v":0},null,{"$f":"IF(Q31=0,0,IF($I$10>0,$I$10,Q31*R31))","v":0},{"$f":"IF($J$10>0,\"\",IF($D$9>0,$D$9*R31/2000,IF($D$10>0,$D$10*365*R31/2000,IF($D$11>0,$D$11*365*R31*Q31/2000,IF($I$10>0,0,T31*8760/2000)))))","v":0},{"$f":"(R14*R31/2000)","v":0}]
["Truck Mix Loading",{"$f":"IF(COUNTIF(J21:J30,\"Central Mix Loading\")>0,\"EP-6 Central Mix Loading Stack:\",\"\")","v":""},null,null,null,null,null,"Stock Pile Area"]
["Cement Delivery to Silo",null,null,null,null,null,null,null,"Emission Unit #","Maximum Storage Area (acres)","Actual Storage Area (acres)","Actual Days in Existence (days)"]
["Cement Supplement Delivery to Silo",null,null,null,null,null,null,null,null,null,null,null,null,null,null,"PM10"]
[null,null,null,null,null,null,null,null,null,null,null,null,null,null,null,"Aggregate Delivery to Ground Storage",{"$f":"Q4","v":0},{"$f":"IF(Q35=0,0,LOOKUP(P35,'Emission Factors'!$A$5:$A$16,'Emission Factors'!$H$5:$H$16))","v":0},{"$f":"Q35*R35","v":0},{"$f":"IF(Q35=0,\"\",IF($I$11>0,$I$11,\"\"))","v":""},{"$f":"IF($J$11>0,$J$11,IF($D$9>0,$D$9*R35/2000,IF($D$10>0,$D$10*365*R35/2000,IF($D$11>0,$D$11*365*R35*Q35/2000,IF(T35=\"\",S35*8760/2000,T35*8760/2000)))))","v":0},{"$f":"(R4*R35/2000)","v":0}]
[null,null,null,null,null,null,null,null,null,null,null,null,null,null,null,"Sand Delivery to Ground Storage",0,{"$f":"IF(Q36=0,0,LOOKUP(P36,'Emission Factors'!$A$5:$A$16,'Emission Factors'!$H$5:$H$16))","v":0},0,{"$f":"IF(Q36=0,\"\",IF($I$11>0,$I$11,\"\"))","v":""},{"$f":"IF($J$11>0,\"\",IF($D$9>0,$D$9*R36/2000,IF($D$10>0,$D$10*365*R36/2000,IF($D$11>0,$D$11*365*R36*Q36/2000,IF(T36=\"\",S36*8760/2000,T36*8760/2000)))))","v":0},0]
[null,{"$f":"IF('Concrete Plant (CP-6)'!$D$4>1,\"Batch Plant\",\"\")","v":""},{"$f":"IF('Concrete Plant (CP-6)'!$D$4>1,\"Site 2\",\"\")","v":""},null,null,null,null,{"$f":"IF('Concrete Plant (CP-6)'!$D$4>1,\"Emission Point #\",\"\")","v":""},{"$f":"IF('Concrete Plant (CP-6)'!$D$4>1,\"Emission     Unit #\",\"\")","v":""},{"$f":"IF('Concrete Plant (CP-6)'!$D$4>1,\"Processes\",\"\")","v":""},{"$f":"IF('Concrete Plant (CP-6)'!$D$4>1,\"Combined Maximum Hourly Design Rate for all Like Processes (cubic yard/hr)\",\"\")","v":""},{"$f":"IF('Concrete Plant (CP-6)'!$D$4>1,('Facility Information'!G5&\" Annual Throughput (cubic yards)\"),\"\")","v":""},null,null,null,"Aggregate Transfer to Conveyor",0,{"$f":"IF(Q37=0,0,LOOKUP(P37,'Emission Factors'!$A$5:$A$16,'Emission Factors'!$H$5:$H$16))","v":0},0,"",0,0]
[null,{"$f":"IF('Concrete Plant (CP-6)'!$D$4>1,\"Site Name:\",\"\")","v":""},null,null,null,null,null,{"$f":"IF(J38=\"cement delivery to silo\",\"CP-1 EP-2\",IF(J38=\"cement supplement delivery to silo\",\"CP-1 EP-3\",IF(J38=\"weigh hopper loading\",\"CP-1 EP-4\",IF(J38=\"truck mix loading\",\"CP-1 EP-5\",IF(J38=\"central mix loading\",\"CP-1 EP-6\",IF(J38=\"\",\"\",\"CP-1 EP-1\"))))))","v":""},{"$f":"IF(J38=\"\",\"\",IF(J38=\"aggregate delivery to ground storage\",\"CP-6 EU-1\",IF(J38=\"sand delivery to ground storage\",\"CP-6 EU-2\",IF(J38=\"aggregate transfer to conveyor\",\"CP-6 EU-3\",IF(J38=\"sand transfer to conveyor\",\"CP-6 EU-4\",IF(J38=\"aggregate transfer to elevated storage\",\"CP-6 EU-5\",IF(J38=\"sand transfer to elevated storage\",\"CP-6 EU-6\",IF(J38=\"weigh hopper loading\",\"CP-6 EU-7\",IF(J38=\"central mix loading\",\"CP-6 EU-8\",IF(J38=\"truck mix loading\",\"CP-6 EU-9\",IF(J38=\"cement delivery to silo\",\"CP-6 EU-10\",IF(J38=\"cement supplement delivery to silo\",\"CP-6 EU-11\"))))))))))))","v":""},null,null,null,{"$f":"IF(J38=\"truck mix loading\",IF($F$41=\"yes\",L38*0.05/2000,L38/2000),\"\")","v":""},{"$f":"IF(J38=\"central mix loading\",IF($F$41=\"yes\",L38*0.05/2000,L38/2000),\"\")","v":""},null,"Sand Transfer to Conveyor",0,{"$f":"IF(Q38=0,0,LOOKUP(P38,'Emission Factors'!$A$5:$A$16,'Emission Factors'!$H$5:$H$16))","v":0},{"$f":"Q38*R38","v":0},{"$f":"IF(Q38=0,\"\",IF($I$11>0,$I$11,\"\"))","v":""},{"$f":"IF($J$11>0,\"\",IF($D$9>0,$D$9*R38/2000,IF($D$10>0,$D$10*365*R38/2000,IF($D$11>0,$D$11*365*R38*Q38/2000,IF(T38=\"\",S38*8760/2000,T38*8760/2000)))))","v":0},0]
[null,{"$f":"IF('Concrete Plant (CP-6)'!$D$4>1,\"County:\",\"\")","v":""},null,null,null,null,null,{"$f":"IF(J39=\"cement delivery to silo\",\"CP-1 EP-2\",IF(J39=\"cement supplement delivery to silo\",\"CP-1 EP-3\",IF(J39=\"weigh hopper loading\",\"CP-1 EP-4\",IF(J39=\"truck mix loading\",\"CP-1 EP-5\",IF(J39=\"central mix loading\",\"CP-1 EP-6\",IF(J39=\"\",\"\",\"CP-1 EP-1\"))))))","v":""},"",null,null,null,{"$f":"IF(J39=\"truck mix loading\",IF($F$41=\"yes\",L39*0.05/2000,L39/2000),\"\")","v":""},{"$f":"IF(J39=\"central mix loading\",IF($F$41=\"yes\",L39*0.05/2000,L39/2000),\"\")","v":""},null,"Aggregate Transfer to Elevated Storage",0,{"$f":"IF(Q39=0,0,LOOKUP(P39,'Emission Factors'!$A$5:$A$16,'Emission Factors'!$H$5:$H$16))","v":0},0,{"$f":"IF(Q39=0,\"\",IF($I$11>0,$I$11,\"\"))","v":""},{"$f":"IF($J$11>0,\"\",IF($D$9>0,$D$9*R39/2000,IF($D$10>0,$D$10*365*R39/2000,IF($D$11>0,$D$11*365*R39*Q39/2000,IF(T39=\"\",S39*8760/2000,T39*8760/2000)))))","v":0},0]
[null,{"$f":"IF('Concrete Plant (CP-6)'!$D$4>1,\"Batching Period (Dates):\",\"\")","v":""},null,null,null,null,null,"","",null,null,null,"","",null,"Sand Transfer to Elevated Storage",0,{"$f":"IF(Q40=0,0,LOOKUP(P40,'Emission Factors'!$A$5:$A$16,'Emission Factors'!$H$5:$H$16))","v":0},0,{"$f":"IF(Q40=0,\"\",IF($I$11>0,$I$11,\"\"))","v":""},{"$f":"IF($J$11>0,\"\",IF($D$9>0,$D$9*R40/2000,IF($D$10>0,$D$10*365*R40/2000,IF($D$11>0,$D$11*365*R40*Q40/2000,IF(T40=\"\",S40*8760/2000,T40*8760/2000)))))","v":0},0]
[null,{"$f":"IF(OR(COUNTIF(J38:J47,\"Truck Mix Loading\")>0,(COUNTIF(J38:J47,\"Central Mix Loading\")>0)),\"Is the Central/Truck Mix Loading process controlled by a baghouse?\",\"\")","v":""},null,null,null,null,null,"","",null,null,null,"","",null,"Weigh Hopper Loading",0,{"$f":"IF(Q41=0,0,LOOKUP(P41,'Emission Factors'!$A$5:$A$16,'Emission Factors'!$H$5:$H$16))","v":0},0,{"$f":"IF(Q41=0,\"\",IF($I$11>0,$I$11,\"\"))","v":""},{"$f":"IF($J$11>0,\"\",IF($D$9>0,$D$9*R41/2000,IF($D$10>0,$D$10*365*R41/2000,IF($D$11>0,$D$11*365*R41*Q41/2000,IF(T41=\"\",S41*8760/2000,T41*8760/2000)))))","v":0},0,{"$f":"IF(COUNTIF($F$24:$F$169,\"no\")>0,0,95)","v":95}]
[null,null,null,null,null,null,null,"","",null,null,null,"","",null,"Central Mix Loading",0,{"$f":"IF(Q42=0,0,LOOKUP(P42,'Emission Factors'!$A$5:$A$16,'Emission Factors'!$H$5:$H$16))","v":0},0,{"$f":"IF(Q42=0,\"\",IF($I$11>0,$I$11,IF(COUNTIF($F$24:$F$169,\"no\")>0,\"\",S42*(1-0.95))))","v":""},{"$f":"IF($J$11>0,\"\",IF($D$9>0,$D$9*R42*((100-$W$30)/100)/2000,IF($D$10>0,$D$10*365*R42*((100-$W$30)/100)/2000,IF($D$11>0,$D$11*365*R42*((100-$W$30)/100)*Q42/2000,IF(T42=\"\",S42*8760/2000,T42*8760/2000)))))","v":0},{"$f":"(N181*R42)","v":0}]
[null,{"$f":"IF(AND(B45=\"\",B46=\"\",B47=\"\",B48=\"\",B49=\"\"),\"\",\"Process (complete stack information if applicable):\")","v":""},{"$f":"IF(AND(B45=\"\",B46=\"\",B47=\"\",B48=\"\",B49=\"\"),\"\",\"Stack Height (ft):\")","v":""},{"$f":"IF(AND(B45=\"\",B46=\"\",B47=\"\",B48=\"\",B49=\"\"),\"\",\"Stack Diameter (inches):\")","v":""},{"$f":"IF(AND(B45=\"\",B46=\"\",B47=\"\",B48=\"\",B49=\"\"),\"\",\"Flow Rate (acfm):\")","v":""},{"$f":"IF(AND(B45=\"\",B46=\"\",B47=\"\",B48=\"\",B49=\"\"),\"\",\"Temp (Deg F):\")","v":""},null,"","",null,null,null,"","",null,"Truck Mix Loading",0,{"$f":"IF(Q43=0,0,LOOKUP(P43,'Emission Factors'!$A$5:$A$16,'Emission Factors'!$H$5:$H$16))","v":0},0,{"$f":"IF(Q43=0,\"\",IF($I$11>0,$I$11,IF(COUNTIF($F$24:$F$169,\"no\")>0,\"\",S43*(1-0.95))))","v":""},{"$f":"IF($J$11>0,\"\",IF($D$9>0,$D$9*R43*((100-$W$30)/100)/2000,IF($D$10>0,$D$10*365*R43*((100-$W$30)/100)/2000,IF($D$11>0,$D$11*365*R43*((100-$W$30)/100)*Q43/2000,IF(T43=\"\",S43*8760/2000,T43*8760/2000)))))","v":0},{"$f":"(M181*R43)","v":0}]
[null,null,null,null,null,null,null,"","",null,null,null,"","",null,"Cement Delivery to Silo",0,{"$f":"IF(Q44=0,0,LOOKUP(P44,'Emission Factors'!$A$5:$A$16,'Emission Factors'!$H$5:$H$16))","v":0},null,{"$f":"IF(Q44=0,0,IF($I$10>0,$I$10,Q44*R44))","v":0},{"$f":"IF($J$11>0,\"\",IF($D$9>0,$D$9*R44/2000,IF($D$10>0,$D$10*365*R44/2000,IF($D$11>0,$D$11*365*R44*Q44/2000,IF($I$11>0,0,T44*8760/2000)))))","v":0},{"$f":"(R13*R44/2000)","v":0}]
[null,{"$f":"IF(COUNTIF(J38:J47,\"Cement Delivery to Silo\")>0,\"EP-2 Cement Silo Stack:\",\"\")","v":""},null,null,null,null,null,"","",null,null,null,"","",null,"Cement Supplement Delivery to Silo",0,{"$f":"IF(Q45=0,0,LOOKUP(P45,'Emission Factors'!$A$5:$A$16,'Emission Factors'!$H$5:$H$16))","v":0},null,{"$f":"IF(Q45=0,0,IF($I$10>0,$I$10,Q45*R45))","v":0},{"$f":"IF($J$11>0,\"\",IF($D$9>0,$D$9*R45/2000,IF($D$10>0,$D$10*365*R45/2000,IF($D$11>0,$D$11*365*R45*Q45/2000,IF($I$11>0,0,T45*8760/2000)))))","v":0},{"$f":"(R14*R45/2000)","v":0}]
[null,{"$f":"IF(COUNTIF(J38:J47,\"Cement Supplement Delivery to Silo\")>0,\"EP-3 Cement Supplement Silo Stack:\",\"\")","v":""},null,null,null,null,null,"","",null,null,null,"",""]
[null,{"$f":"IF(COUNTIF(J38:J47,\"Weigh Hopper Loading\")>0,\"EP-4 Weigh Hopper Loading Stack:\",\"\")","v":""},null,null,null,null,null,"","",null,null,null,"",""]
[null,{"$f":"IF(COUNTIF(J38:J47,\"Truck Mix Loading\")>0,\"EP-5 Truck Mix Loading Stack:\",\"\")","v":""},null,null,null,null,null,{"$f":"IF('Concrete Plant (CP-6)'!$D$4>1,\"Stock Pile Area\",\"\")","v":""},null,null,null,null,null,null,null,"Storage Pile","Max Design Rate (acres/day)","Emission Factor   (lb/acre-day)","Potential Uncontrolled Emissions (lb/hr)","Potential Controlled Emissions (lb/hr)","Potential Annual Emissions (tons/yr)","Actual Annual Emissions (tons/yr)"]
[null,{"$f":"IF(COUNTIF(J38:J47,\"Central Mix Loading\")>0,\"EP-6 Central Mix Loading Stack:\",\"\")","v":""},null,null,null,null,null,null,{"$f":"IF('Concrete Plant (CP-6)'!$D$4>1,\"Emission Unit #\",\"\")","v":""},{"$f":"IF('Concrete Plant (CP-6)'!$D$4>1,\"Maximum Storage Area (acres)\",\"\")","v":""},{"$f":"IF('Concrete Plant (CP-6)'!$D$4>1,\"Actual Storage Area (acres)\",\"\")","v":""},{"$f":"IF('Concrete Plant (CP-6)'!$D$4>1,\"Actual Days in Existence (days)\",\"\")","v":""},null,null,null,"PM2.5/PM10",{"$f":"Q17","v":0},3.64,{"$f":"Q49*R49*(1/24)","v":0},null,{"$f":"Q49*R49*365/2000","v":0},{"$f":"R17*R49/2000","v":0}]
[]
[]
[null,{"$f":"IF('Concrete Plant (CP-6)'!$D$4>2,\"Batch Plant\",\"\")","v":""},{"$f":"IF('Concrete Plant (CP-6)'!$D$4>2,\"Site 3\",\"\")","v":""},null,null,null,null,{"$f":"IF('Concrete Plant (CP-6)'!$D$4>2,\"Emission Point #\",\"\")","v":""},{"$f":"IF('Concrete Plant (CP-6)'!$D$4>2,\"Emission     Unit #\",\"\")","v":""},{"$f":"IF('Concrete Plant (CP-6)'!$D$4>2,\"Processes\",\"\")","v":""},{"$f":"IF('Concrete Plant (CP-6)'!$D$4>2,\"Combined Maximum Hourly Design Rate for all Like Processes (cubic yard/hr)\",\"\")","v":""},{"$f":"IF('Concrete Plant (CP-6)'!$D$4>2,('Facility Information'!G5&\" Annual Throughput (cubic yards)\"),\"\")","v":""}]
[null,{"$f":"IF('Concrete Plant (CP-6)'!$D$4>2,\"Site Name:\",\"\")","v":""},null,null,null,null,null,{"$f":"IF(J53=\"cement delivery to silo\",\"CP-1 EP-2\",IF(J53=\"cement supplement delivery to silo\",\"CP-1 EP-3\",IF(J53=\"weigh hopper loading\",\"CP-1 EP-4\",IF(J53=\"truck mix loading\",\"CP-1 EP-5\",IF(J53=\"central mix loading\",\"CP-1 EP-6\",IF(J53=\"\",\"\",\"CP-1 EP-1\"))))))","v":""},{"$f":"IF(J53=\"\",\"\",IF(J53=\"aggregate delivery to ground storage\",\"CP-6 EU-1\",IF(J53=\"sand delivery to ground storage\",\"CP-6 EU-2\",IF(J53=\"aggregate transfer to conveyor\",\"CP-6 EU-3\",IF(J53=\"sand transfer to conveyor\",\"CP-6 EU-4\",IF(J53=\"aggregate transfer to elevated storage\",\"CP-6 EU-5\",IF(J53=\"sand transfer to elevated storage\",\"CP-6 EU-6\",IF(J53=\"weigh hopper loading\",\"CP-6 EU-7\",IF(J53=\"central mix loading\",\"CP-6 EU-8\",IF(J53=\"truck mix loading\",\"CP-6 EU-9\",IF(J53=\"cement delivery to silo\",\"CP-6 EU-10\",IF(J53=\"cement supplement delivery to silo\",\"CP-6 EU-11\"))))))))))))","v":""},null,null,null,{"$f":"IF(J53=\"truck mix loading\",IF($F$56=\"yes\",L53*0.05/2000,L53/2000),\"\")","v":""},{"$f":"IF(J53=\"central mix loading\",IF($F$56=\"yes\",L53*0.05/2000,L53/2000),\"\")","v":""}]
[null,{"$f":"IF('Concrete Plant (CP-6)'!$D$4>2,\"County:\",\"\")","v":""},null,null,null,null,null,{"$f":"IF(J54=\"cement delivery to silo\",\"CP-1 EP-2\",IF(J54=\"cement supplement delivery to silo\",\"CP-1 EP-3\",IF(J54=\"weigh hopper loading\",\"CP-1 EP-4\",IF(J54=\"truck mix loading\",\"CP-1 EP-5\",IF(J54=\"central mix loading\",\"CP-1 EP-6\",IF(J54=\"\",\"\",\"CP-1 EP-1\"))))))","v":""},"",null,null,null,{"$f":"IF(J54=\"truck mix loading\",IF($F$56=\"yes\",L54*0.05/2000,L54/2000),\"\")","v":""},{"$f":"IF(J54=\"central mix loading\",IF($F$56=\"yes\",L54*0.05/2000,L54/2000),\"\")","v":""}]
[null,{"$f":"IF('Concrete Plant (CP-6)'!$D$4>2,\"Batching Period (Dates):\",\"\")","v":""},null,null,null,null,null,"","",null,null,null,"",""]
[null,{"$f":"IF(OR(COUNTIF(J53:J62,\"Truck Mix Loading\")>0,(COUNTIF(J53:J62,\"Central Mix Loading\")>0)),\"Is the Central/Truck Mix Loading process controlled by a baghouse?\",\"\")","v":""},null,null,null,null,null,"","",null,null,null,"",""]
[null,null,null,null,null,null,null,"","",null,null,null,"",""]
[null,{"$f":"IF(AND(B60=\"\",B61=\"\",B62=\"\",B63=\"\",B64=\"\"),\"\",\"Process (complete stack information if applicable):\")","v":""},{"$f":"IF(AND(B60=\"\",B61=\"\",B62=\"\",B63=\"\",B64=\"\"),\"\",\"Stack Height (ft):\")","v":""},{"$f":"IF(AND(B60=\"\",B61=\"\",B62=\"\",B63=\"\",B64=\"\"),\"\",\"Stack Diameter (inches):\")","v":""},{"$f":"IF(AND(B60=\"\",B61=\"\",B62=\"\",B63=\"\",B64=\"\"),\"\",\"Flow Rate (acfm):\")","v":""},{"$f":"IF(AND(B60=\"\",B61=\"\",B62=\"\",B63=\"\",B64=\"\"),\"\",\"Temp (Deg F):\")","v":""},null,"","",null,null,null,"",""]
[null,null,null,null,null,null,null,"","",null,null,null,"",""]
[null,{"$f":"IF(COUNTIF(J53:J62,\"Cement Delivery to Silo\")>0,\"EP-2 Cement Silo Stack:\",\"\")","v":""},null,null,null,null,null,"","",null,null,null,"",""]
[null,{"$f":"IF(COUNTIF(J53:J62,\"Cement Supplement Delivery to Silo\")>0,\"EP-3 Cement Supplement Silo Stack:\",\"\")","v":""},null,null,null,null,null,"","",null,null,null,"",""]
[null,{"$f":"IF(COUNTIF(J53:J62,\"Weigh Hopper Loading\")>0,\"EP-4 Weigh Hopper Loading Stack:\",\"\")","v":""},null,null,null,null,null,"","",null,null,null,"",""]
[null,{"$f":"IF(COUNTIF(J53:J62,\"Truck Mix Loading\")>0,\"EP-5 Truck Mix Loading Stack:\",\"\")","v":""}]
[null,{"$f":"IF(COUNTIF(J53:J62,\"Central Mix Loading\")>0,\"EP-6 Central Mix Loading Stack:\",\"\")","v":""},null,null,null,null,null,{"$f":"IF('Concrete Plant (CP-6)'!$D$4>2,\"Stock Pile Area\",\"\")","v":""}]
[null,null,null,null,null,null,null,null,{"$f":"IF('Concrete Plant (CP-6)'!$D$4>2,\"Emission Unit #\",\"\")","v":""},{"$f":"IF('Concrete Plant (CP-6)'!$D$4>2,\"Maximum Storage Area (acres)\",\"\")","v":""},{"$f":"IF('Concrete Plant (CP-6)'!$D$4>2,\"Actual Storage Area (acres)\",\"\")","v":""},{"$f":"IF('Concrete Plant (CP-6)'!$D$4>2,\"Actual Days in Existence (days)\",\"\")","v":""}]
[]
[]
[]
[null,{"$f":"IF('Concrete Plant (CP-6)'!$D$4>3,\"Batch Plant\",\"\")","v":""},{"$f":"IF('Concrete Plant (CP-6)'!$D$4>3,\"Site 4\",\"\")","v":""},null,null,null,null,{"$f":"IF('Concrete Plant (CP-6)'!$D$4>3,\"Emission Point #\",\"\")","v":""},{"$f":"IF('Concrete Plant (CP-6)'!$D$4>3,\"Emission     Unit #\",\"\")","v":""},{"$f":"IF('Concrete Plant (CP-6)'!$D$4>3,\"Processes\",\"\")","v":""},{"$f":"IF('Concrete Plant (CP-6)'!$D$4>3,\"Combined Maximum Hourly Design Rate for all Like Processes (cubic yard/hr)\",\"\")","v":""},{"$f":"IF('Concrete Plant (CP-6)'!$D$4>3,('Facility Information'!G5&\" Annual Throughput (cubic yards)\"),\"\")","v":""}]
[null,{"$f":"IF('Concrete Plant (CP-6)'!$D$4>3,\"Site Name:\",\"\")","v":""},null,null,null,null,null,{"$f":"IF(J70=\"cement delivery to silo\",\"CP-1 EP-2\",IF(J70=\"cement supplement delivery to silo\",\"CP-1 EP-3\",IF(J70=\"weigh hopper loading\",\"CP-1 EP-4\",IF(J70=\"truck mix loading\",\"CP-1 EP-5\",IF(J70=\"central mix loading\",\"CP-1 EP-6\",IF(J70=\"\",\"\",\"CP-1 EP-1\"))))))","v":""},{"$f":"IF(J70=\"\",\"\",IF(J70=\"aggregate delivery to ground storage\",\"CP-6 EU-1\",IF(J70=\"sand delivery to ground storage\",\"CP-6 EU-2\",IF(J70=\"aggregate transfer to conveyor\",\"CP-6 EU-3\",IF(J70=\"sand transfer to conveyor\",\"CP-6 EU-4\",IF(J70=\"aggregate transfer to elevated storage\",\"CP-6 EU-5\",IF(J70=\"sand transfer to elevated storage\",\"CP-6 EU-6\",IF(J70=\"weigh hopper loading\",\"CP-6 EU-7\",IF(J70=\"central mix loading\",\"CP-6 EU-8\",IF(J70=\"truck mix loading\",\"CP-6 EU-9\",IF(J70=\"cement delivery to silo\",\"CP-6 EU-10\",IF(J70=\"cement supplement delivery to silo\",\"CP-6 EU-11\"))))))))))))","v":""},null,null,null,{"$f":"IF(J70=\"truck mix loading\",IF($F$73=\"yes\",L70*0.05/2000,L70/2000),\"\")","v":""},{"$f":"IF(J70=\"central mix loading\",IF($F$73=\"yes\",L70*0.05/2000,L70/2000),\"\")","v":""}]
[null,{"$f":"IF('Concrete Plant (CP-6)'!$D$4>3,\"County:\",\"\")","v":""},null,null,null,null,null,{"$f":"IF(J71=\"cement delivery to silo\",\"CP-1 EP-2\",IF(J71=\"cement supplement delivery to silo\",\"CP-1 EP-3\",IF(J71=\"weigh hopper loading\",\"CP-1 EP-4\",IF(J71=\"truck mix loading\",\"CP-1 EP-5\",IF(J71=\"central mix loading\",\"CP-1 EP-6\",IF(J71=\"\",\"\",\"CP-1 EP-1\"))))))","v":""},"",null,null,null,{"$f":"IF(J71=\"truck mix loading\",IF($F$73=\"yes\",L71*0.05/2000,L71/2000),\"\")","v":""},{"$f":"IF(J71=\"central mix loading\",IF($F$73=\"yes\",L71*0.05/2000,L71/2000),\"\")","v":""}]
[null,{"$f":"IF('Concrete Plant (CP-6)'!$D$4>3,\"Batching Period (Dates):\",\"\")","v":""},null,null,null,null,null,"","",null,null,null,"",""]
[null,{"$f":"IF(OR(COUNTIF(J70:J79,\"Truck Mix Loading\")>0,(COUNTIF(J70:J79,\"Central Mix Loading\")>0)),\"Is the Central/Truck Mix Loading process controlled by a baghouse?\",\"\")","v":""},null,null,null,null,null,"","",null,null,null,"",""]
[null,null,null,null,null,null,null,"","",null,null,null,"",""]
[null,{"$f":"IF(AND(B77=\"\",B78=\"\",B79=\"\",B80=\"\",B81=\"\"),\"\",\"Process (complete stack information if applicable):\")","v":""},{"$f":"IF(AND(B77=\"\",B78=\"\",B79=\"\",B80=\"\",B81=\"\"),\"\",\"Stack Height (ft):\")","v":""},{"$f":"IF(AND(B77=\"\",B78=\"\",B79=\"\",B80=\"\",B81=\"\"),\"\",\"Stack Diameter (inches):\")","v":""},{"$f":"IF(AND(B77=\"\",B78=\"\",B79=\"\",B80=\"\",B81=\"\"),\"\",\"Flow Rate (acfm):\")","v":""},{"$f":"IF(AND(B77=\"\",B78=\"\",B79=\"\",B80=\"\",B81=\"\"),\"\",\"Temp (Deg F):\")","v":""},null,"","",null,null,null,"",""]
[null,null,null,null,null,null,null,"","",null,null,null,"",""]
[null,{"$f":"IF(COUNTIF(J70:J79,\"Cement Delivery to Silo\")>0,\"EP-2 Cement Silo Stack:\",\"\")","v":""},null,null,null,null,null,"","",null,null,null,"",""]
[null,{"$f":"IF(COUNTIF(J70:J79,\"Cement Supplement Delivery to Silo\")>0,\"EP-3 Cement Supplement Silo Stack:\",\"\")","v":""},null,null,null,null,null,"","",null,null,null,"",""]
[null,{"$f":"IF(COUNTIF(J70:J79,\"Weigh Hopper Loading\")>0,\"EP-4 Weigh Hopper Loading Stack:\",\"\")","v":""},null,null,null,null,null,"","",null,null,null,"",""]
[null,{"$f":"IF(COUNTIF(J70:J79,\"Truck Mix Loading\")>0,\"EP-5 Truck Mix Loading Stack:\",\"\")","v":""}]
[null,{"$f":"IF(COUNTIF(J70:J79,\"Central Mix Loading\")>0,\"EP-6 Central Mix Loading Stack:\",\"\")","v":""},null,null,null,null,null,{"$f":"IF('Concrete Plant (CP-6)'!$D$4>3,\"Stock Pile Area\",\"\")","v":""}]
[null,null,null,null,null,null,null,null,{"$f":"IF('Concrete Plant (CP-6)'!$D$4>3,\"Emission Unit #\",\"\")","v":""},{"$f":"IF('Concrete Plant (CP-6)'!$D$4>3,\"Maximum Storage Area (acres)\",\"\")","v":""},{"$f":"IF('Concrete Plant (CP-6)'!$D$4>3,\"Actual Storage Area (acres)\",\"\")","v":""},{"$f":"IF('Concrete Plant (CP-6)'!$D$4>3,\"Actual Days in Existence (days)\",\"\")","v":""}]
[]
[]
[null,{"$f":"IF('Concrete Plant (CP-6)'!$D$4>4,\"Batch Plant\",\"\")","v":""},{"$f":"IF('Concrete Plant (CP-6)'!$D$4>4,\"Site 5\",\"\")","v":""},null,null,null,null,{"$f":"IF('Concrete Plant (CP-6)'!$D$4>4,\"Emission Point #\",\"\")","v":""},{"$f":"IF('Concrete Plant (CP-6)'!$D$4>4,\"Emission     Unit #\",\"\")","v":""},{"$f":"IF('Concrete Plant (CP-6)'!$D$4>4,\"Processes\",\"\")","v":""},{"$f":"IF('Concrete Plant (CP-6)'!$D$4>4,\"Combined Maximum Hourly Design Rate for all Like Processes (cubic yard/hr)\",\"\")","v":""},{"$f":"IF('Concrete Plant (CP-6)'!$D$4>4,('Facility Information'!G5&\" Annual Throughput (cubic yards)\"),\"\")","v":""}]
[null,{"$f":"IF('Concrete Plant (CP-6)'!$D$4>4,\"Site Name:\",\"\")","v":""},null,null,null,null,null,{"$f":"IF(J86=\"cement delivery to silo\",\"CP-1 EP-2\",IF(J86=\"cement supplement delivery to silo\",\"CP-1 EP-3\",IF(J86=\"weigh hopper loading\",\"CP-1 EP-4\",IF(J86=\"truck mix loading\",\"CP-1 EP-5\",IF(J86=\"central mix loading\",\"CP-1 EP-6\",IF(J86=\"\",\"\",\"CP-1 EP-1\"))))))","v":""},{"$f":"IF(J86=\"\",\"\",IF(J86=\"aggregate delivery to ground storage\",\"CP-6 EU-1\",IF(J86=\"sand delivery to ground storage\",\"CP-6 EU-2\",IF(J86=\"aggregate transfer to conveyor\",\"CP-6 EU-3\",IF(J86=\"sand transfer to conveyor\",\"CP-6 EU-4\",IF(J86=\"aggregate transfer to elevated storage\",\"CP-6 EU-5\",IF(J86=\"sand transfer to elevated storage\",\"CP-6 EU-6\",IF(J86=\"weigh hopper loading\",\"CP-6 EU-7\",IF(J86=\"central mix loading\",\"CP-6 EU-8\",IF(J86=\"truck mix loading\",\"CP-6 EU-9\",IF(J86=\"cement delivery to silo\",\"CP-6 EU-10\",IF(J86=\"cement supplement delivery to silo\",\"CP-6 EU-11\"))))))))))))","v":""},null,null,null,{"$f":"IF(J86=\"truck mix loading\",IF($F$89=\"yes\",L86*0.05/2000,L86/2000),\"\")","v":""},{"$f":"IF(J86=\"central mix loading\",IF($F$89=\"yes\",L86*0.05/2000,L86/2000),\"\")","v":""}]
[null,{"$f":"IF('Concrete Plant (CP-6)'!$D$4>4,\"County:\",\"\")","v":""},null,null,null,null,null,{"$f":"IF(J87=\"cement delivery to silo\",\"CP-1 EP-2\",IF(J87=\"cement supplement delivery to silo\",\"CP-1 EP-3\",IF(J87=\"weigh hopper loading\",\"CP-1 EP-4\",IF(J87=\"truck mix loading\",\"CP-1 EP-5\",IF(J87=\"central mix loading\",\"CP-1 EP-6\",IF(J87=\"\",\"\",\"CP-1 EP-1\"))))))","v":""},"",null,null,null,{"$f":"IF(J87=\"truck mix loading\",IF($F$89=\"yes\",L87*0.05/2000,L87/2000),\"\")","v":""},{"$f":"IF(J87=\"central mix loading\",IF($F$89=\"yes\",L87*0.05/2000,L87/2000),\"\")","v":""}]
[null,{"$f":"IF('Concrete Plant (CP-6)'!$D$4>4,\"Batching Period (Dates):\",\"\")","v":""},null,null,null,null,null,"","",null,null,null,"",""]
[null,{"$f":"IF(OR(COUNTIF(J86:J95,\"Truck Mix Loading\")>0,(COUNTIF(J86:J95,\"Central Mix Loading\")>0)),\"Is the Central/Truck Mix Loading process controlled by a baghouse?\",\"\")","v":""},null,null,null,null,null,"","",null,null,null,"",""]
[null,null,null,null,null,null,null,"","",null,null,null,"",""]
[null,{"$f":"IF(AND(B93=\"\",B94=\"\",B95=\"\",B96=\"\",B97=\"\"),\"\",\"Process (complete stack information if applicable):\")","v":""},{"$f":"IF(AND(B93=\"\",B94=\"\",B95=\"\",B96=\"\",B97=\"\"),\"\",\"Stack Height (ft):\")","v":""},{"$f":"IF(AND(B93=\"\",B94=\"\",B95=\"\",B96=\"\",B97=\"\"),\"\",\"Stack Diameter (inches):\")","v":""},{"$f":"IF(AND(B93=\"\",B94=\"\",B95=\"\",B96=\"\",B97=\"\"),\"\",\"Flow Rate (acfm):\")","v":""},{"$f":"IF(AND(B93=\"\",B94=\"\",B95=\"\",B96=\"\",B97=\"\"),\"\",\"Temp (Deg F):\")","v":""},null,"","",null,null,null,"",""]
[null,null,null,null,null,null,null,"","",null,null,null,"",""]
[null,{"$f":"IF(COUNTIF(J86:J95,\"Cement Delivery to Silo\")>0,\"EP-2 Cement Silo Stack:\",\"\")","v":""},null,null,null,null,null,"","",null,null,null,"",""]
[null,{"$f":"IF(COUNTIF(J86:J95,\"Cement Supplement Delivery to Silo\")>0,\"EP-3 Cement Supplement Silo Stack:\",\"\")","v":""},null,null,null,null,null,"","",null,null,null,"",""]
[null,{"$f":"IF(COUNTIF(J86:J95,\"Weigh Hopper Loading\")>0,\"EP-4 Weigh Hopper Loading Stack:\",\"\")","v":""},null,null,null,null,null,"","",null,null,null,"",""]
[null,{"$f":"IF(COUNTIF(J86:J95,\"Truck Mix Loading\")>0,\"EP-5 Truck Mix Loading Stack:\",\"\")","v":""}]
[null,{"$f":"IF(COUNTIF(J86:J95,\"Central Mix Loading\")>0,\"EP-6 Central Mix Loading Stack:\",\"\")","v":""},null,null,null,null,null,{"$f":"IF('Concrete Plant (CP-6)'!$D$4>4,\"Stock Pile Area\",\"\")","v":""}]
[null,null,null,null,null,null,null,null,{"$f":"IF('Concrete Plant (CP-6)'!$D$4>4,\"Emission Unit #\",\"\")","v":""},{"$f":"IF('Concrete Plant (CP-6)'!$D$4>4,\"Maximum Storage Area (acres)\",\"\")","v":""},{"$f":"IF('Concrete Plant (CP-6)'!$D$4>4,\"Actual Storage Area (acres)\",\"\")","v":""},{"$f":"IF('Concrete Plant (CP-6)'!$D$4>4,\"Actual Days in Existence (days)\",\"\")","v":""}]
[]
[]
[null,{"$f":"IF('Concrete Plant (CP-6)'!$D$4>5,\"Batch Plant\",\"\")","v":""},{"$f":"IF('Concrete Plant (CP-6)'!$D$4>5,\"Site 6\",\"\")","v":""},null,null,null,null,{"$f":"IF('Concrete Plant (CP-6)'!$D$4>5,\"Emission Point #\",\"\")","v":""},{"$f":"IF('Concrete Plant (CP-6)'!$D$4>5,\"Emission     Unit #\",\"\")","v":""},{"$f":"IF('Concrete Plant (CP-6)'!$D$4>5,\"Processes\",\"\")","v":""},{"$f":"IF('Concrete Plant (CP-6)'!$D$4>5,\"Combined Maximum Hourly Design Rate for all Like Processes (cubic yard/hr)\",\"\")","v":""},{"$f":"IF('Concrete Plant (CP-6)'!$D$4>5,('Facility Information'!G5&\" Annual Throughput (cubic yards)\"),\"\")","v":""}]
[null,{"$f":"IF('Concrete Plant (CP-6)'!$D$4>5,\"Site Name:\",\"\")","v":""},null,null,null,null,null,{"$f":"IF(J102=\"cement delivery to silo\",\"CP-1 EP-2\",IF(J102=\"cement supplement delivery to silo\",\"CP-1 EP-3\",IF(J102=\"weigh hopper loading\",\"CP-1 EP-4\",IF(J102=\"truck mix loading\",\"CP-1 EP-5\",IF(J102=\"central mix loading\",\"CP-1 EP-6\",IF(J102=\"\",\"\",\"CP-1 EP-1\"))))))","v":""},{"$f":"IF(J102=\"\",\"\",IF(J102=\"aggregate delivery to ground storage\",\"CP-6 EU-1\",IF(J102=\"sand delivery to ground storage\",\"CP-6 EU-2\",IF(J102=\"aggregate transfer to conveyor\",\"CP-6 EU-3\",IF(J102=\"sand transfer to conveyor\",\"CP-6 EU-4\",IF(J102=\"aggregate transfer to elevated storage\",\"CP-6 EU-5\",IF(J102=\"sand transfer to elevated storage\",\"CP-6 EU-6\",IF(J102=\"weigh hopper loading\",\"CP-6 EU-7\",IF(J102=\"central mix loading\",\"CP-6 EU-8\",IF(J102=\"truck mix loading\",\"CP-6 EU-9\",IF(J102=\"cement delivery to silo\",\"CP-6 EU-10\",IF(J102=\"cement supplement delivery to silo\",\"CP-6 EU-11\"))))))))))))","v":""},null,null,null,{"$f":"IF(J102=\"truck mix loading\",IF($F$105=\"yes\",L102*0.05/2000,L102/2000),\"\")","v":""},{"$f":"IF(J102=\"central mix loading\",IF($F$105=\"yes\",L102*0.05/2000,L102/2000),\"\")","v":""}]
[null,{"$f":"IF('Concrete Plant (CP-6)'!$D$4>5,\"County:\",\"\")","v":""},null,null,null,null,null,{"$f":"IF(J103=\"cement delivery to silo\",\"CP-1 EP-2\",IF(J103=\"cement supplement delivery to silo\",\"CP-1 EP-3\",IF(J103=\"weigh hopper loading\",\"CP-1 EP-4\",IF(J103=\"truck mix loading\",\"CP-1 EP-5\",IF(J103=\"central mix loading\",\"CP-1 EP-6\",IF(J103=\"\",\"\",\"CP-1 EP-1\"))))))","v":""},"",null,null,null,{"$f":"IF(J103=\"truck mix loading\",IF($F$105=\"yes\",L103*0.05/2000,L103/2000),\"\")","v":""},{"$f":"IF(J103=\"central mix loading\",IF($F$105=\"yes\",L103*0.05/2000,L103/2000),\"\")","v":""}]
[null,{"$f":"IF('Concrete Plant (CP-6)'!$D$4>5,\"Batching Period (Dates):\",\"\")","v":""},null,null,null,null,null,"","",null,null,null,"",""]
[null,{"$f":"IF(OR(COUNTIF(J102:J111,\"Truck Mix Loading\")>0,(COUNTIF(J102:J111,\"Central Mix Loading\")>0)),\"Is the Central/Truck Mix Loading process controlled by a baghouse?\",\"\")","v":""},null,null,null,null,null,"","",null,null,null,"",""]
[null,null,null,null,null,null,null,"","",null,null,null,"",""]
[null,{"$f":"IF(AND(B109=\"\",B110=\"\",B111=\"\",B112=\"\",B113=\"\"),\"\",\"Process (complete stack information if applicable):\")","v":""},{"$f":"IF(AND(B109=\"\",B110=\"\",B111=\"\",B112=\"\",B113=\"\"),\"\",\"Stack Height (ft):\")","v":""},{"$f":"IF(AND(B109=\"\",B110=\"\",B111=\"\",B112=\"\",B113=\"\"),\"\",\"Stack Diameter (inches):\")","v":""},{"$f":"IF(AND(B109=\"\",B110=\"\",B111=\"\",B112=\"\",B113=\"\"),\"\",\"Flow Rate (acfm):\")","v":""},{"$f":"IF(AND(B109=\"\",B110=\"\",B111=\"\",B112=\"\",B113=\"\"),\"\",\"Temp (Deg F):\")","v":""},null,"","",null,null,null,"",""]
[null,null,null,null,null,null,null,"","",null,null,null,"",""]
[null,{"$f":"IF(COUNTIF(J102:J111,\"Cement Delivery to Silo\")>0,\"EP-2 Cement Silo Stack:\",\"\")","v":""},null,null,null,null,null,"","",null,null,null,"",""]
[null,{"$f":"IF(COUNTIF(J102:J111,\"Cement Supplement Delivery to Silo\")>0,\"EP-3 Cement Supplement Silo Stack:\",\"\")","v":""},null,null,null,null,null,"","",null,null,null,"",""]
[null,{"$f":"IF(COUNTIF(J102:J111,\"Weigh Hopper Loading\")>0,\"EP-4 Weigh Hopper Loading Stack:\",\"\")","v":""},null,null,null,null,null,"","",null,null,null,"",""]
[null,{"$f":"IF(COUNTIF(J102:J111,\"Truck Mix Loading\")>0,\"EP-5 Truck Mix Loading Stack:\",\"\")","v":""}]
[null,{"$f":"IF(COUNTIF(J102:J111,\"Central Mix Loading\")>0,\"EP-6 Central Mix Loading Stack:\",\"\")","v":""},null,null,null,null,null,{"$f":"IF('Concrete Plant (CP-6)'!$D$4>5,\"Stock Pile Area\",\"\")","v":""}]
[null,null,null,null,null,null,null,null,{"$f":"IF('Concrete Plant (CP-6)'!$D$4>5,\"Emission Unit #\",\"\")","v":""},{"$f":"IF('Concrete Plant (CP-6)'!$D$4>5,\"Maximum Storage Area (acres)\",\"\")","v":""},{"$f":"IF('Concrete Plant (CP-6)'!$D$4>5,\"Actual Storage Area (acres)\",\"\")","v":""},{"$f":"IF('Concrete Plant (CP-6)'!$D$4>5,\"Actual Days in Existence (days)\",\"\")","v":""}]
[]
[]
[null,{"$f":"IF('Concrete Plant (CP-6)'!$D$4>6,\"Batch Plant\",\"\")","v":""},{"$f":"IF('Concrete Plant (CP-6)'!$D$4>6,\"Site 7\",\"\")","v":""},null,null,null,null,{"$f":"IF('Concrete Plant (CP-6)'!$D$4>6,\"Emission Point #\",\"\")","v":""},{"$f":"IF('Concrete Plant (CP-6)'!$D$4>6,\"Emission     Unit #\",\"\")","v":""},{"$f":"IF('Concrete Plant (CP-6)'!$D$4>6,\"Processes\",\"\")","v":""},{"$f":"IF('Concrete Plant (CP-6)'!$D$4>6,\"Combined Maximum Hourly Design Rate for all Like Processes (cubic yard/hr)\",\"\")","v":""},{"$f":"IF('Concrete Plant (CP-6)'!$D$4>6,('Facility Information'!G5&\" Annual Throughput (cubic yards)\"),\"\")","v":""}]
[null,{"$f":"IF('Concrete Plant (CP-6)'!$D$4>6,\"Site Name:\",\"\")","v":""},null,null,null,null,null,{"$f":"IF(J118=\"cement delivery to silo\",\"CP-1 EP-2\",IF(J118=\"cement supplement delivery to silo\",\"CP-1 EP-3\",IF(J118=\"weigh hopper loading\",\"CP-1 EP-4\",IF(J118=\"truck mix loading\",\"CP-1 EP-5\",IF(J118=\"central mix loading\",\"CP-1 EP-6\",IF(J118=\"\",\"\",\"CP-1 EP-1\"))))))","v":""},{"$f":"IF(J118=\"\",\"\",IF(J118=\"aggregate delivery to ground storage\",\"CP-6 EU-1\",IF(J118=\"sand delivery to ground storage\",\"CP-6 EU-2\",IF(J118=\"aggregate transfer to conveyor\",\"CP-6 EU-3\",IF(J118=\"sand transfer to conveyor\",\"CP-6 EU-4\",IF(J118=\"aggregate transfer to elevated storage\",\"CP-6 EU-5\",IF(J118=\"sand transfer to elevated storage\",\"CP-6 EU-6\",IF(J118=\"weigh hopper loading\",\"CP-6 EU-7\",IF(J118=\"central mix loading\",\"CP-6 EU-8\",IF(J118=\"truck mix loading\",\"CP-6 EU-9\",IF(J118=\"cement delivery to silo\",\"CP-6 EU-10\",IF(J118=\"cement supplement delivery to silo\",\"CP-6 EU-11\"))))))))))))","v":""},null,null,null,{"$f":"IF(J118=\"truck mix loading\",IF($F$121=\"yes\",L118*0.05/2000,L118/2000),\"\")","v":""},{"$f":"IF(J118=\"central mix loading\",IF($F$121=\"yes\",L118*0.05/2000,L118/2000),\"\")","v":""}]
[null,{"$f":"IF('Concrete Plant (CP-6)'!$D$4>6,\"County:\",\"\")","v":""},null,null,null,null,null,{"$f":"IF(J119=\"cement delivery to silo\",\"CP-1 EP-2\",IF(J119=\"cement supplement delivery to silo\",\"CP-1 EP-3\",IF(J119=\"weigh hopper loading\",\"CP-1 EP-4\",IF(J119=\"truck mix loading\",\"CP-1 EP-5\",IF(J119=\"central mix loading\",\"CP-1 EP-6\",IF(J119=\"\",\"\",\"CP-1 EP-1\"))))))","v":""},"",null,null,null,{"$f":"IF(J119=\"truck mix loading\",IF($F$121=\"yes\",L119*0.05/2000,L119/2000),\"\")","v":""},{"$f":"IF(J119=\"central mix loading\",IF($F$121=\"yes\",L119*0.05/2000,L119/2000),\"\")","v":""}]
[null,{"$f":"IF('Concrete Plant (CP-6)'!$D$4>6,\"Batching Period (Dates):\",\"\")","v":""},null,null,null,null,null,"","",null,null,null,"",""]
[null,{"$f":"IF(OR(COUNTIF(J118:J127,\"Truck Mix Loading\")>0,(COUNTIF(J118:J127,\"Central Mix Loading\")>0)),\"Is the Central/Truck Mix Loading process controlled by a baghouse?\",\"\")","v":""},null,null,null,null,null,"","",null,null,null,"",""]
[null,null,null,null,null,null,null,"","",null,null,null,"",""]
[null,{"$f":"IF(AND(B125=\"\",B126=\"\",B127=\"\",B128=\"\",B129=\"\"),\"\",\"Process (complete stack information if applicable):\")","v":""},{"$f":"IF(AND(B125=\"\",B126=\"\",B127=\"\",B128=\"\",B129=\"\"),\"\",\"Stack Height (ft):\")","v":""},{"$f":"IF(AND(B125=\"\",B126=\"\",B127=\"\",B128=\"\",B129=\"\"),\"\",\"Stack Diameter (inches):\")","v":""},{"$f":"IF(AND(B125=\"\",B126=\"\",B127=\"\",B128=\"\",B129=\"\"),\"\",\"Flow Rate (acfm):\")","v":""},{"$f":"IF(AND(B125=\"\",B126=\"\",B127=\"\",B128=\"\",B129=\"\"),\"\",\"Temp (Deg F):\")","v":""},null,"","",null,null,null,"",""]
[null,null,null,null,null,null,null,"","",null,null,null,"",""]
[null,{"$f":"IF(COUNTIF(J118:J127,\"Cement Delivery to Silo\")>0,\"EP-2 Cement Silo Stack:\",\"\")","v":""},null,null,null,null,null,"","",null,null,null,"",""]
[null,{"$f":"IF(COUNTIF(J118:J127,\"Cement Supplement Delivery to Silo\")>0,\"EP-3 Cement Supplement Silo Stack:\",\"\")","v":""},null,null,null,null,null,"","",null,null,null,"",""]
[null,{"$f":"IF(COUNTIF(J118:J127,\"Weigh Hopper Loading\")>0,\"EP-4 Weigh Hopper Loading Stack:\",\"\")","v":""},null,null,null,null,null,"","",null,null,null,"",""]
[null,{"$f":"IF(COUNTIF(J118:J127,\"Truck Mix Loading\")>0,\"EP-5 Truck Mix Loading Stack:\",\"\")","v":""}]
[null,{"$f":"IF(COUNTIF(J118:J127,\"Central Mix Loading\")>0,\"EP-6 Central Mix Loading Stack:\",\"\")","v":""},null,null,null,null,null,{"$f":"IF('Concrete Plant (CP-6)'!$D$4>6,\"Stock Pile Area\",\"\")","v":""}]
[null,null,null,null,null,null,null,null,{"$f":"IF('Concrete Plant (CP-6)'!$D$4>6,\"Emission Unit #\",\"\")","v":""},{"$f":"IF('Concrete Plant (CP-6)'!$D$4>6,\"Maximum Storage Area (acres)\",\"\")","v":""},{"$f":"IF('Concrete Plant (CP-6)'!$D$4>6,\"Actual Storage Area (acres)\",\"\")","v":""},{"$f":"IF('Concrete Plant (CP-6)'!$D$4>6,\"Actual Days in Existence (days)\",\"\")","v":""}]
[]
[]
[null,{"$f":"IF('Concrete Plant (CP-6)'!$D$4>7,\"Batch Plant\",\"\")","v":""},{"$f":"IF('Concrete Plant (CP-6)'!$D$4>7,\"Site 8\",\"\")","v":""},null,null,null,null,{"$f":"IF('Concrete Plant (CP-6)'!$D$4>7,\"Emission Point #\",\"\")","v":""},{"$f":"IF('Concrete Plant (CP-6)'!$D$4>7,\"Emission     Unit #\",\"\")","v":""},{"$f":"IF('Concrete Plant (CP-6)'!$D$4>7,\"Processes\",\"\")","v":""},{"$f":"IF('Concrete Plant (CP-6)'!$D$4>7,\"Combined Maximum Hourly Design Rate for all Like Processes (cubic yard/hr)\",\"\")","v":""},{"$f":"IF('Concrete Plant (CP-6)'!$D$4>7,('Facility Information'!G5&\" Annual Throughput (cubic yards)\"),\"\")","v":""}]
[null,{"$f":"IF('Concrete Plant (CP-6)'!$D$4>7,\"Site Name:\",\"\")","v":""},null,null,null,null,null,{"$f":"IF(J134=\"cement delivery to silo\",\"CP-1 EP-2\",IF(J134=\"cement supplement delivery to silo\",\"CP-1 EP-3\",IF(J134=\"weigh hopper loading\",\"CP-1 EP-4\",IF(J134=\"truck mix loading\",\"CP-1 EP-5\",IF(J134=\"central mix loading\",\"CP-1 EP-6\",IF(J134=\"\",\"\",\"CP-1 EP-1\"))))))","v":""},{"$f":"IF(J134=\"\",\"\",IF(J134=\"aggregate delivery to ground storage\",\"CP-6 EU-1\",IF(J134=\"sand delivery to ground storage\",\"CP-6 EU-2\",IF(J134=\"aggregate transfer to conveyor\",\"CP-6 EU-3\",IF(J134=\"sand transfer to conveyor\",\"CP-6 EU-4\",IF(J134=\"aggregate transfer to elevated storage\",\"CP-6 EU-5\",IF(J134=\"sand transfer to elevated storage\",\"CP-6 EU-6\",IF(J134=\"weigh hopper loading\",\"CP-6 EU-7\",IF(J134=\"central mix loading\",\"CP-6 EU-8\",IF(J134=\"truck mix loading\",\"CP-6 EU-9\",IF(J134=\"cement delivery to silo\",\"CP-6 EU-10\",IF(J134=\"cement supplement delivery to silo\",\"CP-6 EU-11\"))))))))))))","v":""},null,null,null,{"$f":"IF(J134=\"truck mix loading\",IF($F$137=\"yes\",L134*0.05/2000,L134/2000),\"\")","v":""},{"$f":"IF(J134=\"central mix loading\",IF($F$137=\"yes\",L134*0.05/2000,L134/2000),\"\")","v":""}]
[null,{"$f":"IF('Concrete Plant (CP-6)'!$D$4>7,\"County:\",\"\")","v":""},null,null,null,null,null,{"$f":"IF(J135=\"cement delivery to silo\",\"CP-1 EP-2\",IF(J135=\"cement supplement delivery to silo\",\"CP-1 EP-3\",IF(J135=\"weigh hopper loading\",\"CP-1 EP-4\",IF(J135=\"truck mix loading\",\"CP-1 EP-5\",IF(J135=\"central mix loading\",\"CP-1 EP-6\",IF(J135=\"\",\"\",\"CP-1 EP-1\"))))))","v":""},"",null,null,null,{"$f":"IF(J135=\"truck mix loading\",IF($F$137=\"yes\",L135*0.05/2000,L135/2000),\"\")","v":""},{"$f":"IF(J135=\"central mix loading\",IF($F$137=\"yes\",L135*0.05/2000,L135/2000),\"\")","v":""}]
[null,{"$f":"IF('Concrete Plant (CP-6)'!$D$4>7,\"Batching Period (Dates):\",\"\")","v":""},null,null,null,null,null,"","",null,null,null,"",""]
[null,{"$f":"IF(OR(COUNTIF(J134:J143,\"Truck Mix Loading\")>0,(COUNTIF(J134:J143,\"Central Mix Loading\")>0)),\"Is the Central/Truck Mix Loading process controlled by a baghouse?\",\"\")","v":""},null,null,null,null,null,"","",null,null,null,"",""]
[null,null,null,null,null,null,null,"","",null,null,null,"",""]
[null,{"$f":"IF(AND(B141=\"\",B142=\"\",B143=\"\",B144=\"\",B145=\"\"),\"\",\"Process (complete stack information if applicable):\")","v":""},{"$f":"IF(AND(B141=\"\",B142=\"\",B143=\"\",B144=\"\",B145=\"\"),\"\",\"Stack Height (ft):\")","v":""},{"$f":"IF(AND(B141=\"\",B142=\"\",B143=\"\",B144=\"\",B145=\"\"),\"\",\"Stack Diameter (inches):\")","v":""},{"$f":"IF(AND(B141=\"\",B142=\"\",B143=\"\",B144=\"\",B145=\"\"),\"\",\"Flow Rate (acfm):\")","v":""},{"$f":"IF(AND(B141=\"\",B142=\"\",B143=\"\",B144=\"\",B145=\"\"),\"\",\"Temp (Deg F):\")","v":""},null,"","",null,null,null,"",""]
[null,null,null,null,null,null,null,"","",null,null,null,"",""]
[null,{"$f":"IF(COUNTIF(J134:J143,\"Cement Delivery to Silo\")>0,\"EP-2 Cement Silo Stack:\",\"\")","v":""},null,null,null,null,null,"","",null,null,null,"",""]
[null,{"$f":"IF(COUNTIF(J134:J143,\"Cement Supplement Delivery to Silo\")>0,\"EP-3 Cement Supplement Silo Stack:\",\"\")","v":""},null,null,null,null,null,"","",null,null,null,"",""]
[null,{"$f":"IF(COUNTIF(J134:J143,\"Weigh Hopper Loading\")>0,\"EP-4 Weigh Hopper Loading Stack:\",\"\")","v":""},null,null,null,null,null,"","",null,null,null,"",""]
[null,{"$f":"IF(COUNTIF(J134:J143,\"Truck Mix Loading\")>0,\"EP-5 Truck Mix Loading Stack:\",\"\")","v":""}]
[null,{"$f":"IF(COUNTIF(J134:J143,\"Central Mix Loading\")>0,\"EP-6 Central Mix Loading Stack:\",\"\")","v":""},null,null,null,null,null,{"$f":"IF('Concrete Plant (CP-6)'!$D$4>7,\"Stock Pile Area\",\"\")","v":""}]
[null,null,null,null,null,null,null,null,{"$f":"IF('Concrete Plant (CP-6)'!$D$4>7,\"Emission Unit #\",\"\")","v":""},{"$f":"IF('Concrete Plant (CP-6)'!$D$4>7,\"Maximum Storage Area (acres)\",\"\")","v":""},{"$f":"IF('Concrete Plant (CP-6)'!$D$4>7,\"Actual Storage Area (acres)\",\"\")","v":""},{"$f":"IF('Concrete Plant (CP-6)'!$D$4>7,\"Actual Days in Existence (days)\",\"\")","v":""}]
[]
[]
[null,{"$f":"IF('Concrete Plant (CP-6)'!$D$4>8,\"Batch Plant\",\"\")","v":""},{"$f":"IF('Concrete Plant (CP-6)'!$D$4>8,\"Site 9\",\"\")","v":""},null,null,null,null,{"$f":"IF('Concrete Plant (CP-6)'!$D$4>8,\"Emission Point #\",\"\")","v":""},{"$f":"IF('Concrete Plant (CP-6)'!$D$4>8,\"Emission     Unit #\",\"\")","v":""},{"$f":"IF('Concrete Plant (CP-6)'!$D$4>8,\"Processes\",\"\")","v":""},{"$f":"IF('Concrete Plant (CP-6)'!$D$4>8,\"Combined Maximum Hourly Design Rate for all Like Processes (cubic yard/hr)\",\"\")","v":""},{"$f":"IF('Concrete Plant (CP-6)'!$D$4>8,('Facility Information'!G5&\" Annual Throughput (cubic yards)\"),\"\")","v":""}]
[null,{"$f":"IF('Concrete Plant (CP-6)'!$D$4>8,\"Site Name:\",\"\")","v":""},null,null,null,null,null,{"$f":"IF(J150=\"cement delivery to silo\",\"CP-1 EP-2\",IF(J150=\"cement supplement delivery to silo\",\"CP-1 EP-3\",IF(J150=\"weigh hopper loading\",\"CP-1 EP-4\",IF(J150=\"truck mix loading\",\"CP-1 EP-5\",IF(J150=\"central mix loading\",\"CP-1 EP-6\",IF(J150=\"\",\"\",\"CP-1 EP-1\"))))))","v":""},{"$f":"IF(J150=\"\",\"\",IF(J150=\"aggregate delivery to ground storage\",\"CP-6 EU-1\",IF(J150=\"sand delivery to ground storage\",\"CP-6 EU-2\",IF(J150=\"aggregate transfer to conveyor\",\"CP-6 EU-3\",IF(J150=\"sand transfer to conveyor\",\"CP-6 EU-4\",IF(J150=\"aggregate transfer to elevated storage\",\"CP-6 EU-5\",IF(J150=\"sand transfer to elevated storage\",\"CP-6 EU-6\",IF(J150=\"weigh hopper loading\",\"CP-6 EU-7\",IF(J150=\"central mix loading\",\"CP-6 EU-8\",IF(J150=\"truck mix loading\",\"CP-6 EU-9\",IF(J150=\"cement delivery to silo\",\"CP-6 EU-10\",IF(J150=\"cement supplement delivery to silo\",\"CP-6 EU-11\"))))))))))))","v":""},null,null,null,{"$f":"IF(J150=\"truck mix loading\",IF($F$153=\"yes\",L150*0.05/2000,L150/2000),\"\")","v":""},{"$f":"IF(J150=\"central mix loading\",IF($F$153=\"yes\",L150*0.05/2000,L150/2000),\"\")","v":""}]
[null,{"$f":"IF('Concrete Plant (CP-6)'!$D$4>8,\"County:\",\"\")","v":""},null,null,null,null,null,{"$f":"IF(J151=\"cement delivery to silo\",\"CP-1 EP-2\",IF(J151=\"cement supplement delivery to silo\",\"CP-1 EP-3\",IF(J151=\"weigh hopper loading\",\"CP-1 EP-4\",IF(J151=\"truck mix loading\",\"CP-1 EP-5\",IF(J151=\"central mix loading\",\"CP-1 EP-6\",IF(J151=\"\",\"\",\"CP-1 EP-1\"))))))","v":""},"",null,null,null,{"$f":"IF(J151=\"truck mix loading\",IF($F$153=\"yes\",L151*0.05/2000,L151/2000),\"\")","v":""},{"$f":"IF(J151=\"central mix loading\",IF($F$153=\"yes\",L151*0.05/2000,L151/2000),\"\")","v":""}]
[null,{"$f":"IF('Concrete Plant (CP-6)'!$D$4>8,\"Batching Period (Dates):\",\"\")","v":""},null,null,null,null,null,"","",null,null,null,"",""]
[null,{"$f":"IF(OR(COUNTIF(J150:J159,\"Truck Mix Loading\")>0,(COUNTIF(J150:J159,\"Central Mix Loading\")>0)),\"Is the Central/Truck Mix Loading process controlled by a baghouse?\",\"\")","v":""},null,null,null,null,null,"","",null,null,null,"",""]
[null,null,null,null,null,null,null,"","",null,null,null,"",""]
[null,{"$f":"IF(AND(B157=\"\",B158=\"\",B159=\"\",B160=\"\",B161=\"\"),\"\",\"Process (complete stack information if applicable):\")","v":""},{"$f":"IF(AND(B157=\"\",B158=\"\",B159=\"\",B160=\"\",B161=\"\"),\"\",\"Stack Height (ft):\")","v":""},{"$f":"IF(AND(B157=\"\",B158=\"\",B159=\"\",B160=\"\",B161=\"\"),\"\",\"Stack Diameter (inches):\")","v":""},{"$f":"IF(AND(B157=\"\",B158=\"\",B159=\"\",B160=\"\",B161=\"\"),\"\",\"Flow Rate (acfm):\")","v":""},{"$f":"IF(AND(B157=\"\",B158=\"\",B159=\"\",B160=\"\",B161=\"\"),\"\",\"Temp (Deg F):\")","v":""},null,"","",null,null,null,"",""]
[null,null,null,null,null,null,null,"","",null,null,null,"",""]
[null,{"$f":"IF(COUNTIF(J150:J159,\"Cement Delivery to Silo\")>0,\"EP-2 Cement Silo Stack:\",\"\")","v":""},null,null,null,null,null,"","",null,null,null,"",""]
[null,{"$f":"IF(COUNTIF(J150:J159,\"Cement Supplement Delivery to Silo\")>0,\"EP-3 Cement Supplement Silo Stack:\",\"\")","v":""},null,null,null,null,null,"","",null,null,null,"",""]
[null,{"$f":"IF(COUNTIF(J150:J159,\"Weigh Hopper Loading\")>0,\"EP-4 Weigh Hopper Loading Stack:\",\"\")","v":""},null,null,null,null,null,"","",null,null,null,"",""]
[null,{"$f":"IF(COUNTIF(J150:J159,\"Truck Mix Loading\")>0,\"EP-5 Truck Mix Loading Stack:\",\"\")","v":""}]
[null,{"$f":"IF(COUNTIF(J150:J159,\"Central Mix Loading\")>0,\"EP-6 Central Mix Loading Stack:\",\"\")","v":""},null,null,null,null,null,{"$f":"IF('Concrete Plant (CP-6)'!$D$4>8,\"Stock Pile Area\",\"\")","v":""}]
[null,null,null,null,null,null,null,null,{"$f":"IF('Concrete Plant (CP-6)'!$D$4>8,\"Emission Unit #\",\"\")","v":""},{"$f":"IF('Concrete Plant (CP-6)'!$D$4>8,\"Maximum Storage Area (acres)\",\"\")","v":""},{"$f":"IF('Concrete Plant (CP-6)'!$D$4>8,\"Actual Storage Area (acres)\",\"\")","v":""},{"$f":"IF('Concrete Plant (CP-6)'!$D$4>8,\"Actual Days in Existence (days)\",\"\")","v":""}]
[]
[]
[null,{"$f":"IF('Concrete Plant (CP-6)'!$D$4>9,\"Batch Plant\",\"\")","v":""},{"$f":"IF('Concrete Plant (CP-6)'!$D$4>9,\"Site 10\",\"\")","v":""},null,null,null,null,{"$f":"IF('Concrete Plant (CP-6)'!$D$4>9,\"Emission Point #\",\"\")","v":""},{"$f":"IF('Concrete Plant (CP-6)'!$D$4>9,\"Emission     Unit #\",\"\")","v":""},{"$f":"IF('Concrete Plant (CP-6)'!$D$4>9,\"Processes\",\"\")","v":""},{"$f":"IF('Concrete Plant (CP-6)'!$D$4>9,\"Combined Maximum Hourly Design Rate for all Like Processes (cubic yard/hr)\",\"\")","v":""},{"$f":"IF('Concrete Plant (CP-6)'!$D$4>9,('Facility Information'!G5&\" Annual Throughput (cubic yards)\"),\"\")","v":""}]
[null,{"$f":"IF('Concrete Plant (CP-6)'!$D$4>9,\"Site Name:\",\"\")","v":""},null,null,null,null,null,{"$f":"IF(J166=\"cement delivery to silo\",\"CP-1 EP-2\",IF(J166=\"cement supplement delivery to silo\",\"CP-1 EP-3\",IF(J166=\"weigh hopper loading\",\"CP-1 EP-4\",IF(J166=\"truck mix loading\",\"CP-1 EP-5\",IF(J166=\"central mix loading\",\"CP-1 EP-6\",IF(J166=\"\",\"\",\"CP-1 EP-1\"))))))","v":""},{"$f":"IF(J166=\"\",\"\",IF(J166=\"aggregate delivery to ground storage\",\"CP-6 EU-1\",IF(J166=\"sand delivery to ground storage\",\"CP-6 EU-2\",IF(J166=\"aggregate transfer to conveyor\",\"CP-6 EU-3\",IF(J166=\"sand transfer to conveyor\",\"CP-6 EU-4\",IF(J166=\"aggregate transfer to elevated storage\",\"CP-6 EU-5\",IF(J166=\"sand transfer to elevated storage\",\"CP-6 EU-6\",IF(J166=\"weigh hopper loading\",\"CP-6 EU-7\",IF(J166=\"central mix loading\",\"CP-6 EU-8\",IF(J166=\"truck mix loading\",\"CP-6 EU-9\",IF(J166=\"cement delivery to silo\",\"CP-6 EU-10\",IF(J166=\"cement supplement delivery to silo\",\"CP-6 EU-11\"))))))))))))","v":""},null,null,null,{"$f":"IF(J166=\"truck mix loading\",IF($F$169=\"yes\",L166*0.05/2000,L166/2000),\"\")","v":""},{"$f":"IF(J166=\"central mix loading\",IF($F$169=\"yes\",L166*0.05/2000,L166/2000),\"\")","v":""}]
[null,{"$f":"IF('Concrete Plant (CP-6)'!$D$4>9,\"County:\",\"\")","v":""},null,null,null,null,null,{"$f":"IF(J167=\"cement delivery to silo\",\"CP-1 EP-2\",IF(J167=\"cement supplement delivery to silo\",\"CP-1 EP-3\",IF(J167=\"weigh hopper loading\",\"CP-1 EP-4\",IF(J167=\"truck mix loading\",\"CP-1 EP-5\",IF(J167=\"central mix loading\",\"CP-1 EP-6\",IF(J167=\"\",\"\",\"CP-1 EP-1\"))))))","v":""},"",null,null,null,{"$f":"IF(J167=\"truck mix loading\",IF($F$169=\"yes\",L167*0.05/2000,L167/2000),\"\")","v":""},{"$f":"IF(J167=\"central mix loading\",IF($F$169=\"yes\",L167*0.05/2000,L167/2000),\"\")","v":""}]
[null,{"$f":"IF('Concrete Plant (CP-6)'!$D$4>9,\"Batching Period (Dates):\",\"\")","v":""},null,null,null,null,null,"","",null,null,null,"",""]
[null,{"$f":"IF(OR(COUNTIF(J166:J175,\"Truck Mix Loading\")>0,(COUNTIF(J166:J175,\"Central Mix Loading\")>0)),\"Is the Central/Truck Mix Loading process controlled by a baghouse?\",\"\")","v":""},null,null,null,null,null,"","",null,null,null,"",""]
[null,null,null,null,null,null,null,"","",null,null,null,"",""]
[null,{"$f":"IF(AND(B173=\"\",B174=\"\",B175=\"\",B176=\"\",B177=\"\"),\"\",\"Process (complete stack information if applicable):\")","v":""},{"$f":"IF(AND(B173=\"\",B174=\"\",B175=\"\",B176=\"\",B177=\"\"),\"\",\"Stack Height (ft):\")","v":""},{"$f":"IF(AND(B173=\"\",B174=\"\",B175=\"\",B176=\"\",B177=\"\"),\"\",\"Stack Diameter (inches):\")","v":""},{"$f":"IF(AND(B173=\"\",B174=\"\",B175=\"\",B176=\"\",B177=\"\"),\"\",\"Flow Rate (acfm):\")","v":""},{"$f":"IF(AND(B173=\"\",B174=\"\",B175=\"\",B176=\"\",B177=\"\"),\"\",\"Temp (Deg F):\")","v":""},null,"","",null,null,null,"",""]
[null,null,null,null,null,null,null,"","",null,null,null,"",""]
[null,{"$f":"IF(COUNTIF(J166:J175,\"Cement Delivery to Silo\")>0,\"EP-2 Cement Silo Stack:\",\"\")","v":""},null,null,null,null,null,"","",null,null,null,"",""]
[null,{"$f":"IF(COUNTIF(J166:J175,\"Cement Supplement Delivery to Silo\")>0,\"EP-3 Cement Supplement Silo Stack:\",\"\")","v":""},null,null,null,null,null,"","",null,null,null,"",""]
[null,{"$f":"IF(COUNTIF(J166:J175,\"Weigh Hopper Loading\")>0,\"EP-4 Weigh Hopper Loading Stack:\",\"\")","v":""},null,null,null,null,null,"","",null,null,null,"",""]
[null,{"$f":"IF(COUNTIF(J166:J175,\"Truck Mix Loading\")>0,\"EP-5 Truck Mix Loading Stack:\",\"\")","v":""}]
[null,{"$f":"IF(COUNTIF(J166:J175,\"Central Mix Loading\")>0,\"EP-6 Central Mix Loading Stack:\",\"\")","v":""},null,null,null,null,null,{"$f":"IF('Concrete Plant (CP-6)'!$D$4>9,\"Stock Pile Area\",\"\")","v":""}]
[null,null,null,null,null,null,null,null,{"$f":"IF('Concrete Plant (CP-6)'!$D$4>9,\"Emission Unit #\",\"\")","v":""},{"$f":"IF('Concrete Plant (CP-6)'!$D$4>9,\"Maximum Storage Area (acres)\",\"\")","v":""},{"$f":"IF('Concrete Plant (CP-6)'!$D$4>9,\"Actual Storage Area (acres)\",\"\")","v":""},{"$f":"IF('Concrete Plant (CP-6)'!$D$4>9,\"Actual Days in Existence (days)\",\"\")","v":""}]
[]
[]
[null,null,null,null,null,null,null,null,null,null,null,null,{"$f":"SUM(M166:M175,M150:M159,M134:M143,M118:M127,M102:M111,M86:M95,M70:M79,M53:M62,M38:M47,M21:M30)","v":0},{"$f":"SUM(N166:N175,N150:N159,N134:N143,N118:N127,N102:N111,N86:N95,N70:N79,N53:N62,N38:N47,N21:N30)","v":0}]

{"sheet":"Concrete Plant (CP-7)","index":7,"n_rows":181,"n_cols":23,"rows_kept":181,"cut":false,"hidden":true,"merged":[]}
[null,"CONCRETE BATCH PLANT (CP-7)"]
[null,"Please fill in the yellow boxes as applicable for your facility. ",null,null,null,null,null,null,null,null,null,"Values used for calculating emissions →",null,null,null,"Values Used to Calculate Actual Emissions for the Listed Processes at this Plant"]
[null,null,null,null,null,null,null,null,null,null,null,null,null,null,null,"Process","Maximum Design Rate (cubic yards/hr)","Actual throughput (cubic yards/yr)"]
[null,{"$f":"\"Number of Sites this Plant operated at in \"&'Facility Information'!G5&\":\"","v":"Number of Sites this Plant operated at in :"},null,null,null,null,null,null,null,null,null,null,null,null,null,"Aggregate Delivery to Ground Storage",{"$f":"MAX((IFERROR(OFFSET($J$20,MATCH(\"Aggregate Delivery to Ground Storage\",$J$21:$J$30,0),1),0)),((IFERROR((OFFSET($J$37,MATCH(\"Aggregate Delivery to Ground Storage\",$J$38:$J$47,0),1)),0))),((IFERROR((OFFSET($J$52,MATCH(\"Aggregate Delivery to Ground Storage\",$J$53:$J$62,0),1)),0))),((IFERROR((OFFSET($J$68,MATCH(\"Aggregate Delivery to Ground Storage\",$J$69:$J$78,0),1)),0))),((IFERROR((OFFSET($J$84,MATCH(\"Aggregate Delivery to Ground Storage\",$J$85:$J$94,0),1)),0))),((IFERROR((OFFSET($J$101,MATCH(\"Aggregate Delivery to Ground Storage\",$J$102:$J$111,0),1)),0))),((IFERROR((OFFSET($J$117,MATCH(\"Aggregate Delivery to Ground Storage\",$J$118:$J$127,0),1)),0))),((IFERROR((OFFSET($J$133,MATCH(\"Aggregate Delivery to Ground Storage\",$J$134:$J$143,0),1)),0))),((IFERROR((OFFSET($J$149,MATCH(\"Aggregate Delivery to Ground Storage\",$J$150:$J$159,0),1)),0))),((IFERROR((OFFSET($J$165,MATCH(\"Aggregate Delivery to Ground Storage\",$J$166:$J$175,0),1)),0))),)","v":0},{"$f":"SUM((IFERROR(OFFSET($J$20,MATCH(\"Aggregate Delivery to Ground Storage\",$J$21:$J$30,0),2),0)),((IFERROR((OFFSET($J$37,MATCH(\"Aggregate Delivery to Ground Storage\",$J$38:$J$47,0),2)),0))),((IFERROR((OFFSET($J$52,MATCH(\"Aggregate Delivery to Ground Storage\",$J$53:$J$62,0),2)),0))),((IFERROR((OFFSET($J$68,MATCH(\"Aggregate Delivery to Ground Storage\",$J$69:$J$78,0),2)),0))),((IFERROR((OFFSET($J$84,MATCH(\"Aggregate Delivery to Ground Storage\",$J$85:$J$94,0),2)),0))),((IFERROR((OFFSET($J$101,MATCH(\"Aggregate Delivery to Ground Storage\",$J$102:$J$111,0),2)),0))),((IFERROR((OFFSET($J$117,MATCH(\"Aggregate Delivery to Ground Storage\",$J$118:$J$127,0),2)),0))),((IFERROR((OFFSET($J$133,MATCH(\"Aggregate Delivery to Ground Storage\",$J$134:$J$143,0),2)),0))),((IFERROR((OFFSET($J$149,MATCH(\"Aggregate Delivery to Ground Storage\",$J$150:$J$159,0),2)),0))),((IFERROR((OFFSET($J$165,MATCH(\"Aggregate Delivery to Ground Storage\",$J$166:$J$175,0),2)),0))),)","v":0},"** As of 2016 Potential Emissions are no longer required to be reported in the Minor Source Emissions Inventory**"]
[null,null,null,null,null,null,null,null,null,null,null,null,null,null,null,"Sand Delivery to Ground Storage",{"$f":"MAX((IFERROR(OFFSET($J$20,MATCH(\"Sand Delivery to Ground Storage\",$J$21:$J$30,0),1),0)),((IFERROR((OFFSET($J$37,MATCH(\"Sand Delivery to Ground Storage\",$J$38:$J$47,0),1)),0))),((IFERROR((OFFSET($J$52,MATCH(\"Sand Delivery to Ground Storage\",$J$53:$J$62,0),1)),0))),((IFERROR((OFFSET($J$68,MATCH(\"Sand Delivery to Ground Storage\",$J$69:$J$78,0),1)),0))),((IFERROR((OFFSET($J$84,MATCH(\"Sand Delivery to Ground Storage\",$J$85:$J$94,0),1)),0))),((IFERROR((OFFSET($J$101,MATCH(\"Sand Delivery to Ground Storage\",$J$102:$J$111,0),1)),0))),((IFERROR((OFFSET($J$117,MATCH(\"Sand Delivery to Ground Storage\",$J$118:$J$127,0),1)),0))),((IFERROR((OFFSET($J$133,MATCH(\"Sand Delivery to Ground Storage\",$J$134:$J$143,0),1)),0))),((IFERROR((OFFSET($J$149,MATCH(\"Sand Delivery to Ground Storage\",$J$150:$J$159,0),1)),0))),((IFERROR((OFFSET($J$165,MATCH(\"Sand Delivery to Ground Storage\",$J$166:$J$175,0),1)),0))),)","v":0},{"$f":"SUM((IFERROR(OFFSET($J$20,MATCH(\"Sand Delivery to Ground Storage\",$J$21:$J$30,0),2),0)),((IFERROR((OFFSET($J$37,MATCH(\"Sand Delivery to Ground Storage\",$J$38:$J$47,0),2)),0))),((IFERROR((OFFSET($J$52,MATCH(\"Sand Delivery to Ground Storage\",$J$53:$J$62,0),2)),0))),((IFERROR((OFFSET($J$68,MATCH(\"Sand Delivery to Ground Storage\",$J$69:$J$78,0),2)),0))),((IFERROR((OFFSET($J$84,MATCH(\"Sand Delivery to Ground Storage\",$J$85:$J$94,0),2)),0))),((IFERROR((OFFSET($J$101,MATCH(\"Sand Delivery to Ground Storage\",$J$102:$J$111,0),2)),0))),((IFERROR((OFFSET($J$117,MATCH(\"Sand Delivery to Ground Storage\",$J$118:$J$127,0),2)),0))),((IFERROR((OFFSET($J$133,MATCH(\"Sand Delivery to Ground Storage\",$J$134:$J$143,0),2)),0))),((IFERROR((OFFSET($J$149,MATCH(\"Sand Delivery to Ground Storage\",$J$150:$J$159,0),2)),0))),((IFERROR((OFFSET($J$165,MATCH(\"Sand Delivery to Ground Storage\",$J$166:$J$175,0),2)),0))),)","v":0}]
[null,"Plant Specific Permit Number: ",null,null,null,null,null,null,null,null,null,null,null,null,null,"Aggregate Transfer to Conveyor",{"$f":"MAX((IFERROR(OFFSET($J$20,MATCH(\"Aggregate Transfer to Conveyor\",$J$21:$J$30,0),1),0)),((IFERROR((OFFSET($J$37,MATCH(\"Aggregate Transfer to Conveyor\",$J$38:$J$47,0),1)),0))),((IFERROR((OFFSET($J$52,MATCH(\"Aggregate Transfer to Conveyor\",$J$53:$J$62,0),1)),0))),((IFERROR((OFFSET($J$68,MATCH(\"Aggregate Transfer to Conveyor\",$J$69:$J$78,0),1)),0))),((IFERROR((OFFSET($J$84,MATCH(\"Aggregate Transfer to Conveyor\",$J$85:$J$94,0),1)),0))),((IFERROR((OFFSET($J$101,MATCH(\"Aggregate Transfer to Conveyor\",$J$102:$J$111,0),1)),0))),((IFERROR((OFFSET($J$117,MATCH(\"Aggregate Transfer to Conveyor\",$J$118:$J$127,0),1)),0))),((IFERROR((OFFSET($J$133,MATCH(\"Aggregate Transfer to Conveyor\",$J$134:$J$143,0),1)),0))),((IFERROR((OFFSET($J$149,MATCH(\"Aggregate Transfer to Conveyor\",$J$150:$J$159,0),1)),0))),((IFERROR((OFFSET($J$165,MATCH(\"Aggregate Transfer to Conveyor\",$J$166:$J$175,0),1)),0))),)","v":0},{"$f":"SUM((IFERROR(OFFSET($J$20,MATCH(\"Aggregate Transfer to Conveyor\",$J$21:$J$30,0),2),0)),((IFERROR((OFFSET($J$37,MATCH(\"Aggregate Transfer to Conveyor\",$J$38:$J$47,0),2)),0))),((IFERROR((OFFSET($J$52,MATCH(\"Aggregate Transfer to Conveyor\",$J$53:$J$62,0),2)),0))),((IFERROR((OFFSET($J$68,MATCH(\"Aggregate Transfer to Conveyor\",$J$69:$J$78,0),2)),0))),((IFERROR((OFFSET($J$84,MATCH(\"Aggregate Transfer to Conveyor\",$J$85:$J$94,0),2)),0))),((IFERROR((OFFSET($J$101,MATCH(\"Aggregate Transfer to Conveyor\",$J$102:$J$111,0),2)),0))),((IFERROR((OFFSET($J$117,MATCH(\"Aggregate Transfer to Conveyor\",$J$118:$J$127,0),2)),0))),((IFERROR((OFFSET($J$133,MATCH(\"Aggregate Transfer to Conveyor\",$J$134:$J$143,0),2)),0))),((IFERROR((OFFSET($J$149,MATCH(\"Aggregate Transfer to Conveyor\",$J$150:$J$159,0),2)),0))),((IFERROR((OFFSET($J$165,MATCH(\"Aggregate Transfer to Conveyor\",$J$166:$J$175,0),2)),0))),)","v":0}]
[null,null,null,null,null,null,null,null,null,null,null,null,null,null,null,"Sand Transfer to Conveyor",{"$f":"MAX((IFERROR(OFFSET($J$20,MATCH(\"Sand Transfer to Conveyor\",$J$21:$J$30,0),1),0)),((IFERROR((OFFSET($J$37,MATCH(\"Sand Transfer to Conveyor\",$J$38:$J$47,0),1)),0))),((IFERROR((OFFSET($J$52,MATCH(\"Sand Transfer to Conveyor\",$J$53:$J$62,0),1)),0))),((IFERROR((OFFSET($J$68,MATCH(\"Sand Transfer to Conveyor\",$J$69:$J$78,0),1)),0))),((IFERROR((OFFSET($J$84,MATCH(\"Sand Transfer to Conveyor\",$J$85:$J$94,0),1)),0))),((IFERROR((OFFSET($J$101,MATCH(\"Sand Transfer to Conveyor\",$J$102:$J$111,0),1)),0))),((IFERROR((OFFSET($J$117,MATCH(\"Sand Transfer to Conveyor\",$J$118:$J$127,0),1)),0))),((IFERROR((OFFSET($J$133,MATCH(\"Sand Transfer to Conveyor\",$J$134:$J$143,0),1)),0))),((IFERROR((OFFSET($J$149,MATCH(\"Sand Transfer to Conveyor\",$J$150:$J$159,0),1)),0))),((IFERROR((OFFSET($J$165,MATCH(\"Sand Transfer to Conveyor\",$J$166:$J$175,0),1)),0))),)","v":0},{"$f":"SUM((IFERROR(OFFSET($J$20,MATCH(\"Sand Transfer to Conveyor\",$J$21:$J$30,0),2),0)),((IFERROR((OFFSET($J$37,MATCH(\"Sand Transfer to Conveyor\",$J$38:$J$47,0),2)),0))),((IFERROR((OFFSET($J$52,MATCH(\"Sand Transfer to Conveyor\",$J$53:$J$62,0),2)),0))),((IFERROR((OFFSET($J$68,MATCH(\"Sand Transfer to Conveyor\",$J$69:$J$78,0),2)),0))),((IFERROR((OFFSET($J$84,MATCH(\"Sand Transfer to Conveyor\",$J$85:$J$94,0),2)),0))),((IFERROR((OFFSET($J$101,MATCH(\"Sand Transfer to Conveyor\",$J$102:$J$111,0),2)),0))),((IFERROR((OFFSET($J$117,MATCH(\"Sand Transfer to Conveyor\",$J$118:$J$127,0),2)),0))),((IFERROR((OFFSET($J$133,MATCH(\"Sand Transfer to Conveyor\",$J$134:$J$143,0),2)),0))),((IFERROR((OFFSET($J$149,MATCH(\"Sand Transfer to Conveyor\",$J$150:$J$159,0),2)),0))),((IFERROR((OFFSET($J$165,MATCH(\"Sand Transfer to Conveyor\",$J$166:$J$175,0),2)),0))),)","v":0}]
[null,"Plant Specific Operating Limits:",null,null,null,null,null,"Plant Specific Emission Limits:",null,null,null,null,null,null,null,"Aggregate Transfer to Elevated Storage",{"$f":"MAX((IFERROR(OFFSET($J$20,MATCH(\"Aggregate Transfer to Elevated Storage\",$J$21:$J$30,0),1),0)),((IFERROR((OFFSET($J$37,MATCH(\"Aggregate Transfer to Elevated Storage\",$J$38:$J$47,0),1)),0))),((IFERROR((OFFSET($J$52,MATCH(\"Aggregate Transfer to Elevated Storage\",$J$53:$J$62,0),1)),0))),((IFERROR((OFFSET($J$68,MATCH(\"Aggregate Transfer to Elevated Storage\",$J$69:$J$78,0),1)),0))),((IFERROR((OFFSET($J$84,MATCH(\"Aggregate Transfer to Elevated Storage\",$J$85:$J$94,0),1)),0))),((IFERROR((OFFSET($J$101,MATCH(\"Aggregate Transfer to Elevated Storage\",$J$102:$J$111,0),1)),0))),((IFERROR((OFFSET($J$117,MATCH(\"Aggregate Transfer to Elevated Storage\",$J$118:$J$127,0),1)),0))),((IFERROR((OFFSET($J$133,MATCH(\"Aggregate Transfer to Elevated Storage\",$J$134:$J$143,0),1)),0))),((IFERROR((OFFSET($J$149,MATCH(\"Aggregate Transfer to Elevated Storage\",$J$150:$J$159,0),1)),0))),((IFERROR((OFFSET($J$165,MATCH(\"Aggregate Transfer to Elevated Storage\",$J$166:$J$175,0),1)),0))),)","v":0},{"$f":"SUM((IFERROR(OFFSET($J$20,MATCH(\"Aggregate Transfer to Elevated Storage\",$J$21:$J$30,0),2),0)),((IFERROR((OFFSET($J$37,MATCH(\"Aggregate Transfer to Elevated Storage\",$J$38:$J$47,0),2)),0))),((IFERROR((OFFSET($J$52,MATCH(\"Aggregate Transfer to Elevated Storage\",$J$53:$J$62,0),2)),0))),((IFERROR((OFFSET($J$68,MATCH(\"Aggregate Transfer to Elevated Storage\",$J$69:$J$78,0),2)),0))),((IFERROR((OFFSET($J$84,MATCH(\"Aggregate Transfer to Elevated Storage\",$J$85:$J$94,0),2)),0))),((IFERROR((OFFSET($J$101,MATCH(\"Aggregate Transfer to Elevated Storage\",$J$102:$J$111,0),2)),0))),((IFERROR((OFFSET($J$117,MATCH(\"Aggregate Transfer to Elevated Storage\",$J$118:$J$127,0),2)),0))),((IFERROR((OFFSET($J$133,MATCH(\"Aggregate Transfer to Elevated Storage\",$J$134:$J$143,0),2)),0))),((IFERROR((OFFSET($J$149,MATCH(\"Aggregate Transfer to Elevated Storage\",$J$150:$J$159,0),2)),0))),((IFERROR((OFFSET($J$165,MATCH(\"Aggregate Transfer to Elevated Storage\",$J$166:$J$175,0),2)),0))),)","v":0}]
[null,"Throughput Limit (cubic yards/yr):",null,null,null,null,null,"Pollutant","lb/hr","tons/yr",null,null,null,null,null,"Sand Transfer to Elevated Storage",{"$f":"MAX((IFERROR(OFFSET($J$20,MATCH(\"Sand Transfer to Elevated Storage\",$J$21:$J$30,0),1),0)),((IFERROR((OFFSET($J$37,MATCH(\"Sand Transfer to Elevated Storage\",$J$38:$J$47,0),1)),0))),((IFERROR((OFFSET($J$52,MATCH(\"Sand Transfer to Elevated Storage\",$J$53:$J$62,0),1)),0))),((IFERROR((OFFSET($J$68,MATCH(\"Sand Transfer to Elevated Storage\",$J$69:$J$78,0),1)),0))),((IFERROR((OFFSET($J$84,MATCH(\"Sand Transfer to Elevated Storage\",$J$85:$J$94,0),1)),0))),((IFERROR((OFFSET($J$101,MATCH(\"Sand Transfer to Elevated Storage\",$J$102:$J$111,0),1)),0))),((IFERROR((OFFSET($J$117,MATCH(\"Sand Transfer to Elevated Storage\",$J$118:$J$127,0),1)),0))),((IFERROR((OFFSET($J$133,MATCH(\"Sand Transfer to Elevated Storage\",$J$134:$J$143,0),1)),0))),((IFERROR((OFFSET($J$149,MATCH(\"Sand Transfer to Elevated Storage\",$J$150:$J$159,0),1)),0))),((IFERROR((OFFSET($J$165,MATCH(\"Sand Transfer to Elevated Storage\",$J$166:$J$175,0),1)),0))),)","v":0},{"$f":"SUM((IFERROR(OFFSET($J$20,MATCH(\"Sand Transfer to Elevated Storage\",$J$21:$J$30,0),2),0)),((IFERROR((OFFSET($J$37,MATCH(\"Sand Transfer to Elevated Storage\",$J$38:$J$47,0),2)),0))),((IFERROR((OFFSET($J$52,MATCH(\"Sand Transfer to Elevated Storage\",$J$53:$J$62,0),2)),0))),((IFERROR((OFFSET($J$68,MATCH(\"Sand Transfer to Elevated Storage\",$J$69:$J$78,0),2)),0))),((IFERROR((OFFSET($J$84,MATCH(\"Sand Transfer to Elevated Storage\",$J$85:$J$94,0),2)),0))),((IFERROR((OFFSET($J$101,MATCH(\"Sand Transfer to Elevated Storage\",$J$102:$J$111,0),2)),0))),((IFERROR((OFFSET($J$117,MATCH(\"Sand Transfer to Elevated Storage\",$J$118:$J$127,0),2)),0))),((IFERROR((OFFSET($J$133,MATCH(\"Sand Transfer to Elevated Storage\",$J$134:$J$143,0),2)),0))),((IFERROR((OFFSET($J$149,MATCH(\"Sand Transfer to Elevated Storage\",$J$150:$J$159,0),2)),0))),((IFERROR((OFFSET($J$165,MATCH(\"Sand Transfer to Elevated Storage\",$J$166:$J$175,0),2)),0))),)","v":0}]
[null,"Daily Throughput Limit (cubic yards/day):",null,null,null,null,null,"PM2.5",null,null,null,null,null,null,null,"Weigh Hopper Loading",{"$f":"MAX((IFERROR(OFFSET($J$20,MATCH(\"Weigh Hopper Loading\",$J$21:$J$30,0),1),0)),((IFERROR((OFFSET($J$37,MATCH(\"Weigh Hopper Loading\",$J$38:$J$47,0),1)),0))),((IFERROR((OFFSET($J$52,MATCH(\"Weigh Hopper Loading\",$J$53:$J$62,0),1)),0))),((IFERROR((OFFSET($J$68,MATCH(\"Weigh Hopper Loading\",$J$69:$J$78,0),1)),0))),((IFERROR((OFFSET($J$84,MATCH(\"Weigh Hopper Loading\",$J$85:$J$94,0),1)),0))),((IFERROR((OFFSET($J$101,MATCH(\"Weigh Hopper Loading\",$J$102:$J$111,0),1)),0))),((IFERROR((OFFSET($J$117,MATCH(\"Weigh Hopper Loading\",$J$118:$J$127,0),1)),0))),((IFERROR((OFFSET($J$133,MATCH(\"Weigh Hopper Loading\",$J$134:$J$143,0),1)),0))),((IFERROR((OFFSET($J$149,MATCH(\"Weigh Hopper Loading\",$J$150:$J$159,0),1)),0))),((IFERROR((OFFSET($J$165,MATCH(\"Weigh Hopper Loading\",$J$166:$J$175,0),1)),0))),)","v":0},{"$f":"SUM((IFERROR(OFFSET($J$20,MATCH(\"Weigh Hopper Loading\",$J$21:$J$30,0),2),0)),((IFERROR((OFFSET($J$37,MATCH(\"Weigh Hopper Loading\",$J$38:$J$47,0),2)),0))),((IFERROR((OFFSET($J$52,MATCH(\"Weigh Hopper Loading\",$J$53:$J$62,0),2)),0))),((IFERROR((OFFSET($J$68,MATCH(\"Weigh Hopper Loading\",$J$69:$J$78,0),2)),0))),((IFERROR((OFFSET($J$84,MATCH(\"Weigh Hopper Loading\",$J$85:$J$94,0),2)),0))),((IFERROR((OFFSET($J$101,MATCH(\"Weigh Hopper Loading\",$J$102:$J$111,0),2)),0))),((IFERROR((OFFSET($J$117,MATCH(\"Weigh Hopper Loading\",$J$118:$J$127,0),2)),0))),((IFERROR((OFFSET($J$133,MATCH(\"Weigh Hopper Loading\",$J$134:$J$143,0),2)),0))),((IFERROR((OFFSET($J$149,MATCH(\"Weigh Hopper Loading\",$J$150:$J$159,0),2)),0))),((IFERROR((OFFSET($J$165,MATCH(\"Weigh Hopper Loading\",$J$166:$J$175,0),2)),0))),)","v":0}]
[null,"Hours of Operation Limit (hours/day):",null,null,null,null,null,"PM10",null,null,null,null,null,null,null,"Central Mix Loading",{"$f":"MAX((IFERROR(OFFSET($J$20,MATCH(\"Central Mix Loading\",$J$21:$J$30,0),1),0)),((IFERROR((OFFSET($J$37,MATCH(\"Central Mix Loading\",$J$38:$J$47,0),1)),0))),((IFERROR((OFFSET($J$52,MATCH(\"Central Mix Loading\",$J$53:$J$62,0),1)),0))),((IFERROR((OFFSET($J$68,MATCH(\"Central Mix Loading\",$J$69:$J$78,0),1)),0))),((IFERROR((OFFSET($J$84,MATCH(\"Central Mix Loading\",$J$85:$J$94,0),1)),0))),((IFERROR((OFFSET($J$101,MATCH(\"Central Mix Loading\",$J$102:$J$111,0),1)),0))),((IFERROR((OFFSET($J$117,MATCH(\"Central Mix Loading\",$J$118:$J$127,0),1)),0))),((IFERROR((OFFSET($J$133,MATCH(\"Central Mix Loading\",$J$134:$J$143,0),1)),0))),((IFERROR((OFFSET($J$149,MATCH(\"Central Mix Loading\",$J$150:$J$159,0),1)),0))),((IFERROR((OFFSET($J$165,MATCH(\"Central Mix Loading\",$J$166:$J$175,0),1)),0))),)","v":0},{"$f":"SUM((IFERROR(OFFSET($J$20,MATCH(\"Central Mix Loading\",$J$21:$J$30,0),2),0)),((IFERROR((OFFSET($J$37,MATCH(\"Central Mix Loading\",$J$38:$J$47,0),2)),0))),((IFERROR((OFFSET($J$52,MATCH(\"Central Mix Loading\",$J$53:$J$62,0),2)),0))),((IFERROR((OFFSET($J$68,MATCH(\"Central Mix Loading\",$J$69:$J$78,0),2)),0))),((IFERROR((OFFSET($J$84,MATCH(\"Central Mix Loading\",$J$85:$J$94,0),2)),0))),((IFERROR((OFFSET($J$101,MATCH(\"Central Mix Loading\",$J$102:$J$111,0),2)),0))),((IFERROR((OFFSET($J$117,MATCH(\"Central Mix Loading\",$J$118:$J$127,0),2)),0))),((IFERROR((OFFSET($J$133,MATCH(\"Central Mix Loading\",$J$134:$J$143,0),2)),0))),((IFERROR((OFFSET($J$149,MATCH(\"Central Mix Loading\",$J$150:$J$159,0),2)),0))),((IFERROR((OFFSET($J$165,MATCH(\"Central Mix Loading\",$J$166:$J$175,0),2)),0))),)","v":0}]
[null,"Note: if the plant has an hrs/day and a cubic yards/hr permit limit,",null,null,null,null,null,"SO2",null,null,null,null,null,null,null,"Truck Mix Loading",{"$f":"MAX((IFERROR(OFFSET($J$20,MATCH(\"Truck Mix Loading\",$J$21:$J$30,0),1),0)),((IFERROR((OFFSET($J$37,MATCH(\"Truck Mix Loading\",$J$38:$J$47,0),1)),0))),((IFERROR((OFFSET($J$52,MATCH(\"Truck Mix Loading\",$J$53:$J$62,0),1)),0))),((IFERROR((OFFSET($J$68,MATCH(\"Truck Mix Loading\",$J$69:$J$78,0),1)),0))),((IFERROR((OFFSET($J$84,MATCH(\"Truck Mix Loading\",$J$85:$J$94,0),1)),0))),((IFERROR((OFFSET($J$101,MATCH(\"Truck Mix Loading\",$J$102:$J$111,0),1)),0))),((IFERROR((OFFSET($J$117,MATCH(\"Truck Mix Loading\",$J$118:$J$127,0),1)),0))),((IFERROR((OFFSET($J$133,MATCH(\"Truck Mix Loading\",$J$134:$J$143,0),1)),0))),((IFERROR((OFFSET($J$149,MATCH(\"Truck Mix Loading\",$J$150:$J$159,0),1)),0))),((IFERROR((OFFSET($J$165,MATCH(\"Truck Mix Loading\",$J$166:$J$175,0),1)),0))),)","v":0},{"$f":"SUM((IFERROR(OFFSET($J$20,MATCH(\"Truck Mix Loading\",$J$21:$J$30,0),2),0)),((IFERROR((OFFSET($J$37,MATCH(\"Truck Mix Loading\",$J$38:$J$47,0),2)),0))),((IFERROR((OFFSET($J$52,MATCH(\"Truck Mix Loading\",$J$53:$J$62,0),2)),0))),((IFERROR((OFFSET($J$68,MATCH(\"Truck Mix Loading\",$J$69:$J$78,0),2)),0))),((IFERROR((OFFSET($J$84,MATCH(\"Truck Mix Loading\",$J$85:$J$94,0),2)),0))),((IFERROR((OFFSET($J$101,MATCH(\"Truck Mix Loading\",$J$102:$J$111,0),2)),0))),((IFERROR((OFFSET($J$117,MATCH(\"Truck Mix Loading\",$J$118:$J$127,0),2)),0))),((IFERROR((OFFSET($J$133,MATCH(\"Truck Mix Loading\",$J$134:$J$143,0),2)),0))),((IFERROR((OFFSET($J$149,MATCH(\"Truck Mix Loading\",$J$150:$J$159,0),2)),0))),((IFERROR((OFFSET($J$165,MATCH(\"Truck Mix Loading\",$J$166:$J$175,0),2)),0))),)","v":0}]
[null,"those values should be multiplied together to calculate a cubic ",null,null,null,null,null,"NOx",null,null,null,null,null,null,null,"Cement Delivery to Silo",{"$f":"MAX((IFERROR(OFFSET($J$20,MATCH(\"Cement Delivery to Silo\",$J$21:$J$30,0),1),0)),((IFERROR((OFFSET($J$37,MATCH(\"Cement Delivery to Silo\",$J$38:$J$47,0),1)),0))),((IFERROR((OFFSET($J$52,MATCH(\"Cement Delivery to Silo\",$J$53:$J$62,0),1)),0))),((IFERROR((OFFSET($J$68,MATCH(\"Cement Delivery to Silo\",$J$69:$J$78,0),1)),0))),((IFERROR((OFFSET($J$84,MATCH(\"Cement Delivery to Silo\",$J$85:$J$94,0),1)),0))),((IFERROR((OFFSET($J$101,MATCH(\"Cement Delivery to Silo\",$J$102:$J$111,0),1)),0))),((IFERROR((OFFSET($J$117,MATCH(\"Cement Delivery to Silo\",$J$118:$J$127,0),1)),0))),((IFERROR((OFFSET($J$133,MATCH(\"Cement Delivery to Silo\",$J$134:$J$143,0),1)),0))),((IFERROR((OFFSET($J$149,MATCH(\"Cement Delivery to Silo\",$J$150:$J$159,0),1)),0))),((IFERROR((OFFSET($J$165,MATCH(\"Cement Delivery to Silo\",$J$166:$J$175,0),1)),0))),)","v":0},{"$f":"SUM((IFERROR(OFFSET($J$20,MATCH(\"Cement Delivery to Silo\",$J$21:$J$30,0),2),0)),((IFERROR((OFFSET($J$37,MATCH(\"Cement Delivery to Silo\",$J$38:$J$47,0),2)),0))),((IFERROR((OFFSET($J$52,MATCH(\"Cement Delivery to Silo\",$J$53:$J$62,0),2)),0))),((IFERROR((OFFSET($J$68,MATCH(\"Cement Delivery to Silo\",$J$69:$J$78,0),2)),0))),((IFERROR((OFFSET($J$84,MATCH(\"Cement Delivery to Silo\",$J$85:$J$94,0),2)),0))),((IFERROR((OFFSET($J$101,MATCH(\"Cement Delivery to Silo\",$J$102:$J$111,0),2)),0))),((IFERROR((OFFSET($J$117,MATCH(\"Cement Delivery to Silo\",$J$118:$J$127,0),2)),0))),((IFERROR((OFFSET($J$133,MATCH(\"Cement Delivery to Silo\",$J$134:$J$143,0),2)),0))),((IFERROR((OFFSET($J$149,MATCH(\"Cement Delivery to Silo\",$J$150:$J$159,0),2)),0))),((IFERROR((OFFSET($J$165,MATCH(\"Cement Delivery to Silo\",$J$166:$J$175,0),2)),0))),)","v":0}]
[null,"yards/day limit and that value should be placed in cell C10.",null,null,null,null,null,"VOC",null,null,null,null,null,null,null,"Cement Supplement Delivery to Silo",{"$f":"MAX((IFERROR(OFFSET($J$20,MATCH(\"Cement Supplement Delivery to Silo\",$J$21:$J$30,0),1),0)),((IFERROR((OFFSET($J$37,MATCH(\"Cement Supplement Delivery to Silo\",$J$38:$J$47,0),1)),0))),((IFERROR((OFFSET($J$52,MATCH(\"Cement Supplement Delivery to Silo\",$J$53:$J$62,0),1)),0))),((IFERROR((OFFSET($J$68,MATCH(\"Cement Supplement Delivery to Silo\",$J$69:$J$78,0),1)),0))),((IFERROR((OFFSET($J$84,MATCH(\"Cement Supplement Delivery to Silo\",$J$85:$J$94,0),1)),0))),((IFERROR((OFFSET($J$101,MATCH(\"Cement Supplement Delivery to Silo\",$J$102:$J$111,0),1)),0))),((IFERROR((OFFSET($J$117,MATCH(\"Cement Supplement Delivery to Silo\",$J$118:$J$127,0),1)),0))),((IFERROR((OFFSET($J$133,MATCH(\"Cement Supplement Delivery to Silo\",$J$134:$J$143,0),1)),0))),((IFERROR((OFFSET($J$149,MATCH(\"Cement Supplement Delivery to Silo\",$J$150:$J$159,0),1)),0))),((IFERROR((OFFSET($J$165,MATCH(\"Cement Supplement Delivery to Silo\",$J$166:$J$175,0),1)),0))),)","v":0},{"$f":"SUM((IFERROR(OFFSET($J$20,MATCH(\"Cement Supplement Delivery to Silo\",$J$21:$J$30,0),2),0)),((IFERROR((OFFSET($J$37,MATCH(\"Cement Supplement Delivery to Silo\",$J$38:$J$47,0),2)),0))),((IFERROR((OFFSET($J$52,MATCH(\"Cement Supplement Delivery to Silo\",$J$53:$J$62,0),2)),0))),((IFERROR((OFFSET($J$68,MATCH(\"Cement Supplement Delivery to Silo\",$J$69:$J$78,0),2)),0))),((IFERROR((OFFSET($J$84,MATCH(\"Cement Supplement Delivery to Silo\",$J$85:$J$94,0),2)),0))),((IFERROR((OFFSET($J$101,MATCH(\"Cement Supplement Delivery to Silo\",$J$102:$J$111,0),2)),0))),((IFERROR((OFFSET($J$117,MATCH(\"Cement Supplement Delivery to Silo\",$J$118:$J$127,0),2)),0))),((IFERROR((OFFSET($J$133,MATCH(\"Cement Supplement Delivery to Silo\",$J$134:$J$143,0),2)),0))),((IFERROR((OFFSET($J$149,MATCH(\"Cement Supplement Delivery to Silo\",$J$150:$J$159,0),2)),0))),((IFERROR((OFFSET($J$165,MATCH(\"Cement Supplement Delivery to Silo\",$J$166:$J$175,0),2)),0))),)","v":0}]
[null,null,null,null,null,null,null,"CO"]
[null,null,null,null,null,null,null,null,null,null,null,null,null,null,null,null,"Maximum (acres/day)","Actual (acres-day/yr)"]
[null,null,null,null,null,null,null,null,null,null,null,null,null,null,null,"Storage Pile",{"$f":"SUM(J34,J50,J66,J82,J98,J115,J131,J147,J163,J179)","v":0},{"$f":"SUM(K34*L34,K50*L50,K66*L66,K82*L82,K98*L98,K115*L115,K131*L131,K147*L147,K163*L163,K179*L179)","v":0}]
[]
[null,null,null,null,null,null,null,null,null,null,null,null,null,null,null,"Actual Emissions for the Listed Processes at this Plant"]
[null,"Batch Plant","Site 1",null,null,null,null,"Emission Point #","Emission     Unit #","Processes","Combined Maximum Hourly Design Rate for all Like Processes (cubic yard/hr)",{"$f":"('Facility Information'!G5&\" Annual Throughput (cubic yards)\")","v":" Annual Throughput (cubic yards)"},"Truck","Central",null,"PM2.5","Maximum Design Rate (cubic yards/hr)","Emission Factor (lb/cubic yard)","Potential Uncontrolled Emissions (lb/hr)","Potential Controlled Emissions (lb/hr)","Potential Annual Emissions (tons/yr)","Actual Annual Emissions (tons/yr)"]
["YES","Site Name:",null,null,null,null,null,{"$f":"IF(J21=\"cement delivery to silo\",\"CP-1 EP-2\",IF(J21=\"cement supplement delivery to silo\",\"CP-1 EP-3\",IF(J21=\"weigh hopper loading\",\"CP-1 EP-4\",IF(J21=\"truck mix loading\",\"CP-1 EP-5\",IF(J21=\"central mix loading\",\"CP-1 EP-6\",IF(J21=\"\",\"\",\"CP-1 EP-1\"))))))","v":""},{"$f":"IF(J21=\"\",\"\",IF(J21=\"aggregate delivery to ground storage\",\"CP-7 EU-1\",IF(J21=\"sand delivery to ground storage\",\"CP-7 EU-2\",IF(J21=\"aggregate transfer to conveyor\",\"CP-7 EU-3\",IF(J21=\"sand transfer to conveyor\",\"CP-7 EU-4\",IF(J21=\"aggregate transfer to elevated storage\",\"CP-7 EU-5\",IF(J21=\"sand transfer to elevated storage\",\"CP-7 EU-6\",IF(J21=\"weigh hopper loading\",\"CP-7 EU-7\",IF(J21=\"central mix loading\",\"CP-7 EU-8\",IF(J21=\"truck mix loading\",\"CP-7 EU-9\",IF(J21=\"cement delivery to silo\",\"CP-7 EU-10\",IF(J21=\"cement supplement delivery to silo\",\"CP-7 EU-11\"))))))))))))","v":""},null,null,null,{"$f":"IF(J21=\"truck mix loading\",IF($F$24=\"yes\",L21*0.05/2000,L21/2000),\"\")","v":""},{"$f":"IF(J21=\"central mix loading\",IF($F$24=\"yes\",L21*0.05/2000,L21/2000),\"\")","v":""},null,"Aggregate Delivery to Ground Storage",{"$f":"Q4","v":0},{"$f":"IF(Q21=0,0,LOOKUP(P21,'Emission Factors'!$A$5:$A$16,'Emission Factors'!$D$5:$D$16))","v":0},{"$f":"Q21*R21","v":0},{"$f":"IF(Q21=0,\"\",IF($I$10>0,$I$10,\"\"))","v":""},{"$f":"IF($J$10>0,$J$10,IF($D$9>0,$D$9*R21/2000,IF($D$10>0,$D$10*365*R21/2000,IF($D$11>0,$D$11*365*R21*Q21/2000,IF(T21=\"\",S21*8760/2000,T21*8760/2000)))))","v":0},{"$f":"(R4*R21/2000)","v":0}]
["NO","County:",null,null,null,null,null,{"$f":"IF(J22=\"cement delivery to silo\",\"CP-1 EP-2\",IF(J22=\"cement supplement delivery to silo\",\"CP-1 EP-3\",IF(J22=\"weigh hopper loading\",\"CP-1 EP-4\",IF(J22=\"truck mix loading\",\"CP-1 EP-5\",IF(J22=\"central mix loading\",\"CP-1 EP-6\",IF(J22=\"\",\"\",\"CP-1 EP-1\"))))))","v":""},"",null,null,null,{"$f":"IF(J22=\"truck mix loading\",IF($F$24=\"yes\",L22*0.05/2000,L22/2000),\"\")","v":""},{"$f":"IF(J22=\"central mix loading\",IF($F$24=\"yes\",L22*0.05/2000,L22/2000),\"\")","v":""},null,"Sand Delivery to Ground Storage",0,{"$f":"IF(Q22=0,0,LOOKUP(P22,'Emission Factors'!$A$5:$A$16,'Emission Factors'!$D$5:$D$16))","v":0},0,{"$f":"IF(Q22=0,\"\",IF($I$10>0,$I$10,\"\"))","v":""},{"$f":"IF($J$10>0,\"\",IF($D$9>0,$D$9*R22/2000,IF($D$10>0,$D$10*365*R22/2000,IF($D$11>0,$D$11*365*R22*Q22/2000,IF(T22=\"\",S22*8760/2000,T22*8760/2000)))))","v":0},0]
[null,"Batching Period (Dates):",null,null,null,null,null,"","",null,null,null,"","",null,"Aggregate Transfer to Conveyor",0,{"$f":"IF(Q23=0,0,LOOKUP(P23,'Emission Factors'!$A$5:$A$16,'Emission Factors'!$D$5:$D$16))","v":0},0,"",0,0]
["Aggregate Delivery to Ground Storage",{"$f":"IF(OR(COUNTIF(J21:J30,\"Truck Mix Loading\")>0,(COUNTIF(J21:J30,\"Central Mix Loading\")>0)),\"Is the Central/Truck Mix Loading process controlled by a baghouse?\",\"\")","v":""},null,null,null,null,null,"","",null,null,null,"","",null,"Sand Transfer to Conveyor",0,{"$f":"IF(Q24=0,0,LOOKUP(P24,'Emission Factors'!$A$5:$A$16,'Emission Factors'!$D$5:$D$16))","v":0},0,"",0,0]
["Sand Delivery to Ground Storage",null,null,null,null,null,null,"","",null,null,null,"","",null,"Aggregate Transfer to Elevated Storage",0,{"$f":"IF(Q25=0,0,LOOKUP(P25,'Emission Factors'!$A$5:$A$16,'Emission Factors'!$D$5:$D$16))","v":0},0,"",0,0]
["Aggregate Transfer to Conveyor",{"$f":"IF(AND(B28=\"\",B29=\"\",B32=\"\",B31=\"\",B30=\"\"),\"\",\"Process (complete stack information if applicable):\")","v":""},{"$f":"IF(AND(B28=\"\",B29=\"\",B32=\"\",B31=\"\",B30=\"\"),\"\",\"Stack Height (ft):\")","v":""},{"$f":"IF(AND(B28=\"\",B29=\"\",B32=\"\",B31=\"\",B30=\"\"),\"\",\"Stack Diameter (inches):\")","v":""},{"$f":"IF(AND(B28=\"\",B29=\"\",B32=\"\",B31=\"\",B30=\"\"),\"\",\"Flow Rate (acfm):\")","v":""},{"$f":"IF(AND(B28=\"\",B29=\"\",B32=\"\",B31=\"\",B30=\"\"),\"\",\"Temp (Deg F):\")","v":""},null,"","",null,null,null,"","",null,"Sand Transfer to Elevated Storage",0,{"$f":"IF(Q26=0,0,LOOKUP(P26,'Emission Factors'!$A$5:$A$16,'Emission Factors'!$D$5:$D$16))","v":0},0,"",0,0]
["Sand Transfer to Conveyor",null,null,null,null,null,null,"","",null,null,null,"","",null,"Weigh Hopper Loading",0,{"$f":"IF(Q27=0,0,LOOKUP(P27,'Emission Factors'!$A$5:$A$16,'Emission Factors'!$D$5:$D$16))","v":0},0,"",0,0]
["Aggregate Transfer to Elevated Storage",{"$f":"IF(COUNTIF(J21:J30,\"Cement Delivery to Silo\")>0,\"EP-2 Cement Silo Stack:\",\"\")","v":""},null,null,null,null,null,"","",null,null,null,"","",null,"Central Mix Loading",0,{"$f":"IF(Q28=0,0,LOOKUP(P28,'Emission Factors'!$A$5:$A$16,'Emission Factors'!$D$5:$D$16))","v":0},0,{"$f":"IF(Q28=0,\"\",IF($I$10>0,$I$10,IF(COUNTIF($F$24:$F$169,\"no\")>0,\"\",S28*(1-0.95))))","v":""},{"$f":"IF($J$10>0,\"\",IF($D$9>0,$D$9*R28*((100-$W$30)/100)/2000,IF($D$10>0,$D$10*365*R28*((100-$W$30)/100)/2000,IF($D$11>0,$D$11*365*R28*((100-$W$30)/100)*Q28/2000,IF(T28=\"\",S28*8760/2000,T28*8760/2000)))))","v":0},{"$f":"(R28*N181)","v":0}]
["Sand Transfer to Elevated Storage",{"$f":"IF(COUNTIF(J21:J30,\"Cement Supplement Delivery to Silo\")>0,\"EP-3 Cement Supplement Silo Stack:\",\"\")","v":""},null,null,null,null,null,"","",null,null,null,"","",null,"Truck Mix Loading",0,{"$f":"IF(Q29=0,0,LOOKUP(P29,'Emission Factors'!$A$5:$A$16,'Emission Factors'!$D$5:$D$16))","v":0},0,{"$f":"IF(Q29=0,\"\",IF($I$10>0,$I$10,IF(COUNTIF($F$24:$F$169,\"no\")>0,\"\",S29*(1-0.95))))","v":""},{"$f":"IF($J$10>0,\"\",IF($D$9>0,$D$9*R29*((100-$W$30)/100)/2000,IF($D$10>0,$D$10*365*R29*((100-$W$30)/100)/2000,IF($D$11>0,$D$11*365*R29*((100-$W$30)/100)*Q29/2000,IF(T29=\"\",S29*8760/2000,T29*8760/2000)))))","v":0},{"$f":"(R29*M181)","v":0}]
["Weigh Hopper Loading",{"$f":"IF(COUNTIF(J21:J30,\"Weigh Hopper Loading\")>0,\"EP-4 Weigh Hopper Loading Stack:\",\"\")","v":""},null,null,null,null,null,"","",null,null,null,"","",null,"Cement Delivery to Silo",0,{"$f":"IF(Q30=0,0,LOOKUP(P30,'Emission Factors'!$A$5:$A$16,'Emission Factors'!$D$5:$D$16))","v":0},null,{"$f":"IF(Q30=0,0,IF($I$10>0,$I$10,Q30*R30))","v":0},{"$f":"IF($J$10>0,\"\",IF($D$9>0,$D$9*R30/2000,IF($D$10>0,$D$10*365*R30/2000,IF($D$11>0,$D$11*365*R30*Q30/2000,IF($I$10>0,0,T30*8760/2000)))))","v":0},{"$f":"(R13*R30/2000)","v":0},{"$f":"IF(COUNTIF($F$24:$F$169,\"no\")>0,0,95)","v":95}]
["Central Mix Loading",{"$f":"IF(COUNTIF(J21:J30,\"Truck Mix Loading\")>0,\"EP-5 Truck Mix Loading Stack:\",\"\")","v":""},null,null,null,null,null,null,null,null,null,null,null,null,null,"Cement Supplement Delivery to Silo",0,{"$f":"IF(Q31=0,0,LOOKUP(P31,'Emission Factors'!$A$5:$A$16,'Emission Factors'!$D$5:$D$16))","v":0},null,{"$f":"IF(Q31=0,0,IF($I$10>0,$I$10,Q31*R31))","v":0},{"$f":"IF($J$10>0,\"\",IF($D$9>0,$D$9*R31/2000,IF($D$10>0,$D$10*365*R31/2000,IF($D$11>0,$D$11*365*R31*Q31/2000,IF($I$10>0,0,T31*8760/2000)))))","v":0},{"$f":"(R14*R31/2000)","v":0}]
["Truck Mix Loading",{"$f":"IF(COUNTIF(J21:J30,\"Central Mix Loading\")>0,\"EP-6 Central Mix Loading Stack:\",\"\")","v":""},null,null,null,null,null,"Stock Pile Area"]
["Cement Delivery to Silo",null,null,null,null,null,null,null,"Emission Unit #","Maximum Storage Area (acres)","Actual Storage Area (acres)","Actual Days in Existence (days)"]
["Cement Supplement Delivery to Silo",null,null,null,null,null,null,null,null,null,null,null,null,null,null,"PM10"]
[null,null,null,null,null,null,null,null,null,null,null,null,null,null,null,"Aggregate Delivery to Ground Storage",{"$f":"Q4","v":0},{"$f":"IF(Q35=0,0,LOOKUP(P35,'Emission Factors'!$A$5:$A$16,'Emission Factors'!$H$5:$H$16))","v":0},{"$f":"Q35*R35","v":0},{"$f":"IF(Q35=0,\"\",IF($I$11>0,$I$11,\"\"))","v":""},{"$f":"IF($J$11>0,$J$11,IF($D$9>0,$D$9*R35/2000,IF($D$10>0,$D$10*365*R35/2000,IF($D$11>0,$D$11*365*R35*Q35/2000,IF(T35=\"\",S35*8760/2000,T35*8760/2000)))))","v":0},{"$f":"(R4*R35/2000)","v":0}]
[null,null,null,null,null,null,null,null,null,null,null,null,null,null,null,"Sand Delivery to Ground Storage",0,{"$f":"IF(Q36=0,0,LOOKUP(P36,'Emission Factors'!$A$5:$A$16,'Emission Factors'!$H$5:$H$16))","v":0},{"$f":"Q36*R36","v":0},{"$f":"IF(Q36=0,\"\",IF($I$11>0,$I$11,\"\"))","v":""},{"$f":"IF($J$11>0,\"\",IF($D$9>0,$D$9*R36/2000,IF($D$10>0,$D$10*365*R36/2000,IF($D$11>0,$D$11*365*R36*Q36/2000,IF(T36=\"\",S36*8760/2000,T36*8760/2000)))))","v":0},0]
[null,{"$f":"IF('Concrete Plant (CP-7)'!$D$4>1,\"Batch Plant\",\"\")","v":""},{"$f":"IF('Concrete Plant (CP-7)'!$D$4>1,\"Site 2\",\"\")","v":""},null,null,null,null,{"$f":"IF('Concrete Plant (CP-7)'!$D$4>1,\"Emission Point #\",\"\")","v":""},{"$f":"IF('Concrete Plant (CP-7)'!$D$4>1,\"Emission     Unit #\",\"\")","v":""},{"$f":"IF('Concrete Plant (CP-7)'!$D$4>1,\"Processes\",\"\")","v":""},{"$f":"IF('Concrete Plant (CP-7)'!$D$4>1,\"Combined Maximum Hourly Design Rate for all Like Processes (cubic yard/hr)\",\"\")","v":""},{"$f":"IF('Concrete Plant (CP-7)'!$D$4>1,('Facility Information'!G5&\" Annual Throughput (cubic yards)\"),\"\")","v":""},null,null,null,"Aggregate Transfer to Conveyor",0,{"$f":"IF(Q37=0,0,LOOKUP(P37,'Emission Factors'!$A$5:$A$16,'Emission Factors'!$H$5:$H$16))","v":0},0,"",0,0]
[null,{"$f":"IF('Concrete Plant (CP-7)'!$D$4>1,\"Site Name:\",\"\")","v":""},null,null,null,null,null,{"$f":"IF(J38=\"cement delivery to silo\",\"CP-1 EP-2\",IF(J38=\"cement supplement delivery to silo\",\"CP-1 EP-3\",IF(J38=\"weigh hopper loading\",\"CP-1 EP-4\",IF(J38=\"truck mix loading\",\"CP-1 EP-5\",IF(J38=\"central mix loading\",\"CP-1 EP-6\",IF(J38=\"\",\"\",\"CP-1 EP-1\"))))))","v":""},{"$f":"IF(J38=\"\",\"\",IF(J38=\"aggregate delivery to ground storage\",\"CP-7 EU-1\",IF(J38=\"sand delivery to ground storage\",\"CP-7 EU-2\",IF(J38=\"aggregate transfer to conveyor\",\"CP-7 EU-3\",IF(J38=\"sand transfer to conveyor\",\"CP-7 EU-4\",IF(J38=\"aggregate transfer to elevated storage\",\"CP-7 EU-5\",IF(J38=\"sand transfer to elevated storage\",\"CP-7 EU-6\",IF(J38=\"weigh hopper loading\",\"CP-7 EU-7\",IF(J38=\"central mix loading\",\"CP-7 EU-8\",IF(J38=\"truck mix loading\",\"CP-7 EU-9\",IF(J38=\"cement delivery to silo\",\"CP-7 EU-10\",IF(J38=\"cement supplement delivery to silo\",\"CP-7 EU-11\"))))))))))))","v":""},null,null,null,{"$f":"IF(J38=\"truck mix loading\",IF($F$41=\"yes\",L38*0.05/2000,L38/2000),\"\")","v":""},{"$f":"IF(J38=\"central mix loading\",IF($F$41=\"yes\",L38*0.05/2000,L38/2000),\"\")","v":""},null,"Sand Transfer to Conveyor",0,{"$f":"IF(Q38=0,0,LOOKUP(P38,'Emission Factors'!$A$5:$A$16,'Emission Factors'!$H$5:$H$16))","v":0},0,"",0,0]
[null,{"$f":"IF('Concrete Plant (CP-7)'!$D$4>1,\"County:\",\"\")","v":""},null,null,null,null,null,{"$f":"IF(J39=\"cement delivery to silo\",\"CP-1 EP-2\",IF(J39=\"cement supplement delivery to silo\",\"CP-1 EP-3\",IF(J39=\"weigh hopper loading\",\"CP-1 EP-4\",IF(J39=\"truck mix loading\",\"CP-1 EP-5\",IF(J39=\"central mix loading\",\"CP-1 EP-6\",IF(J39=\"\",\"\",\"CP-1 EP-1\"))))))","v":""},"",null,null,null,{"$f":"IF(J39=\"truck mix loading\",IF($F$41=\"yes\",L39*0.05/2000,L39/2000),\"\")","v":""},{"$f":"IF(J39=\"central mix loading\",IF($F$41=\"yes\",L39*0.05/2000,L39/2000),\"\")","v":""},null,"Aggregate Transfer to Elevated Storage",0,{"$f":"IF(Q39=0,0,LOOKUP(P39,'Emission Factors'!$A$5:$A$16,'Emission Factors'!$H$5:$H$16))","v":0},0,"",0,0]
[null,{"$f":"IF('Concrete Plant (CP-7)'!$D$4>1,\"Batching Period (Dates):\",\"\")","v":""},null,null,null,null,null,"","",null,null,null,"","",null,"Sand Transfer to Elevated Storage",0,{"$f":"IF(Q40=0,0,LOOKUP(P40,'Emission Factors'!$A$5:$A$16,'Emission Factors'!$H$5:$H$16))","v":0},0,"",0,0]
[null,{"$f":"IF(OR(COUNTIF(J38:J47,\"Truck Mix Loading\")>0,(COUNTIF(J38:J47,\"Central Mix Loading\")>0)),\"Is the Central/Truck Mix Loading process controlled by a baghouse?\",\"\")","v":""},null,null,null,null,null,"","",null,null,null,"","",null,"Weigh Hopper Loading",0,{"$f":"IF(Q41=0,0,LOOKUP(P41,'Emission Factors'!$A$5:$A$16,'Emission Factors'!$H$5:$H$16))","v":0},0,"",0,0,{"$f":"IF(COUNTIF($F$24:$F$169,\"no\")>0,0,95)","v":95}]
[null,null,null,null,null,null,null,"","",null,null,null,"","",null,"Central Mix Loading",0,{"$f":"IF(Q42=0,0,LOOKUP(P42,'Emission Factors'!$A$5:$A$16,'Emission Factors'!$H$5:$H$16))","v":0},0,{"$f":"IF(Q42=0,\"\",IF($I$11>0,$I$11,IF(COUNTIF($F$24:$F$169,\"no\")>0,\"\",S42*(1-0.95))))","v":""},{"$f":"IF($J$11>0,\"\",IF($D$9>0,$D$9*R42*((100-$W$30)/100)/2000,IF($D$10>0,$D$10*365*R42*((100-$W$30)/100)/2000,IF($D$11>0,$D$11*365*R42*((100-$W$30)/100)*Q42/2000,IF(T42=\"\",S42*8760/2000,T42*8760/2000)))))","v":0},{"$f":"(N181*R42)","v":0}]
[null,{"$f":"IF(AND(B45=\"\",B46=\"\",B47=\"\",B48=\"\",B49=\"\"),\"\",\"Process (complete stack information if applicable):\")","v":""},{"$f":"IF(AND(B45=\"\",B46=\"\",B47=\"\",B48=\"\",B49=\"\"),\"\",\"Stack Height (ft):\")","v":""},{"$f":"IF(AND(B45=\"\",B46=\"\",B47=\"\",B48=\"\",B49=\"\"),\"\",\"Stack Diameter (inches):\")","v":""},{"$f":"IF(AND(B45=\"\",B46=\"\",B47=\"\",B48=\"\",B49=\"\"),\"\",\"Flow Rate (acfm):\")","v":""},{"$f":"IF(AND(B45=\"\",B46=\"\",B47=\"\",B48=\"\",B49=\"\"),\"\",\"Temp (Deg F):\")","v":""},null,"","",null,null,null,"","",null,"Truck Mix Loading",0,{"$f":"IF(Q43=0,0,LOOKUP(P43,'Emission Factors'!$A$5:$A$16,'Emission Factors'!$H$5:$H$16))","v":0},0,{"$f":"IF(Q43=0,\"\",IF($I$11>0,$I$11,IF(COUNTIF($F$24:$F$169,\"no\")>0,\"\",S43*(1-0.95))))","v":""},{"$f":"IF($J$11>0,\"\",IF($D$9>0,$D$9*R43*((100-$W$30)/100)/2000,IF($D$10>0,$D$10*365*R43*((100-$W$30)/100)/2000,IF($D$11>0,$D$11*365*R43*((100-$W$30)/100)*Q43/2000,IF(T43=\"\",S43*8760/2000,T43*8760/2000)))))","v":0},{"$f":"(M181*R43)","v":0}]
[null,null,null,null,null,null,null,"","",null,null,null,"","",null,"Cement Delivery to Silo",0,{"$f":"IF(Q44=0,0,LOOKUP(P44,'Emission Factors'!$A$5:$A$16,'Emission Factors'!$H$5:$H$16))","v":0},null,{"$f":"IF(Q44=0,0,IF($I$10>0,$I$10,Q44*R44))","v":0},{"$f":"IF($J$11>0,\"\",IF($D$9>0,$D$9*R44/2000,IF($D$10>0,$D$10*365*R44/2000,IF($D$11>0,$D$11*365*R44*Q44/2000,IF($I$11>0,0,T44*8760/2000)))))","v":0},{"$f":"(R13*R44/2000)","v":0}]
[null,{"$f":"IF(COUNTIF(J38:J47,\"Cement Delivery to Silo\")>0,\"EP-2 Cement Silo Stack:\",\"\")","v":""},null,null,null,null,null,"","",null,null,null,"","",null,"Cement Supplement Delivery to Silo",0,{"$f":"IF(Q45=0,0,LOOKUP(P45,'Emission Factors'!$A$5:$A$16,'Emission Factors'!$H$5:$H$16))","v":0},null,{"$f":"IF(Q45=0,0,IF($I$10>0,$I$10,Q45*R45))","v":0},{"$f":"IF($J$11>0,\"\",IF($D$9>0,$D$9*R45/2000,IF($D$10>0,$D$10*365*R45/2000,IF($D$11>0,$D$11*365*R45*Q45/2000,IF($I$11>0,0,T45*8760/2000)))))","v":0},{"$f":"(R14*R45/2000)","v":0}]
[null,{"$f":"IF(COUNTIF(J38:J47,\"Cement Supplement Delivery to Silo\")>0,\"EP-3 Cement Supplement Silo Stack:\",\"\")","v":""},null,null,null,null,null,"","",null,null,null,"",""]
[null,{"$f":"IF(COUNTIF(J38:J47,\"Weigh Hopper Loading\")>0,\"EP-4 Weigh Hopper Loading Stack:\",\"\")","v":""},null,null,null,null,null,"","",null,null,null,"",""]
[null,{"$f":"IF(COUNTIF(J38:J47,\"Truck Mix Loading\")>0,\"EP-5 Truck Mix Loading Stack:\",\"\")","v":""},null,null,null,null,null,{"$f":"IF('Concrete Plant (CP-7)'!$D$4>1,\"Stock Pile Area\",\"\")","v":""},null,null,null,null,null,null,null,"Storage Pile","Max Design Rate (acres/day)","Emission Factor   (lb/acre-day)","Potential Uncontrolled Emissions (lb/hr)","Potential Controlled Emissions (lb/hr)","Potential Annual Emissions (tons/yr)","Actual Annual Emissions (tons/yr)"]
[null,{"$f":"IF(COUNTIF(J38:J47,\"Central Mix Loading\")>0,\"EP-6 Central Mix Loading Stack:\",\"\")","v":""},null,null,null,null,null,null,{"$f":"IF('Concrete Plant (CP-7)'!$D$4>1,\"Emission Unit #\",\"\")","v":""},{"$f":"IF('Concrete Plant (CP-7)'!$D$4>1,\"Maximum Storage Area (acres)\",\"\")","v":""},{"$f":"IF('Concrete Plant (CP-7)'!$D$4>1,\"Actual Storage Area (acres)\",\"\")","v":""},{"$f":"IF('Concrete Plant (CP-7)'!$D$4>1,\"Actual Days in Existence (days)\",\"\")","v":""},null,null,null,"PM2.5/PM10",{"$f":"Q17","v":0},3.64,{"$f":"Q49*R49*(1/24)","v":0},null,{"$f":"Q49*R49*365/2000","v":0},{"$f":"R17*R49/2000","v":0}]
[]
[]
[null,{"$f":"IF('Concrete Plant (CP-7)'!$D$4>2,\"Batch Plant\",\"\")","v":""},{"$f":"IF('Concrete Plant (CP-7)'!$D$4>2,\"Site 3\",\"\")","v":""},null,null,null,null,{"$f":"IF('Concrete Plant (CP-7)'!$D$4>2,\"Emission Point #\",\"\")","v":""},{"$f":"IF('Concrete Plant (CP-7)'!$D$4>2,\"Emission     Unit #\",\"\")","v":""},{"$f":"IF('Concrete Plant (CP-7)'!$D$4>2,\"Processes\",\"\")","v":""},{"$f":"IF('Concrete Plant (CP-7)'!$D$4>2,\"Combined Maximum Hourly Design Rate for all Like Processes (cubic yard/hr)\",\"\")","v":""},{"$f":"IF('Concrete Plant (CP-7)'!$D$4>2,('Facility Information'!G5&\" Annual Throughput (cubic yards)\"),\"\")","v":""}]
[null,{"$f":"IF('Concrete Plant (CP-7)'!$D$4>2,\"Site Name:\",\"\")","v":""},null,null,null,null,null,{"$f":"IF(J53=\"cement delivery to silo\",\"CP-1 EP-2\",IF(J53=\"cement supplement delivery to silo\",\"CP-1 EP-3\",IF(J53=\"weigh hopper loading\",\"CP-1 EP-4\",IF(J53=\"truck mix loading\",\"CP-1 EP-5\",IF(J53=\"central mix loading\",\"CP-1 EP-6\",IF(J53=\"\",\"\",\"CP-1 EP-1\"))))))","v":""},{"$f":"IF(J53=\"\",\"\",IF(J53=\"aggregate delivery to ground storage\",\"CP-7 EU-1\",IF(J53=\"sand delivery to ground storage\",\"CP-7 EU-2\",IF(J53=\"aggregate transfer to conveyor\",\"CP-7 EU-3\",IF(J53=\"sand transfer to conveyor\",\"CP-7 EU-4\",IF(J53=\"aggregate transfer to elevated storage\",\"CP-7 EU-5\",IF(J53=\"sand transfer to elevated storage\",\"CP-7 EU-6\",IF(J53=\"weigh hopper loading\",\"CP-7 EU-7\",IF(J53=\"central mix loading\",\"CP-7 EU-8\",IF(J53=\"truck mix loading\",\"CP-7 EU-9\",IF(J53=\"cement delivery to silo\",\"CP-7 EU-10\",IF(J53=\"cement supplement delivery to silo\",\"CP-7 EU-11\"))))))))))))","v":""},null,null,null,{"$f":"IF(J53=\"truck mix loading\",IF($F$56=\"yes\",L53*0.05/2000,L53/2000),\"\")","v":""},{"$f":"IF(J53=\"central mix loading\",IF($F$56=\"yes\",L53*0.05/2000,L53/2000),\"\")","v":""}]
[null,{"$f":"IF('Concrete Plant (CP-7)'!$D$4>2,\"County:\",\"\")","v":""},null,null,null,null,null,{"$f":"IF(J54=\"cement delivery to silo\",\"CP-1 EP-2\",IF(J54=\"cement supplement delivery to silo\",\"CP-1 EP-3\",IF(J54=\"weigh hopper loading\",\"CP-1 EP-4\",IF(J54=\"truck mix loading\",\"CP-1 EP-5\",IF(J54=\"central mix loading\",\"CP-1 EP-6\",IF(J54=\"\",\"\",\"CP-1 EP-1\"))))))","v":""},"",null,null,null,{"$f":"IF(J54=\"truck mix loading\",IF($F$56=\"yes\",L54*0.05/2000,L54/2000),\"\")","v":""},{"$f":"IF(J54=\"central mix loading\",IF($F$56=\"yes\",L54*0.05/2000,L54/2000),\"\")","v":""}]
[null,{"$f":"IF('Concrete Plant (CP-7)'!$D$4>2,\"Batching Period (Dates):\",\"\")","v":""},null,null,null,null,null,"","",null,null,null,"",""]
[null,{"$f":"IF(OR(COUNTIF(J53:J62,\"Truck Mix Loading\")>0,(COUNTIF(J53:J62,\"Central Mix Loading\")>0)),\"Is the Central/Truck Mix Loading process controlled by a baghouse?\",\"\")","v":""},null,null,null,null,null,"","",null,null,null,"",""]
[null,null,null,null,null,null,null,"","",null,null,null,"",""]
[null,{"$f":"IF(AND(B60=\"\",B61=\"\",B62=\"\",B63=\"\",B64=\"\"),\"\",\"Process (complete stack information if applicable):\")","v":""},{"$f":"IF(AND(B60=\"\",B61=\"\",B62=\"\",B63=\"\",B64=\"\"),\"\",\"Stack Height (ft):\")","v":""},{"$f":"IF(AND(B60=\"\",B61=\"\",B62=\"\",B63=\"\",B64=\"\"),\"\",\"Stack Diameter (inches):\")","v":""},{"$f":"IF(AND(B60=\"\",B61=\"\",B62=\"\",B63=\"\",B64=\"\"),\"\",\"Flow Rate (acfm):\")","v":""},{"$f":"IF(AND(B60=\"\",B61=\"\",B62=\"\",B63=\"\",B64=\"\"),\"\",\"Temp (Deg F):\")","v":""},null,"","",null,null,null,"",""]
[null,null,null,null,null,null,null,"","",null,null,null,"",""]
[null,{"$f":"IF(COUNTIF(J53:J62,\"Cement Delivery to Silo\")>0,\"EP-2 Cement Silo Stack:\",\"\")","v":""},null,null,null,null,null,"","",null,null,null,"",""]
[null,{"$f":"IF(COUNTIF(J53:J62,\"Cement Supplement Delivery to Silo\")>0,\"EP-3 Cement Supplement Silo Stack:\",\"\")","v":""},null,null,null,null,null,"","",null,null,null,"",""]
[null,{"$f":"IF(COUNTIF(J53:J62,\"Weigh Hopper Loading\")>0,\"EP-4 Weigh Hopper Loading Stack:\",\"\")","v":""},null,null,null,null,null,"","",null,null,null,"",""]
[null,{"$f":"IF(COUNTIF(J53:J62,\"Truck Mix Loading\")>0,\"EP-5 Truck Mix Loading Stack:\",\"\")","v":""}]
[null,{"$f":"IF(COUNTIF(J53:J62,\"Central Mix Loading\")>0,\"EP-6 Central Mix Loading Stack:\",\"\")","v":""},null,null,null,null,null,{"$f":"IF('Concrete Plant (CP-7)'!$D$4>2,\"Stock Pile Area\",\"\")","v":""}]
[null,null,null,null,null,null,null,null,{"$f":"IF('Concrete Plant (CP-7)'!$D$4>2,\"Emission Unit #\",\"\")","v":""},{"$f":"IF('Concrete Plant (CP-7)'!$D$4>2,\"Maximum Storage Area (acres)\",\"\")","v":""},{"$f":"IF('Concrete Plant (CP-7)'!$D$4>2,\"Actual Storage Area (acres)\",\"\")","v":""},{"$f":"IF('Concrete Plant (CP-7)'!$D$4>2,\"Actual Days in Existence (days)\",\"\")","v":""}]
[]
[]
[null,{"$f":"IF('Concrete Plant (CP-7)'!$D$4>3,\"Batch Plant\",\"\")","v":""},{"$f":"IF('Concrete Plant (CP-7)'!$D$4>3,\"Site 4\",\"\")","v":""},null,null,null,null,{"$f":"IF('Concrete Plant (CP-7)'!$D$4>3,\"Emission Point #\",\"\")","v":""},{"$f":"IF('Concrete Plant (CP-7)'!$D$4>3,\"Emission     Unit #\",\"\")","v":""},{"$f":"IF('Concrete Plant (CP-7)'!$D$4>3,\"Processes\",\"\")","v":""},{"$f":"IF('Concrete Plant (CP-7)'!$D$4>3,\"Combined Maximum Hourly Design Rate for all Like Processes (cubic yard/hr)\",\"\")","v":""},{"$f":"IF('Concrete Plant (CP-7)'!$D$4>3,('Facility Information'!G5&\" Annual Throughput (cubic yards)\"),\"\")","v":""}]
[null,{"$f":"IF('Concrete Plant (CP-7)'!$D$4>3,\"Site Name:\",\"\")","v":""},null,null,null,null,null,{"$f":"IF(J69=\"cement delivery to silo\",\"CP-1 EP-2\",IF(J69=\"cement supplement delivery to silo\",\"CP-1 EP-3\",IF(J69=\"weigh hopper loading\",\"CP-1 EP-4\",IF(J69=\"truck mix loading\",\"CP-1 EP-5\",IF(J69=\"central mix loading\",\"CP-1 EP-6\",IF(J69=\"\",\"\",\"CP-1 EP-1\"))))))","v":""},{"$f":"IF(J69=\"\",\"\",IF(J69=\"aggregate delivery to ground storage\",\"CP-7 EU-1\",IF(J69=\"sand delivery to ground storage\",\"CP-7 EU-2\",IF(J69=\"aggregate transfer to conveyor\",\"CP-7 EU-3\",IF(J69=\"sand transfer to conveyor\",\"CP-7 EU-4\",IF(J69=\"aggregate transfer to elevated storage\",\"CP-7 EU-5\",IF(J69=\"sand transfer to elevated storage\",\"CP-7 EU-6\",IF(J69=\"weigh hopper loading\",\"CP-7 EU-7\",IF(J69=\"central mix loading\",\"CP-7 EU-8\",IF(J69=\"truck mix loading\",\"CP-7 EU-9\",IF(J69=\"cement delivery to silo\",\"CP-7 EU-10\",IF(J69=\"cement supplement delivery to silo\",\"CP-7 EU-11\"))))))))))))","v":""},null,null,null,{"$f":"IF(J69=\"truck mix loading\",IF($F$72=\"yes\",L69*0.05/2000,L69/2000),\"\")","v":""},{"$f":"IF(J69=\"central mix loading\",IF($F$72=\"yes\",L69*0.05/2000,L69/2000),\"\")","v":""}]
[null,{"$f":"IF('Concrete Plant (CP-7)'!$D$4>3,\"County:\",\"\")","v":""},null,null,null,null,null,{"$f":"IF(J70=\"cement delivery to silo\",\"CP-1 EP-2\",IF(J70=\"cement supplement delivery to silo\",\"CP-1 EP-3\",IF(J70=\"weigh hopper loading\",\"CP-1 EP-4\",IF(J70=\"truck mix loading\",\"CP-1 EP-5\",IF(J70=\"central mix loading\",\"CP-1 EP-6\",IF(J70=\"\",\"\",\"CP-1 EP-1\"))))))","v":""},"",null,null,null,{"$f":"IF(J70=\"truck mix loading\",IF($F$72=\"yes\",L70*0.05/2000,L70/2000),\"\")","v":""},{"$f":"IF(J70=\"central mix loading\",IF($F$72=\"yes\",L70*0.05/2000,L70/2000),\"\")","v":""}]
[null,{"$f":"IF('Concrete Plant (CP-7)'!$D$4>3,\"Batching Period (Dates):\",\"\")","v":""},null,null,null,null,null,"","",null,null,null,"",""]
[null,{"$f":"IF(OR(COUNTIF(J69:J78,\"Truck Mix Loading\")>0,(COUNTIF(J69:J78,\"Central Mix Loading\")>0)),\"Is the Central/Truck Mix Loading process controlled by a baghouse?\",\"\")","v":""},null,null,null,null,null,"","",null,null,null,"",""]
[null,null,null,null,null,null,null,"","",null,null,null,"",""]
[null,{"$f":"IF(AND(B76=\"\",B77=\"\",B78=\"\",B79=\"\",B80=\"\"),\"\",\"Process (complete stack information if applicable):\")","v":""},{"$f":"IF(AND(B76=\"\",B77=\"\",B78=\"\",B79=\"\",B80=\"\"),\"\",\"Stack Height (ft):\")","v":""},{"$f":"IF(AND(B76=\"\",B77=\"\",B78=\"\",B79=\"\",B80=\"\"),\"\",\"Stack Diameter (inches):\")","v":""},{"$f":"IF(AND(B76=\"\",B77=\"\",B78=\"\",B79=\"\",B80=\"\"),\"\",\"Flow Rate (acfm):\")","v":""},{"$f":"IF(AND(B76=\"\",B77=\"\",B78=\"\",B79=\"\",B80=\"\"),\"\",\"Temp (Deg F):\")","v":""},null,"","",null,null,null,"",""]
[null,null,null,null,null,null,null,"","",null,null,null,"",""]
[null,{"$f":"IF(COUNTIF(J69:J78,\"Cement Delivery to Silo\")>0,\"EP-2 Cement Silo Stack:\",\"\")","v":""},null,null,null,null,null,"","",null,null,null,"",""]
[null,{"$f":"IF(COUNTIF(J69:J78,\"Cement Supplement Delivery to Silo\")>0,\"EP-3 Cement Supplement Silo Stack:\",\"\")","v":""},null,null,null,null,null,"","",null,null,null,"",""]
[null,{"$f":"IF(COUNTIF(J69:J78,\"Weigh Hopper Loading\")>0,\"EP-4 Weigh Hopper Loading Stack:\",\"\")","v":""},null,null,null,null,null,"","",null,null,null,"",""]
[null,{"$f":"IF(COUNTIF(J69:J78,\"Truck Mix Loading\")>0,\"EP-5 Truck Mix Loading Stack:\",\"\")","v":""}]
[null,{"$f":"IF(COUNTIF(J69:J78,\"Central Mix Loading\")>0,\"EP-6 Central Mix Loading Stack:\",\"\")","v":""},null,null,null,null,null,{"$f":"IF('Concrete Plant (CP-7)'!$D$4>3,\"Stock Pile Area\",\"\")","v":""}]
[null,null,null,null,null,null,null,null,{"$f":"IF('Concrete Plant (CP-7)'!$D$4>3,\"Emission Unit #\",\"\")","v":""},{"$f":"IF('Concrete Plant (CP-7)'!$D$4>3,\"Maximum Storage Area (acres)\",\"\")","v":""},{"$f":"IF('Concrete Plant (CP-7)'!$D$4>3,\"Actual Storage Area (acres)\",\"\")","v":""},{"$f":"IF('Concrete Plant (CP-7)'!$D$4>3,\"Actual Days in Existence (days)\",\"\")","v":""}]
[]
[]
[null,{"$f":"IF('Concrete Plant (CP-7)'!$D$4>4,\"Batch Plant\",\"\")","v":""},{"$f":"IF('Concrete Plant (CP-7)'!$D$4>4,\"Site 5\",\"\")","v":""},null,null,null,null,{"$f":"IF('Concrete Plant (CP-7)'!$D$4>4,\"Emission Point #\",\"\")","v":""},{"$f":"IF('Concrete Plant (CP-7)'!$D$4>4,\"Emission     Unit #\",\"\")","v":""},{"$f":"IF('Concrete Plant (CP-7)'!$D$4>4,\"Processes\",\"\")","v":""},{"$f":"IF('Concrete Plant (CP-7)'!$D$4>4,\"Combined Maximum Hourly Design Rate for all Like Processes (cubic yard/hr)\",\"\")","v":""},{"$f":"IF('Concrete Plant (CP-7)'!$D$4>4,('Facility Information'!G5&\" Annual Throughput (cubic yards)\"),\"\")","v":""}]
[null,{"$f":"IF('Concrete Plant (CP-7)'!$D$4>4,\"Site Name:\",\"\")","v":""},null,null,null,null,null,{"$f":"IF(J85=\"cement delivery to silo\",\"CP-1 EP-2\",IF(J85=\"cement supplement delivery to silo\",\"CP-1 EP-3\",IF(J85=\"weigh hopper loading\",\"CP-1 EP-4\",IF(J85=\"truck mix loading\",\"CP-1 EP-5\",IF(J85=\"central mix loading\",\"CP-1 EP-6\",IF(J85=\"\",\"\",\"CP-1 EP-1\"))))))","v":""},{"$f":"IF(J85=\"\",\"\",IF(J85=\"aggregate delivery to ground storage\",\"CP-7 EU-1\",IF(J85=\"sand delivery to ground storage\",\"CP-7 EU-2\",IF(J85=\"aggregate transfer to conveyor\",\"CP-7 EU-3\",IF(J85=\"sand transfer to conveyor\",\"CP-7 EU-4\",IF(J85=\"aggregate transfer to elevated storage\",\"CP-7 EU-5\",IF(J85=\"sand transfer to elevated storage\",\"CP-7 EU-6\",IF(J85=\"weigh hopper loading\",\"CP-7 EU-7\",IF(J85=\"central mix loading\",\"CP-7 EU-8\",IF(J85=\"truck mix loading\",\"CP-7 EU-9\",IF(J85=\"cement delivery to silo\",\"CP-7 EU-10\",IF(J85=\"cement supplement delivery to silo\",\"CP-7 EU-11\"))))))))))))","v":""},null,null,null,{"$f":"IF(J85=\"truck mix loading\",IF($F$88=\"yes\",L85*0.05/2000,L85/2000),\"\")","v":""},{"$f":"IF(J85=\"central mix loading\",IF($F$88=\"yes\",L85*0.05/2000,L85/2000),\"\")","v":""}]
[null,{"$f":"IF('Concrete Plant (CP-7)'!$D$4>4,\"County:\",\"\")","v":""},null,null,null,null,null,{"$f":"IF(J86=\"cement delivery to silo\",\"CP-1 EP-2\",IF(J86=\"cement supplement delivery to silo\",\"CP-1 EP-3\",IF(J86=\"weigh hopper loading\",\"CP-1 EP-4\",IF(J86=\"truck mix loading\",\"CP-1 EP-5\",IF(J86=\"central mix loading\",\"CP-1 EP-6\",IF(J86=\"\",\"\",\"CP-1 EP-1\"))))))","v":""},"",null,null,null,{"$f":"IF(J86=\"truck mix loading\",IF($F$88=\"yes\",L86*0.05/2000,L86/2000),\"\")","v":""},{"$f":"IF(J86=\"central mix loading\",IF($F$88=\"yes\",L86*0.05/2000,L86/2000),\"\")","v":""}]
[null,{"$f":"IF('Concrete Plant (CP-7)'!$D$4>4,\"Batching Period (Dates):\",\"\")","v":""},null,null,null,null,null,"","",null,null,null,"",""]
[null,{"$f":"IF(OR(COUNTIF(J85:J94,\"Truck Mix Loading\")>0,(COUNTIF(J85:J94,\"Central Mix Loading\")>0)),\"Is the Central/Truck Mix Loading process controlled by a baghouse?\",\"\")","v":""},null,null,null,null,null,"","",null,null,null,"",""]
[null,null,null,null,null,null,null,"","",null,null,null,"",""]
[null,{"$f":"IF(AND(B92=\"\",B93=\"\",B94=\"\",B95=\"\",B96=\"\"),\"\",\"Process (complete stack information if applicable):\")","v":""},{"$f":"IF(AND(B92=\"\",B93=\"\",B94=\"\",B95=\"\",B96=\"\"),\"\",\"Stack Height (ft):\")","v":""},{"$f":"IF(AND(B92=\"\",B93=\"\",B94=\"\",B95=\"\",B96=\"\"),\"\",\"Stack Diameter (inches):\")","v":""},{"$f":"IF(AND(B92=\"\",B93=\"\",B94=\"\",B95=\"\",B96=\"\"),\"\",\"Flow Rate (acfm):\")","v":""},{"$f":"IF(AND(B92=\"\",B93=\"\",B94=\"\",B95=\"\",B96=\"\"),\"\",\"Temp (Deg F):\")","v":""},null,"","",null,null,null,"",""]
[null,null,null,null,null,null,null,"","",null,null,null,"",""]
[null,{"$f":"IF(COUNTIF(J85:J94,\"Cement Delivery to Silo\")>0,\"EP-2 Cement Silo Stack:\",\"\")","v":""},null,null,null,null,null,"","",null,null,null,"",""]
[null,{"$f":"IF(COUNTIF(J85:J94,\"Cement Supplement Delivery to Silo\")>0,\"EP-3 Cement Supplement Silo Stack:\",\"\")","v":""},null,null,null,null,null,"","",null,null,null,"",""]
[null,{"$f":"IF(COUNTIF(J85:J94,\"Weigh Hopper Loading\")>0,\"EP-4 Weigh Hopper Loading Stack:\",\"\")","v":""},null,null,null,null,null,"","",null,null,null,"",""]
[null,{"$f":"IF(COUNTIF(J85:J94,\"Truck Mix Loading\")>0,\"EP-5 Truck Mix Loading Stack:\",\"\")","v":""}]
[null,{"$f":"IF(COUNTIF(J85:J94,\"Central Mix Loading\")>0,\"EP-6 Central Mix Loading Stack:\",\"\")","v":""},null,null,null,null,null,{"$f":"IF('Concrete Plant (CP-7)'!$D$4>4,\"Stock Pile Area\",\"\")","v":""}]
[null,null,null,null,null,null,null,null,{"$f":"IF('Concrete Plant (CP-7)'!$D$4>4,\"Emission Unit #\",\"\")","v":""},{"$f":"IF('Concrete Plant (CP-7)'!$D$4>4,\"Maximum Storage Area (acres)\",\"\")","v":""},{"$f":"IF('Concrete Plant (CP-7)'!$D$4>4,\"Actual Storage Area (acres)\",\"\")","v":""},{"$f":"IF('Concrete Plant (CP-7)'!$D$4>4,\"Actual Days in Existence (days)\",\"\")","v":""}]
[]
[]
[]
[null,{"$f":"IF('Concrete Plant (CP-7)'!$D$4>5,\"Batch Plant\",\"\")","v":""},{"$f":"IF('Concrete Plant (CP-7)'!$D$4>5,\"Site 6\",\"\")","v":""},null,null,null,null,{"$f":"IF('Concrete Plant (CP-7)'!$D$4>5,\"Emission Point #\",\"\")","v":""},{"$f":"IF('Concrete Plant (CP-7)'!$D$4>5,\"Emission     Unit #\",\"\")","v":""},{"$f":"IF('Concrete Plant (CP-7)'!$D$4>5,\"Processes\",\"\")","v":""},{"$f":"IF('Concrete Plant (CP-7)'!$D$4>5,\"Combined Maximum Hourly Design Rate for all Like Processes (cubic yard/hr)\",\"\")","v":""},{"$f":"IF('Concrete Plant (CP-7)'!$D$4>5,('Facility Information'!G5&\" Annual Throughput (cubic yards)\"),\"\")","v":""}]
[null,{"$f":"IF('Concrete Plant (CP-7)'!$D$4>5,\"Site Name:\",\"\")","v":""},null,null,null,null,null,{"$f":"IF(J102=\"cement delivery to silo\",\"CP-1 EP-2\",IF(J102=\"cement supplement delivery to silo\",\"CP-1 EP-3\",IF(J102=\"weigh hopper loading\",\"CP-1 EP-4\",IF(J102=\"truck mix loading\",\"CP-1 EP-5\",IF(J102=\"central mix loading\",\"CP-1 EP-6\",IF(J102=\"\",\"\",\"CP-1 EP-1\"))))))","v":""},{"$f":"IF(J102=\"\",\"\",IF(J102=\"aggregate delivery to ground storage\",\"CP-7 EU-1\",IF(J102=\"sand delivery to ground storage\",\"CP-7 EU-2\",IF(J102=\"aggregate transfer to conveyor\",\"CP-7 EU-3\",IF(J102=\"sand transfer to conveyor\",\"CP-7 EU-4\",IF(J102=\"aggregate transfer to elevated storage\",\"CP-7 EU-5\",IF(J102=\"sand transfer to elevated storage\",\"CP-7 EU-6\",IF(J102=\"weigh hopper loading\",\"CP-7 EU-7\",IF(J102=\"central mix loading\",\"CP-7 EU-8\",IF(J102=\"truck mix loading\",\"CP-7 EU-9\",IF(J102=\"cement delivery to silo\",\"CP-7 EU-10\",IF(J102=\"cement supplement delivery to silo\",\"CP-7 EU-11\"))))))))))))","v":""},null,null,null,{"$f":"IF(J102=\"truck mix loading\",IF($F$105=\"yes\",L102*0.05/2000,L102/2000),\"\")","v":""},{"$f":"IF(J102=\"central mix loading\",IF($F$105=\"yes\",L102*0.05/2000,L102/2000),\"\")","v":""}]
[null,{"$f":"IF('Concrete Plant (CP-7)'!$D$4>5,\"County:\",\"\")","v":""},null,null,null,null,null,{"$f":"IF(J103=\"cement delivery to silo\",\"CP-1 EP-2\",IF(J103=\"cement supplement delivery to silo\",\"CP-1 EP-3\",IF(J103=\"weigh hopper loading\",\"CP-1 EP-4\",IF(J103=\"truck mix loading\",\"CP-1 EP-5\",IF(J103=\"central mix loading\",\"CP-1 EP-6\",IF(J103=\"\",\"\",\"CP-1 EP-1\"))))))","v":""},"",null,null,null,{"$f":"IF(J103=\"truck mix loading\",IF($F$105=\"yes\",L103*0.05/2000,L103/2000),\"\")","v":""},{"$f":"IF(J103=\"central mix loading\",IF($F$105=\"yes\",L103*0.05/2000,L103/2000),\"\")","v":""}]
[null,{"$f":"IF('Concrete Plant (CP-7)'!$D$4>5,\"Batching Period (Dates):\",\"\")","v":""},null,null,null,null,null,"","",null,null,null,"",""]
[null,{"$f":"IF(OR(COUNTIF(J102:J111,\"Truck Mix Loading\")>0,(COUNTIF(J102:J111,\"Central Mix Loading\")>0)),\"Is the Central/Truck Mix Loading process controlled by a baghouse?\",\"\")","v":""},null,null,null,null,null,"","",null,null,null,"",""]
[null,null,null,null,null,null,null,"","",null,null,null,"",""]
[null,{"$f":"IF(AND(B109=\"\",B110=\"\",B111=\"\",B112=\"\",B113=\"\"),\"\",\"Process (complete stack information if applicable):\")","v":""},{"$f":"IF(AND(B109=\"\",B110=\"\",B111=\"\",B112=\"\",B113=\"\"),\"\",\"Stack Height (ft):\")","v":""},{"$f":"IF(AND(B109=\"\",B110=\"\",B111=\"\",B112=\"\",B113=\"\"),\"\",\"Stack Diameter (inches):\")","v":""},{"$f":"IF(AND(B109=\"\",B110=\"\",B111=\"\",B112=\"\",B113=\"\"),\"\",\"Flow Rate (acfm):\")","v":""},{"$f":"IF(AND(B109=\"\",B110=\"\",B111=\"\",B112=\"\",B113=\"\"),\"\",\"Temp (Deg F):\")","v":""},null,"","",null,null,null,"",""]
[null,null,null,null,null,null,null,"","",null,null,null,"",""]
[null,{"$f":"IF(COUNTIF(J102:J111,\"Cement Delivery to Silo\")>0,\"EP-2 Cement Silo Stack:\",\"\")","v":""},null,null,null,null,null,"","",null,null,null,"",""]
[null,{"$f":"IF(COUNTIF(J102:J111,\"Cement Supplement Delivery to Silo\")>0,\"EP-3 Cement Supplement Silo Stack:\",\"\")","v":""},null,null,null,null,null,"","",null,null,null,"",""]
[null,{"$f":"IF(COUNTIF(J102:J111,\"Weigh Hopper Loading\")>0,\"EP-4 Weigh Hopper Loading Stack:\",\"\")","v":""},null,null,null,null,null,"","",null,null,null,"",""]
[null,{"$f":"IF(COUNTIF(J102:J111,\"Truck Mix Loading\")>0,\"EP-5 Truck Mix Loading Stack:\",\"\")","v":""}]
[null,{"$f":"IF(COUNTIF(J102:J111,\"Central Mix Loading\")>0,\"EP-6 Central Mix Loading Stack:\",\"\")","v":""},null,null,null,null,null,{"$f":"IF('Concrete Plant (CP-7)'!$D$4>5,\"Stock Pile Area\",\"\")","v":""}]
[null,null,null,null,null,null,null,null,{"$f":"IF('Concrete Plant (CP-7)'!$D$4>5,\"Emission Unit #\",\"\")","v":""},{"$f":"IF('Concrete Plant (CP-7)'!$D$4>5,\"Maximum Storage Area (acres)\",\"\")","v":""},{"$f":"IF('Concrete Plant (CP-7)'!$D$4>5,\"Actual Storage Area (acres)\",\"\")","v":""},{"$f":"IF('Concrete Plant (CP-7)'!$D$4>5,\"Actual Days in Existence (days)\",\"\")","v":""}]
[]
[]
[null,{"$f":"IF('Concrete Plant (CP-7)'!$D$4>6,\"Batch Plant\",\"\")","v":""},{"$f":"IF('Concrete Plant (CP-7)'!$D$4>6,\"Site 7\",\"\")","v":""},null,null,null,null,{"$f":"IF('Concrete Plant (CP-7)'!$D$4>6,\"Emission Point #\",\"\")","v":""},{"$f":"IF('Concrete Plant (CP-7)'!$D$4>6,\"Emission     Unit #\",\"\")","v":""},{"$f":"IF('Concrete Plant (CP-7)'!$D$4>6,\"Processes\",\"\")","v":""},{"$f":"IF('Concrete Plant (CP-7)'!$D$4>6,\"Combined Maximum Hourly Design Rate for all Like Processes (cubic yard/hr)\",\"\")","v":""},{"$f":"IF('Concrete Plant (CP-7)'!$D$4>6,('Facility Information'!G5&\" Annual Throughput (cubic yards)\"),\"\")","v":""}]
[null,{"$f":"IF('Concrete Plant (CP-7)'!$D$4>6,\"Site Name:\",\"\")","v":""},null,null,null,null,null,{"$f":"IF(J118=\"cement delivery to silo\",\"CP-1 EP-2\",IF(J118=\"cement supplement delivery to silo\",\"CP-1 EP-3\",IF(J118=\"weigh hopper loading\",\"CP-1 EP-4\",IF(J118=\"truck mix loading\",\"CP-1 EP-5\",IF(J118=\"central mix loading\",\"CP-1 EP-6\",IF(J118=\"\",\"\",\"CP-1 EP-1\"))))))","v":""},{"$f":"IF(J118=\"\",\"\",IF(J118=\"aggregate delivery to ground storage\",\"CP-7 EU-1\",IF(J118=\"sand delivery to ground storage\",\"CP-7 EU-2\",IF(J118=\"aggregate transfer to conveyor\",\"CP-7 EU-3\",IF(J118=\"sand transfer to conveyor\",\"CP-7 EU-4\",IF(J118=\"aggregate transfer to elevated storage\",\"CP-7 EU-5\",IF(J118=\"sand transfer to elevated storage\",\"CP-7 EU-6\",IF(J118=\"weigh hopper loading\",\"CP-7 EU-7\",IF(J118=\"central mix loading\",\"CP-7 EU-8\",IF(J118=\"truck mix loading\",\"CP-7 EU-9\",IF(J118=\"cement delivery to silo\",\"CP-7 EU-10\",IF(J118=\"cement supplement delivery to silo\",\"CP-7 EU-11\"))))))))))))","v":""},null,null,null,{"$f":"IF(J118=\"truck mix loading\",IF($F$121=\"yes\",L118*0.05/2000,L118/2000),\"\")","v":""},{"$f":"IF(J118=\"central mix loading\",IF($F$121=\"yes\",L118*0.05/2000,L118/2000),\"\")","v":""}]
[null,{"$f":"IF('Concrete Plant (CP-7)'!$D$4>6,\"County:\",\"\")","v":""},null,null,null,null,null,{"$f":"IF(J119=\"cement delivery to silo\",\"CP-1 EP-2\",IF(J119=\"cement supplement delivery to silo\",\"CP-1 EP-3\",IF(J119=\"weigh hopper loading\",\"CP-1 EP-4\",IF(J119=\"truck mix loading\",\"CP-1 EP-5\",IF(J119=\"central mix loading\",\"CP-1 EP-6\",IF(J119=\"\",\"\",\"CP-1 EP-1\"))))))","v":""},"",null,null,null,{"$f":"IF(J119=\"truck mix loading\",IF($F$121=\"yes\",L119*0.05/2000,L119/2000),\"\")","v":""},{"$f":"IF(J119=\"central mix loading\",IF($F$121=\"yes\",L119*0.05/2000,L119/2000),\"\")","v":""}]
[null,{"$f":"IF('Concrete Plant (CP-7)'!$D$4>6,\"Batching Period (Dates):\",\"\")","v":""},null,null,null,null,null,"","",null,null,null,"",""]
[null,{"$f":"IF(OR(COUNTIF(J118:J127,\"Truck Mix Loading\")>0,(COUNTIF(J118:J127,\"Central Mix Loading\")>0)),\"Is the Central/Truck Mix Loading process controlled by a baghouse?\",\"\")","v":""},null,null,null,null,null,"","",null,null,null,"",""]
[null,null,null,null,null,null,null,"","",null,null,null,"",""]
[null,{"$f":"IF(AND(B125=\"\",B126=\"\",B127=\"\",B128=\"\",B129=\"\"),\"\",\"Process (complete stack information if applicable):\")","v":""},{"$f":"IF(AND(B125=\"\",B126=\"\",B127=\"\",B128=\"\",B129=\"\"),\"\",\"Stack Height (ft):\")","v":""},{"$f":"IF(AND(B125=\"\",B126=\"\",B127=\"\",B128=\"\",B129=\"\"),\"\",\"Stack Diameter (inches):\")","v":""},{"$f":"IF(AND(B125=\"\",B126=\"\",B127=\"\",B128=\"\",B129=\"\"),\"\",\"Flow Rate (acfm):\")","v":""},{"$f":"IF(AND(B125=\"\",B126=\"\",B127=\"\",B128=\"\",B129=\"\"),\"\",\"Temp (Deg F):\")","v":""},null,"","",null,null,null,"",""]
[null,null,null,null,null,null,null,"","",null,null,null,"",""]
[null,{"$f":"IF(COUNTIF(J118:J127,\"Cement Delivery to Silo\")>0,\"EP-2 Cement Silo Stack:\",\"\")","v":""},null,null,null,null,null,"","",null,null,null,"",""]
[null,{"$f":"IF(COUNTIF(J118:J127,\"Cement Supplement Delivery to Silo\")>0,\"EP-3 Cement Supplement Silo Stack:\",\"\")","v":""},null,null,null,null,null,"","",null,null,null,"",""]
[null,{"$f":"IF(COUNTIF(J118:J127,\"Weigh Hopper Loading\")>0,\"EP-4 Weigh Hopper Loading Stack:\",\"\")","v":""},null,null,null,null,null,"","",null,null,null,"",""]
[null,{"$f":"IF(COUNTIF(J118:J127,\"Truck Mix Loading\")>0,\"EP-5 Truck Mix Loading Stack:\",\"\")","v":""}]
[null,{"$f":"IF(COUNTIF(J118:J127,\"Central Mix Loading\")>0,\"EP-6 Central Mix Loading Stack:\",\"\")","v":""},null,null,null,null,null,{"$f":"IF('Concrete Plant (CP-7)'!$D$4>6,\"Stock Pile Area\",\"\")","v":""}]
[null,null,null,null,null,null,null,null,{"$f":"IF('Concrete Plant (CP-7)'!$D$4>6,\"Emission Unit #\",\"\")","v":""},{"$f":"IF('Concrete Plant (CP-7)'!$D$4>6,\"Maximum Storage Area (acres)\",\"\")","v":""},{"$f":"IF('Concrete Plant (CP-7)'!$D$4>6,\"Actual Storage Area (acres)\",\"\")","v":""},{"$f":"IF('Concrete Plant (CP-7)'!$D$4>6,\"Actual Days in Existence (days)\",\"\")","v":""}]
[]
[]
[null,{"$f":"IF('Concrete Plant (CP-7)'!$D$4>7,\"Batch Plant\",\"\")","v":""},{"$f":"IF('Concrete Plant (CP-7)'!$D$4>7,\"Site 8\",\"\")","v":""},null,null,null,null,{"$f":"IF('Concrete Plant (CP-7)'!$D$4>7,\"Emission Point #\",\"\")","v":""},{"$f":"IF('Concrete Plant (CP-7)'!$D$4>7,\"Emission     Unit #\",\"\")","v":""},{"$f":"IF('Concrete Plant (CP-7)'!$D$4>7,\"Processes\",\"\")","v":""},{"$f":"IF('Concrete Plant (CP-7)'!$D$4>7,\"Combined Maximum Hourly Design Rate for all Like Processes (cubic yard/hr)\",\"\")","v":""},{"$f":"IF('Concrete Plant (CP-7)'!$D$4>7,('Facility Information'!G5&\" Annual Throughput (cubic yards)\"),\"\")","v":""}]
[null,{"$f":"IF('Concrete Plant (CP-7)'!$D$4>7,\"Site Name:\",\"\")","v":""},null,null,null,null,null,{"$f":"IF(J134=\"cement delivery to silo\",\"CP-1 EP-2\",IF(J134=\"cement supplement delivery to silo\",\"CP-1 EP-3\",IF(J134=\"weigh hopper loading\",\"CP-1 EP-4\",IF(J134=\"truck mix loading\",\"CP-1 EP-5\",IF(J134=\"central mix loading\",\"CP-1 EP-6\",IF(J134=\"\",\"\",\"CP-1 EP-1\"))))))","v":""},{"$f":"IF(J134=\"\",\"\",IF(J134=\"aggregate delivery to ground storage\",\"CP-7 EU-1\",IF(J134=\"sand delivery to ground storage\",\"CP-7 EU-2\",IF(J134=\"aggregate transfer to conveyor\",\"CP-7 EU-3\",IF(J134=\"sand transfer to conveyor\",\"CP-7 EU-4\",IF(J134=\"aggregate transfer to elevated storage\",\"CP-7 EU-5\",IF(J134=\"sand transfer to elevated storage\",\"CP-7 EU-6\",IF(J134=\"weigh hopper loading\",\"CP-7 EU-7\",IF(J134=\"central mix loading\",\"CP-7 EU-8\",IF(J134=\"truck mix loading\",\"CP-7 EU-9\",IF(J134=\"cement delivery to silo\",\"CP-7 EU-10\",IF(J134=\"cement supplement delivery to silo\",\"CP-7 EU-11\"))))))))))))","v":""},null,null,null,{"$f":"IF(J134=\"truck mix loading\",IF($F$137=\"yes\",L134*0.05/2000,L134/2000),\"\")","v":""},{"$f":"IF(J134=\"central mix loading\",IF($F$137=\"yes\",L134*0.05/2000,L134/2000),\"\")","v":""}]
[null,{"$f":"IF('Concrete Plant (CP-7)'!$D$4>7,\"County:\",\"\")","v":""},null,null,null,null,null,{"$f":"IF(J135=\"cement delivery to silo\",\"CP-1 EP-2\",IF(J135=\"cement supplement delivery to silo\",\"CP-1 EP-3\",IF(J135=\"weigh hopper loading\",\"CP-1 EP-4\",IF(J135=\"truck mix loading\",\"CP-1 EP-5\",IF(J135=\"central mix loading\",\"CP-1 EP-6\",IF(J135=\"\",\"\",\"CP-1 EP-1\"))))))","v":""},"",null,null,null,{"$f":"IF(J135=\"truck mix loading\",IF($F$137=\"yes\",L135*0.05/2000,L135/2000),\"\")","v":""},{"$f":"IF(J135=\"central mix loading\",IF($F$137=\"yes\",L135*0.05/2000,L135/2000),\"\")","v":""}]
[null,{"$f":"IF('Concrete Plant (CP-7)'!$D$4>7,\"Batching Period (Dates):\",\"\")","v":""},null,null,null,null,null,"","",null,null,null,"",""]
[null,{"$f":"IF(OR(COUNTIF(J134:J143,\"Truck Mix Loading\")>0,(COUNTIF(J134:J143,\"Central Mix Loading\")>0)),\"Is the Central/Truck Mix Loading process controlled by a baghouse?\",\"\")","v":""},null,null,null,null,null,"","",null,null,null,"",""]
[null,null,null,null,null,null,null,"","",null,null,null,"",""]
[null,{"$f":"IF(AND(B141=\"\",B142=\"\",B143=\"\",B144=\"\",B145=\"\"),\"\",\"Process (complete stack information if applicable):\")","v":""},{"$f":"IF(AND(B141=\"\",B142=\"\",B143=\"\",B144=\"\",B145=\"\"),\"\",\"Stack Height (ft):\")","v":""},{"$f":"IF(AND(B141=\"\",B142=\"\",B143=\"\",B144=\"\",B145=\"\"),\"\",\"Stack Diameter (inches):\")","v":""},{"$f":"IF(AND(B141=\"\",B142=\"\",B143=\"\",B144=\"\",B145=\"\"),\"\",\"Flow Rate (acfm):\")","v":""},{"$f":"IF(AND(B141=\"\",B142=\"\",B143=\"\",B144=\"\",B145=\"\"),\"\",\"Temp (Deg F):\")","v":""},null,"","",null,null,null,"",""]
[null,null,null,null,null,null,null,"","",null,null,null,"",""]
[null,{"$f":"IF(COUNTIF(J134:J143,\"Cement Delivery to Silo\")>0,\"EP-2 Cement Silo Stack:\",\"\")","v":""},null,null,null,null,null,"","",null,null,null,"",""]
[null,{"$f":"IF(COUNTIF(J134:J143,\"Cement Supplement Delivery to Silo\")>0,\"EP-3 Cement Supplement Silo Stack:\",\"\")","v":""},null,null,null,null,null,"","",null,null,null,"",""]
[null,{"$f":"IF(COUNTIF(J134:J143,\"Weigh Hopper Loading\")>0,\"EP-4 Weigh Hopper Loading Stack:\",\"\")","v":""},null,null,null,null,null,"","",null,null,null,"",""]
[null,{"$f":"IF(COUNTIF(J134:J143,\"Truck Mix Loading\")>0,\"EP-5 Truck Mix Loading Stack:\",\"\")","v":""}]
[null,{"$f":"IF(COUNTIF(J134:J143,\"Central Mix Loading\")>0,\"EP-6 Central Mix Loading Stack:\",\"\")","v":""},null,null,null,null,null,{"$f":"IF('Concrete Plant (CP-7)'!$D$4>7,\"Stock Pile Area\",\"\")","v":""}]
[null,null,null,null,null,null,null,null,{"$f":"IF('Concrete Plant (CP-7)'!$D$4>7,\"Emission Unit #\",\"\")","v":""},{"$f":"IF('Concrete Plant (CP-7)'!$D$4>7,\"Maximum Storage Area (acres)\",\"\")","v":""},{"$f":"IF('Concrete Plant (CP-7)'!$D$4>7,\"Actual Storage Area (acres)\",\"\")","v":""},{"$f":"IF('Concrete Plant (CP-7)'!$D$4>7,\"Actual Days in Existence (days)\",\"\")","v":""}]
[]
[]
[null,{"$f":"IF('Concrete Plant (CP-7)'!$D$4>8,\"Batch Plant\",\"\")","v":""},{"$f":"IF('Concrete Plant (CP-7)'!$D$4>8,\"Site 9\",\"\")","v":""},null,null,null,null,{"$f":"IF('Concrete Plant (CP-7)'!$D$4>8,\"Emission Point #\",\"\")","v":""},{"$f":"IF('Concrete Plant (CP-7)'!$D$4>8,\"Emission     Unit #\",\"\")","v":""},{"$f":"IF('Concrete Plant (CP-7)'!$D$4>8,\"Processes\",\"\")","v":""},{"$f":"IF('Concrete Plant (CP-7)'!$D$4>8,\"Combined Maximum Hourly Design Rate for all Like Processes (cubic yard/hr)\",\"\")","v":""},{"$f":"IF('Concrete Plant (CP-7)'!$D$4>8,('Facility Information'!G5&\" Annual Throughput (cubic yards)\"),\"\")","v":""}]
[null,{"$f":"IF('Concrete Plant (CP-7)'!$D$4>8,\"Site Name:\",\"\")","v":""},null,null,null,null,null,{"$f":"IF(J150=\"cement delivery to silo\",\"CP-1 EP-2\",IF(J150=\"cement supplement delivery to silo\",\"CP-1 EP-3\",IF(J150=\"weigh hopper loading\",\"CP-1 EP-4\",IF(J150=\"truck mix loading\",\"CP-1 EP-5\",IF(J150=\"central mix loading\",\"CP-1 EP-6\",IF(J150=\"\",\"\",\"CP-1 EP-1\"))))))","v":""},{"$f":"IF(J150=\"\",\"\",IF(J150=\"aggregate delivery to ground storage\",\"CP-7 EU-1\",IF(J150=\"sand delivery to ground storage\",\"CP-7 EU-2\",IF(J150=\"aggregate transfer to conveyor\",\"CP-7 EU-3\",IF(J150=\"sand transfer to conveyor\",\"CP-7 EU-4\",IF(J150=\"aggregate transfer to elevated storage\",\"CP-7 EU-5\",IF(J150=\"sand transfer to elevated storage\",\"CP-7 EU-6\",IF(J150=\"weigh hopper loading\",\"CP-7 EU-7\",IF(J150=\"central mix loading\",\"CP-7 EU-8\",IF(J150=\"truck mix loading\",\"CP-7 EU-9\",IF(J150=\"cement delivery to silo\",\"CP-7 EU-10\",IF(J150=\"cement supplement delivery to silo\",\"CP-7 EU-11\"))))))))))))","v":""},null,null,null,{"$f":"IF(J150=\"truck mix loading\",IF($F$153=\"yes\",L150*0.05/2000,L150/2000),\"\")","v":""},{"$f":"IF(J150=\"central mix loading\",IF($F$153=\"yes\",L150*0.05/2000,L150/2000),\"\")","v":""}]
[null,{"$f":"IF('Concrete Plant (CP-7)'!$D$4>8,\"County:\",\"\")","v":""},null,null,null,null,null,{"$f":"IF(J151=\"cement delivery to silo\",\"CP-1 EP-2\",IF(J151=\"cement supplement delivery to silo\",\"CP-1 EP-3\",IF(J151=\"weigh hopper loading\",\"CP-1 EP-4\",IF(J151=\"truck mix loading\",\"CP-1 EP-5\",IF(J151=\"central mix loading\",\"CP-1 EP-6\",IF(J151=\"\",\"\",\"CP-1 EP-1\"))))))","v":""},"",null,null,null,{"$f":"IF(J151=\"truck mix loading\",IF($F$153=\"yes\",L151*0.05/2000,L151/2000),\"\")","v":""},{"$f":"IF(J151=\"central mix loading\",IF($F$153=\"yes\",L151*0.05/2000,L151/2000),\"\")","v":""}]
[null,{"$f":"IF('Concrete Plant (CP-7)'!$D$4>8,\"Batching Period (Dates):\",\"\")","v":""},null,null,null,null,null,"","",null,null,null,"",""]
[null,{"$f":"IF(OR(COUNTIF(J150:J159,\"Truck Mix Loading\")>0,(COUNTIF(J150:J159,\"Central Mix Loading\")>0)),\"Is the Central/Truck Mix Loading process controlled by a baghouse?\",\"\")","v":""},null,null,null,null,null,"","",null,null,null,"",""]
[null,null,null,null,null,null,null,"","",null,null,null,"",""]
[null,{"$f":"IF(AND(B157=\"\",B158=\"\",B159=\"\",B160=\"\",B161=\"\"),\"\",\"Process (complete stack information if applicable):\")","v":""},{"$f":"IF(AND(B157=\"\",B158=\"\",B159=\"\",B160=\"\",B161=\"\"),\"\",\"Stack Height (ft):\")","v":""},{"$f":"IF(AND(B157=\"\",B158=\"\",B159=\"\",B160=\"\",B161=\"\"),\"\",\"Stack Diameter (inches):\")","v":""},{"$f":"IF(AND(B157=\"\",B158=\"\",B159=\"\",B160=\"\",B161=\"\"),\"\",\"Flow Rate (acfm):\")","v":""},{"$f":"IF(AND(B157=\"\",B158=\"\",B159=\"\",B160=\"\",B161=\"\"),\"\",\"Temp (Deg F):\")","v":""},null,"","",null,null,null,"",""]
[null,null,null,null,null,null,null,"","",null,null,null,"",""]
[null,{"$f":"IF(COUNTIF(J150:J159,\"Cement Delivery to Silo\")>0,\"EP-2 Cement Silo Stack:\",\"\")","v":""},null,null,null,null,null,"","",null,null,null,"",""]
[null,{"$f":"IF(COUNTIF(J150:J159,\"Cement Supplement Delivery to Silo\")>0,\"EP-3 Cement Supplement Silo Stack:\",\"\")","v":""},null,null,null,null,null,"","",null,null,null,"",""]
[null,{"$f":"IF(COUNTIF(J150:J159,\"Weigh Hopper Loading\")>0,\"EP-4 Weigh Hopper Loading Stack:\",\"\")","v":""},null,null,null,null,null,"","",null,null,null,"",""]
[null,{"$f":"IF(COUNTIF(J150:J159,\"Truck Mix Loading\")>0,\"EP-5 Truck Mix Loading Stack:\",\"\")","v":""}]
[null,{"$f":"IF(COUNTIF(J150:J159,\"Central Mix Loading\")>0,\"EP-6 Central Mix Loading Stack:\",\"\")","v":""},null,null,null,null,null,{"$f":"IF('Concrete Plant (CP-7)'!$D$4>8,\"Stock Pile Area\",\"\")","v":""}]
[null,null,null,null,null,null,null,null,{"$f":"IF('Concrete Plant (CP-7)'!$D$4>8,\"Emission Unit #\",\"\")","v":""},{"$f":"IF('Concrete Plant (CP-7)'!$D$4>8,\"Maximum Storage Area (acres)\",\"\")","v":""},{"$f":"IF('Concrete Plant (CP-7)'!$D$4>8,\"Actual Storage Area (acres)\",\"\")","v":""},{"$f":"IF('Concrete Plant (CP-7)'!$D$4>8,\"Actual Days in Existence (days)\",\"\")","v":""}]
[]
[]
[null,{"$f":"IF('Concrete Plant (CP-7)'!$D$4>9,\"Batch Plant\",\"\")","v":""},{"$f":"IF('Concrete Plant (CP-7)'!$D$4>9,\"Site 10\",\"\")","v":""},null,null,null,null,{"$f":"IF('Concrete Plant (CP-7)'!$D$4>9,\"Emission Point #\",\"\")","v":""},{"$f":"IF('Concrete Plant (CP-7)'!$D$4>9,\"Emission     Unit #\",\"\")","v":""},{"$f":"IF('Concrete Plant (CP-7)'!$D$4>9,\"Processes\",\"\")","v":""},{"$f":"IF('Concrete Plant (CP-7)'!$D$4>9,\"Combined Maximum Hourly Design Rate for all Like Processes (cubic yard/hr)\",\"\")","v":""},{"$f":"IF('Concrete Plant (CP-7)'!$D$4>9,('Facility Information'!G5&\" Annual Throughput (cubic yards)\"),\"\")","v":""}]
[null,{"$f":"IF('Concrete Plant (CP-7)'!$D$4>9,\"Site Name:\",\"\")","v":""},null,null,null,null,null,{"$f":"IF(J166=\"cement delivery to silo\",\"CP-1 EP-2\",IF(J166=\"cement supplement delivery to silo\",\"CP-1 EP-3\",IF(J166=\"weigh hopper loading\",\"CP-1 EP-4\",IF(J166=\"truck mix loading\",\"CP-1 EP-5\",IF(J166=\"central mix loading\",\"CP-1 EP-6\",IF(J166=\"\",\"\",\"CP-1 EP-1\"))))))","v":""},{"$f":"IF(J166=\"\",\"\",IF(J166=\"aggregate delivery to ground storage\",\"CP-7 EU-1\",IF(J166=\"sand delivery to ground storage\",\"CP-7 EU-2\",IF(J166=\"aggregate transfer to conveyor\",\"CP-7 EU-3\",IF(J166=\"sand transfer to conveyor\",\"CP-7 EU-4\",IF(J166=\"aggregate transfer to elevated storage\",\"CP-7 EU-5\",IF(J166=\"sand transfer to elevated storage\",\"CP-7 EU-6\",IF(J166=\"weigh hopper loading\",\"CP-7 EU-7\",IF(J166=\"central mix loading\",\"CP-7 EU-8\",IF(J166=\"truck mix loading\",\"CP-7 EU-9\",IF(J166=\"cement delivery to silo\",\"CP-7 EU-10\",IF(J166=\"cement supplement delivery to silo\",\"CP-7 EU-11\"))))))))))))","v":""},null,null,null,{"$f":"IF(J166=\"truck mix loading\",IF($F$169=\"yes\",L166*0.05/2000,L166/2000),\"\")","v":""},{"$f":"IF(J166=\"central mix loading\",IF($F$169=\"yes\",L166*0.05/2000,L166/2000),\"\")","v":""}]
[null,{"$f":"IF('Concrete Plant (CP-7)'!$D$4>9,\"County:\",\"\")","v":""},null,null,null,null,null,{"$f":"IF(J167=\"cement delivery to silo\",\"CP-1 EP-2\",IF(J167=\"cement supplement delivery to silo\",\"CP-1 EP-3\",IF(J167=\"weigh hopper loading\",\"CP-1 EP-4\",IF(J167=\"truck mix loading\",\"CP-1 EP-5\",IF(J167=\"central mix loading\",\"CP-1 EP-6\",IF(J167=\"\",\"\",\"CP-1 EP-1\"))))))","v":""},"",null,null,null,{"$f":"IF(J167=\"truck mix loading\",IF($F$169=\"yes\",L167*0.05/2000,L167/2000),\"\")","v":""},{"$f":"IF(J167=\"central mix loading\",IF($F$169=\"yes\",L167*0.05/2000,L167/2000),\"\")","v":""}]
[null,{"$f":"IF('Concrete Plant (CP-7)'!$D$4>9,\"Batching Period (Dates):\",\"\")","v":""},null,null,null,null,null,"","",null,null,null,"",""]
[null,{"$f":"IF(OR(COUNTIF(J166:J175,\"Truck Mix Loading\")>0,(COUNTIF(J166:J175,\"Central Mix Loading\")>0)),\"Is the Central/Truck Mix Loading process controlled by a baghouse?\",\"\")","v":""},null,null,null,null,null,"","",null,null,null,"",""]
[null,null,null,null,null,null,null,"","",null,null,null,"",""]
[null,{"$f":"IF(AND(B173=\"\",B174=\"\",B175=\"\",B176=\"\",B177=\"\"),\"\",\"Process (complete stack information if applicable):\")","v":""},{"$f":"IF(AND(B173=\"\",B174=\"\",B175=\"\",B176=\"\",B177=\"\"),\"\",\"Stack Height (ft):\")","v":""},{"$f":"IF(AND(B173=\"\",B174=\"\",B175=\"\",B176=\"\",B177=\"\"),\"\",\"Stack Diameter (inches):\")","v":""},{"$f":"IF(AND(B173=\"\",B174=\"\",B175=\"\",B176=\"\",B177=\"\"),\"\",\"Flow Rate (acfm):\")","v":""},{"$f":"IF(AND(B173=\"\",B174=\"\",B175=\"\",B176=\"\",B177=\"\"),\"\",\"Temp (Deg F):\")","v":""},null,"","",null,null,null,"",""]
[null,null,null,null,null,null,null,"","",null,null,null,"",""]
[null,{"$f":"IF(COUNTIF(J166:J175,\"Cement Delivery to Silo\")>0,\"EP-2 Cement Silo Stack:\",\"\")","v":""},null,null,null,null,null,"","",null,null,null,"",""]
[null,{"$f":"IF(COUNTIF(J166:J175,\"Cement Supplement Delivery to Silo\")>0,\"EP-3 Cement Supplement Silo Stack:\",\"\")","v":""},null,null,null,null,null,"","",null,null,null,"",""]
[null,{"$f":"IF(COUNTIF(J166:J175,\"Weigh Hopper Loading\")>0,\"EP-4 Weigh Hopper Loading Stack:\",\"\")","v":""},null,null,null,null,null,"","",null,null,null,"",""]
[null,{"$f":"IF(COUNTIF(J166:J175,\"Truck Mix Loading\")>0,\"EP-5 Truck Mix Loading Stack:\",\"\")","v":""}]
[null,{"$f":"IF(COUNTIF(J166:J175,\"Central Mix Loading\")>0,\"EP-6 Central Mix Loading Stack:\",\"\")","v":""},null,null,null,null,null,{"$f":"IF('Concrete Plant (CP-7)'!$D$4>9,\"Stock Pile Area\",\"\")","v":""}]
[null,null,null,null,null,null,null,null,{"$f":"IF('Concrete Plant (CP-7)'!$D$4>9,\"Emission Unit #\",\"\")","v":""},{"$f":"IF('Concrete Plant (CP-7)'!$D$4>9,\"Maximum Storage Area (acres)\",\"\")","v":""},{"$f":"IF('Concrete Plant (CP-7)'!$D$4>9,\"Actual Storage Area (acres)\",\"\")","v":""},{"$f":"IF('Concrete Plant (CP-7)'!$D$4>9,\"Actual Days in Existence (days)\",\"\")","v":""}]
[]
[]
[null,null,null,null,null,null,null,null,null,null,null,null,{"$f":"SUM(M166:M175,M150:M159,M134:M143,M118:M127,M102:M111,M85:M94,M69:M78,M53:M62,M38:M47,M21:M30)","v":0},{"$f":"SUM(N166:N175,N150:N159,N134:N143,N118:N127,N102:N111,N85:N94,N69:N78,N53:N62,N38:N47,N21:N30)","v":0}]

{"sheet":"Concrete Plant (CP-8)","index":8,"n_rows":181,"n_cols":23,"rows_kept":181,"cut":false,"hidden":true,"merged":[]}
[null,"CONCRETE BATCH PLANT (CP-8)"]
[null,"Please fill in the yellow boxes as applicable for your facility. ",null,null,null,null,null,null,null,null,null,"Values used for calculating emissions →",null,null,null,"Values Used to Calculate Actual Emissions for the Listed Processes at this Plant"]
[null,null,null,null,null,null,null,null,null,null,null,null,null,null,null,"Process","Maximum Design Rate (cubic yards/hr)","Actual throughput (cubic yards/yr)"]
[null,{"$f":"\"Number of Sites this Plant operated at in \"&'Facility Information'!G5&\":\"","v":"Number of Sites this Plant operated at in :"},null,null,null,null,null,null,null,null,null,null,null,null,null,"Aggregate Delivery to Ground Storage",{"$f":"MAX((IFERROR(OFFSET($J$20,MATCH(\"Aggregate Delivery to Ground Storage\",$J$21:$J$30,0),1),0)),((IFERROR((OFFSET($J$37,MATCH(\"Aggregate Delivery to Ground Storage\",$J$38:$J$47,0),1)),0))),((IFERROR((OFFSET($J$52,MATCH(\"Aggregate Delivery to Ground Storage\",$J$53:$J$62,0),1)),0))),((IFERROR((OFFSET($J$68,MATCH(\"Aggregate Delivery to Ground Storage\",$J$69:$J$78,0),1)),0))),((IFERROR((OFFSET($J$84,MATCH(\"Aggregate Delivery to Ground Storage\",$J$85:$J$94,0),1)),0))),((IFERROR((OFFSET($J$101,MATCH(\"Aggregate Delivery to Ground Storage\",$J$102:$J$111,0),1)),0))),((IFERROR((OFFSET($J$117,MATCH(\"Aggregate Delivery to Ground Storage\",$J$118:$J$127,0),1)),0))),((IFERROR((OFFSET($J$133,MATCH(\"Aggregate Delivery to Ground Storage\",$J$134:$J$143,0),1)),0))),((IFERROR((OFFSET($J$149,MATCH(\"Aggregate Delivery to Ground Storage\",$J$150:$J$159,0),1)),0))),((IFERROR((OFFSET($J$165,MATCH(\"Aggregate Delivery to Ground Storage\",$J$166:$J$175,0),1)),0))),)","v":0},{"$f":"SUM((IFERROR(OFFSET($J$20,MATCH(\"Aggregate Delivery to Ground Storage\",$J$21:$J$30,0),2),0)),((IFERROR((OFFSET($J$37,MATCH(\"Aggregate Delivery to Ground Storage\",$J$38:$J$47,0),2)),0))),((IFERROR((OFFSET($J$52,MATCH(\"Aggregate Delivery to Ground Storage\",$J$53:$J$62,0),2)),0))),((IFERROR((OFFSET($J$68,MATCH(\"Aggregate Delivery to Ground Storage\",$J$69:$J$78,0),2)),0))),((IFERROR((OFFSET($J$84,MATCH(\"Aggregate Delivery to Ground Storage\",$J$85:$J$94,0),2)),0))),((IFERROR((OFFSET($J$101,MATCH(\"Aggregate Delivery to Ground Storage\",$J$102:$J$111,0),2)),0))),((IFERROR((OFFSET($J$117,MATCH(\"Aggregate Delivery to Ground Storage\",$J$118:$J$127,0),2)),0))),((IFERROR((OFFSET($J$133,MATCH(\"Aggregate Delivery to Ground Storage\",$J$134:$J$143,0),2)),0))),((IFERROR((OFFSET($J$149,MATCH(\"Aggregate Delivery to Ground Storage\",$J$150:$J$159,0),2)),0))),((IFERROR((OFFSET($J$165,MATCH(\"Aggregate Delivery to Ground Storage\",$J$166:$J$175,0),2)),0))),)","v":0},"** As of 2016 Potential Emissions are no longer required to be reported in the Minor Source Emissions Inventory**"]
[null,null,null,null,null,null,null,null,null,null,null,null,null,null,null,"Sand Delivery to Ground Storage",{"$f":"MAX((IFERROR(OFFSET($J$20,MATCH(\"Sand Delivery to Ground Storage\",$J$21:$J$30,0),1),0)),((IFERROR((OFFSET($J$37,MATCH(\"Sand Delivery to Ground Storage\",$J$38:$J$47,0),1)),0))),((IFERROR((OFFSET($J$52,MATCH(\"Sand Delivery to Ground Storage\",$J$53:$J$62,0),1)),0))),((IFERROR((OFFSET($J$68,MATCH(\"Sand Delivery to Ground Storage\",$J$69:$J$78,0),1)),0))),((IFERROR((OFFSET($J$84,MATCH(\"Sand Delivery to Ground Storage\",$J$85:$J$94,0),1)),0))),((IFERROR((OFFSET($J$101,MATCH(\"Sand Delivery to Ground Storage\",$J$102:$J$111,0),1)),0))),((IFERROR((OFFSET($J$117,MATCH(\"Sand Delivery to Ground Storage\",$J$118:$J$127,0),1)),0))),((IFERROR((OFFSET($J$133,MATCH(\"Sand Delivery to Ground Storage\",$J$134:$J$143,0),1)),0))),((IFERROR((OFFSET($J$149,MATCH(\"Sand Delivery to Ground Storage\",$J$150:$J$159,0),1)),0))),((IFERROR((OFFSET($J$165,MATCH(\"Sand Delivery to Ground Storage\",$J$166:$J$175,0),1)),0))),)","v":0},{"$f":"SUM((IFERROR(OFFSET($J$20,MATCH(\"Sand Delivery to Ground Storage\",$J$21:$J$30,0),2),0)),((IFERROR((OFFSET($J$37,MATCH(\"Sand Delivery to Ground Storage\",$J$38:$J$47,0),2)),0))),((IFERROR((OFFSET($J$52,MATCH(\"Sand Delivery to Ground Storage\",$J$53:$J$62,0),2)),0))),((IFERROR((OFFSET($J$68,MATCH(\"Sand Delivery to Ground Storage\",$J$69:$J$78,0),2)),0))),((IFERROR((OFFSET($J$84,MATCH(\"Sand Delivery to Ground Storage\",$J$85:$J$94,0),2)),0))),((IFERROR((OFFSET($J$101,MATCH(\"Sand Delivery to Ground Storage\",$J$102:$J$111,0),2)),0))),((IFERROR((OFFSET($J$117,MATCH(\"Sand Delivery to Ground Storage\",$J$118:$J$127,0),2)),0))),((IFERROR((OFFSET($J$133,MATCH(\"Sand Delivery to Ground Storage\",$J$134:$J$143,0),2)),0))),((IFERROR((OFFSET($J$149,MATCH(\"Sand Delivery to Ground Storage\",$J$150:$J$159,0),2)),0))),((IFERROR((OFFSET($J$165,MATCH(\"Sand Delivery to Ground Storage\",$J$166:$J$175,0),2)),0))),)","v":0}]
[null,"Plant Specific Permit Number: ",null,null,null,null,null,null,null,null,null,null,null,null,null,"Aggregate Transfer to Conveyor",{"$f":"MAX((IFERROR(OFFSET($J$20,MATCH(\"Aggregate Transfer to Conveyor\",$J$21:$J$30,0),1),0)),((IFERROR((OFFSET($J$37,MATCH(\"Aggregate Transfer to Conveyor\",$J$38:$J$47,0),1)),0))),((IFERROR((OFFSET($J$52,MATCH(\"Aggregate Transfer to Conveyor\",$J$53:$J$62,0),1)),0))),((IFERROR((OFFSET($J$68,MATCH(\"Aggregate Transfer to Conveyor\",$J$69:$J$78,0),1)),0))),((IFERROR((OFFSET($J$84,MATCH(\"Aggregate Transfer to Conveyor\",$J$85:$J$94,0),1)),0))),((IFERROR((OFFSET($J$101,MATCH(\"Aggregate Transfer to Conveyor\",$J$102:$J$111,0),1)),0))),((IFERROR((OFFSET($J$117,MATCH(\"Aggregate Transfer to Conveyor\",$J$118:$J$127,0),1)),0))),((IFERROR((OFFSET($J$133,MATCH(\"Aggregate Transfer to Conveyor\",$J$134:$J$143,0),1)),0))),((IFERROR((OFFSET($J$149,MATCH(\"Aggregate Transfer to Conveyor\",$J$150:$J$159,0),1)),0))),((IFERROR((OFFSET($J$165,MATCH(\"Aggregate Transfer to Conveyor\",$J$166:$J$175,0),1)),0))),)","v":0},{"$f":"SUM((IFERROR(OFFSET($J$20,MATCH(\"Aggregate Transfer to Conveyor\",$J$21:$J$30,0),2),0)),((IFERROR((OFFSET($J$37,MATCH(\"Aggregate Transfer to Conveyor\",$J$38:$J$47,0),2)),0))),((IFERROR((OFFSET($J$52,MATCH(\"Aggregate Transfer to Conveyor\",$J$53:$J$62,0),2)),0))),((IFERROR((OFFSET($J$68,MATCH(\"Aggregate Transfer to Conveyor\",$J$69:$J$78,0),2)),0))),((IFERROR((OFFSET($J$84,MATCH(\"Aggregate Transfer to Conveyor\",$J$85:$J$94,0),2)),0))),((IFERROR((OFFSET($J$101,MATCH(\"Aggregate Transfer to Conveyor\",$J$102:$J$111,0),2)),0))),((IFERROR((OFFSET($J$117,MATCH(\"Aggregate Transfer to Conveyor\",$J$118:$J$127,0),2)),0))),((IFERROR((OFFSET($J$133,MATCH(\"Aggregate Transfer to Conveyor\",$J$134:$J$143,0),2)),0))),((IFERROR((OFFSET($J$149,MATCH(\"Aggregate Transfer to Conveyor\",$J$150:$J$159,0),2)),0))),((IFERROR((OFFSET($J$165,MATCH(\"Aggregate Transfer to Conveyor\",$J$166:$J$175,0),2)),0))),)","v":0}]
[null,null,null,null,null,null,null,null,null,null,null,null,null,null,null,"Sand Transfer to Conveyor",{"$f":"MAX((IFERROR(OFFSET($J$20,MATCH(\"Sand Transfer to Conveyor\",$J$21:$J$30,0),1),0)),((IFERROR((OFFSET($J$37,MATCH(\"Sand Transfer to Conveyor\",$J$38:$J$47,0),1)),0))),((IFERROR((OFFSET($J$52,MATCH(\"Sand Transfer to Conveyor\",$J$53:$J$62,0),1)),0))),((IFERROR((OFFSET($J$68,MATCH(\"Sand Transfer to Conveyor\",$J$69:$J$78,0),1)),0))),((IFERROR((OFFSET($J$84,MATCH(\"Sand Transfer to Conveyor\",$J$85:$J$94,0),1)),0))),((IFERROR((OFFSET($J$101,MATCH(\"Sand Transfer to Conveyor\",$J$102:$J$111,0),1)),0))),((IFERROR((OFFSET($J$117,MATCH(\"Sand Transfer to Conveyor\",$J$118:$J$127,0),1)),0))),((IFERROR((OFFSET($J$133,MATCH(\"Sand Transfer to Conveyor\",$J$134:$J$143,0),1)),0))),((IFERROR((OFFSET($J$149,MATCH(\"Sand Transfer to Conveyor\",$J$150:$J$159,0),1)),0))),((IFERROR((OFFSET($J$165,MATCH(\"Sand Transfer to Conveyor\",$J$166:$J$175,0),1)),0))),)","v":0},{"$f":"SUM((IFERROR(OFFSET($J$20,MATCH(\"Sand Transfer to Conveyor\",$J$21:$J$30,0),2),0)),((IFERROR((OFFSET($J$37,MATCH(\"Sand Transfer to Conveyor\",$J$38:$J$47,0),2)),0))),((IFERROR((OFFSET($J$52,MATCH(\"Sand Transfer to Conveyor\",$J$53:$J$62,0),2)),0))),((IFERROR((OFFSET($J$68,MATCH(\"Sand Transfer to Conveyor\",$J$69:$J$78,0),2)),0))),((IFERROR((OFFSET($J$84,MATCH(\"Sand Transfer to Conveyor\",$J$85:$J$94,0),2)),0))),((IFERROR((OFFSET($J$101,MATCH(\"Sand Transfer to Conveyor\",$J$102:$J$111,0),2)),0))),((IFERROR((OFFSET($J$117,MATCH(\"Sand Transfer to Conveyor\",$J$118:$J$127,0),2)),0))),((IFERROR((OFFSET($J$133,MATCH(\"Sand Transfer to Conveyor\",$J$134:$J$143,0),2)),0))),((IFERROR((OFFSET($J$149,MATCH(\"Sand Transfer to Conveyor\",$J$150:$J$159,0),2)),0))),((IFERROR((OFFSET($J$165,MATCH(\"Sand Transfer to Conveyor\",$J$166:$J$175,0),2)),0))),)","v":0}]
[null,"Plant Specific Operating Limits:",null,null,null,null,null,"Plant Specific Emission Limits:",null,null,null,null,null,null,null,"Aggregate Transfer to Elevated Storage",{"$f":"MAX((IFERROR(OFFSET($J$20,MATCH(\"Aggregate Transfer to Elevated Storage\",$J$21:$J$30,0),1),0)),((IFERROR((OFFSET($J$37,MATCH(\"Aggregate Transfer to Elevated Storage\",$J$38:$J$47,0),1)),0))),((IFERROR((OFFSET($J$52,MATCH(\"Aggregate Transfer to Elevated Storage\",$J$53:$J$62,0),1)),0))),((IFERROR((OFFSET($J$68,MATCH(\"Aggregate Transfer to Elevated Storage\",$J$69:$J$78,0),1)),0))),((IFERROR((OFFSET($J$84,MATCH(\"Aggregate Transfer to Elevated Storage\",$J$85:$J$94,0),1)),0))),((IFERROR((OFFSET($J$101,MATCH(\"Aggregate Transfer to Elevated Storage\",$J$102:$J$111,0),1)),0))),((IFERROR((OFFSET($J$117,MATCH(\"Aggregate Transfer to Elevated Storage\",$J$118:$J$127,0),1)),0))),((IFERROR((OFFSET($J$133,MATCH(\"Aggregate Transfer to Elevated Storage\",$J$134:$J$143,0),1)),0))),((IFERROR((OFFSET($J$149,MATCH(\"Aggregate Transfer to Elevated Storage\",$J$150:$J$159,0),1)),0))),((IFERROR((OFFSET($J$165,MATCH(\"Aggregate Transfer to Elevated Storage\",$J$166:$J$175,0),1)),0))),)","v":0},{"$f":"SUM((IFERROR(OFFSET($J$20,MATCH(\"Aggregate Transfer to Elevated Storage\",$J$21:$J$30,0),2),0)),((IFERROR((OFFSET($J$37,MATCH(\"Aggregate Transfer to Elevated Storage\",$J$38:$J$47,0),2)),0))),((IFERROR((OFFSET($J$52,MATCH(\"Aggregate Transfer to Elevated Storage\",$J$53:$J$62,0),2)),0))),((IFERROR((OFFSET($J$68,MATCH(\"Aggregate Transfer to Elevated Storage\",$J$69:$J$78,0),2)),0))),((IFERROR((OFFSET($J$84,MATCH(\"Aggregate Transfer to Elevated Storage\",$J$85:$J$94,0),2)),0))),((IFERROR((OFFSET($J$101,MATCH(\"Aggregate Transfer to Elevated Storage\",$J$102:$J$111,0),2)),0))),((IFERROR((OFFSET($J$117,MATCH(\"Aggregate Transfer to Elevated Storage\",$J$118:$J$127,0),2)),0))),((IFERROR((OFFSET($J$133,MATCH(\"Aggregate Transfer to Elevated Storage\",$J$134:$J$143,0),2)),0))),((IFERROR((OFFSET($J$149,MATCH(\"Aggregate Transfer to Elevated Storage\",$J$150:$J$159,0),2)),0))),((IFERROR((OFFSET($J$165,MATCH(\"Aggregate Transfer to Elevated Storage\",$J$166:$J$175,0),2)),0))),)","v":0}]
[null,"Throughput Limit (cubic yards/yr):",null,null,null,null,null,"Pollutant","lb/hr","tons/yr",null,null,null,null,null,"Sand Transfer to Elevated Storage",{"$f":"MAX((IFERROR(OFFSET($J$20,MATCH(\"Sand Transfer to Elevated Storage\",$J$21:$J$30,0),1),0)),((IFERROR((OFFSET($J$37,MATCH(\"Sand Transfer to Elevated Storage\",$J$38:$J$47,0),1)),0))),((IFERROR((OFFSET($J$52,MATCH(\"Sand Transfer to Elevated Storage\",$J$53:$J$62,0),1)),0))),((IFERROR((OFFSET($J$68,MATCH(\"Sand Transfer to Elevated Storage\",$J$69:$J$78,0),1)),0))),((IFERROR((OFFSET($J$84,MATCH(\"Sand Transfer to Elevated Storage\",$J$85:$J$94,0),1)),0))),((IFERROR((OFFSET($J$101,MATCH(\"Sand Transfer to Elevated Storage\",$J$102:$J$111,0),1)),0))),((IFERROR((OFFSET($J$117,MATCH(\"Sand Transfer to Elevated Storage\",$J$118:$J$127,0),1)),0))),((IFERROR((OFFSET($J$133,MATCH(\"Sand Transfer to Elevated Storage\",$J$134:$J$143,0),1)),0))),((IFERROR((OFFSET($J$149,MATCH(\"Sand Transfer to Elevated Storage\",$J$150:$J$159,0),1)),0))),((IFERROR((OFFSET($J$165,MATCH(\"Sand Transfer to Elevated Storage\",$J$166:$J$175,0),1)),0))),)","v":0},{"$f":"SUM((IFERROR(OFFSET($J$20,MATCH(\"Sand Transfer to Elevated Storage\",$J$21:$J$30,0),2),0)),((IFERROR((OFFSET($J$37,MATCH(\"Sand Transfer to Elevated Storage\",$J$38:$J$47,0),2)),0))),((IFERROR((OFFSET($J$52,MATCH(\"Sand Transfer to Elevated Storage\",$J$53:$J$62,0),2)),0))),((IFERROR((OFFSET($J$68,MATCH(\"Sand Transfer to Elevated Storage\",$J$69:$J$78,0),2)),0))),((IFERROR((OFFSET($J$84,MATCH(\"Sand Transfer to Elevated Storage\",$J$85:$J$94,0),2)),0))),((IFERROR((OFFSET($J$101,MATCH(\"Sand Transfer to Elevated Storage\",$J$102:$J$111,0),2)),0))),((IFERROR((OFFSET($J$117,MATCH(\"Sand Transfer to Elevated Storage\",$J$118:$J$127,0),2)),0))),((IFERROR((OFFSET($J$133,MATCH(\"Sand Transfer to Elevated Storage\",$J$134:$J$143,0),2)),0))),((IFERROR((OFFSET($J$149,MATCH(\"Sand Transfer to Elevated Storage\",$J$150:$J$159,0),2)),0))),((IFERROR((OFFSET($J$165,MATCH(\"Sand Transfer to Elevated Storage\",$J$166:$J$175,0),2)),0))),)","v":0}]
[null,"Daily Throughput Limit (cubic yards/day):",null,null,null,null,null,"PM2.5",null,null,null,null,null,null,null,"Weigh Hopper Loading",{"$f":"MAX((IFERROR(OFFSET($J$20,MATCH(\"Weigh Hopper Loading\",$J$21:$J$30,0),1),0)),((IFERROR((OFFSET($J$37,MATCH(\"Weigh Hopper Loading\",$J$38:$J$47,0),1)),0))),((IFERROR((OFFSET($J$52,MATCH(\"Weigh Hopper Loading\",$J$53:$J$62,0),1)),0))),((IFERROR((OFFSET($J$68,MATCH(\"Weigh Hopper Loading\",$J$69:$J$78,0),1)),0))),((IFERROR((OFFSET($J$84,MATCH(\"Weigh Hopper Loading\",$J$85:$J$94,0),1)),0))),((IFERROR((OFFSET($J$101,MATCH(\"Weigh Hopper Loading\",$J$102:$J$111,0),1)),0))),((IFERROR((OFFSET($J$117,MATCH(\"Weigh Hopper Loading\",$J$118:$J$127,0),1)),0))),((IFERROR((OFFSET($J$133,MATCH(\"Weigh Hopper Loading\",$J$134:$J$143,0),1)),0))),((IFERROR((OFFSET($J$149,MATCH(\"Weigh Hopper Loading\",$J$150:$J$159,0),1)),0))),((IFERROR((OFFSET($J$165,MATCH(\"Weigh Hopper Loading\",$J$166:$J$175,0),1)),0))),)","v":0},{"$f":"SUM((IFERROR(OFFSET($J$20,MATCH(\"Weigh Hopper Loading\",$J$21:$J$30,0),2),0)),((IFERROR((OFFSET($J$37,MATCH(\"Weigh Hopper Loading\",$J$38:$J$47,0),2)),0))),((IFERROR((OFFSET($J$52,MATCH(\"Weigh Hopper Loading\",$J$53:$J$62,0),2)),0))),((IFERROR((OFFSET($J$68,MATCH(\"Weigh Hopper Loading\",$J$69:$J$78,0),2)),0))),((IFERROR((OFFSET($J$84,MATCH(\"Weigh Hopper Loading\",$J$85:$J$94,0),2)),0))),((IFERROR((OFFSET($J$101,MATCH(\"Weigh Hopper Loading\",$J$102:$J$111,0),2)),0))),((IFERROR((OFFSET($J$117,MATCH(\"Weigh Hopper Loading\",$J$118:$J$127,0),2)),0))),((IFERROR((OFFSET($J$133,MATCH(\"Weigh Hopper Loading\",$J$134:$J$143,0),2)),0))),((IFERROR((OFFSET($J$149,MATCH(\"Weigh Hopper Loading\",$J$150:$J$159,0),2)),0))),((IFERROR((OFFSET($J$165,MATCH(\"Weigh Hopper Loading\",$J$166:$J$175,0),2)),0))),)","v":0}]
[null,"Hours of Operation Limit (hours/day):",null,null,null,null,null,"PM10",null,null,null,null,null,null,null,"Central Mix Loading",{"$f":"MAX((IFERROR(OFFSET($J$20,MATCH(\"Central Mix Loading\",$J$21:$J$30,0),1),0)),((IFERROR((OFFSET($J$37,MATCH(\"Central Mix Loading\",$J$38:$J$47,0),1)),0))),((IFERROR((OFFSET($J$52,MATCH(\"Central Mix Loading\",$J$53:$J$62,0),1)),0))),((IFERROR((OFFSET($J$68,MATCH(\"Central Mix Loading\",$J$69:$J$78,0),1)),0))),((IFERROR((OFFSET($J$84,MATCH(\"Central Mix Loading\",$J$85:$J$94,0),1)),0))),((IFERROR((OFFSET($J$101,MATCH(\"Central Mix Loading\",$J$102:$J$111,0),1)),0))),((IFERROR((OFFSET($J$117,MATCH(\"Central Mix Loading\",$J$118:$J$127,0),1)),0))),((IFERROR((OFFSET($J$133,MATCH(\"Central Mix Loading\",$J$134:$J$143,0),1)),0))),((IFERROR((OFFSET($J$149,MATCH(\"Central Mix Loading\",$J$150:$J$159,0),1)),0))),((IFERROR((OFFSET($J$165,MATCH(\"Central Mix Loading\",$J$166:$J$175,0),1)),0))),)","v":0},{"$f":"SUM((IFERROR(OFFSET($J$20,MATCH(\"Central Mix Loading\",$J$21:$J$30,0),2),0)),((IFERROR((OFFSET($J$37,MATCH(\"Central Mix Loading\",$J$38:$J$47,0),2)),0))),((IFERROR((OFFSET($J$52,MATCH(\"Central Mix Loading\",$J$53:$J$62,0),2)),0))),((IFERROR((OFFSET($J$68,MATCH(\"Central Mix Loading\",$J$69:$J$78,0),2)),0))),((IFERROR((OFFSET($J$84,MATCH(\"Central Mix Loading\",$J$85:$J$94,0),2)),0))),((IFERROR((OFFSET($J$101,MATCH(\"Central Mix Loading\",$J$102:$J$111,0),2)),0))),((IFERROR((OFFSET($J$117,MATCH(\"Central Mix Loading\",$J$118:$J$127,0),2)),0))),((IFERROR((OFFSET($J$133,MATCH(\"Central Mix Loading\",$J$134:$J$143,0),2)),0))),((IFERROR((OFFSET($J$149,MATCH(\"Central Mix Loading\",$J$150:$J$159,0),2)),0))),((IFERROR((OFFSET($J$165,MATCH(\"Central Mix Loading\",$J$166:$J$175,0),2)),0))),)","v":0}]
[null,"Note: if the plant has an hrs/day and a cubic yards/hr permit limit,",null,null,null,null,null,"SO2",null,null,null,null,null,null,null,"Truck Mix Loading",{"$f":"MAX((IFERROR(OFFSET($J$20,MATCH(\"Truck Mix Loading\",$J$21:$J$30,0),1),0)),((IFERROR((OFFSET($J$37,MATCH(\"Truck Mix Loading\",$J$38:$J$47,0),1)),0))),((IFERROR((OFFSET($J$52,MATCH(\"Truck Mix Loading\",$J$53:$J$62,0),1)),0))),((IFERROR((OFFSET($J$68,MATCH(\"Truck Mix Loading\",$J$69:$J$78,0),1)),0))),((IFERROR((OFFSET($J$84,MATCH(\"Truck Mix Loading\",$J$85:$J$94,0),1)),0))),((IFERROR((OFFSET($J$101,MATCH(\"Truck Mix Loading\",$J$102:$J$111,0),1)),0))),((IFERROR((OFFSET($J$117,MATCH(\"Truck Mix Loading\",$J$118:$J$127,0),1)),0))),((IFERROR((OFFSET($J$133,MATCH(\"Truck Mix Loading\",$J$134:$J$143,0),1)),0))),((IFERROR((OFFSET($J$149,MATCH(\"Truck Mix Loading\",$J$150:$J$159,0),1)),0))),((IFERROR((OFFSET($J$165,MATCH(\"Truck Mix Loading\",$J$166:$J$175,0),1)),0))),)","v":0},{"$f":"SUM((IFERROR(OFFSET($J$20,MATCH(\"Truck Mix Loading\",$J$21:$J$30,0),2),0)),((IFERROR((OFFSET($J$37,MATCH(\"Truck Mix Loading\",$J$38:$J$47,0),2)),0))),((IFERROR((OFFSET($J$52,MATCH(\"Truck Mix Loading\",$J$53:$J$62,0),2)),0))),((IFERROR((OFFSET($J$68,MATCH(\"Truck Mix Loading\",$J$69:$J$78,0),2)),0))),((IFERROR((OFFSET($J$84,MATCH(\"Truck Mix Loading\",$J$85:$J$94,0),2)),0))),((IFERROR((OFFSET($J$101,MATCH(\"Truck Mix Loading\",$J$102:$J$111,0),2)),0))),((IFERROR((OFFSET($J$117,MATCH(\"Truck Mix Loading\",$J$118:$J$127,0),2)),0))),((IFERROR((OFFSET($J$133,MATCH(\"Truck Mix Loading\",$J$134:$J$143,0),2)),0))),((IFERROR((OFFSET($J$149,MATCH(\"Truck Mix Loading\",$J$150:$J$159,0),2)),0))),((IFERROR((OFFSET($J$165,MATCH(\"Truck Mix Loading\",$J$166:$J$175,0),2)),0))),)","v":0}]
[null,"those values should be multiplied together to calculate a cubic ",null,null,null,null,null,"NOx",null,null,null,null,null,null,null,"Cement Delivery to Silo",{"$f":"MAX((IFERROR(OFFSET($J$20,MATCH(\"Cement Delivery to Silo\",$J$21:$J$30,0),1),0)),((IFERROR((OFFSET($J$37,MATCH(\"Cement Delivery to Silo\",$J$38:$J$47,0),1)),0))),((IFERROR((OFFSET($J$52,MATCH(\"Cement Delivery to Silo\",$J$53:$J$62,0),1)),0))),((IFERROR((OFFSET($J$68,MATCH(\"Cement Delivery to Silo\",$J$69:$J$78,0),1)),0))),((IFERROR((OFFSET($J$84,MATCH(\"Cement Delivery to Silo\",$J$85:$J$94,0),1)),0))),((IFERROR((OFFSET($J$101,MATCH(\"Cement Delivery to Silo\",$J$102:$J$111,0),1)),0))),((IFERROR((OFFSET($J$117,MATCH(\"Cement Delivery to Silo\",$J$118:$J$127,0),1)),0))),((IFERROR((OFFSET($J$133,MATCH(\"Cement Delivery to Silo\",$J$134:$J$143,0),1)),0))),((IFERROR((OFFSET($J$149,MATCH(\"Cement Delivery to Silo\",$J$150:$J$159,0),1)),0))),((IFERROR((OFFSET($J$165,MATCH(\"Cement Delivery to Silo\",$J$166:$J$175,0),1)),0))),)","v":0},{"$f":"SUM((IFERROR(OFFSET($J$20,MATCH(\"Cement Delivery to Silo\",$J$21:$J$30,0),2),0)),((IFERROR((OFFSET($J$37,MATCH(\"Cement Delivery to Silo\",$J$38:$J$47,0),2)),0))),((IFERROR((OFFSET($J$52,MATCH(\"Cement Delivery to Silo\",$J$53:$J$62,0),2)),0))),((IFERROR((OFFSET($J$68,MATCH(\"Cement Delivery to Silo\",$J$69:$J$78,0),2)),0))),((IFERROR((OFFSET($J$84,MATCH(\"Cement Delivery to Silo\",$J$85:$J$94,0),2)),0))),((IFERROR((OFFSET($J$101,MATCH(\"Cement Delivery to Silo\",$J$102:$J$111,0),2)),0))),((IFERROR((OFFSET($J$117,MATCH(\"Cement Delivery to Silo\",$J$118:$J$127,0),2)),0))),((IFERROR((OFFSET($J$133,MATCH(\"Cement Delivery to Silo\",$J$134:$J$143,0),2)),0))),((IFERROR((OFFSET($J$149,MATCH(\"Cement Delivery to Silo\",$J$150:$J$159,0),2)),0))),((IFERROR((OFFSET($J$165,MATCH(\"Cement Delivery to Silo\",$J$166:$J$175,0),2)),0))),)","v":0}]
[null,"yards/day limit and that value should be placed in cell C10.",null,null,null,null,null,"VOC",null,null,null,null,null,null,null,"Cement Supplement Delivery to Silo",{"$f":"MAX((IFERROR(OFFSET($J$20,MATCH(\"Cement Supplement Delivery to Silo\",$J$21:$J$30,0),1),0)),((IFERROR((OFFSET($J$37,MATCH(\"Cement Supplement Delivery to Silo\",$J$38:$J$47,0),1)),0))),((IFERROR((OFFSET($J$52,MATCH(\"Cement Supplement Delivery to Silo\",$J$53:$J$62,0),1)),0))),((IFERROR((OFFSET($J$68,MATCH(\"Cement Supplement Delivery to Silo\",$J$69:$J$78,0),1)),0))),((IFERROR((OFFSET($J$84,MATCH(\"Cement Supplement Delivery to Silo\",$J$85:$J$94,0),1)),0))),((IFERROR((OFFSET($J$101,MATCH(\"Cement Supplement Delivery to Silo\",$J$102:$J$111,0),1)),0))),((IFERROR((OFFSET($J$117,MATCH(\"Cement Supplement Delivery to Silo\",$J$118:$J$127,0),1)),0))),((IFERROR((OFFSET($J$133,MATCH(\"Cement Supplement Delivery to Silo\",$J$134:$J$143,0),1)),0))),((IFERROR((OFFSET($J$149,MATCH(\"Cement Supplement Delivery to Silo\",$J$150:$J$159,0),1)),0))),((IFERROR((OFFSET($J$165,MATCH(\"Cement Supplement Delivery to Silo\",$J$166:$J$175,0),1)),0))),)","v":0},{"$f":"SUM((IFERROR(OFFSET($J$20,MATCH(\"Cement Supplement Delivery to Silo\",$J$21:$J$30,0),2),0)),((IFERROR((OFFSET($J$37,MATCH(\"Cement Supplement Delivery to Silo\",$J$38:$J$47,0),2)),0))),((IFERROR((OFFSET($J$52,MATCH(\"Cement Supplement Delivery to Silo\",$J$53:$J$62,0),2)),0))),((IFERROR((OFFSET($J$68,MATCH(\"Cement Supplement Delivery to Silo\",$J$69:$J$78,0),2)),0))),((IFERROR((OFFSET($J$84,MATCH(\"Cement Supplement Delivery to Silo\",$J$85:$J$94,0),2)),0))),((IFERROR((OFFSET($J$101,MATCH(\"Cement Supplement Delivery to Silo\",$J$102:$J$111,0),2)),0))),((IFERROR((OFFSET($J$117,MATCH(\"Cement Supplement Delivery to Silo\",$J$118:$J$127,0),2)),0))),((IFERROR((OFFSET($J$133,MATCH(\"Cement Supplement Delivery to Silo\",$J$134:$J$143,0),2)),0))),((IFERROR((OFFSET($J$149,MATCH(\"Cement Supplement Delivery to Silo\",$J$150:$J$159,0),2)),0))),((IFERROR((OFFSET($J$165,MATCH(\"Cement Supplement Delivery to Silo\",$J$166:$J$175,0),2)),0))),)","v":0}]
[null,null,null,null,null,null,null,"CO"]
[null,null,null,null,null,null,null,null,null,null,null,null,null,null,null,null,"Maximum (acres/day)","Actual (acres-day/yr)"]
[null,null,null,null,null,null,null,null,null,null,null,null,null,null,null,"Storage Pile",{"$f":"SUM(J34,J50,J66,J82,J98,J115,J131,J147,J163,J179)","v":0},{"$f":"SUM(K34*L34,K50*L50,K66*L66,K82*L82,K98*L98,K115*L115,K131*L131,K147*L147,K163*L163,K179*L179)","v":0}]
[]
[null,null,null,null,null,null,null,null,null,null,null,null,null,null,null,"Actual Emissions for the Listed Processes at this Plant"]
[null,"Batch Plant","Site 1",null,null,null,null,"Emission Point #","Emission     Unit #","Processes","Combined Maximum Hourly Design Rate for all Like Processes (cubic yard/hr)",{"$f":"('Facility Information'!G5&\" Annual Throughput (cubic yards)\")","v":" Annual Throughput (cubic yards)"},"Truck","Central",null,"PM2.5","Maximum Design Rate (cubic yards/hr)","Emission Factor (lb/cubic yard)","Potential Uncontrolled Emissions (lb/hr)","Potential Controlled Emissions (lb/hr)","Potential Annual Emissions (tons/yr)","Actual Annual Emissions (tons/yr)"]
["YES","Site Name:",null,null,null,null,null,{"$f":"IF(J21=\"cement delivery to silo\",\"CP-1 EP-2\",IF(J21=\"cement supplement delivery to silo\",\"CP-1 EP-3\",IF(J21=\"weigh hopper loading\",\"CP-1 EP-4\",IF(J21=\"truck mix loading\",\"CP-1 EP-5\",IF(J21=\"central mix loading\",\"CP-1 EP-6\",IF(J21=\"\",\"\",\"CP-1 EP-1\"))))))","v":""},{"$f":"IF(J21=\"\",\"\",IF(J21=\"aggregate delivery to ground storage\",\"CP-8 EU-1\",IF(J21=\"sand delivery to ground storage\",\"CP-8 EU-2\",IF(J21=\"aggregate transfer to conveyor\",\"CP-8 EU-3\",IF(J21=\"sand transfer to conveyor\",\"CP-8 EU-4\",IF(J21=\"aggregate transfer to elevated storage\",\"CP-8 EU-5\",IF(J21=\"sand transfer to elevated storage\",\"CP-8 EU-6\",IF(J21=\"weigh hopper loading\",\"CP-8 EU-7\",IF(J21=\"central mix loading\",\"CP-8 EU-8\",IF(J21=\"truck mix loading\",\"CP-8 EU-9\",IF(J21=\"cement delivery to silo\",\"CP-8 EU-10\",IF(J21=\"cement supplement delivery to silo\",\"CP-8 EU-11\"))))))))))))","v":""},null,null,null,{"$f":"IF(J21=\"truck mix loading\",IF($F$24=\"yes\",L21*0.05/2000,L21/2000),\"\")","v":""},{"$f":"IF(J21=\"central mix loading\",IF($F$24=\"yes\",L21*0.05/2000,L21/2000),\"\")","v":""},null,"Aggregate Delivery to Ground Storage",{"$f":"Q4","v":0},{"$f":"IF(Q21=0,0,LOOKUP(P21,'Emission Factors'!$A$5:$A$16,'Emission Factors'!$D$5:$D$16))","v":0},{"$f":"Q21*R21","v":0},{"$f":"IF(Q21=0,\"\",IF($I$10>0,$I$10,\"\"))","v":""},{"$f":"IF($J$10>0,$J$10,IF($D$9>0,$D$9*R21/2000,IF($D$10>0,$D$10*365*R21/2000,IF($D$11>0,$D$11*365*R21*Q21/2000,IF(T21=\"\",S21*8760/2000,T21*8760/2000)))))","v":0},{"$f":"(R4*R21/2000)","v":0}]
["NO","County:",null,null,null,null,null,{"$f":"IF(J22=\"cement delivery to silo\",\"CP-1 EP-2\",IF(J22=\"cement supplement delivery to silo\",\"CP-1 EP-3\",IF(J22=\"weigh hopper loading\",\"CP-1 EP-4\",IF(J22=\"truck mix loading\",\"CP-1 EP-5\",IF(J22=\"central mix loading\",\"CP-1 EP-6\",IF(J22=\"\",\"\",\"CP-1 EP-1\"))))))","v":""},"",null,null,null,{"$f":"IF(J22=\"truck mix loading\",IF($F$24=\"yes\",L22*0.05/2000,L22/2000),\"\")","v":""},{"$f":"IF(J22=\"central mix loading\",IF($F$24=\"yes\",L22*0.05/2000,L22/2000),\"\")","v":""},null,"Sand Delivery to Ground Storage",0,{"$f":"IF(Q22=0,0,LOOKUP(P22,'Emission Factors'!$A$5:$A$16,'Emission Factors'!$D$5:$D$16))","v":0},0,{"$f":"IF(Q22=0,\"\",IF($I$10>0,$I$10,\"\"))","v":""},{"$f":"IF($J$10>0,\"\",IF($D$9>0,$D$9*R22/2000,IF($D$10>0,$D$10*365*R22/2000,IF($D$11>0,$D$11*365*R22*Q22/2000,IF(T22=\"\",S22*8760/2000,T22*8760/2000)))))","v":0},0]
[null,"Batching Period (Dates):",null,null,null,null,null,"","",null,null,null,"","",null,"Aggregate Transfer to Conveyor",0,{"$f":"IF(Q23=0,0,LOOKUP(P23,'Emission Factors'!$A$5:$A$16,'Emission Factors'!$D$5:$D$16))","v":0},0,"",0,0]
["Aggregate Delivery to Ground Storage",{"$f":"IF(OR(COUNTIF(J21:J30,\"Truck Mix Loading\")>0,(COUNTIF(J21:J30,\"Central Mix Loading\")>0)),\"Is the Central/Truck Mix Loading process controlled by a baghouse?\",\"\")","v":""},null,null,null,null,null,"","",null,null,null,"","",null,"Sand Transfer to Conveyor",0,{"$f":"IF(Q24=0,0,LOOKUP(P24,'Emission Factors'!$A$5:$A$16,'Emission Factors'!$D$5:$D$16))","v":0},0,"",0,0]
["Sand Delivery to Ground Storage",null,null,null,null,null,null,"","",null,null,null,"","",null,"Aggregate Transfer to Elevated Storage",0,{"$f":"IF(Q25=0,0,LOOKUP(P25,'Emission Factors'!$A$5:$A$16,'Emission Factors'!$D$5:$D$16))","v":0},0,"",0,0]
["Aggregate Transfer to Conveyor",{"$f":"IF(AND(B28=\"\",B29=\"\",B32=\"\",B31=\"\",B30=\"\"),\"\",\"Process (complete stack information if applicable):\")","v":""},{"$f":"IF(AND(B28=\"\",B29=\"\",B32=\"\",B31=\"\",B30=\"\"),\"\",\"Stack Height (ft):\")","v":""},{"$f":"IF(AND(B28=\"\",B29=\"\",B32=\"\",B31=\"\",B30=\"\"),\"\",\"Stack Diameter (inches):\")","v":""},{"$f":"IF(AND(B28=\"\",B29=\"\",B32=\"\",B31=\"\",B30=\"\"),\"\",\"Flow Rate (acfm):\")","v":""},{"$f":"IF(AND(B28=\"\",B29=\"\",B32=\"\",B31=\"\",B30=\"\"),\"\",\"Temp (Deg F):\")","v":""},null,"","",null,null,null,"","",null,"Sand Transfer to Elevated Storage",0,{"$f":"IF(Q26=0,0,LOOKUP(P26,'Emission Factors'!$A$5:$A$16,'Emission Factors'!$D$5:$D$16))","v":0},0,"",0,0]
["Sand Transfer to Conveyor",null,null,null,null,null,null,"","",null,null,null,"","",null,"Weigh Hopper Loading",0,{"$f":"IF(Q27=0,0,LOOKUP(P27,'Emission Factors'!$A$5:$A$16,'Emission Factors'!$D$5:$D$16))","v":0},0,"",0,0]
["Aggregate Transfer to Elevated Storage",{"$f":"IF(COUNTIF(J21:J30,\"Cement Delivery to Silo\")>0,\"EP-2 Cement Silo Stack:\",\"\")","v":""},null,null,null,null,null,"","",null,null,null,"","",null,"Central Mix Loading",0,{"$f":"IF(Q28=0,0,LOOKUP(P28,'Emission Factors'!$A$5:$A$16,'Emission Factors'!$D$5:$D$16))","v":0},0,{"$f":"IF(Q28=0,\"\",IF($I$10>0,$I$10,IF(COUNTIF($F$24:$F$169,\"no\")>0,\"\",S28*(1-0.95))))","v":""},{"$f":"IF($J$10>0,\"\",IF($D$9>0,$D$9*R28*((100-$W$30)/100)/2000,IF($D$10>0,$D$10*365*R28*((100-$W$30)/100)/2000,IF($D$11>0,$D$11*365*R28*((100-$W$30)/100)*Q28/2000,IF(T28=\"\",S28*8760/2000,T28*8760/2000)))))","v":0},{"$f":"(R28*N181)","v":0}]
["Sand Transfer to Elevated Storage",{"$f":"IF(COUNTIF(J21:J30,\"Cement Supplement Delivery to Silo\")>0,\"EP-3 Cement Supplement Silo Stack:\",\"\")","v":""},null,null,null,null,null,"","",null,null,null,"","",null,"Truck Mix Loading",0,{"$f":"IF(Q29=0,0,LOOKUP(P29,'Emission Factors'!$A$5:$A$16,'Emission Factors'!$D$5:$D$16))","v":0},0,{"$f":"IF(Q29=0,\"\",IF($I$10>0,$I$10,IF(COUNTIF($F$24:$F$169,\"no\")>0,\"\",S29*(1-0.95))))","v":""},{"$f":"IF($J$10>0,\"\",IF($D$9>0,$D$9*R29*((100-$W$30)/100)/2000,IF($D$10>0,$D$10*365*R29*((100-$W$30)/100)/2000,IF($D$11>0,$D$11*365*R29*((100-$W$30)/100)*Q29/2000,IF(T29=\"\",S29*8760/2000,T29*8760/2000)))))","v":0},{"$f":"(R29*M181)","v":0}]
["Weigh Hopper Loading",{"$f":"IF(COUNTIF(J21:J30,\"Weigh Hopper Loading\")>0,\"EP-4 Weigh Hopper Loading Stack:\",\"\")","v":""},null,null,null,null,null,"","",null,null,null,"","",null,"Cement Delivery to Silo",0,{"$f":"IF(Q30=0,0,LOOKUP(P30,'Emission Factors'!$A$5:$A$16,'Emission Factors'!$D$5:$D$16))","v":0},null,{"$f":"IF(Q30=0,0,IF($I$10>0,$I$10,Q30*R30))","v":0},{"$f":"IF($J$10>0,\"\",IF($D$9>0,$D$9*R30/2000,IF($D$10>0,$D$10*365*R30/2000,IF($D$11>0,$D$11*365*R30*Q30/2000,IF($I$10>0,0,T30*8760/2000)))))","v":0},{"$f":"(R13*R30/2000)","v":0},{"$f":"IF(COUNTIF($F$24:$F$169,\"no\")>0,0,95)","v":95}]
["Central Mix Loading",{"$f":"IF(COUNTIF(J21:J30,\"Truck Mix Loading\")>0,\"EP-5 Truck Mix Loading Stack:\",\"\")","v":""},null,null,null,null,null,null,null,null,null,null,null,null,null,"Cement Supplement Delivery to Silo",0,{"$f":"IF(Q31=0,0,LOOKUP(P31,'Emission Factors'!$A$5:$A$16,'Emission Factors'!$D$5:$D$16))","v":0},null,{"$f":"IF(Q31=0,0,IF($I$10>0,$I$10,Q31*R31))","v":0},{"$f":"IF($J$10>0,\"\",IF($D$9>0,$D$9*R31/2000,IF($D$10>0,$D$10*365*R31/2000,IF($D$11>0,$D$11*365*R31*Q31/2000,IF($I$10>0,0,T31*8760/2000)))))","v":0},{"$f":"(R14*R31/2000)","v":0}]
["Truck Mix Loading",{"$f":"IF(COUNTIF(J21:J30,\"Central Mix Loading\")>0,\"EP-6 Central Mix Loading Stack:\",\"\")","v":""},null,null,null,null,null,"Stock Pile Area"]
["Cement Delivery to Silo",null,null,null,null,null,null,null,"Emission Unit #","Maximum Storage Area (acres)","Actual Storage Area (acres)","Actual Days in Existence (days)"]
["Cement Supplement Delivery to Silo",null,null,null,null,null,null,null,null,null,null,null,null,null,null,"PM10"]
[null,null,null,null,null,null,null,null,null,null,null,null,null,null,null,"Aggregate Delivery to Ground Storage",{"$f":"Q4","v":0},{"$f":"IF(Q35=0,0,LOOKUP(P35,'Emission Factors'!$A$5:$A$16,'Emission Factors'!$H$5:$H$16))","v":0},{"$f":"Q35*R35","v":0},{"$f":"IF(Q35=0,\"\",IF($I$11>0,$I$11,\"\"))","v":""},{"$f":"IF($J$11>0,$J$11,IF($D$9>0,$D$9*R35/2000,IF($D$10>0,$D$10*365*R35/2000,IF($D$11>0,$D$11*365*R35*Q35/2000,IF(T35=\"\",S35*8760/2000,T35*8760/2000)))))","v":0},{"$f":"(R4*R35/2000)","v":0}]
[null,null,null,null,null,null,null,null,null,null,null,null,null,null,null,"Sand Delivery to Ground Storage",0,{"$f":"IF(Q36=0,0,LOOKUP(P36,'Emission Factors'!$A$5:$A$16,'Emission Factors'!$H$5:$H$16))","v":0},0,{"$f":"IF(Q36=0,\"\",IF($I$11>0,$I$11,\"\"))","v":""},{"$f":"IF($J$11>0,\"\",IF($D$9>0,$D$9*R36/2000,IF($D$10>0,$D$10*365*R36/2000,IF($D$11>0,$D$11*365*R36*Q36/2000,IF(T36=\"\",S36*8760/2000,T36*8760/2000)))))","v":0},0]
[null,{"$f":"IF('Concrete Plant (CP-8)'!$D$4>1,\"Batch Plant\",\"\")","v":""},{"$f":"IF('Concrete Plant (CP-8)'!$D$4>1,\"Site 2\",\"\")","v":""},null,null,null,null,{"$f":"IF('Concrete Plant (CP-8)'!$D$4>1,\"Emission Point #\",\"\")","v":""},{"$f":"IF('Concrete Plant (CP-8)'!$D$4>1,\"Emission     Unit #\",\"\")","v":""},{"$f":"IF('Concrete Plant (CP-8)'!$D$4>1,\"Processes\",\"\")","v":""},{"$f":"IF('Concrete Plant (CP-8)'!$D$4>1,\"Combined Maximum Hourly Design Rate for all Like Processes (cubic yard/hr)\",\"\")","v":""},{"$f":"IF('Concrete Plant (CP-8)'!$D$4>1,('Facility Information'!G5&\" Annual Throughput (cubic yards)\"),\"\")","v":""},null,null,null,"Aggregate Transfer to Conveyor",0,{"$f":"IF(Q37=0,0,LOOKUP(P37,'Emission Factors'!$A$5:$A$16,'Emission Factors'!$H$5:$H$16))","v":0},0,"",0,0]
[null,{"$f":"IF('Concrete Plant (CP-8)'!$D$4>1,\"Site Name:\",\"\")","v":""},null,null,null,null,null,{"$f":"IF(J38=\"cement delivery to silo\",\"CP-1 EP-2\",IF(J38=\"cement supplement delivery to silo\",\"CP-1 EP-3\",IF(J38=\"weigh hopper loading\",\"CP-1 EP-4\",IF(J38=\"truck mix loading\",\"CP-1 EP-5\",IF(J38=\"central mix loading\",\"CP-1 EP-6\",IF(J38=\"\",\"\",\"CP-1 EP-1\"))))))","v":""},{"$f":"IF(J38=\"\",\"\",IF(J38=\"aggregate delivery to ground storage\",\"CP-8 EU-1\",IF(J38=\"sand delivery to ground storage\",\"CP-8 EU-2\",IF(J38=\"aggregate transfer to conveyor\",\"CP-8 EU-3\",IF(J38=\"sand transfer to conveyor\",\"CP-8 EU-4\",IF(J38=\"aggregate transfer to elevated storage\",\"CP-8 EU-5\",IF(J38=\"sand transfer to elevated storage\",\"CP-8 EU-6\",IF(J38=\"weigh hopper loading\",\"CP-8 EU-7\",IF(J38=\"central mix loading\",\"CP-8 EU-8\",IF(J38=\"truck mix loading\",\"CP-8 EU-9\",IF(J38=\"cement delivery to silo\",\"CP-8 EU-10\",IF(J38=\"cement supplement delivery to silo\",\"CP-8 EU-11\"))))))))))))","v":""},null,null,null,{"$f":"IF(J38=\"truck mix loading\",IF($F$41=\"yes\",L38*0.05/2000,L38/2000),\"\")","v":""},{"$f":"IF(J38=\"central mix loading\",IF($F$41=\"yes\",L38*0.05/2000,L38/2000),\"\")","v":""},null,"Sand Transfer to Conveyor",0,{"$f":"IF(Q38=0,0,LOOKUP(P38,'Emission Factors'!$A$5:$A$16,'Emission Factors'!$H$5:$H$16))","v":0},{"$f":"Q38*R38","v":0},{"$f":"IF(Q38=0,\"\",IF($I$11>0,$I$11,\"\"))","v":""},{"$f":"IF($J$11>0,\"\",IF($D$9>0,$D$9*R38/2000,IF($D$10>0,$D$10*365*R38/2000,IF($D$11>0,$D$11*365*R38*Q38/2000,IF(T38=\"\",S38*8760/2000,T38*8760/2000)))))","v":0},0]
[null,{"$f":"IF('Concrete Plant (CP-8)'!$D$4>1,\"County:\",\"\")","v":""},null,null,null,null,null,{"$f":"IF(J39=\"cement delivery to silo\",\"CP-1 EP-2\",IF(J39=\"cement supplement delivery to silo\",\"CP-1 EP-3\",IF(J39=\"weigh hopper loading\",\"CP-1 EP-4\",IF(J39=\"truck mix loading\",\"CP-1 EP-5\",IF(J39=\"central mix loading\",\"CP-1 EP-6\",IF(J39=\"\",\"\",\"CP-1 EP-1\"))))))","v":""},"",null,null,null,{"$f":"IF(J39=\"truck mix loading\",IF($F$41=\"yes\",L39*0.05/2000,L39/2000),\"\")","v":""},{"$f":"IF(J39=\"central mix loading\",IF($F$41=\"yes\",L39*0.05/2000,L39/2000),\"\")","v":""},null,"Aggregate Transfer to Elevated Storage",0,{"$f":"IF(Q39=0,0,LOOKUP(P39,'Emission Factors'!$A$5:$A$16,'Emission Factors'!$H$5:$H$16))","v":0},0,{"$f":"IF(Q39=0,\"\",IF($I$11>0,$I$11,\"\"))","v":""},{"$f":"IF($J$11>0,\"\",IF($D$9>0,$D$9*R39/2000,IF($D$10>0,$D$10*365*R39/2000,IF($D$11>0,$D$11*365*R39*Q39/2000,IF(T39=\"\",S39*8760/2000,T39*8760/2000)))))","v":0},0]
[null,{"$f":"IF('Concrete Plant (CP-8)'!$D$4>1,\"Batching Period (Dates):\",\"\")","v":""},null,null,null,null,null,"","",null,null,null,"","",null,"Sand Transfer to Elevated Storage",0,{"$f":"IF(Q40=0,0,LOOKUP(P40,'Emission Factors'!$A$5:$A$16,'Emission Factors'!$H$5:$H$16))","v":0},0,{"$f":"IF(Q40=0,\"\",IF($I$11>0,$I$11,\"\"))","v":""},{"$f":"IF($J$11>0,\"\",IF($D$9>0,$D$9*R40/2000,IF($D$10>0,$D$10*365*R40/2000,IF($D$11>0,$D$11*365*R40*Q40/2000,IF(T40=\"\",S40*8760/2000,T40*8760/2000)))))","v":0},0]
[null,{"$f":"IF(OR(COUNTIF(J38:J47,\"Truck Mix Loading\")>0,(COUNTIF(J38:J47,\"Central Mix Loading\")>0)),\"Is the Central/Truck Mix Loading process controlled by a baghouse?\",\"\")","v":""},null,null,null,null,null,"","",null,null,null,"","",null,"Weigh Hopper Loading",0,{"$f":"IF(Q41=0,0,LOOKUP(P41,'Emission Factors'!$A$5:$A$16,'Emission Factors'!$H$5:$H$16))","v":0},0,{"$f":"IF(Q41=0,\"\",IF($I$11>0,$I$11,\"\"))","v":""},{"$f":"IF($J$11>0,\"\",IF($D$9>0,$D$9*R41/2000,IF($D$10>0,$D$10*365*R41/2000,IF($D$11>0,$D$11*365*R41*Q41/2000,IF(T41=\"\",S41*8760/2000,T41*8760/2000)))))","v":0},0,{"$f":"IF(COUNTIF($F$24:$F$169,\"no\")>0,0,95)","v":95}]
[null,null,null,null,null,null,null,"","",null,null,null,"","",null,"Central Mix Loading",0,{"$f":"IF(Q42=0,0,LOOKUP(P42,'Emission Factors'!$A$5:$A$16,'Emission Factors'!$H$5:$H$16))","v":0},0,{"$f":"IF(Q42=0,\"\",IF($I$11>0,$I$11,IF(COUNTIF($F$24:$F$169,\"no\")>0,\"\",S42*(1-0.95))))","v":""},{"$f":"IF($J$11>0,\"\",IF($D$9>0,$D$9*R42*((100-$W$30)/100)/2000,IF($D$10>0,$D$10*365*R42*((100-$W$30)/100)/2000,IF($D$11>0,$D$11*365*R42*((100-$W$30)/100)*Q42/2000,IF(T42=\"\",S42*8760/2000,T42*8760/2000)))))","v":0},{"$f":"(N181*R42)","v":0}]
[null,{"$f":"IF(AND(B45=\"\",B46=\"\",B47=\"\",B48=\"\",B49=\"\"),\"\",\"Process (complete stack information if applicable):\")","v":""},{"$f":"IF(AND(B45=\"\",B46=\"\",B47=\"\",B48=\"\",B49=\"\"),\"\",\"Stack Height (ft):\")","v":""},{"$f":"IF(AND(B45=\"\",B46=\"\",B47=\"\",B48=\"\",B49=\"\"),\"\",\"Stack Diameter (inches):\")","v":""},{"$f":"IF(AND(B45=\"\",B46=\"\",B47=\"\",B48=\"\",B49=\"\"),\"\",\"Flow Rate (acfm):\")","v":""},{"$f":"IF(AND(B45=\"\",B46=\"\",B47=\"\",B48=\"\",B49=\"\"),\"\",\"Temp (Deg F):\")","v":""},null,"","",null,null,null,"","",null,"Truck Mix Loading",0,{"$f":"IF(Q43=0,0,LOOKUP(P43,'Emission Factors'!$A$5:$A$16,'Emission Factors'!$H$5:$H$16))","v":0},0,{"$f":"IF(Q43=0,\"\",IF($I$11>0,$I$11,IF(COUNTIF($F$24:$F$169,\"no\")>0,\"\",S43*(1-0.95))))","v":""},{"$f":"IF($J$11>0,\"\",IF($D$9>0,$D$9*R43*((100-$W$30)/100)/2000,IF($D$10>0,$D$10*365*R43*((100-$W$30)/100)/2000,IF($D$11>0,$D$11*365*R43*((100-$W$30)/100)*Q43/2000,IF(T43=\"\",S43*8760/2000,T43*8760/2000)))))","v":0},{"$f":"(M181*R43)","v":0}]
[null,null,null,null,null,null,null,"","",null,null,null,"","",null,"Cement Delivery to Silo",0,{"$f":"IF(Q44=0,0,LOOKUP(P44,'Emission Factors'!$A$5:$A$16,'Emission Factors'!$H$5:$H$16))","v":0},null,{"$f":"IF(Q44=0,0,IF($I$10>0,$I$10,Q44*R44))","v":0},{"$f":"IF($J$11>0,\"\",IF($D$9>0,$D$9*R44/2000,IF($D$10>0,$D$10*365*R44/2000,IF($D$11>0,$D$11*365*R44*Q44/2000,IF($I$11>0,0,T44*8760/2000)))))","v":0},{"$f":"(R13*R44/2000)","v":0}]
[null,{"$f":"IF(COUNTIF(J38:J47,\"Cement Delivery to Silo\")>0,\"EP-2 Cement Silo Stack:\",\"\")","v":""},null,null,null,null,null,"","",null,null,null,"","",null,"Cement Supplement Delivery to Silo",0,{"$f":"IF(Q45=0,0,LOOKUP(P45,'Emission Factors'!$A$5:$A$16,'Emission Factors'!$H$5:$H$16))","v":0},null,{"$f":"IF(Q45=0,0,IF($I$10>0,$I$10,Q45*R45))","v":0},{"$f":"IF($J$11>0,\"\",IF($D$9>0,$D$9*R45/2000,IF($D$10>0,$D$10*365*R45/2000,IF($D$11>0,$D$11*365*R45*Q45/2000,IF($I$11>0,0,T45*8760/2000)))))","v":0},{"$f":"(R14*R45/2000)","v":0}]
[null,{"$f":"IF(COUNTIF(J38:J47,\"Cement Supplement Delivery to Silo\")>0,\"EP-3 Cement Supplement Silo Stack:\",\"\")","v":""},null,null,null,null,null,"","",null,null,null,"",""]
[null,{"$f":"IF(COUNTIF(J38:J47,\"Weigh Hopper Loading\")>0,\"EP-4 Weigh Hopper Loading Stack:\",\"\")","v":""},null,null,null,null,null,"","",null,null,null,"",""]
[null,{"$f":"IF(COUNTIF(J38:J47,\"Truck Mix Loading\")>0,\"EP-5 Truck Mix Loading Stack:\",\"\")","v":""},null,null,null,null,null,{"$f":"IF('Concrete Plant (CP-8)'!$D$4>1,\"Stock Pile Area\",\"\")","v":""},null,null,null,null,null,null,null,"Storage Pile","Max Design Rate (acres/day)","Emission Factor   (lb/acre-day)","Potential Uncontrolled Emissions (lb/hr)","Potential Controlled Emissions (lb/hr)","Potential Annual Emissions (tons/yr)","Actual Annual Emissions (tons/yr)"]
[null,{"$f":"IF(COUNTIF(J38:J47,\"Central Mix Loading\")>0,\"EP-6 Central Mix Loading Stack:\",\"\")","v":""},null,null,null,null,null,null,{"$f":"IF('Concrete Plant (CP-8)'!$D$4>1,\"Emission Unit #\",\"\")","v":""},{"$f":"IF('Concrete Plant (CP-8)'!$D$4>1,\"Maximum Storage Area (acres)\",\"\")","v":""},{"$f":"IF('Concrete Plant (CP-8)'!$D$4>1,\"Actual Storage Area (acres)\",\"\")","v":""},{"$f":"IF('Concrete Plant (CP-8)'!$D$4>1,\"Actual Days in Existence (days)\",\"\")","v":""},null,null,null,"PM2.5/PM10",{"$f":"Q17","v":0},3.64,{"$f":"Q49*R49*(1/24)","v":0},null,{"$f":"Q49*R49*365/2000","v":0},{"$f":"R17*R49/2000","v":0}]
[]
[]
[null,{"$f":"IF('Concrete Plant (CP-8)'!$D$4>2,\"Batch Plant\",\"\")","v":""},{"$f":"IF('Concrete Plant (CP-8)'!$D$4>2,\"Site 3\",\"\")","v":""},null,null,null,null,{"$f":"IF('Concrete Plant (CP-8)'!$D$4>2,\"Emission Point #\",\"\")","v":""},{"$f":"IF('Concrete Plant (CP-8)'!$D$4>2,\"Emission     Unit #\",\"\")","v":""},{"$f":"IF('Concrete Plant (CP-8)'!$D$4>2,\"Processes\",\"\")","v":""},{"$f":"IF('Concrete Plant (CP-8)'!$D$4>2,\"Combined Maximum Hourly Design Rate for all Like Processes (cubic yard/hr)\",\"\")","v":""},{"$f":"IF('Concrete Plant (CP-8)'!$D$4>2,('Facility Information'!G5&\" Annual Throughput (cubic yards)\"),\"\")","v":""}]
[null,{"$f":"IF('Concrete Plant (CP-8)'!$D$4>2,\"Site Name:\",\"\")","v":""},null,null,null,null,null,{"$f":"IF(J53=\"cement delivery to silo\",\"CP-1 EP-2\",IF(J53=\"cement supplement delivery to silo\",\"CP-1 EP-3\",IF(J53=\"weigh hopper loading\",\"CP-1 EP-4\",IF(J53=\"truck mix loading\",\"CP-1 EP-5\",IF(J53=\"central mix loading\",\"CP-1 EP-6\",IF(J53=\"\",\"\",\"CP-1 EP-1\"))))))","v":""},{"$f":"IF(J53=\"\",\"\",IF(J53=\"aggregate delivery to ground storage\",\"CP-8 EU-1\",IF(J53=\"sand delivery to ground storage\",\"CP-8 EU-2\",IF(J53=\"aggregate transfer to conveyor\",\"CP-8 EU-3\",IF(J53=\"sand transfer to conveyor\",\"CP-8 EU-4\",IF(J53=\"aggregate transfer to elevated storage\",\"CP-8 EU-5\",IF(J53=\"sand transfer to elevated storage\",\"CP-8 EU-6\",IF(J53=\"weigh hopper loading\",\"CP-8 EU-7\",IF(J53=\"central mix loading\",\"CP-8 EU-8\",IF(J53=\"truck mix loading\",\"CP-8 EU-9\",IF(J53=\"cement delivery to silo\",\"CP-8 EU-10\",IF(J53=\"cement supplement delivery to silo\",\"CP-8 EU-11\"))))))))))))","v":""},null,null,null,{"$f":"IF(J53=\"truck mix loading\",IF($F$56=\"yes\",L53*0.05/2000,L53/2000),\"\")","v":""},{"$f":"IF(J53=\"central mix loading\",IF($F$56=\"yes\",L53*0.05/2000,L53/2000),\"\")","v":""}]
[null,{"$f":"IF('Concrete Plant (CP-8)'!$D$4>2,\"County:\",\"\")","v":""},null,null,null,null,null,{"$f":"IF(J54=\"cement delivery to silo\",\"CP-1 EP-2\",IF(J54=\"cement supplement delivery to silo\",\"CP-1 EP-3\",IF(J54=\"weigh hopper loading\",\"CP-1 EP-4\",IF(J54=\"truck mix loading\",\"CP-1 EP-5\",IF(J54=\"central mix loading\",\"CP-1 EP-6\",IF(J54=\"\",\"\",\"CP-1 EP-1\"))))))","v":""},"",null,null,null,{"$f":"IF(J54=\"truck mix loading\",IF($F$56=\"yes\",L54*0.05/2000,L54/2000),\"\")","v":""},{"$f":"IF(J54=\"central mix loading\",IF($F$56=\"yes\",L54*0.05/2000,L54/2000),\"\")","v":""}]
[null,{"$f":"IF('Concrete Plant (CP-8)'!$D$4>2,\"Batching Period (Dates):\",\"\")","v":""},null,null,null,null,null,"","",null,null,null,"",""]
[null,{"$f":"IF(OR(COUNTIF(J53:J62,\"Truck Mix Loading\")>0,(COUNTIF(J53:J62,\"Central Mix Loading\")>0)),\"Is the Central/Truck Mix Loading process controlled by a baghouse?\",\"\")","v":""},null,null,null,null,null,"","",null,null,null,"",""]
[null,null,null,null,null,null,null,"","",null,null,null,"",""]
[null,{"$f":"IF(AND(B60=\"\",B61=\"\",B62=\"\",B63=\"\",B64=\"\"),\"\",\"Process (complete stack information if applicable):\")","v":""},{"$f":"IF(AND(B60=\"\",B61=\"\",B62=\"\",B63=\"\",B64=\"\"),\"\",\"Stack Height (ft):\")","v":""},{"$f":"IF(AND(B60=\"\",B61=\"\",B62=\"\",B63=\"\",B64=\"\"),\"\",\"Stack Diameter (inches):\")","v":""},{"$f":"IF(AND(B60=\"\",B61=\"\",B62=\"\",B63=\"\",B64=\"\"),\"\",\"Flow Rate (acfm):\")","v":""},{"$f":"IF(AND(B60=\"\",B61=\"\",B62=\"\",B63=\"\",B64=\"\"),\"\",\"Temp (Deg F):\")","v":""},null,"","",null,null,null,"",""]
[null,null,null,null,null,null,null,"","",null,null,null,"",""]
[null,{"$f":"IF(COUNTIF(J53:J62,\"Cement Delivery to Silo\")>0,\"EP-2 Cement Silo Stack:\",\"\")","v":""},null,null,null,null,null,"","",null,null,null,"",""]
[null,{"$f":"IF(COUNTIF(J53:J62,\"Cement Supplement Delivery to Silo\")>0,\"EP-3 Cement Supplement Silo Stack:\",\"\")","v":""},null,null,null,null,null,"","",null,null,null,"",""]
[null,{"$f":"IF(COUNTIF(J53:J62,\"Weigh Hopper Loading\")>0,\"EP-4 Weigh Hopper Loading Stack:\",\"\")","v":""},null,null,null,null,null,"","",null,null,null,"",""]
[null,{"$f":"IF(COUNTIF(J53:J62,\"Truck Mix Loading\")>0,\"EP-5 Truck Mix Loading Stack:\",\"\")","v":""}]
[null,{"$f":"IF(COUNTIF(J53:J62,\"Central Mix Loading\")>0,\"EP-6 Central Mix Loading Stack:\",\"\")","v":""},null,null,null,null,null,{"$f":"IF('Concrete Plant (CP-8)'!$D$4>2,\"Stock Pile Area\",\"\")","v":""}]
[null,null,null,null,null,null,null,null,{"$f":"IF('Concrete Plant (CP-8)'!$D$4>2,\"Emission Unit #\",\"\")","v":""},{"$f":"IF('Concrete Plant (CP-8)'!$D$4>2,\"Maximum Storage Area (acres)\",\"\")","v":""},{"$f":"IF('Concrete Plant (CP-8)'!$D$4>2,\"Actual Storage Area (acres)\",\"\")","v":""},{"$f":"IF('Concrete Plant (CP-8)'!$D$4>2,\"Actual Days in Existence (days)\",\"\")","v":""}]
[]
[]
[null,{"$f":"IF('Concrete Plant (CP-8)'!$D$4>3,\"Batch Plant\",\"\")","v":""},{"$f":"IF('Concrete Plant (CP-8)'!$D$4>3,\"Site 4\",\"\")","v":""},null,null,null,null,{"$f":"IF('Concrete Plant (CP-8)'!$D$4>3,\"Emission Point #\",\"\")","v":""},{"$f":"IF('Concrete Plant (CP-8)'!$D$4>3,\"Emission     Unit #\",\"\")","v":""},{"$f":"IF('Concrete Plant (CP-8)'!$D$4>3,\"Processes\",\"\")","v":""},{"$f":"IF('Concrete Plant (CP-8)'!$D$4>3,\"Combined Maximum Hourly Design Rate for all Like Processes (cubic yard/hr)\",\"\")","v":""},{"$f":"IF('Concrete Plant (CP-8)'!$D$4>3,('Facility Information'!G5&\" Annual Throughput (cubic yards)\"),\"\")","v":""}]
[null,{"$f":"IF('Concrete Plant (CP-8)'!$D$4>3,\"Site Name:\",\"\")","v":""},null,null,null,null,null,{"$f":"IF(J69=\"cement delivery to silo\",\"CP-1 EP-2\",IF(J69=\"cement supplement delivery to silo\",\"CP-1 EP-3\",IF(J69=\"weigh hopper loading\",\"CP-1 EP-4\",IF(J69=\"truck mix loading\",\"CP-1 EP-5\",IF(J69=\"central mix loading\",\"CP-1 EP-6\",IF(J69=\"\",\"\",\"CP-1 EP-1\"))))))","v":""},{"$f":"IF(J69=\"\",\"\",IF(J69=\"aggregate delivery to ground storage\",\"CP-8 EU-1\",IF(J69=\"sand delivery to ground storage\",\"CP-8 EU-2\",IF(J69=\"aggregate transfer to conveyor\",\"CP-8 EU-3\",IF(J69=\"sand transfer to conveyor\",\"CP-8 EU-4\",IF(J69=\"aggregate transfer to elevated storage\",\"CP-8 EU-5\",IF(J69=\"sand transfer to elevated storage\",\"CP-8 EU-6\",IF(J69=\"weigh hopper loading\",\"CP-8 EU-7\",IF(J69=\"central mix loading\",\"CP-8 EU-8\",IF(J69=\"truck mix loading\",\"CP-8 EU-9\",IF(J69=\"cement delivery to silo\",\"CP-8 EU-10\",IF(J69=\"cement supplement delivery to silo\",\"CP-8 EU-11\"))))))))))))","v":""},null,null,null,{"$f":"IF(J69=\"truck mix loading\",IF($F$72=\"yes\",L69*0.05/2000,L69/2000),\"\")","v":""},{"$f":"IF(J69=\"central mix loading\",IF($F$72=\"yes\",L69*0.05/2000,L69/2000),\"\")","v":""}]
[null,{"$f":"IF('Concrete Plant (CP-8)'!$D$4>3,\"County:\",\"\")","v":""},null,null,null,null,null,{"$f":"IF(J70=\"cement delivery to silo\",\"CP-1 EP-2\",IF(J70=\"cement supplement delivery to silo\",\"CP-1 EP-3\",IF(J70=\"weigh hopper loading\",\"CP-1 EP-4\",IF(J70=\"truck mix loading\",\"CP-1 EP-5\",IF(J70=\"central mix loading\",\"CP-1 EP-6\",IF(J70=\"\",\"\",\"CP-1 EP-1\"))))))","v":""},"",null,null,null,{"$f":"IF(J70=\"truck mix loading\",IF($F$72=\"yes\",L70*0.05/2000,L70/2000),\"\")","v":""},{"$f":"IF(J70=\"central mix loading\",IF($F$72=\"yes\",L70*0.05/2000,L70/2000),\"\")","v":""}]
[null,{"$f":"IF('Concrete Plant (CP-8)'!$D$4>3,\"Batching Period (Dates):\",\"\")","v":""},null,null,null,null,null,"","",null,null,null,"",""]
[null,{"$f":"IF(OR(COUNTIF(J69:J78,\"Truck Mix Loading\")>0,(COUNTIF(J69:J78,\"Central Mix Loading\")>0)),\"Is the Central/Truck Mix Loading process controlled by a baghouse?\",\"\")","v":""},null,null,null,null,null,"","",null,null,null,"",""]
[null,null,null,null,null,null,null,"","",null,null,null,"",""]
[null,{"$f":"IF(AND(B76=\"\",B77=\"\",B78=\"\",B79=\"\",B80=\"\"),\"\",\"Process (complete stack information if applicable):\")","v":""},{"$f":"IF(AND(B76=\"\",B77=\"\",B78=\"\",B79=\"\",B80=\"\"),\"\",\"Stack Height (ft):\")","v":""},{"$f":"IF(AND(B76=\"\",B77=\"\",B78=\"\",B79=\"\",B80=\"\"),\"\",\"Stack Diameter (inches):\")","v":""},{"$f":"IF(AND(B76=\"\",B77=\"\",B78=\"\",B79=\"\",B80=\"\"),\"\",\"Flow Rate (acfm):\")","v":""},{"$f":"IF(AND(B76=\"\",B77=\"\",B78=\"\",B79=\"\",B80=\"\"),\"\",\"Temp (Deg F):\")","v":""},null,"","",null,null,null,"",""]
[null,null,null,null,null,null,null,"","",null,null,null,"",""]
[null,{"$f":"IF(COUNTIF(J69:J78,\"Cement Delivery to Silo\")>0,\"EP-2 Cement Silo Stack:\",\"\")","v":""},null,null,null,null,null,"","",null,null,null,"",""]
[null,{"$f":"IF(COUNTIF(J69:J78,\"Cement Supplement Delivery to Silo\")>0,\"EP-3 Cement Supplement Silo Stack:\",\"\")","v":""},null,null,null,null,null,"","",null,null,null,"",""]
[null,{"$f":"IF(COUNTIF(J69:J78,\"Weigh Hopper Loading\")>0,\"EP-4 Weigh Hopper Loading Stack:\",\"\")","v":""},null,null,null,null,null,"","",null,null,null,"",""]
[null,{"$f":"IF(COUNTIF(J69:J78,\"Truck Mix Loading\")>0,\"EP-5 Truck Mix Loading Stack:\",\"\")","v":""}]
[null,{"$f":"IF(COUNTIF(J69:J78,\"Central Mix Loading\")>0,\"EP-6 Central Mix Loading Stack:\",\"\")","v":""},null,null,null,null,null,{"$f":"IF('Concrete Plant (CP-8)'!$D$4>3,\"Stock Pile Area\",\"\")","v":""}]
[null,null,null,null,null,null,null,null,{"$f":"IF('Concrete Plant (CP-8)'!$D$4>3,\"Emission Unit #\",\"\")","v":""},{"$f":"IF('Concrete Plant (CP-8)'!$D$4>3,\"Maximum Storage Area (acres)\",\"\")","v":""},{"$f":"IF('Concrete Plant (CP-8)'!$D$4>3,\"Actual Storage Area (acres)\",\"\")","v":""},{"$f":"IF('Concrete Plant (CP-8)'!$D$4>3,\"Actual Days in Existence (days)\",\"\")","v":""}]
[]
[]
[null,{"$f":"IF('Concrete Plant (CP-8)'!$D$4>4,\"Batch Plant\",\"\")","v":""},{"$f":"IF('Concrete Plant (CP-8)'!$D$4>4,\"Site 5\",\"\")","v":""},null,null,null,null,{"$f":"IF('Concrete Plant (CP-8)'!$D$4>4,\"Emission Point #\",\"\")","v":""},{"$f":"IF('Concrete Plant (CP-8)'!$D$4>4,\"Emission     Unit #\",\"\")","v":""},{"$f":"IF('Concrete Plant (CP-8)'!$D$4>4,\"Processes\",\"\")","v":""},{"$f":"IF('Concrete Plant (CP-8)'!$D$4>4,\"Combined Maximum Hourly Design Rate for all Like Processes (cubic yard/hr)\",\"\")","v":""},{"$f":"IF('Concrete Plant (CP-8)'!$D$4>4,('Facility Information'!G5&\" Annual Throughput (cubic yards)\"),\"\")","v":""}]
[null,{"$f":"IF('Concrete Plant (CP-8)'!$D$4>4,\"Site Name:\",\"\")","v":""},null,null,null,null,null,{"$f":"IF(J85=\"cement delivery to silo\",\"CP-1 EP-2\",IF(J85=\"cement supplement delivery to silo\",\"CP-1 EP-3\",IF(J85=\"weigh hopper loading\",\"CP-1 EP-4\",IF(J85=\"truck mix loading\",\"CP-1 EP-5\",IF(J85=\"central mix loading\",\"CP-1 EP-6\",IF(J85=\"\",\"\",\"CP-1 EP-1\"))))))","v":""},{"$f":"IF(J85=\"\",\"\",IF(J85=\"aggregate delivery to ground storage\",\"CP-8 EU-1\",IF(J85=\"sand delivery to ground storage\",\"CP-8 EU-2\",IF(J85=\"aggregate transfer to conveyor\",\"CP-8 EU-3\",IF(J85=\"sand transfer to conveyor\",\"CP-8 EU-4\",IF(J85=\"aggregate transfer to elevated storage\",\"CP-8 EU-5\",IF(J85=\"sand transfer to elevated storage\",\"CP-8 EU-6\",IF(J85=\"weigh hopper loading\",\"CP-8 EU-7\",IF(J85=\"central mix loading\",\"CP-8 EU-8\",IF(J85=\"truck mix loading\",\"CP-8 EU-9\",IF(J85=\"cement delivery to silo\",\"CP-8 EU-10\",IF(J85=\"cement supplement delivery to silo\",\"CP-8 EU-11\"))))))))))))","v":""},null,null,null,{"$f":"IF(J85=\"truck mix loading\",IF($F$88=\"yes\",L85*0.05/2000,L85/2000),\"\")","v":""},{"$f":"IF(J85=\"central mix loading\",IF($F$88=\"yes\",L85*0.05/2000,L85/2000),\"\")","v":""}]
[null,{"$f":"IF('Concrete Plant (CP-8)'!$D$4>4,\"County:\",\"\")","v":""},null,null,null,null,null,{"$f":"IF(J86=\"cement delivery to silo\",\"CP-1 EP-2\",IF(J86=\"cement supplement delivery to silo\",\"CP-1 EP-3\",IF(J86=\"weigh hopper loading\",\"CP-1 EP-4\",IF(J86=\"truck mix loading\",\"CP-1 EP-5\",IF(J86=\"central mix loading\",\"CP-1 EP-6\",IF(J86=\"\",\"\",\"CP-1 EP-1\"))))))","v":""},"",null,null,null,{"$f":"IF(J86=\"truck mix loading\",IF($F$88=\"yes\",L86*0.05/2000,L86/2000),\"\")","v":""},{"$f":"IF(J86=\"central mix loading\",IF($F$88=\"yes\",L86*0.05/2000,L86/2000),\"\")","v":""}]
[null,{"$f":"IF('Concrete Plant (CP-8)'!$D$4>4,\"Batching Period (Dates):\",\"\")","v":""},null,null,null,null,null,"","",null,null,null,"",""]
[null,{"$f":"IF(OR(COUNTIF(J85:J94,\"Truck Mix Loading\")>0,(COUNTIF(J85:J94,\"Central Mix Loading\")>0)),\"Is the Central/Truck Mix Loading process controlled by a baghouse?\",\"\")","v":""},null,null,null,null,null,"","",null,null,null,"",""]
[null,null,null,null,null,null,null,"","",null,null,null,"",""]
[null,{"$f":"IF(AND(B92=\"\",B93=\"\",B94=\"\",B95=\"\",B96=\"\"),\"\",\"Process (complete stack information if applicable):\")","v":""},{"$f":"IF(AND(B92=\"\",B93=\"\",B94=\"\",B95=\"\",B96=\"\"),\"\",\"Stack Height (ft):\")","v":""},{"$f":"IF(AND(B92=\"\",B93=\"\",B94=\"\",B95=\"\",B96=\"\"),\"\",\"Stack Diameter (inches):\")","v":""},{"$f":"IF(AND(B92=\"\",B93=\"\",B94=\"\",B95=\"\",B96=\"\"),\"\",\"Flow Rate (acfm):\")","v":""},{"$f":"IF(AND(B92=\"\",B93=\"\",B94=\"\",B95=\"\",B96=\"\"),\"\",\"Temp (Deg F):\")","v":""},null,"","",null,null,null,"",""]
[null,null,null,null,null,null,null,"","",null,null,null,"",""]
[null,{"$f":"IF(COUNTIF(J85:J94,\"Cement Delivery to Silo\")>0,\"EP-2 Cement Silo Stack:\",\"\")","v":""},null,null,null,null,null,"","",null,null,null,"",""]
[null,{"$f":"IF(COUNTIF(J85:J94,\"Cement Supplement Delivery to Silo\")>0,\"EP-3 Cement Supplement Silo Stack:\",\"\")","v":""},null,null,null,null,null,"","",null,null,null,"",""]
[null,{"$f":"IF(COUNTIF(J85:J94,\"Weigh Hopper Loading\")>0,\"EP-4 Weigh Hopper Loading Stack:\",\"\")","v":""},null,null,null,null,null,"","",null,null,null,"",""]
[null,{"$f":"IF(COUNTIF(J85:J94,\"Truck Mix Loading\")>0,\"EP-5 Truck Mix Loading Stack:\",\"\")","v":""}]
[null,{"$f":"IF(COUNTIF(J85:J94,\"Central Mix Loading\")>0,\"EP-6 Central Mix Loading Stack:\",\"\")","v":""},null,null,null,null,null,{"$f":"IF('Concrete Plant (CP-8)'!$D$4>4,\"Stock Pile Area\",\"\")","v":""}]
[null,null,null,null,null,null,null,null,{"$f":"IF('Concrete Plant (CP-8)'!$D$4>4,\"Emission Unit #\",\"\")","v":""},{"$f":"IF('Concrete Plant (CP-8)'!$D$4>4,\"Maximum Storage Area (acres)\",\"\")","v":""},{"$f":"IF('Concrete Plant (CP-8)'!$D$4>4,\"Actual Storage Area (acres)\",\"\")","v":""},{"$f":"IF('Concrete Plant (CP-8)'!$D$4>4,\"Actual Days in Existence (days)\",\"\")","v":""}]
[]
[]
[]
[null,{"$f":"IF('Concrete Plant (CP-8)'!$D$4>5,\"Batch Plant\",\"\")","v":""},{"$f":"IF('Concrete Plant (CP-8)'!$D$4>5,\"Site 6\",\"\")","v":""},null,null,null,null,{"$f":"IF('Concrete Plant (CP-8)'!$D$4>5,\"Emission Point #\",\"\")","v":""},{"$f":"IF('Concrete Plant (CP-8)'!$D$4>5,\"Emission     Unit #\",\"\")","v":""},{"$f":"IF('Concrete Plant (CP-8)'!$D$4>5,\"Processes\",\"\")","v":""},{"$f":"IF('Concrete Plant (CP-8)'!$D$4>5,\"Combined Maximum Hourly Design Rate for all Like Processes (cubic yard/hr)\",\"\")","v":""},{"$f":"IF('Concrete Plant (CP-8)'!$D$4>5,('Facility Information'!G5&\" Annual Throughput (cubic yards)\"),\"\")","v":""}]
[null,{"$f":"IF('Concrete Plant (CP-8)'!$D$4>5,\"Site Name:\",\"\")","v":""},null,null,null,null,null,{"$f":"IF(J102=\"cement delivery to silo\",\"CP-1 EP-2\",IF(J102=\"cement supplement delivery to silo\",\"CP-1 EP-3\",IF(J102=\"weigh hopper loading\",\"CP-1 EP-4\",IF(J102=\"truck mix loading\",\"CP-1 EP-5\",IF(J102=\"central mix loading\",\"CP-1 EP-6\",IF(J102=\"\",\"\",\"CP-1 EP-1\"))))))","v":""},{"$f":"IF(J102=\"\",\"\",IF(J102=\"aggregate delivery to ground storage\",\"CP-8 EU-1\",IF(J102=\"sand delivery to ground storage\",\"CP-8 EU-2\",IF(J102=\"aggregate transfer to conveyor\",\"CP-8 EU-3\",IF(J102=\"sand transfer to conveyor\",\"CP-8 EU-4\",IF(J102=\"aggregate transfer to elevated storage\",\"CP-8 EU-5\",IF(J102=\"sand transfer to elevated storage\",\"CP-8 EU-6\",IF(J102=\"weigh hopper loading\",\"CP-8 EU-7\",IF(J102=\"central mix loading\",\"CP-8 EU-8\",IF(J102=\"truck mix loading\",\"CP-8 EU-9\",IF(J102=\"cement delivery to silo\",\"CP-8 EU-10\",IF(J102=\"cement supplement delivery to silo\",\"CP-8 EU-11\"))))))))))))","v":""},null,null,null,{"$f":"IF(J102=\"truck mix loading\",IF($F$105=\"yes\",L102*0.05/2000,L102/2000),\"\")","v":""},{"$f":"IF(J102=\"central mix loading\",IF($F$105=\"yes\",L102*0.05/2000,L102/2000),\"\")","v":""}]
[null,{"$f":"IF('Concrete Plant (CP-8)'!$D$4>5,\"County:\",\"\")","v":""},null,null,null,null,null,{"$f":"IF(J103=\"cement delivery to silo\",\"CP-1 EP-2\",IF(J103=\"cement supplement delivery to silo\",\"CP-1 EP-3\",IF(J103=\"weigh hopper loading\",\"CP-1 EP-4\",IF(J103=\"truck mix loading\",\"CP-1 EP-5\",IF(J103=\"central mix loading\",\"CP-1 EP-6\",IF(J103=\"\",\"\",\"CP-1 EP-1\"))))))","v":""},"",null,null,null,{"$f":"IF(J103=\"truck mix loading\",IF($F$105=\"yes\",L103*0.05/2000,L103/2000),\"\")","v":""},{"$f":"IF(J103=\"central mix loading\",IF($F$105=\"yes\",L103*0.05/2000,L103/2000),\"\")","v":""}]
[null,{"$f":"IF('Concrete Plant (CP-8)'!$D$4>5,\"Batching Period (Dates):\",\"\")","v":""},null,null,null,null,null,"","",null,null,null,"",""]
[null,{"$f":"IF(OR(COUNTIF(J102:J111,\"Truck Mix Loading\")>0,(COUNTIF(J102:J111,\"Central Mix Loading\")>0)),\"Is the Central/Truck Mix Loading process controlled by a baghouse?\",\"\")","v":""},null,null,null,null,null,"","",null,null,null,"",""]
[null,null,null,null,null,null,null,"","",null,null,null,"",""]
[null,{"$f":"IF(AND(B109=\"\",B110=\"\",B111=\"\",B112=\"\",B113=\"\"),\"\",\"Process (complete stack information if applicable):\")","v":""},{"$f":"IF(AND(B109=\"\",B110=\"\",B111=\"\",B112=\"\",B113=\"\"),\"\",\"Stack Height (ft):\")","v":""},{"$f":"IF(AND(B109=\"\",B110=\"\",B111=\"\",B112=\"\",B113=\"\"),\"\",\"Stack Diameter (inches):\")","v":""},{"$f":"IF(AND(B109=\"\",B110=\"\",B111=\"\",B112=\"\",B113=\"\"),\"\",\"Flow Rate (acfm):\")","v":""},{"$f":"IF(AND(B109=\"\",B110=\"\",B111=\"\",B112=\"\",B113=\"\"),\"\",\"Temp (Deg F):\")","v":""},null,"","",null,null,null,"",""]
[null,null,null,null,null,null,null,"","",null,null,null,"",""]
[null,{"$f":"IF(COUNTIF(J102:J111,\"Cement Delivery to Silo\")>0,\"EP-2 Cement Silo Stack:\",\"\")","v":""},null,null,null,null,null,"","",null,null,null,"",""]
[null,{"$f":"IF(COUNTIF(J102:J111,\"Cement Supplement Delivery to Silo\")>0,\"EP-3 Cement Supplement Silo Stack:\",\"\")","v":""},null,null,null,null,null,"","",null,null,null,"",""]
[null,{"$f":"IF(COUNTIF(J102:J111,\"Weigh Hopper Loading\")>0,\"EP-4 Weigh Hopper Loading Stack:\",\"\")","v":""},null,null,null,null,null,"","",null,null,null,"",""]
[null,{"$f":"IF(COUNTIF(J102:J111,\"Truck Mix Loading\")>0,\"EP-5 Truck Mix Loading Stack:\",\"\")","v":""}]
[null,{"$f":"IF(COUNTIF(J102:J111,\"Central Mix Loading\")>0,\"EP-6 Central Mix Loading Stack:\",\"\")","v":""},null,null,null,null,null,{"$f":"IF('Concrete Plant (CP-8)'!$D$4>5,\"Stock Pile Area\",\"\")","v":""}]
[null,null,null,null,null,null,null,null,{"$f":"IF('Concrete Plant (CP-8)'!$D$4>5,\"Emission Unit #\",\"\")","v":""},{"$f":"IF('Concrete Plant (CP-8)'!$D$4>5,\"Maximum Storage Area (acres)\",\"\")","v":""},{"$f":"IF('Concrete Plant (CP-8)'!$D$4>5,\"Actual Storage Area (acres)\",\"\")","v":""},{"$f":"IF('Concrete Plant (CP-8)'!$D$4>5,\"Actual Days in Existence (days)\",\"\")","v":""}]
[]
[]
[null,{"$f":"IF('Concrete Plant (CP-8)'!$D$4>6,\"Batch Plant\",\"\")","v":""},{"$f":"IF('Concrete Plant (CP-8)'!$D$4>6,\"Site 7\",\"\")","v":""},null,null,null,null,{"$f":"IF('Concrete Plant (CP-8)'!$D$4>6,\"Emission Point #\",\"\")","v":""},{"$f":"IF('Concrete Plant (CP-8)'!$D$4>6,\"Emission     Unit #\",\"\")","v":""},{"$f":"IF('Concrete Plant (CP-8)'!$D$4>6,\"Processes\",\"\")","v":""},{"$f":"IF('Concrete Plant (CP-8)'!$D$4>6,\"Combined Maximum Hourly Design Rate for all Like Processes (cubic yard/hr)\",\"\")","v":""},{"$f":"IF('Concrete Plant (CP-8)'!$D$4>6,('Facility Information'!G5&\" Annual Throughput (cubic yards)\"),\"\")","v":""}]
[null,{"$f":"IF('Concrete Plant (CP-8)'!$D$4>6,\"Site Name:\",\"\")","v":""},null,null,null,null,null,{"$f":"IF(J118=\"cement delivery to silo\",\"CP-1 EP-2\",IF(J118=\"cement supplement delivery to silo\",\"CP-1 EP-3\",IF(J118=\"weigh hopper loading\",\"CP-1 EP-4\",IF(J118=\"truck mix loading\",\"CP-1 EP-5\",IF(J118=\"central mix loading\",\"CP-1 EP-6\",IF(J118=\"\",\"\",\"CP-1 EP-1\"))))))","v":""},{"$f":"IF(J118=\"\",\"\",IF(J118=\"aggregate delivery to ground storage\",\"CP-8 EU-1\",IF(J118=\"sand delivery to ground storage\",\"CP-8 EU-2\",IF(J118=\"aggregate transfer to conveyor\",\"CP-8 EU-3\",IF(J118=\"sand transfer to conveyor\",\"CP-8 EU-4\",IF(J118=\"aggregate transfer to elevated storage\",\"CP-8 EU-5\",IF(J118=\"sand transfer to elevated storage\",\"CP-8 EU-6\",IF(J118=\"weigh hopper loading\",\"CP-8 EU-7\",IF(J118=\"central mix loading\",\"CP-8 EU-8\",IF(J118=\"truck mix loading\",\"CP-8 EU-9\",IF(J118=\"cement delivery to silo\",\"CP-8 EU-10\",IF(J118=\"cement supplement delivery to silo\",\"CP-8 EU-11\"))))))))))))","v":""},null,null,null,{"$f":"IF(J118=\"truck mix loading\",IF($F$121=\"yes\",L118*0.05/2000,L118/2000),\"\")","v":""},{"$f":"IF(J118=\"central mix loading\",IF($F$121=\"yes\",L118*0.05/2000,L118/2000),\"\")","v":""}]
[null,{"$f":"IF('Concrete Plant (CP-8)'!$D$4>6,\"County:\",\"\")","v":""},null,null,null,null,null,{"$f":"IF(J119=\"cement delivery to silo\",\"CP-1 EP-2\",IF(J119=\"cement supplement delivery to silo\",\"CP-1 EP-3\",IF(J119=\"weigh hopper loading\",\"CP-1 EP-4\",IF(J119=\"truck mix loading\",\"CP-1 EP-5\",IF(J119=\"central mix loading\",\"CP-1 EP-6\",IF(J119=\"\",\"\",\"CP-1 EP-1\"))))))","v":""},"",null,null,null,{"$f":"IF(J119=\"truck mix loading\",IF($F$121=\"yes\",L119*0.05/2000,L119/2000),\"\")","v":""},{"$f":"IF(J119=\"central mix loading\",IF($F$121=\"yes\",L119*0.05/2000,L119/2000),\"\")","v":""}]
[null,{"$f":"IF('Concrete Plant (CP-8)'!$D$4>6,\"Batching Period (Dates):\",\"\")","v":""},null,null,null,null,null,"","",null,null,null,"",""]
[null,{"$f":"IF(OR(COUNTIF(J118:J127,\"Truck Mix Loading\")>0,(COUNTIF(J118:J127,\"Central Mix Loading\")>0)),\"Is the Central/Truck Mix Loading process controlled by a baghouse?\",\"\")","v":""},null,null,null,null,null,"","",null,null,null,"",""]
[null,null,null,null,null,null,null,"","",null,null,null,"",""]
[null,{"$f":"IF(AND(B125=\"\",B126=\"\",B127=\"\",B128=\"\",B129=\"\"),\"\",\"Process (complete stack information if applicable):\")","v":""},{"$f":"IF(AND(B125=\"\",B126=\"\",B127=\"\",B128=\"\",B129=\"\"),\"\",\"Stack Height (ft):\")","v":""},{"$f":"IF(AND(B125=\"\",B126=\"\",B127=\"\",B128=\"\",B129=\"\"),\"\",\"Stack Diameter (inches):\")","v":""},{"$f":"IF(AND(B125=\"\",B126=\"\",B127=\"\",B128=\"\",B129=\"\"),\"\",\"Flow Rate (acfm):\")","v":""},{"$f":"IF(AND(B125=\"\",B126=\"\",B127=\"\",B128=\"\",B129=\"\"),\"\",\"Temp (Deg F):\")","v":""},null,"","",null,null,null,"",""]
[null,null,null,null,null,null,null,"","",null,null,null,"",""]
[null,{"$f":"IF(COUNTIF(J118:J127,\"Cement Delivery to Silo\")>0,\"EP-2 Cement Silo Stack:\",\"\")","v":""},null,null,null,null,null,"","",null,null,null,"",""]
[null,{"$f":"IF(COUNTIF(J118:J127,\"Cement Supplement Delivery to Silo\")>0,\"EP-3 Cement Supplement Silo Stack:\",\"\")","v":""},null,null,null,null,null,"","",null,null,null,"",""]
[null,{"$f":"IF(COUNTIF(J118:J127,\"Weigh Hopper Loading\")>0,\"EP-4 Weigh Hopper Loading Stack:\",\"\")","v":""},null,null,null,null,null,"","",null,null,null,"",""]
[null,{"$f":"IF(COUNTIF(J118:J127,\"Truck Mix Loading\")>0,\"EP-5 Truck Mix Loading Stack:\",\"\")","v":""}]
[null,{"$f":"IF(COUNTIF(J118:J127,\"Central Mix Loading\")>0,\"EP-6 Central Mix Loading Stack:\",\"\")","v":""},null,null,null,null,null,{"$f":"IF('Concrete Plant (CP-8)'!$D$4>6,\"Stock Pile Area\",\"\")","v":""}]
[null,null,null,null,null,null,null,null,{"$f":"IF('Concrete Plant (CP-8)'!$D$4>6,\"Emission Unit #\",\"\")","v":""},{"$f":"IF('Concrete Plant (CP-8)'!$D$4>6,\"Maximum Storage Area (acres)\",\"\")","v":""},{"$f":"IF('Concrete Plant (CP-8)'!$D$4>6,\"Actual Storage Area (acres)\",\"\")","v":""},{"$f":"IF('Concrete Plant (CP-8)'!$D$4>6,\"Actual Days in Existence (days)\",\"\")","v":""}]
[]
[]
[null,{"$f":"IF('Concrete Plant (CP-8)'!$D$4>7,\"Batch Plant\",\"\")","v":""},{"$f":"IF('Concrete Plant (CP-8)'!$D$4>7,\"Site 8\",\"\")","v":""},null,null,null,null,{"$f":"IF('Concrete Plant (CP-8)'!$D$4>7,\"Emission Point #\",\"\")","v":""},{"$f":"IF('Concrete Plant (CP-8)'!$D$4>7,\"Emission     Unit #\",\"\")","v":""},{"$f":"IF('Concrete Plant (CP-8)'!$D$4>7,\"Processes\",\"\")","v":""},{"$f":"IF('Concrete Plant (CP-8)'!$D$4>7,\"Combined Maximum Hourly Design Rate for all Like Processes (cubic yard/hr)\",\"\")","v":""},{"$f":"IF('Concrete Plant (CP-8)'!$D$4>7,('Facility Information'!G5&\" Annual Throughput (cubic yards)\"),\"\")","v":""}]
[null,{"$f":"IF('Concrete Plant (CP-8)'!$D$4>7,\"Site Name:\",\"\")","v":""},null,null,null,null,null,{"$f":"IF(J134=\"cement delivery to silo\",\"CP-1 EP-2\",IF(J134=\"cement supplement delivery to silo\",\"CP-1 EP-3\",IF(J134=\"weigh hopper loading\",\"CP-1 EP-4\",IF(J134=\"truck mix loading\",\"CP-1 EP-5\",IF(J134=\"central mix loading\",\"CP-1 EP-6\",IF(J134=\"\",\"\",\"CP-1 EP-1\"))))))","v":""},{"$f":"IF(J134=\"\",\"\",IF(J134=\"aggregate delivery to ground storage\",\"CP-8 EU-1\",IF(J134=\"sand delivery to ground storage\",\"CP-8 EU-2\",IF(J134=\"aggregate transfer to conveyor\",\"CP-8 EU-3\",IF(J134=\"sand transfer to conveyor\",\"CP-8 EU-4\",IF(J134=\"aggregate transfer to elevated storage\",\"CP-8 EU-5\",IF(J134=\"sand transfer to elevated storage\",\"CP-8 EU-6\",IF(J134=\"weigh hopper loading\",\"CP-8 EU-7\",IF(J134=\"central mix loading\",\"CP-8 EU-8\",IF(J134=\"truck mix loading\",\"CP-8 EU-9\",IF(J134=\"cement delivery to silo\",\"CP-8 EU-10\",IF(J134=\"cement supplement delivery to silo\",\"CP-8 EU-11\"))))))))))))","v":""},null,null,null,{"$f":"IF(J134=\"truck mix loading\",IF($F$137=\"yes\",L134*0.05/2000,L134/2000),\"\")","v":""},{"$f":"IF(J134=\"central mix loading\",IF($F$137=\"yes\",L134*0.05/2000,L134/2000),\"\")","v":""}]
[null,{"$f":"IF('Concrete Plant (CP-8)'!$D$4>7,\"County:\",\"\")","v":""},null,null,null,null,null,{"$f":"IF(J135=\"cement delivery to silo\",\"CP-1 EP-2\",IF(J135=\"cement supplement delivery to silo\",\"CP-1 EP-3\",IF(J135=\"weigh hopper loading\",\"CP-1 EP-4\",IF(J135=\"truck mix loading\",\"CP-1 EP-5\",IF(J135=\"central mix loading\",\"CP-1 EP-6\",IF(J135=\"\",\"\",\"CP-1 EP-1\"))))))","v":""},"",null,null,null,{"$f":"IF(J135=\"truck mix loading\",IF($F$137=\"yes\",L135*0.05/2000,L135/2000),\"\")","v":""},{"$f":"IF(J135=\"central mix loading\",IF($F$137=\"yes\",L135*0.05/2000,L135/2000),\"\")","v":""}]
[null,{"$f":"IF('Concrete Plant (CP-8)'!$D$4>7,\"Batching Period (Dates):\",\"\")","v":""},null,null,null,null,null,"","",null,null,null,"",""]
[null,{"$f":"IF(OR(COUNTIF(J134:J143,\"Truck Mix Loading\")>0,(COUNTIF(J134:J143,\"Central Mix Loading\")>0)),\"Is the Central/Truck Mix Loading process controlled by a baghouse?\",\"\")","v":""},null,null,null,null,null,"","",null,null,null,"",""]
[null,null,null,null,null,null,null,"","",null,null,null,"",""]
[null,{"$f":"IF(AND(B141=\"\",B142=\"\",B143=\"\",B144=\"\",B145=\"\"),\"\",\"Process (complete stack information if applicable):\")","v":""},{"$f":"IF(AND(B141=\"\",B142=\"\",B143=\"\",B144=\"\",B145=\"\"),\"\",\"Stack Height (ft):\")","v":""},{"$f":"IF(AND(B141=\"\",B142=\"\",B143=\"\",B144=\"\",B145=\"\"),\"\",\"Stack Diameter (inches):\")","v":""},{"$f":"IF(AND(B141=\"\",B142=\"\",B143=\"\",B144=\"\",B145=\"\"),\"\",\"Flow Rate (acfm):\")","v":""},{"$f":"IF(AND(B141=\"\",B142=\"\",B143=\"\",B144=\"\",B145=\"\"),\"\",\"Temp (Deg F):\")","v":""},null,"","",null,null,null,"",""]
[null,null,null,null,null,null,null,"","",null,null,null,"",""]
[null,{"$f":"IF(COUNTIF(J134:J143,\"Cement Delivery to Silo\")>0,\"EP-2 Cement Silo Stack:\",\"\")","v":""},null,null,null,null,null,"","",null,null,null,"",""]
[null,{"$f":"IF(COUNTIF(J134:J143,\"Cement Supplement Delivery to Silo\")>0,\"EP-3 Cement Supplement Silo Stack:\",\"\")","v":""},null,null,null,null,null,"","",null,null,null,"",""]
[null,{"$f":"IF(COUNTIF(J134:J143,\"Weigh Hopper Loading\")>0,\"EP-4 Weigh Hopper Loading Stack:\",\"\")","v":""},null,null,null,null,null,"","",null,null,null,"",""]
[null,{"$f":"IF(COUNTIF(J134:J143,\"Truck Mix Loading\")>0,\"EP-5 Truck Mix Loading Stack:\",\"\")","v":""}]
[null,{"$f":"IF(COUNTIF(J134:J143,\"Central Mix Loading\")>0,\"EP-6 Central Mix Loading Stack:\",\"\")","v":""},null,null,null,null,null,{"$f":"IF('Concrete Plant (CP-8)'!$D$4>7,\"Stock Pile Area\",\"\")","v":""}]
[null,null,null,null,null,null,null,null,{"$f":"IF('Concrete Plant (CP-8)'!$D$4>7,\"Emission Unit #\",\"\")","v":""},{"$f":"IF('Concrete Plant (CP-8)'!$D$4>7,\"Maximum Storage Area (acres)\",\"\")","v":""},{"$f":"IF('Concrete Plant (CP-8)'!$D$4>7,\"Actual Storage Area (acres)\",\"\")","v":""},{"$f":"IF('Concrete Plant (CP-8)'!$D$4>7,\"Actual Days in Existence (days)\",\"\")","v":""}]
[]
[]
[null,{"$f":"IF('Concrete Plant (CP-8)'!$D$4>8,\"Batch Plant\",\"\")","v":""},{"$f":"IF('Concrete Plant (CP-8)'!$D$4>8,\"Site 9\",\"\")","v":""},null,null,null,null,{"$f":"IF('Concrete Plant (CP-8)'!$D$4>8,\"Emission Point #\",\"\")","v":""},{"$f":"IF('Concrete Plant (CP-8)'!$D$4>8,\"Emission     Unit #\",\"\")","v":""},{"$f":"IF('Concrete Plant (CP-8)'!$D$4>8,\"Processes\",\"\")","v":""},{"$f":"IF('Concrete Plant (CP-8)'!$D$4>8,\"Combined Maximum Hourly Design Rate for all Like Processes (cubic yard/hr)\",\"\")","v":""},{"$f":"IF('Concrete Plant (CP-8)'!$D$4>8,('Facility Information'!G5&\" Annual Throughput (cubic yards)\"),\"\")","v":""}]
[null,{"$f":"IF('Concrete Plant (CP-8)'!$D$4>8,\"Site Name:\",\"\")","v":""},null,null,null,null,null,{"$f":"IF(J150=\"cement delivery to silo\",\"CP-1 EP-2\",IF(J150=\"cement supplement delivery to silo\",\"CP-1 EP-3\",IF(J150=\"weigh hopper loading\",\"CP-1 EP-4\",IF(J150=\"truck mix loading\",\"CP-1 EP-5\",IF(J150=\"central mix loading\",\"CP-1 EP-6\",IF(J150=\"\",\"\",\"CP-1 EP-1\"))))))","v":""},{"$f":"IF(J150=\"\",\"\",IF(J150=\"aggregate delivery to ground storage\",\"CP-8 EU-1\",IF(J150=\"sand delivery to ground storage\",\"CP-8 EU-2\",IF(J150=\"aggregate transfer to conveyor\",\"CP-8 EU-3\",IF(J150=\"sand transfer to conveyor\",\"CP-8 EU-4\",IF(J150=\"aggregate transfer to elevated storage\",\"CP-8 EU-5\",IF(J150=\"sand transfer to elevated storage\",\"CP-8 EU-6\",IF(J150=\"weigh hopper loading\",\"CP-8 EU-7\",IF(J150=\"central mix loading\",\"CP-8 EU-8\",IF(J150=\"truck mix loading\",\"CP-8 EU-9\",IF(J150=\"cement delivery to silo\",\"CP-8 EU-10\",IF(J150=\"cement supplement delivery to silo\",\"CP-8 EU-11\"))))))))))))","v":""},null,null,null,{"$f":"IF(J150=\"truck mix loading\",IF($F$153=\"yes\",L150*0.05/2000,L150/2000),\"\")","v":""},{"$f":"IF(J150=\"central mix loading\",IF($F$153=\"yes\",L150*0.05/2000,L150/2000),\"\")","v":""}]
[null,{"$f":"IF('Concrete Plant (CP-8)'!$D$4>8,\"County:\",\"\")","v":""},null,null,null,null,null,{"$f":"IF(J151=\"cement delivery to silo\",\"CP-1 EP-2\",IF(J151=\"cement supplement delivery to silo\",\"CP-1 EP-3\",IF(J151=\"weigh hopper loading\",\"CP-1 EP-4\",IF(J151=\"truck mix loading\",\"CP-1 EP-5\",IF(J151=\"central mix loading\",\"CP-1 EP-6\",IF(J151=\"\",\"\",\"CP-1 EP-1\"))))))","v":""},"",null,null,null,{"$f":"IF(J151=\"truck mix loading\",IF($F$153=\"yes\",L151*0.05/2000,L151/2000),\"\")","v":""},{"$f":"IF(J151=\"central mix loading\",IF($F$153=\"yes\",L151*0.05/2000,L151/2000),\"\")","v":""}]
[null,{"$f":"IF('Concrete Plant (CP-8)'!$D$4>8,\"Batching Period (Dates):\",\"\")","v":""},null,null,null,null,null,"","",null,null,null,"",""]
[null,{"$f":"IF(OR(COUNTIF(J150:J159,\"Truck Mix Loading\")>0,(COUNTIF(J150:J159,\"Central Mix Loading\")>0)),\"Is the Central/Truck Mix Loading process controlled by a baghouse?\",\"\")","v":""},null,null,null,null,null,"","",null,null,null,"",""]
[null,null,null,null,null,null,null,"","",null,null,null,"",""]
[null,{"$f":"IF(AND(B157=\"\",B158=\"\",B159=\"\",B160=\"\",B161=\"\"),\"\",\"Process (complete stack information if applicable):\")","v":""},{"$f":"IF(AND(B157=\"\",B158=\"\",B159=\"\",B160=\"\",B161=\"\"),\"\",\"Stack Height (ft):\")","v":""},{"$f":"IF(AND(B157=\"\",B158=\"\",B159=\"\",B160=\"\",B161=\"\"),\"\",\"Stack Diameter (inches):\")","v":""},{"$f":"IF(AND(B157=\"\",B158=\"\",B159=\"\",B160=\"\",B161=\"\"),\"\",\"Flow Rate (acfm):\")","v":""},{"$f":"IF(AND(B157=\"\",B158=\"\",B159=\"\",B160=\"\",B161=\"\"),\"\",\"Temp (Deg F):\")","v":""},null,"","",null,null,null,"",""]
[null,null,null,null,null,null,null,"","",null,null,null,"",""]
[null,{"$f":"IF(COUNTIF(J150:J159,\"Cement Delivery to Silo\")>0,\"EP-2 Cement Silo Stack:\",\"\")","v":""},null,null,null,null,null,"","",null,null,null,"",""]
[null,{"$f":"IF(COUNTIF(J150:J159,\"Cement Supplement Delivery to Silo\")>0,\"EP-3 Cement Supplement Silo Stack:\",\"\")","v":""},null,null,null,null,null,"","",null,null,null,"",""]
[null,{"$f":"IF(COUNTIF(J150:J159,\"Weigh Hopper Loading\")>0,\"EP-4 Weigh Hopper Loading Stack:\",\"\")","v":""},null,null,null,null,null,"","",null,null,null,"",""]
[null,{"$f":"IF(COUNTIF(J150:J159,\"Truck Mix Loading\")>0,\"EP-5 Truck Mix Loading Stack:\",\"\")","v":""}]
[null,{"$f":"IF(COUNTIF(J150:J159,\"Central Mix Loading\")>0,\"EP-6 Central Mix Loading Stack:\",\"\")","v":""},null,null,null,null,null,{"$f":"IF('Concrete Plant (CP-8)'!$D$4>8,\"Stock Pile Area\",\"\")","v":""}]
[null,null,null,null,null,null,null,null,{"$f":"IF('Concrete Plant (CP-8)'!$D$4>8,\"Emission Unit #\",\"\")","v":""},{"$f":"IF('Concrete Plant (CP-8)'!$D$4>8,\"Maximum Storage Area (acres)\",\"\")","v":""},{"$f":"IF('Concrete Plant (CP-8)'!$D$4>8,\"Actual Storage Area (acres)\",\"\")","v":""},{"$f":"IF('Concrete Plant (CP-8)'!$D$4>8,\"Actual Days in Existence (days)\",\"\")","v":""}]
[]
[]
[null,{"$f":"IF('Concrete Plant (CP-8)'!$D$4>9,\"Batch Plant\",\"\")","v":""},{"$f":"IF('Concrete Plant (CP-8)'!$D$4>9,\"Site 10\",\"\")","v":""},null,null,null,null,{"$f":"IF('Concrete Plant (CP-8)'!$D$4>9,\"Emission Point #\",\"\")","v":""},{"$f":"IF('Concrete Plant (CP-8)'!$D$4>9,\"Emission     Unit #\",\"\")","v":""},{"$f":"IF('Concrete Plant (CP-8)'!$D$4>9,\"Processes\",\"\")","v":""},{"$f":"IF('Concrete Plant (CP-8)'!$D$4>9,\"Combined Maximum Hourly Design Rate for all Like Processes (cubic yard/hr)\",\"\")","v":""},{"$f":"IF('Concrete Plant (CP-8)'!$D$4>9,('Facility Information'!G5&\" Annual Throughput (cubic yards)\"),\"\")","v":""}]
[null,{"$f":"IF('Concrete Plant (CP-8)'!$D$4>9,\"Site Name:\",\"\")","v":""},null,null,null,null,null,{"$f":"IF(J166=\"cement delivery to silo\",\"CP-1 EP-2\",IF(J166=\"cement supplement delivery to silo\",\"CP-1 EP-3\",IF(J166=\"weigh hopper loading\",\"CP-1 EP-4\",IF(J166=\"truck mix loading\",\"CP-1 EP-5\",IF(J166=\"central mix loading\",\"CP-1 EP-6\",IF(J166=\"\",\"\",\"CP-1 EP-1\"))))))","v":""},{"$f":"IF(J166=\"\",\"\",IF(J166=\"aggregate delivery to ground storage\",\"CP-8 EU-1\",IF(J166=\"sand delivery to ground storage\",\"CP-8 EU-2\",IF(J166=\"aggregate transfer to conveyor\",\"CP-8 EU-3\",IF(J166=\"sand transfer to conveyor\",\"CP-8 EU-4\",IF(J166=\"aggregate transfer to elevated storage\",\"CP-8 EU-5\",IF(J166=\"sand transfer to elevated storage\",\"CP-8 EU-6\",IF(J166=\"weigh hopper loading\",\"CP-8 EU-7\",IF(J166=\"central mix loading\",\"CP-8 EU-8\",IF(J166=\"truck mix loading\",\"CP-8 EU-9\",IF(J166=\"cement delivery to silo\",\"CP-8 EU-10\",IF(J166=\"cement supplement delivery to silo\",\"CP-8 EU-11\"))))))))))))","v":""},null,null,null,{"$f":"IF(J166=\"truck mix loading\",IF($F$169=\"yes\",L166*0.05/2000,L166/2000),\"\")","v":""},{"$f":"IF(J166=\"central mix loading\",IF($F$169=\"yes\",L166*0.05/2000,L166/2000),\"\")","v":""}]
[null,{"$f":"IF('Concrete Plant (CP-8)'!$D$4>9,\"County:\",\"\")","v":""},null,null,null,null,null,{"$f":"IF(J167=\"cement delivery to silo\",\"CP-1 EP-2\",IF(J167=\"cement supplement delivery to silo\",\"CP-1 EP-3\",IF(J167=\"weigh hopper loading\",\"CP-1 EP-4\",IF(J167=\"truck mix loading\",\"CP-1 EP-5\",IF(J167=\"central mix loading\",\"CP-1 EP-6\",IF(J167=\"\",\"\",\"CP-1 EP-1\"))))))","v":""},"",null,null,null,{"$f":"IF(J167=\"truck mix loading\",IF($F$169=\"yes\",L167*0.05/2000,L167/2000),\"\")","v":""},{"$f":"IF(J167=\"central mix loading\",IF($F$169=\"yes\",L167*0.05/2000,L167/2000),\"\")","v":""}]
[null,{"$f":"IF('Concrete Plant (CP-8)'!$D$4>9,\"Batching Period (Dates):\",\"\")","v":""},null,null,null,null,null,"","",null,null,null,"",""]
[null,{"$f":"IF(OR(COUNTIF(J166:J175,\"Truck Mix Loading\")>0,(COUNTIF(J166:J175,\"Central Mix Loading\")>0)),\"Is the Central/Truck Mix Loading process controlled by a baghouse?\",\"\")","v":""},null,null,null,null,null,"","",null,null,null,"",""]
[null,null,null,null,null,null,null,"","",null,null,null,"",""]
[null,{"$f":"IF(AND(B173=\"\",B174=\"\",B175=\"\",B176=\"\",B177=\"\"),\"\",\"Process (complete stack information if applicable):\")","v":""},{"$f":"IF(AND(B173=\"\",B174=\"\",B175=\"\",B176=\"\",B177=\"\"),\"\",\"Stack Height (ft):\")","v":""},{"$f":"IF(AND(B173=\"\",B174=\"\",B175=\"\",B176=\"\",B177=\"\"),\"\",\"Stack Diameter (inches):\")","v":""},{"$f":"IF(AND(B173=\"\",B174=\"\",B175=\"\",B176=\"\",B177=\"\"),\"\",\"Flow Rate (acfm):\")","v":""},{"$f":"IF(AND(B173=\"\",B174=\"\",B175=\"\",B176=\"\",B177=\"\"),\"\",\"Temp (Deg F):\")","v":""},null,"","",null,null,null,"",""]
[null,null,null,null,null,null,null,"","",null,null,null,"",""]
[null,{"$f":"IF(COUNTIF(J166:J175,\"Cement Delivery to Silo\")>0,\"EP-2 Cement Silo Stack:\",\"\")","v":""},null,null,null,null,null,"","",null,null,null,"",""]
[null,{"$f":"IF(COUNTIF(J166:J175,\"Cement Supplement Delivery to Silo\")>0,\"EP-3 Cement Supplement Silo Stack:\",\"\")","v":""},null,null,null,null,null,"","",null,null,null,"",""]
[null,{"$f":"IF(COUNTIF(J166:J175,\"Weigh Hopper Loading\")>0,\"EP-4 Weigh Hopper Loading Stack:\",\"\")","v":""},null,null,null,null,null,"","",null,null,null,"",""]
[null,{"$f":"IF(COUNTIF(J166:J175,\"Truck Mix Loading\")>0,\"EP-5 Truck Mix Loading Stack:\",\"\")","v":""}]
[null,{"$f":"IF(COUNTIF(J166:J175,\"Central Mix Loading\")>0,\"EP-6 Central Mix Loading Stack:\",\"\")","v":""},null,null,null,null,null,{"$f":"IF('Concrete Plant (CP-8)'!$D$4>9,\"Stock Pile Area\",\"\")","v":""}]
[null,null,null,null,null,null,null,null,{"$f":"IF('Concrete Plant (CP-8)'!$D$4>9,\"Emission Unit #\",\"\")","v":""},{"$f":"IF('Concrete Plant (CP-8)'!$D$4>9,\"Maximum Storage Area (acres)\",\"\")","v":""},{"$f":"IF('Concrete Plant (CP-8)'!$D$4>9,\"Actual Storage Area (acres)\",\"\")","v":""},{"$f":"IF('Concrete Plant (CP-8)'!$D$4>9,\"Actual Days in Existence (days)\",\"\")","v":""}]
[]
[]
[null,null,null,null,null,null,null,null,null,null,null,null,{"$f":"SUM(M166:M175,M150:M159,M134:M143,M118:M127,M102:M111,M85:M94,M69:M78,M53:M62,M38:M47,M21:M30)","v":0},{"$f":"SUM(N166:N175,N150:N159,N134:N143,N118:N127,N102:N111,N85:N94,N69:N78,N53:N62,N38:N47,N21:N30)","v":0}]

{"sheet":"Concrete Plant (CP-9)","index":9,"n_rows":180,"n_cols":23,"rows_kept":180,"cut":false,"hidden":true,"merged":[]}
[null,"CONCRETE BATCH PLANT (CP-9)"]
[null,"Please fill in the yellow boxes as applicable for your facility. ",null,null,null,null,null,null,null,null,null,"Values used for calculating emissions →",null,null,null,"Values Used to Calculate Actual Emissions for the Listed Processes at this Plant"]
[null,null,null,null,null,null,null,null,null,null,null,null,null,null,null,"Process","Maximum Design Rate (cubic yards/hr)","Actual throughput (cubic yards/yr)"]
[null,{"$f":"\"Number of Sites this Plant operated at in \"&'Facility Information'!G5&\":\"","v":"Number of Sites this Plant operated at in :"},null,null,null,null,null,null,null,null,null,null,null,null,null,"Aggregate Delivery to Ground Storage",{"$f":"MAX((IFERROR(OFFSET($J$20,MATCH(\"Aggregate Delivery to Ground Storage\",$J$21:$J$30,0),1),0)),((IFERROR((OFFSET($J$37,MATCH(\"Aggregate Delivery to Ground Storage\",$J$38:$J$47,0),1)),0))),((IFERROR((OFFSET($J$52,MATCH(\"Aggregate Delivery to Ground Storage\",$J$53:$J$62,0),1)),0))),((IFERROR((OFFSET($J$68,MATCH(\"Aggregate Delivery to Ground Storage\",$J$69:$J$78,0),1)),0))),((IFERROR((OFFSET($J$84,MATCH(\"Aggregate Delivery to Ground Storage\",$J$85:$J$94,0),1)),0))),((IFERROR((OFFSET($J$100,MATCH(\"Aggregate Delivery to Ground Storage\",$J$101:$J$110,0),1)),0))),((IFERROR((OFFSET($J$116,MATCH(\"Aggregate Delivery to Ground Storage\",$J$117:$J$126,0),1)),0))),((IFERROR((OFFSET($J$132,MATCH(\"Aggregate Delivery to Ground Storage\",$J$133:$J$142,0),1)),0))),((IFERROR((OFFSET($J$148,MATCH(\"Aggregate Delivery to Ground Storage\",$J$149:$J$158,0),1)),0))),((IFERROR((OFFSET($J$164,MATCH(\"Aggregate Delivery to Ground Storage\",$J$165:$J$174,0),1)),0))),)","v":0},{"$f":"SUM((IFERROR(OFFSET($J$20,MATCH(\"Aggregate Delivery to Ground Storage\",$J$21:$J$30,0),2),0)),((IFERROR((OFFSET($J$37,MATCH(\"Aggregate Delivery to Ground Storage\",$J$38:$J$47,0),2)),0))),((IFERROR((OFFSET($J$52,MATCH(\"Aggregate Delivery to Ground Storage\",$J$53:$J$62,0),2)),0))),((IFERROR((OFFSET($J$68,MATCH(\"Aggregate Delivery to Ground Storage\",$J$69:$J$78,0),2)),0))),((IFERROR((OFFSET($J$84,MATCH(\"Aggregate Delivery to Ground Storage\",$J$85:$J$94,0),2)),0))),((IFERROR((OFFSET($J$100,MATCH(\"Aggregate Delivery to Ground Storage\",$J$101:$J$110,0),2)),0))),((IFERROR((OFFSET($J$116,MATCH(\"Aggregate Delivery to Ground Storage\",$J$117:$J$126,0),2)),0))),((IFERROR((OFFSET($J$132,MATCH(\"Aggregate Delivery to Ground Storage\",$J$133:$J$142,0),2)),0))),((IFERROR((OFFSET($J$148,MATCH(\"Aggregate Delivery to Ground Storage\",$J$149:$J$158,0),2)),0))),((IFERROR((OFFSET($J$164,MATCH(\"Aggregate Delivery to Ground Storage\",$J$165:$J$174,0),2)),0))),)","v":0},"** As of 2016 Potential Emissions are no longer required to be reported in the Minor Source Emissions Inventory**"]
[null,null,null,null,null,null,null,null,null,null,null,null,null,null,null,"Sand Delivery to Ground Storage",{"$f":"MAX((IFERROR(OFFSET($J$20,MATCH(\"Sand Delivery to Ground Storage\",$J$21:$J$30,0),1),0)),((IFERROR((OFFSET($J$37,MATCH(\"Sand Delivery to Ground Storage\",$J$38:$J$47,0),1)),0))),((IFERROR((OFFSET($J$52,MATCH(\"Sand Delivery to Ground Storage\",$J$53:$J$62,0),1)),0))),((IFERROR((OFFSET($J$68,MATCH(\"Sand Delivery to Ground Storage\",$J$69:$J$78,0),1)),0))),((IFERROR((OFFSET($J$84,MATCH(\"Sand Delivery to Ground Storage\",$J$85:$J$94,0),1)),0))),((IFERROR((OFFSET($J$100,MATCH(\"Sand Delivery to Ground Storage\",$J$101:$J$110,0),1)),0))),((IFERROR((OFFSET($J$116,MATCH(\"Sand Delivery to Ground Storage\",$J$117:$J$126,0),1)),0))),((IFERROR((OFFSET($J$132,MATCH(\"Sand Delivery to Ground Storage\",$J$133:$J$142,0),1)),0))),((IFERROR((OFFSET($J$148,MATCH(\"Sand Delivery to Ground Storage\",$J$149:$J$158,0),1)),0))),((IFERROR((OFFSET($J$164,MATCH(\"Sand Delivery to Ground Storage\",$J$165:$J$174,0),1)),0))),)","v":0},{"$f":"SUM((IFERROR(OFFSET($J$20,MATCH(\"Sand Delivery to Ground Storage\",$J$21:$J$30,0),2),0)),((IFERROR((OFFSET($J$37,MATCH(\"Sand Delivery to Ground Storage\",$J$38:$J$47,0),2)),0))),((IFERROR((OFFSET($J$52,MATCH(\"Sand Delivery to Ground Storage\",$J$53:$J$62,0),2)),0))),((IFERROR((OFFSET($J$68,MATCH(\"Sand Delivery to Ground Storage\",$J$69:$J$78,0),2)),0))),((IFERROR((OFFSET($J$84,MATCH(\"Sand Delivery to Ground Storage\",$J$85:$J$94,0),2)),0))),((IFERROR((OFFSET($J$100,MATCH(\"Sand Delivery to Ground Storage\",$J$101:$J$110,0),2)),0))),((IFERROR((OFFSET($J$116,MATCH(\"Sand Delivery to Ground Storage\",$J$117:$J$126,0),2)),0))),((IFERROR((OFFSET($J$132,MATCH(\"Sand Delivery to Ground Storage\",$J$133:$J$142,0),2)),0))),((IFERROR((OFFSET($J$148,MATCH(\"Sand Delivery to Ground Storage\",$J$149:$J$158,0),2)),0))),((IFERROR((OFFSET($J$164,MATCH(\"Sand Delivery to Ground Storage\",$J$165:$J$174,0),2)),0))),)","v":0}]
[null,"Plant Specific Permit Number: ",null,null,null,null,null,null,null,null,null,null,null,null,null,"Aggregate Transfer to Conveyor",{"$f":"MAX((IFERROR(OFFSET($J$20,MATCH(\"Aggregate Transfer to Conveyor\",$J$21:$J$30,0),1),0)),((IFERROR((OFFSET($J$37,MATCH(\"Aggregate Transfer to Conveyor\",$J$38:$J$47,0),1)),0))),((IFERROR((OFFSET($J$52,MATCH(\"Aggregate Transfer to Conveyor\",$J$53:$J$62,0),1)),0))),((IFERROR((OFFSET($J$68,MATCH(\"Aggregate Transfer to Conveyor\",$J$69:$J$78,0),1)),0))),((IFERROR((OFFSET($J$84,MATCH(\"Aggregate Transfer to Conveyor\",$J$85:$J$94,0),1)),0))),((IFERROR((OFFSET($J$100,MATCH(\"Aggregate Transfer to Conveyor\",$J$101:$J$110,0),1)),0))),((IFERROR((OFFSET($J$116,MATCH(\"Aggregate Transfer to Conveyor\",$J$117:$J$126,0),1)),0))),((IFERROR((OFFSET($J$132,MATCH(\"Aggregate Transfer to Conveyor\",$J$133:$J$142,0),1)),0))),((IFERROR((OFFSET($J$148,MATCH(\"Aggregate Transfer to Conveyor\",$J$149:$J$158,0),1)),0))),((IFERROR((OFFSET($J$164,MATCH(\"Aggregate Transfer to Conveyor\",$J$165:$J$174,0),1)),0))),)","v":0},{"$f":"SUM((IFERROR(OFFSET($J$20,MATCH(\"Aggregate Transfer to Conveyor\",$J$21:$J$30,0),2),0)),((IFERROR((OFFSET($J$37,MATCH(\"Aggregate Transfer to Conveyor\",$J$38:$J$47,0),2)),0))),((IFERROR((OFFSET($J$52,MATCH(\"Aggregate Transfer to Conveyor\",$J$53:$J$62,0),2)),0))),((IFERROR((OFFSET($J$68,MATCH(\"Aggregate Transfer to Conveyor\",$J$69:$J$78,0),2)),0))),((IFERROR((OFFSET($J$84,MATCH(\"Aggregate Transfer to Conveyor\",$J$85:$J$94,0),2)),0))),((IFERROR((OFFSET($J$100,MATCH(\"Aggregate Transfer to Conveyor\",$J$101:$J$110,0),2)),0))),((IFERROR((OFFSET($J$116,MATCH(\"Aggregate Transfer to Conveyor\",$J$117:$J$126,0),2)),0))),((IFERROR((OFFSET($J$132,MATCH(\"Aggregate Transfer to Conveyor\",$J$133:$J$142,0),2)),0))),((IFERROR((OFFSET($J$148,MATCH(\"Aggregate Transfer to Conveyor\",$J$149:$J$158,0),2)),0))),((IFERROR((OFFSET($J$164,MATCH(\"Aggregate Transfer to Conveyor\",$J$165:$J$174,0),2)),0))),)","v":0}]
[null,null,null,null,null,null,null,null,null,null,null,null,null,null,null,"Sand Transfer to Conveyor",{"$f":"MAX((IFERROR(OFFSET($J$20,MATCH(\"Sand Transfer to Conveyor\",$J$21:$J$30,0),1),0)),((IFERROR((OFFSET($J$37,MATCH(\"Sand Transfer to Conveyor\",$J$38:$J$47,0),1)),0))),((IFERROR((OFFSET($J$52,MATCH(\"Sand Transfer to Conveyor\",$J$53:$J$62,0),1)),0))),((IFERROR((OFFSET($J$68,MATCH(\"Sand Transfer to Conveyor\",$J$69:$J$78,0),1)),0))),((IFERROR((OFFSET($J$84,MATCH(\"Sand Transfer to Conveyor\",$J$85:$J$94,0),1)),0))),((IFERROR((OFFSET($J$100,MATCH(\"Sand Transfer to Conveyor\",$J$101:$J$110,0),1)),0))),((IFERROR((OFFSET($J$116,MATCH(\"Sand Transfer to Conveyor\",$J$117:$J$126,0),1)),0))),((IFERROR((OFFSET($J$132,MATCH(\"Sand Transfer to Conveyor\",$J$133:$J$142,0),1)),0))),((IFERROR((OFFSET($J$148,MATCH(\"Sand Transfer to Conveyor\",$J$149:$J$158,0),1)),0))),((IFERROR((OFFSET($J$164,MATCH(\"Sand Transfer to Conveyor\",$J$165:$J$174,0),1)),0))),)","v":0},{"$f":"SUM((IFERROR(OFFSET($J$20,MATCH(\"Sand Transfer to Conveyor\",$J$21:$J$30,0),2),0)),((IFERROR((OFFSET($J$37,MATCH(\"Sand Transfer to Conveyor\",$J$38:$J$47,0),2)),0))),((IFERROR((OFFSET($J$52,MATCH(\"Sand Transfer to Conveyor\",$J$53:$J$62,0),2)),0))),((IFERROR((OFFSET($J$68,MATCH(\"Sand Transfer to Conveyor\",$J$69:$J$78,0),2)),0))),((IFERROR((OFFSET($J$84,MATCH(\"Sand Transfer to Conveyor\",$J$85:$J$94,0),2)),0))),((IFERROR((OFFSET($J$100,MATCH(\"Sand Transfer to Conveyor\",$J$101:$J$110,0),2)),0))),((IFERROR((OFFSET($J$116,MATCH(\"Sand Transfer to Conveyor\",$J$117:$J$126,0),2)),0))),((IFERROR((OFFSET($J$132,MATCH(\"Sand Transfer to Conveyor\",$J$133:$J$142,0),2)),0))),((IFERROR((OFFSET($J$148,MATCH(\"Sand Transfer to Conveyor\",$J$149:$J$158,0),2)),0))),((IFERROR((OFFSET($J$164,MATCH(\"Sand Transfer to Conveyor\",$J$165:$J$174,0),2)),0))),)","v":0}]
[null,"Plant Specific Operating Limits:",null,null,null,null,null,"Plant Specific Emission Limits:",null,null,null,null,null,null,null,"Aggregate Transfer to Elevated Storage",{"$f":"MAX((IFERROR(OFFSET($J$20,MATCH(\"Aggregate Transfer to Elevated Storage\",$J$21:$J$30,0),1),0)),((IFERROR((OFFSET($J$37,MATCH(\"Aggregate Transfer to Elevated Storage\",$J$38:$J$47,0),1)),0))),((IFERROR((OFFSET($J$52,MATCH(\"Aggregate Transfer to Elevated Storage\",$J$53:$J$62,0),1)),0))),((IFERROR((OFFSET($J$68,MATCH(\"Aggregate Transfer to Elevated Storage\",$J$69:$J$78,0),1)),0))),((IFERROR((OFFSET($J$84,MATCH(\"Aggregate Transfer to Elevated Storage\",$J$85:$J$94,0),1)),0))),((IFERROR((OFFSET($J$100,MATCH(\"Aggregate Transfer to Elevated Storage\",$J$101:$J$110,0),1)),0))),((IFERROR((OFFSET($J$116,MATCH(\"Aggregate Transfer to Elevated Storage\",$J$117:$J$126,0),1)),0))),((IFERROR((OFFSET($J$132,MATCH(\"Aggregate Transfer to Elevated Storage\",$J$133:$J$142,0),1)),0))),((IFERROR((OFFSET($J$148,MATCH(\"Aggregate Transfer to Elevated Storage\",$J$149:$J$158,0),1)),0))),((IFERROR((OFFSET($J$164,MATCH(\"Aggregate Transfer to Elevated Storage\",$J$165:$J$174,0),1)),0))),)","v":0},{"$f":"SUM((IFERROR(OFFSET($J$20,MATCH(\"Aggregate Transfer to Elevated Storage\",$J$21:$J$30,0),2),0)),((IFERROR((OFFSET($J$37,MATCH(\"Aggregate Transfer to Elevated Storage\",$J$38:$J$47,0),2)),0))),((IFERROR((OFFSET($J$52,MATCH(\"Aggregate Transfer to Elevated Storage\",$J$53:$J$62,0),2)),0))),((IFERROR((OFFSET($J$68,MATCH(\"Aggregate Transfer to Elevated Storage\",$J$69:$J$78,0),2)),0))),((IFERROR((OFFSET($J$84,MATCH(\"Aggregate Transfer to Elevated Storage\",$J$85:$J$94,0),2)),0))),((IFERROR((OFFSET($J$100,MATCH(\"Aggregate Transfer to Elevated Storage\",$J$101:$J$110,0),2)),0))),((IFERROR((OFFSET($J$116,MATCH(\"Aggregate Transfer to Elevated Storage\",$J$117:$J$126,0),2)),0))),((IFERROR((OFFSET($J$132,MATCH(\"Aggregate Transfer to Elevated Storage\",$J$133:$J$142,0),2)),0))),((IFERROR((OFFSET($J$148,MATCH(\"Aggregate Transfer to Elevated Storage\",$J$149:$J$158,0),2)),0))),((IFERROR((OFFSET($J$164,MATCH(\"Aggregate Transfer to Elevated Storage\",$J$165:$J$174,0),2)),0))),)","v":0}]
[null,"Throughput Limit (cubic yards/yr):",null,null,null,null,null,"Pollutant","lb/hr","tons/yr",null,null,null,null,null,"Sand Transfer to Elevated Storage",{"$f":"MAX((IFERROR(OFFSET($J$20,MATCH(\"Sand Transfer to Elevated Storage\",$J$21:$J$30,0),1),0)),((IFERROR((OFFSET($J$37,MATCH(\"Sand Transfer to Elevated Storage\",$J$38:$J$47,0),1)),0))),((IFERROR((OFFSET($J$52,MATCH(\"Sand Transfer to Elevated Storage\",$J$53:$J$62,0),1)),0))),((IFERROR((OFFSET($J$68,MATCH(\"Sand Transfer to Elevated Storage\",$J$69:$J$78,0),1)),0))),((IFERROR((OFFSET($J$84,MATCH(\"Sand Transfer to Elevated Storage\",$J$85:$J$94,0),1)),0))),((IFERROR((OFFSET($J$100,MATCH(\"Sand Transfer to Elevated Storage\",$J$101:$J$110,0),1)),0))),((IFERROR((OFFSET($J$116,MATCH(\"Sand Transfer to Elevated Storage\",$J$117:$J$126,0),1)),0))),((IFERROR((OFFSET($J$132,MATCH(\"Sand Transfer to Elevated Storage\",$J$133:$J$142,0),1)),0))),((IFERROR((OFFSET($J$148,MATCH(\"Sand Transfer to Elevated Storage\",$J$149:$J$158,0),1)),0))),((IFERROR((OFFSET($J$164,MATCH(\"Sand Transfer to Elevated Storage\",$J$165:$J$174,0),1)),0))),)","v":0},{"$f":"SUM((IFERROR(OFFSET($J$20,MATCH(\"Sand Transfer to Elevated Storage\",$J$21:$J$30,0),2),0)),((IFERROR((OFFSET($J$37,MATCH(\"Sand Transfer to Elevated Storage\",$J$38:$J$47,0),2)),0))),((IFERROR((OFFSET($J$52,MATCH(\"Sand Transfer to Elevated Storage\",$J$53:$J$62,0),2)),0))),((IFERROR((OFFSET($J$68,MATCH(\"Sand Transfer to Elevated Storage\",$J$69:$J$78,0),2)),0))),((IFERROR((OFFSET($J$84,MATCH(\"Sand Transfer to Elevated Storage\",$J$85:$J$94,0),2)),0))),((IFERROR((OFFSET($J$100,MATCH(\"Sand Transfer to Elevated Storage\",$J$101:$J$110,0),2)),0))),((IFERROR((OFFSET($J$116,MATCH(\"Sand Transfer to Elevated Storage\",$J$117:$J$126,0),2)),0))),((IFERROR((OFFSET($J$132,MATCH(\"Sand Transfer to Elevated Storage\",$J$133:$J$142,0),2)),0))),((IFERROR((OFFSET($J$148,MATCH(\"Sand Transfer to Elevated Storage\",$J$149:$J$158,0),2)),0))),((IFERROR((OFFSET($J$164,MATCH(\"Sand Transfer to Elevated Storage\",$J$165:$J$174,0),2)),0))),)","v":0}]
[null,"Daily Throughput Limit (cubic yards/day):",null,null,null,null,null,"PM2.5",null,null,null,null,null,null,null,"Weigh Hopper Loading",{"$f":"MAX((IFERROR(OFFSET($J$20,MATCH(\"Weigh Hopper Loading\",$J$21:$J$30,0),1),0)),((IFERROR((OFFSET($J$37,MATCH(\"Weigh Hopper Loading\",$J$38:$J$47,0),1)),0))),((IFERROR((OFFSET($J$52,MATCH(\"Weigh Hopper Loading\",$J$53:$J$62,0),1)),0))),((IFERROR((OFFSET($J$68,MATCH(\"Weigh Hopper Loading\",$J$69:$J$78,0),1)),0))),((IFERROR((OFFSET($J$84,MATCH(\"Weigh Hopper Loading\",$J$85:$J$94,0),1)),0))),((IFERROR((OFFSET($J$100,MATCH(\"Weigh Hopper Loading\",$J$101:$J$110,0),1)),0))),((IFERROR((OFFSET($J$116,MATCH(\"Weigh Hopper Loading\",$J$117:$J$126,0),1)),0))),((IFERROR((OFFSET($J$132,MATCH(\"Weigh Hopper Loading\",$J$133:$J$142,0),1)),0))),((IFERROR((OFFSET($J$148,MATCH(\"Weigh Hopper Loading\",$J$149:$J$158,0),1)),0))),((IFERROR((OFFSET($J$164,MATCH(\"Weigh Hopper Loading\",$J$165:$J$174,0),1)),0))),)","v":0},{"$f":"SUM((IFERROR(OFFSET($J$20,MATCH(\"Weigh Hopper Loading\",$J$21:$J$30,0),2),0)),((IFERROR((OFFSET($J$37,MATCH(\"Weigh Hopper Loading\",$J$38:$J$47,0),2)),0))),((IFERROR((OFFSET($J$52,MATCH(\"Weigh Hopper Loading\",$J$53:$J$62,0),2)),0))),((IFERROR((OFFSET($J$68,MATCH(\"Weigh Hopper Loading\",$J$69:$J$78,0),2)),0))),((IFERROR((OFFSET($J$84,MATCH(\"Weigh Hopper Loading\",$J$85:$J$94,0),2)),0))),((IFERROR((OFFSET($J$100,MATCH(\"Weigh Hopper Loading\",$J$101:$J$110,0),2)),0))),((IFERROR((OFFSET($J$116,MATCH(\"Weigh Hopper Loading\",$J$117:$J$126,0),2)),0))),((IFERROR((OFFSET($J$132,MATCH(\"Weigh Hopper Loading\",$J$133:$J$142,0),2)),0))),((IFERROR((OFFSET($J$148,MATCH(\"Weigh Hopper Loading\",$J$149:$J$158,0),2)),0))),((IFERROR((OFFSET($J$164,MATCH(\"Weigh Hopper Loading\",$J$165:$J$174,0),2)),0))),)","v":0}]
[null,"Hours of Operation Limit (hours/day):",null,null,null,null,null,"PM10",null,null,null,null,null,null,null,"Central Mix Loading",{"$f":"MAX((IFERROR(OFFSET($J$20,MATCH(\"Central Mix Loading\",$J$21:$J$30,0),1),0)),((IFERROR((OFFSET($J$37,MATCH(\"Central Mix Loading\",$J$38:$J$47,0),1)),0))),((IFERROR((OFFSET($J$52,MATCH(\"Central Mix Loading\",$J$53:$J$62,0),1)),0))),((IFERROR((OFFSET($J$68,MATCH(\"Central Mix Loading\",$J$69:$J$78,0),1)),0))),((IFERROR((OFFSET($J$84,MATCH(\"Central Mix Loading\",$J$85:$J$94,0),1)),0))),((IFERROR((OFFSET($J$100,MATCH(\"Central Mix Loading\",$J$101:$J$110,0),1)),0))),((IFERROR((OFFSET($J$116,MATCH(\"Central Mix Loading\",$J$117:$J$126,0),1)),0))),((IFERROR((OFFSET($J$132,MATCH(\"Central Mix Loading\",$J$133:$J$142,0),1)),0))),((IFERROR((OFFSET($J$148,MATCH(\"Central Mix Loading\",$J$149:$J$158,0),1)),0))),((IFERROR((OFFSET($J$164,MATCH(\"Central Mix Loading\",$J$165:$J$174,0),1)),0))),)","v":0},{"$f":"SUM((IFERROR(OFFSET($J$20,MATCH(\"Central Mix Loading\",$J$21:$J$30,0),2),0)),((IFERROR((OFFSET($J$37,MATCH(\"Central Mix Loading\",$J$38:$J$47,0),2)),0))),((IFERROR((OFFSET($J$52,MATCH(\"Central Mix Loading\",$J$53:$J$62,0),2)),0))),((IFERROR((OFFSET($J$68,MATCH(\"Central Mix Loading\",$J$69:$J$78,0),2)),0))),((IFERROR((OFFSET($J$84,MATCH(\"Central Mix Loading\",$J$85:$J$94,0),2)),0))),((IFERROR((OFFSET($J$100,MATCH(\"Central Mix Loading\",$J$101:$J$110,0),2)),0))),((IFERROR((OFFSET($J$116,MATCH(\"Central Mix Loading\",$J$117:$J$126,0),2)),0))),((IFERROR((OFFSET($J$132,MATCH(\"Central Mix Loading\",$J$133:$J$142,0),2)),0))),((IFERROR((OFFSET($J$148,MATCH(\"Central Mix Loading\",$J$149:$J$158,0),2)),0))),((IFERROR((OFFSET($J$164,MATCH(\"Central Mix Loading\",$J$165:$J$174,0),2)),0))),)","v":0}]
[null,"Note: if the plant has an hrs/day and a cubic yards/hr permit limit,",null,null,null,null,null,"SO2",null,null,null,null,null,null,null,"Truck Mix Loading",{"$f":"MAX((IFERROR(OFFSET($J$20,MATCH(\"Truck Mix Loading\",$J$21:$J$30,0),1),0)),((IFERROR((OFFSET($J$37,MATCH(\"Truck Mix Loading\",$J$38:$J$47,0),1)),0))),((IFERROR((OFFSET($J$52,MATCH(\"Truck Mix Loading\",$J$53:$J$62,0),1)),0))),((IFERROR((OFFSET($J$68,MATCH(\"Truck Mix Loading\",$J$69:$J$78,0),1)),0))),((IFERROR((OFFSET($J$84,MATCH(\"Truck Mix Loading\",$J$85:$J$94,0),1)),0))),((IFERROR((OFFSET($J$100,MATCH(\"Truck Mix Loading\",$J$101:$J$110,0),1)),0))),((IFERROR((OFFSET($J$116,MATCH(\"Truck Mix Loading\",$J$117:$J$126,0),1)),0))),((IFERROR((OFFSET($J$132,MATCH(\"Truck Mix Loading\",$J$133:$J$142,0),1)),0))),((IFERROR((OFFSET($J$148,MATCH(\"Truck Mix Loading\",$J$149:$J$158,0),1)),0))),((IFERROR((OFFSET($J$164,MATCH(\"Truck Mix Loading\",$J$165:$J$174,0),1)),0))),)","v":0},{"$f":"SUM((IFERROR(OFFSET($J$20,MATCH(\"Truck Mix Loading\",$J$21:$J$30,0),2),0)),((IFERROR((OFFSET($J$37,MATCH(\"Truck Mix Loading\",$J$38:$J$47,0),2)),0))),((IFERROR((OFFSET($J$52,MATCH(\"Truck Mix Loading\",$J$53:$J$62,0),2)),0))),((IFERROR((OFFSET($J$68,MATCH(\"Truck Mix Loading\",$J$69:$J$78,0),2)),0))),((IFERROR((OFFSET($J$84,MATCH(\"Truck Mix Loading\",$J$85:$J$94,0),2)),0))),((IFERROR((OFFSET($J$100,MATCH(\"Truck Mix Loading\",$J$101:$J$110,0),2)),0))),((IFERROR((OFFSET($J$116,MATCH(\"Truck Mix Loading\",$J$117:$J$126,0),2)),0))),((IFERROR((OFFSET($J$132,MATCH(\"Truck Mix Loading\",$J$133:$J$142,0),2)),0))),((IFERROR((OFFSET($J$148,MATCH(\"Truck Mix Loading\",$J$149:$J$158,0),2)),0))),((IFERROR((OFFSET($J$164,MATCH(\"Truck Mix Loading\",$J$165:$J$174,0),2)),0))),)","v":0}]
[null,"those values should be multiplied together to calculate a cubic ",null,null,null,null,null,"NOx",null,null,null,null,null,null,null,"Cement Delivery to Silo",{"$f":"MAX((IFERROR(OFFSET($J$20,MATCH(\"Cement Delivery to Silo\",$J$21:$J$30,0),1),0)),((IFERROR((OFFSET($J$37,MATCH(\"Cement Delivery to Silo\",$J$38:$J$47,0),1)),0))),((IFERROR((OFFSET($J$52,MATCH(\"Cement Delivery to Silo\",$J$53:$J$62,0),1)),0))),((IFERROR((OFFSET($J$68,MATCH(\"Cement Delivery to Silo\",$J$69:$J$78,0),1)),0))),((IFERROR((OFFSET($J$84,MATCH(\"Cement Delivery to Silo\",$J$85:$J$94,0),1)),0))),((IFERROR((OFFSET($J$100,MATCH(\"Cement Delivery to Silo\",$J$101:$J$110,0),1)),0))),((IFERROR((OFFSET($J$116,MATCH(\"Cement Delivery to Silo\",$J$117:$J$126,0),1)),0))),((IFERROR((OFFSET($J$132,MATCH(\"Cement Delivery to Silo\",$J$133:$J$142,0),1)),0))),((IFERROR((OFFSET($J$148,MATCH(\"Cement Delivery to Silo\",$J$149:$J$158,0),1)),0))),((IFERROR((OFFSET($J$164,MATCH(\"Cement Delivery to Silo\",$J$165:$J$174,0),1)),0))),)","v":0},{"$f":"SUM((IFERROR(OFFSET($J$20,MATCH(\"Cement Delivery to Silo\",$J$21:$J$30,0),2),0)),((IFERROR((OFFSET($J$37,MATCH(\"Cement Delivery to Silo\",$J$38:$J$47,0),2)),0))),((IFERROR((OFFSET($J$52,MATCH(\"Cement Delivery to Silo\",$J$53:$J$62,0),2)),0))),((IFERROR((OFFSET($J$68,MATCH(\"Cement Delivery to Silo\",$J$69:$J$78,0),2)),0))),((IFERROR((OFFSET($J$84,MATCH(\"Cement Delivery to Silo\",$J$85:$J$94,0),2)),0))),((IFERROR((OFFSET($J$100,MATCH(\"Cement Delivery to Silo\",$J$101:$J$110,0),2)),0))),((IFERROR((OFFSET($J$116,MATCH(\"Cement Delivery to Silo\",$J$117:$J$126,0),2)),0))),((IFERROR((OFFSET($J$132,MATCH(\"Cement Delivery to Silo\",$J$133:$J$142,0),2)),0))),((IFERROR((OFFSET($J$148,MATCH(\"Cement Delivery to Silo\",$J$149:$J$158,0),2)),0))),((IFERROR((OFFSET($J$164,MATCH(\"Cement Delivery to Silo\",$J$165:$J$174,0),2)),0))),)","v":0}]
[null,"yards/day limit and that value should be placed in cell C10.",null,null,null,null,null,"VOC",null,null,null,null,null,null,null,"Cement Supplement Delivery to Silo",{"$f":"MAX((IFERROR(OFFSET($J$20,MATCH(\"Cement Supplement Delivery to Silo\",$J$21:$J$30,0),1),0)),((IFERROR((OFFSET($J$37,MATCH(\"Cement Supplement Delivery to Silo\",$J$38:$J$47,0),1)),0))),((IFERROR((OFFSET($J$52,MATCH(\"Cement Supplement Delivery to Silo\",$J$53:$J$62,0),1)),0))),((IFERROR((OFFSET($J$68,MATCH(\"Cement Supplement Delivery to Silo\",$J$69:$J$78,0),1)),0))),((IFERROR((OFFSET($J$84,MATCH(\"Cement Supplement Delivery to Silo\",$J$85:$J$94,0),1)),0))),((IFERROR((OFFSET($J$100,MATCH(\"Cement Supplement Delivery to Silo\",$J$101:$J$110,0),1)),0))),((IFERROR((OFFSET($J$116,MATCH(\"Cement Supplement Delivery to Silo\",$J$117:$J$126,0),1)),0))),((IFERROR((OFFSET($J$132,MATCH(\"Cement Supplement Delivery to Silo\",$J$133:$J$142,0),1)),0))),((IFERROR((OFFSET($J$148,MATCH(\"Cement Supplement Delivery to Silo\",$J$149:$J$158,0),1)),0))),((IFERROR((OFFSET($J$164,MATCH(\"Cement Supplement Delivery to Silo\",$J$165:$J$174,0),1)),0))),)","v":0},{"$f":"SUM((IFERROR(OFFSET($J$20,MATCH(\"Cement Supplement Delivery to Silo\",$J$21:$J$30,0),2),0)),((IFERROR((OFFSET($J$37,MATCH(\"Cement Supplement Delivery to Silo\",$J$38:$J$47,0),2)),0))),((IFERROR((OFFSET($J$52,MATCH(\"Cement Supplement Delivery to Silo\",$J$53:$J$62,0),2)),0))),((IFERROR((OFFSET($J$68,MATCH(\"Cement Supplement Delivery to Silo\",$J$69:$J$78,0),2)),0))),((IFERROR((OFFSET($J$84,MATCH(\"Cement Supplement Delivery to Silo\",$J$85:$J$94,0),2)),0))),((IFERROR((OFFSET($J$100,MATCH(\"Cement Supplement Delivery to Silo\",$J$101:$J$110,0),2)),0))),((IFERROR((OFFSET($J$116,MATCH(\"Cement Supplement Delivery to Silo\",$J$117:$J$126,0),2)),0))),((IFERROR((OFFSET($J$132,MATCH(\"Cement Supplement Delivery to Silo\",$J$133:$J$142,0),2)),0))),((IFERROR((OFFSET($J$148,MATCH(\"Cement Supplement Delivery to Silo\",$J$149:$J$158,0),2)),0))),((IFERROR((OFFSET($J$164,MATCH(\"Cement Supplement Delivery to Silo\",$J$165:$J$174,0),2)),0))),)","v":0}]
[null,null,null,null,null,null,null,"CO"]
[null,null,null,null,null,null,null,null,null,null,null,null,null,null,null,null,"Maximum (acres/day)","Actual (acres-day/yr)"]
[null,null,null,null,null,null,null,null,null,null,null,null,null,null,null,"Storage Pile",{"$f":"SUM(J34,J50,J66,J82,J98,J114,J130,J146,J162,J178)","v":0},{"$f":"SUM(K34*L34,K50*L50,K66*L66,K82*L82,K98*L98,K114*L114,K130*L130,K146*L146,K162*L162,K178*L178)","v":0}]
[]
[null,"Batch Plant","Site 1",null,null,null,null,null,null,null,null,null,null,null,null,"Actual Emissions for the Listed Processes at this Plant"]
[null,null,null,null,null,null,null,"Emission Point #","Emission     Unit #","Processes","Combined Maximum Hourly Design Rate for all Like Processes (cubic yard/hr)",{"$f":"('Facility Information'!G5&\" Annual Throughput (cubic yards)\")","v":" Annual Throughput (cubic yards)"},"Truck","Central",null,"PM2.5","Maximum Design Rate (cubic yards/hr)","Emission Factor (lb/cubic yard)","Potential Uncontrolled Emissions (lb/hr)","Potential Controlled Emissions (lb/hr)","Potential Annual Emissions (tons/yr)","Actual Annual Emissions (tons/yr)"]
["YES","Site Name:",null,null,null,null,null,{"$f":"IF(J21=\"cement delivery to silo\",\"CP-1 EP-2\",IF(J21=\"cement supplement delivery to silo\",\"CP-1 EP-3\",IF(J21=\"weigh hopper loading\",\"CP-1 EP-4\",IF(J21=\"truck mix loading\",\"CP-1 EP-5\",IF(J21=\"central mix loading\",\"CP-1 EP-6\",IF(J21=\"\",\"\",\"CP-1 EP-1\"))))))","v":""},{"$f":"IF(J21=\"\",\"\",IF(J21=\"aggregate delivery to ground storage\",\"CP-9 EU-1\",IF(J21=\"sand delivery to ground storage\",\"CP-9 EU-2\",IF(J21=\"aggregate transfer to conveyor\",\"CP-9 EU-3\",IF(J21=\"sand transfer to conveyor\",\"CP-9 EU-4\",IF(J21=\"aggregate transfer to elevated storage\",\"CP-9 EU-5\",IF(J21=\"sand transfer to elevated storage\",\"CP-9 EU-6\",IF(J21=\"weigh hopper loading\",\"CP-9 EU-7\",IF(J21=\"central mix loading\",\"CP-9 EU-8\",IF(J21=\"truck mix loading\",\"CP-9 EU-9\",IF(J21=\"cement delivery to silo\",\"CP-9 EU-10\",IF(J21=\"cement supplement delivery to silo\",\"CP-9 EU-11\"))))))))))))","v":""},null,null,null,{"$f":"IF(J21=\"truck mix loading\",IF($F$24=\"yes\",L21*0.05/2000,L21/2000),\"\")","v":""},{"$f":"IF(J21=\"central mix loading\",IF($F$24=\"yes\",L21*0.05/2000,L21/2000),\"\")","v":""},null,"Aggregate Delivery to Ground Storage",{"$f":"Q4","v":0},{"$f":"IF(Q21=0,0,LOOKUP(P21,'Emission Factors'!$A$5:$A$16,'Emission Factors'!$D$5:$D$16))","v":0},{"$f":"Q21*R21","v":0},{"$f":"IF(Q21=0,\"\",IF($I$10>0,$I$10,\"\"))","v":""},{"$f":"IF($J$10>0,$J$10,IF($D$9>0,$D$9*R21/2000,IF($D$10>0,$D$10*365*R21/2000,IF($D$11>0,$D$11*365*R21*Q21/2000,IF(T21=\"\",S21*8760/2000,T21*8760/2000)))))","v":0},{"$f":"(R4*R21/2000)","v":0}]
["NO","County:",null,null,null,null,null,{"$f":"IF(J22=\"cement delivery to silo\",\"CP-1 EP-2\",IF(J22=\"cement supplement delivery to silo\",\"CP-1 EP-3\",IF(J22=\"weigh hopper loading\",\"CP-1 EP-4\",IF(J22=\"truck mix loading\",\"CP-1 EP-5\",IF(J22=\"central mix loading\",\"CP-1 EP-6\",IF(J22=\"\",\"\",\"CP-1 EP-1\"))))))","v":""},"",null,null,null,{"$f":"IF(J22=\"truck mix loading\",IF($F$24=\"yes\",L22*0.05/2000,L22/2000),\"\")","v":""},{"$f":"IF(J22=\"central mix loading\",IF($F$24=\"yes\",L22*0.05/2000,L22/2000),\"\")","v":""},null,"Sand Delivery to Ground Storage",0,{"$f":"IF(Q22=0,0,LOOKUP(P22,'Emission Factors'!$A$5:$A$16,'Emission Factors'!$D$5:$D$16))","v":0},0,{"$f":"IF(Q22=0,\"\",IF($I$10>0,$I$10,\"\"))","v":""},{"$f":"IF($J$10>0,\"\",IF($D$9>0,$D$9*R22/2000,IF($D$10>0,$D$10*365*R22/2000,IF($D$11>0,$D$11*365*R22*Q22/2000,IF(T22=\"\",S22*8760/2000,T22*8760/2000)))))","v":0},0]
[null,"Batching Period (Dates):",null,null,null,null,null,"","",null,null,null,"","",null,"Aggregate Transfer to Conveyor",0,{"$f":"IF(Q23=0,0,LOOKUP(P23,'Emission Factors'!$A$5:$A$16,'Emission Factors'!$D$5:$D$16))","v":0},0,"",0,0]
["Aggregate Delivery to Ground Storage",{"$f":"IF(OR(COUNTIF(J21:J30,\"Truck Mix Loading\")>0,(COUNTIF(J21:J30,\"Central Mix Loading\")>0)),\"Is the Central/Truck Mix Loading process controlled by a baghouse?\",\"\")","v":""},null,null,null,null,null,"","",null,null,null,"","",null,"Sand Transfer to Conveyor",0,{"$f":"IF(Q24=0,0,LOOKUP(P24,'Emission Factors'!$A$5:$A$16,'Emission Factors'!$D$5:$D$16))","v":0},0,"",0,0]
["Sand Delivery to Ground Storage",null,null,null,null,null,null,"","",null,null,null,"","",null,"Aggregate Transfer to Elevated Storage",0,{"$f":"IF(Q25=0,0,LOOKUP(P25,'Emission Factors'!$A$5:$A$16,'Emission Factors'!$D$5:$D$16))","v":0},0,"",0,0]
["Aggregate Transfer to Conveyor",{"$f":"IF(AND(B28=\"\",B29=\"\",B32=\"\",B31=\"\",B30=\"\"),\"\",\"Process (complete stack information if applicable):\")","v":""},{"$f":"IF(AND(B28=\"\",B29=\"\",B32=\"\",B31=\"\",B30=\"\"),\"\",\"Stack Height (ft):\")","v":""},{"$f":"IF(AND(B28=\"\",B29=\"\",B32=\"\",B31=\"\",B30=\"\"),\"\",\"Stack Diameter (inches):\")","v":""},{"$f":"IF(AND(B28=\"\",B29=\"\",B32=\"\",B31=\"\",B30=\"\"),\"\",\"Flow Rate (acfm):\")","v":""},{"$f":"IF(AND(B28=\"\",B29=\"\",B32=\"\",B31=\"\",B30=\"\"),\"\",\"Temp (Deg F):\")","v":""},null,"","",null,null,null,"","",null,"Sand Transfer to Elevated Storage",0,{"$f":"IF(Q26=0,0,LOOKUP(P26,'Emission Factors'!$A$5:$A$16,'Emission Factors'!$D$5:$D$16))","v":0},0,"",0,0]
["Sand Transfer to Conveyor",null,null,null,null,null,null,"","",null,null,null,"","",null,"Weigh Hopper Loading",0,{"$f":"IF(Q27=0,0,LOOKUP(P27,'Emission Factors'!$A$5:$A$16,'Emission Factors'!$D$5:$D$16))","v":0},0,"",0,0]
["Aggregate Transfer to Elevated Storage",{"$f":"IF(COUNTIF(J21:J30,\"Cement Delivery to Silo\")>0,\"EP-2 Cement Silo Stack:\",\"\")","v":""},null,null,null,null,null,"","",null,null,null,"","",null,"Central Mix Loading",0,{"$f":"IF(Q28=0,0,LOOKUP(P28,'Emission Factors'!$A$5:$A$16,'Emission Factors'!$D$5:$D$16))","v":0},0,{"$f":"IF(Q28=0,\"\",IF($I$10>0,$I$10,IF(COUNTIF($F$24:$F$168,\"no\")>0,\"\",S28*(1-0.95))))","v":""},{"$f":"IF($J$10>0,\"\",IF($D$9>0,$D$9*R28*((100-$W$30)/100)/2000,IF($D$10>0,$D$10*365*R28*((100-$W$30)/100)/2000,IF($D$11>0,$D$11*365*R28*((100-$W$30)/100)*Q28/2000,IF(T28=\"\",S28*8760/2000,T28*8760/2000)))))","v":0},{"$f":"(R28*N180)","v":0}]
["Sand Transfer to Elevated Storage",{"$f":"IF(COUNTIF(J21:J30,\"Cement Supplement Delivery to Silo\")>0,\"EP-3 Cement Supplement Silo Stack:\",\"\")","v":""},null,null,null,null,null,"","",null,null,null,"","",null,"Truck Mix Loading",0,{"$f":"IF(Q29=0,0,LOOKUP(P29,'Emission Factors'!$A$5:$A$16,'Emission Factors'!$D$5:$D$16))","v":0},0,{"$f":"IF(Q29=0,\"\",IF($I$10>0,$I$10,IF(COUNTIF($F$24:$F$168,\"no\")>0,\"\",S29*(1-0.95))))","v":""},{"$f":"IF($J$10>0,\"\",IF($D$9>0,$D$9*R29*((100-$W$30)/100)/2000,IF($D$10>0,$D$10*365*R29*((100-$W$30)/100)/2000,IF($D$11>0,$D$11*365*R29*((100-$W$30)/100)*Q29/2000,IF(T29=\"\",S29*8760/2000,T29*8760/2000)))))","v":0},{"$f":"(R29*M180)","v":0}]
["Weigh Hopper Loading",{"$f":"IF(COUNTIF(J21:J30,\"Weigh Hopper Loading\")>0,\"EP-4 Weigh Hopper Loading Stack:\",\"\")","v":""},null,null,null,null,null,"","",null,null,null,"","",null,"Cement Delivery to Silo",0,{"$f":"IF(Q30=0,0,LOOKUP(P30,'Emission Factors'!$A$5:$A$16,'Emission Factors'!$D$5:$D$16))","v":0},null,{"$f":"IF(Q30=0,0,IF($I$10>0,$I$10,Q30*R30))","v":0},{"$f":"IF($J$10>0,\"\",IF($D$9>0,$D$9*R30/2000,IF($D$10>0,$D$10*365*R30/2000,IF($D$11>0,$D$11*365*R30*Q30/2000,IF($I$10>0,0,T30*8760/2000)))))","v":0},{"$f":"(R13*R30/2000)","v":0},{"$f":"IF(COUNTIF($F$24:$F$168,\"no\")>0,0,95)","v":95}]
["Central Mix Loading",{"$f":"IF(COUNTIF(J21:J30,\"Truck Mix Loading\")>0,\"EP-5 Truck Mix Loading Stack:\",\"\")","v":""},null,null,null,null,null,null,null,null,null,null,null,null,null,"Cement Supplement Delivery to Silo",0,{"$f":"IF(Q31=0,0,LOOKUP(P31,'Emission Factors'!$A$5:$A$16,'Emission Factors'!$D$5:$D$16))","v":0},null,{"$f":"IF(Q31=0,0,IF($I$10>0,$I$10,Q31*R31))","v":0},{"$f":"IF($J$10>0,\"\",IF($D$9>0,$D$9*R31/2000,IF($D$10>0,$D$10*365*R31/2000,IF($D$11>0,$D$11*365*R31*Q31/2000,IF($I$10>0,0,T31*8760/2000)))))","v":0},{"$f":"(R14*R31/2000)","v":0}]
["Truck Mix Loading",{"$f":"IF(COUNTIF(J21:J30,\"Central Mix Loading\")>0,\"EP-6 Central Mix Loading Stack:\",\"\")","v":""},null,null,null,null,null,"Stock Pile Area"]
["Cement Delivery to Silo",null,null,null,null,null,null,null,"Emission Unit #","Maximum Storage Area (acres)","Actual Storage Area (acres)","Actual Days in Existence (days)"]
["Cement Supplement Delivery to Silo",null,null,null,null,null,null,null,null,null,null,null,null,null,null,"PM10"]
[null,null,null,null,null,null,null,null,null,null,null,null,null,null,null,"Aggregate Delivery to Ground Storage",{"$f":"Q4","v":0},{"$f":"IF(Q35=0,0,LOOKUP(P35,'Emission Factors'!$A$5:$A$16,'Emission Factors'!$H$5:$H$16))","v":0},{"$f":"Q35*R35","v":0},{"$f":"IF(Q35=0,\"\",IF($I$11>0,$I$11,\"\"))","v":""},{"$f":"IF($J$11>0,$J$11,IF($D$9>0,$D$9*R35/2000,IF($D$10>0,$D$10*365*R35/2000,IF($D$11>0,$D$11*365*R35*Q35/2000,IF(T35=\"\",S35*8760/2000,T35*8760/2000)))))","v":0},{"$f":"(R4*R35/2000)","v":0}]
[null,null,null,null,null,null,null,null,null,null,null,null,null,null,null,"Sand Delivery to Ground Storage",0,{"$f":"IF(Q36=0,0,LOOKUP(P36,'Emission Factors'!$A$5:$A$16,'Emission Factors'!$H$5:$H$16))","v":0},0,{"$f":"IF(Q36=0,\"\",IF($I$11>0,$I$11,\"\"))","v":""},{"$f":"IF($J$11>0,\"\",IF($D$9>0,$D$9*R36/2000,IF($D$10>0,$D$10*365*R36/2000,IF($D$11>0,$D$11*365*R36*Q36/2000,IF(T36=\"\",S36*8760/2000,T36*8760/2000)))))","v":0},0]
[null,{"$f":"IF('Concrete Plant (CP-9)'!$D$4>1,\"Batch Plant\",\"\")","v":""},{"$f":"IF('Concrete Plant (CP-9)'!$D$4>1,\"Site 2\",\"\")","v":""},null,null,null,null,{"$f":"IF('Concrete Plant (CP-9)'!$D$4>1,\"Emission Point #\",\"\")","v":""},{"$f":"IF('Concrete Plant (CP-9)'!$D$4>1,\"Emission     Unit #\",\"\")","v":""},{"$f":"IF('Concrete Plant (CP-9)'!$D$4>1,\"Processes\",\"\")","v":""},{"$f":"IF('Concrete Plant (CP-9)'!$D$4>1,\"Combined Maximum Hourly Design Rate for all Like Processes (cubic yard/hr)\",\"\")","v":""},{"$f":"IF('Concrete Plant (CP-9)'!$D$4>1,('Facility Information'!G5&\" Annual Throughput (cubic yards)\"),\"\")","v":""},null,null,null,"Aggregate Transfer to Conveyor",0,{"$f":"IF(Q37=0,0,LOOKUP(P37,'Emission Factors'!$A$5:$A$16,'Emission Factors'!$H$5:$H$16))","v":0},0,"",0,0]
[null,{"$f":"IF('Concrete Plant (CP-9)'!$D$4>1,\"Site Name:\",\"\")","v":""},null,null,null,null,null,{"$f":"IF(J38=\"cement delivery to silo\",\"CP-1 EP-2\",IF(J38=\"cement supplement delivery to silo\",\"CP-1 EP-3\",IF(J38=\"weigh hopper loading\",\"CP-1 EP-4\",IF(J38=\"truck mix loading\",\"CP-1 EP-5\",IF(J38=\"central mix loading\",\"CP-1 EP-6\",IF(J38=\"\",\"\",\"CP-1 EP-1\"))))))","v":""},{"$f":"IF(J38=\"\",\"\",IF(J38=\"aggregate delivery to ground storage\",\"CP-9 EU-1\",IF(J38=\"sand delivery to ground storage\",\"CP-9 EU-2\",IF(J38=\"aggregate transfer to conveyor\",\"CP-9 EU-3\",IF(J38=\"sand transfer to conveyor\",\"CP-9 EU-4\",IF(J38=\"aggregate transfer to elevated storage\",\"CP-9 EU-5\",IF(J38=\"sand transfer to elevated storage\",\"CP-9 EU-6\",IF(J38=\"weigh hopper loading\",\"CP-9 EU-7\",IF(J38=\"central mix loading\",\"CP-9 EU-8\",IF(J38=\"truck mix loading\",\"CP-9 EU-9\",IF(J38=\"cement delivery to silo\",\"CP-9 EU-10\",IF(J38=\"cement supplement delivery to silo\",\"CP-9 EU-11\"))))))))))))","v":""},null,null,null,{"$f":"IF(J38=\"truck mix loading\",IF($F$41=\"yes\",L38*0.05/2000,L38/2000),\"\")","v":""},{"$f":"IF(J38=\"central mix loading\",IF($F$41=\"yes\",L38*0.05/2000,L38/2000),\"\")","v":""},null,"Sand Transfer to Conveyor",0,{"$f":"IF(Q38=0,0,LOOKUP(P38,'Emission Factors'!$A$5:$A$16,'Emission Factors'!$H$5:$H$16))","v":0},{"$f":"Q38*R38","v":0},{"$f":"IF(Q38=0,\"\",IF($I$11>0,$I$11,\"\"))","v":""},{"$f":"IF($J$11>0,\"\",IF($D$9>0,$D$9*R38/2000,IF($D$10>0,$D$10*365*R38/2000,IF($D$11>0,$D$11*365*R38*Q38/2000,IF(T38=\"\",S38*8760/2000,T38*8760/2000)))))","v":0},0]
[null,{"$f":"IF('Concrete Plant (CP-9)'!$D$4>1,\"County:\",\"\")","v":""},null,null,null,null,null,{"$f":"IF(J39=\"cement delivery to silo\",\"CP-1 EP-2\",IF(J39=\"cement supplement delivery to silo\",\"CP-1 EP-3\",IF(J39=\"weigh hopper loading\",\"CP-1 EP-4\",IF(J39=\"truck mix loading\",\"CP-1 EP-5\",IF(J39=\"central mix loading\",\"CP-1 EP-6\",IF(J39=\"\",\"\",\"CP-1 EP-1\"))))))","v":""},"",null,null,null,{"$f":"IF(J39=\"truck mix loading\",IF($F$41=\"yes\",L39*0.05/2000,L39/2000),\"\")","v":""},{"$f":"IF(J39=\"central mix loading\",IF($F$41=\"yes\",L39*0.05/2000,L39/2000),\"\")","v":""},null,"Aggregate Transfer to Elevated Storage",0,{"$f":"IF(Q39=0,0,LOOKUP(P39,'Emission Factors'!$A$5:$A$16,'Emission Factors'!$H$5:$H$16))","v":0},0,{"$f":"IF(Q39=0,\"\",IF($I$11>0,$I$11,\"\"))","v":""},{"$f":"IF($J$11>0,\"\",IF($D$9>0,$D$9*R39/2000,IF($D$10>0,$D$10*365*R39/2000,IF($D$11>0,$D$11*365*R39*Q39/2000,IF(T39=\"\",S39*8760/2000,T39*8760/2000)))))","v":0},0]
[null,{"$f":"IF('Concrete Plant (CP-9)'!$D$4>1,\"Batching Period (Dates):\",\"\")","v":""},null,null,null,null,null,"","",null,null,null,"","",null,"Sand Transfer to Elevated Storage",0,{"$f":"IF(Q40=0,0,LOOKUP(P40,'Emission Factors'!$A$5:$A$16,'Emission Factors'!$H$5:$H$16))","v":0},0,{"$f":"IF(Q40=0,\"\",IF($I$11>0,$I$11,\"\"))","v":""},{"$f":"IF($J$11>0,\"\",IF($D$9>0,$D$9*R40/2000,IF($D$10>0,$D$10*365*R40/2000,IF($D$11>0,$D$11*365*R40*Q40/2000,IF(T40=\"\",S40*8760/2000,T40*8760/2000)))))","v":0},0]
[null,{"$f":"IF(OR(COUNTIF(J38:J47,\"Truck Mix Loading\")>0,(COUNTIF(J38:J47,\"Central Mix Loading\")>0)),\"Is the Central/Truck Mix Loading process controlled by a baghouse?\",\"\")","v":""},null,null,null,null,null,"","",null,null,null,"","",null,"Weigh Hopper Loading",0,{"$f":"IF(Q41=0,0,LOOKUP(P41,'Emission Factors'!$A$5:$A$16,'Emission Factors'!$H$5:$H$16))","v":0},0,{"$f":"IF(Q41=0,\"\",IF($I$11>0,$I$11,\"\"))","v":""},{"$f":"IF($J$11>0,\"\",IF($D$9>0,$D$9*R41/2000,IF($D$10>0,$D$10*365*R41/2000,IF($D$11>0,$D$11*365*R41*Q41/2000,IF(T41=\"\",S41*8760/2000,T41*8760/2000)))))","v":0},0,{"$f":"IF(COUNTIF($F$24:$F$168,\"no\")>0,0,95)","v":95}]
[null,null,null,null,null,null,null,"","",null,null,null,"","",null,"Central Mix Loading",0,{"$f":"IF(Q42=0,0,LOOKUP(P42,'Emission Factors'!$A$5:$A$16,'Emission Factors'!$H$5:$H$16))","v":0},0,{"$f":"IF(Q42=0,\"\",IF($I$11>0,$I$11,IF(COUNTIF($F$24:$F$168,\"no\")>0,\"\",S42*(1-0.95))))","v":""},{"$f":"IF($J$11>0,\"\",IF($D$9>0,$D$9*R42*((100-$W$30)/100)/2000,IF($D$10>0,$D$10*365*R42*((100-$W$30)/100)/2000,IF($D$11>0,$D$11*365*R42*((100-$W$30)/100)*Q42/2000,IF(T42=\"\",S42*8760/2000,T42*8760/2000)))))","v":0},{"$f":"(N180*R42)","v":0}]
[null,{"$f":"IF(AND(B45=\"\",B46=\"\",B47=\"\",B48=\"\",B49=\"\"),\"\",\"Process (complete stack information if applicable):\")","v":""},{"$f":"IF(AND(B45=\"\",B46=\"\",B47=\"\",B48=\"\",B49=\"\"),\"\",\"Stack Height (ft):\")","v":""},{"$f":"IF(AND(B45=\"\",B46=\"\",B47=\"\",B48=\"\",B49=\"\"),\"\",\"Stack Diameter (inches):\")","v":""},{"$f":"IF(AND(B45=\"\",B46=\"\",B47=\"\",B48=\"\",B49=\"\"),\"\",\"Flow Rate (acfm):\")","v":""},{"$f":"IF(AND(B45=\"\",B46=\"\",B47=\"\",B48=\"\",B49=\"\"),\"\",\"Temp (Deg F):\")","v":""},null,"","",null,null,null,"","",null,"Truck Mix Loading",0,{"$f":"IF(Q43=0,0,LOOKUP(P43,'Emission Factors'!$A$5:$A$16,'Emission Factors'!$H$5:$H$16))","v":0},0,{"$f":"IF(Q43=0,\"\",IF($I$11>0,$I$11,IF(COUNTIF($F$24:$F$168,\"no\")>0,\"\",S43*(1-0.95))))","v":""},{"$f":"IF($J$11>0,\"\",IF($D$9>0,$D$9*R43*((100-$W$30)/100)/2000,IF($D$10>0,$D$10*365*R43*((100-$W$30)/100)/2000,IF($D$11>0,$D$11*365*R43*((100-$W$30)/100)*Q43/2000,IF(T43=\"\",S43*8760/2000,T43*8760/2000)))))","v":0},{"$f":"(M180*R43)","v":0}]
[null,null,null,null,null,null,null,"","",null,null,null,"","",null,"Cement Delivery to Silo",0,{"$f":"IF(Q44=0,0,LOOKUP(P44,'Emission Factors'!$A$5:$A$16,'Emission Factors'!$H$5:$H$16))","v":0},null,{"$f":"IF(Q44=0,0,IF($I$10>0,$I$10,Q44*R44))","v":0},{"$f":"IF($J$11>0,\"\",IF($D$9>0,$D$9*R44/2000,IF($D$10>0,$D$10*365*R44/2000,IF($D$11>0,$D$11*365*R44*Q44/2000,IF($I$11>0,0,T44*8760/2000)))))","v":0},{"$f":"(R13*R44/2000)","v":0}]
[null,{"$f":"IF(COUNTIF(J38:J47,\"Cement Delivery to Silo\")>0,\"EP-2 Cement Silo Stack:\",\"\")","v":""},null,null,null,null,null,"","",null,null,null,"","",null,"Cement Supplement Delivery to Silo",0,{"$f":"IF(Q45=0,0,LOOKUP(P45,'Emission Factors'!$A$5:$A$16,'Emission Factors'!$H$5:$H$16))","v":0},null,{"$f":"IF(Q45=0,0,IF($I$10>0,$I$10,Q45*R45))","v":0},{"$f":"IF($J$11>0,\"\",IF($D$9>0,$D$9*R45/2000,IF($D$10>0,$D$10*365*R45/2000,IF($D$11>0,$D$11*365*R45*Q45/2000,IF($I$11>0,0,T45*8760/2000)))))","v":0},{"$f":"(R14*R45/2000)","v":0}]
[null,{"$f":"IF(COUNTIF(J38:J47,\"Cement Supplement Delivery to Silo\")>0,\"EP-3 Cement Supplement Silo Stack:\",\"\")","v":""},null,null,null,null,null,"","",null,null,null,"",""]
[null,{"$f":"IF(COUNTIF(J38:J47,\"Weigh Hopper Loading\")>0,\"EP-4 Weigh Hopper Loading Stack:\",\"\")","v":""},null,null,null,null,null,"","",null,null,null,"",""]
[null,{"$f":"IF(COUNTIF(J38:J47,\"Truck Mix Loading\")>0,\"EP-5 Truck Mix Loading Stack:\",\"\")","v":""},null,null,null,null,null,{"$f":"IF('Concrete Plant (CP-9)'!$D$4>1,\"Stock Pile Area\",\"\")","v":""},null,null,null,null,null,null,null,"Storage Pile","Max Design Rate (acres/day)","Emission Factor   (lb/acre-day)","Potential Uncontrolled Emissions (lb/hr)","Potential Controlled Emissions (lb/hr)","Potential Annual Emissions (tons/yr)","Actual Annual Emissions (tons/yr)"]
[null,{"$f":"IF(COUNTIF(J38:J47,\"Central Mix Loading\")>0,\"EP-6 Central Mix Loading Stack:\",\"\")","v":""},null,null,null,null,null,null,{"$f":"IF('Concrete Plant (CP-9)'!$D$4>1,\"Emission Unit #\",\"\")","v":""},{"$f":"IF('Concrete Plant (CP-9)'!$D$4>1,\"Maximum Storage Area (acres)\",\"\")","v":""},{"$f":"IF('Concrete Plant (CP-9)'!$D$4>1,\"Actual Storage Area (acres)\",\"\")","v":""},{"$f":"IF('Concrete Plant (CP-9)'!$D$4>1,\"Actual Days in Existence (days)\",\"\")","v":""},null,null,null,"PM2.5/PM10",{"$f":"Q17","v":0},3.64,{"$f":"Q49*R49*(1/24)","v":0},null,{"$f":"Q49*R49*365/2000","v":0},{"$f":"R17*R49/2000","v":0}]
[]
[]
[null,{"$f":"IF('Concrete Plant (CP-9)'!$D$4>2,\"Batch Plant\",\"\")","v":""},{"$f":"IF('Concrete Plant (CP-9)'!$D$4>2,\"Site 3\",\"\")","v":""},null,null,null,null,{"$f":"IF('Concrete Plant (CP-9)'!$D$4>2,\"Emission Point #\",\"\")","v":""},{"$f":"IF('Concrete Plant (CP-9)'!$D$4>2,\"Emission     Unit #\",\"\")","v":""},{"$f":"IF('Concrete Plant (CP-9)'!$D$4>2,\"Processes\",\"\")","v":""},{"$f":"IF('Concrete Plant (CP-9)'!$D$4>2,\"Combined Maximum Hourly Design Rate for all Like Processes (cubic yard/hr)\",\"\")","v":""},{"$f":"IF('Concrete Plant (CP-9)'!$D$4>2,('Facility Information'!G5&\" Annual Throughput (cubic yards)\"),\"\")","v":""}]
[null,{"$f":"IF('Concrete Plant (CP-9)'!$D$4>2,\"Site Name:\",\"\")","v":""},null,null,null,null,null,{"$f":"IF(J53=\"cement delivery to silo\",\"CP-1 EP-2\",IF(J53=\"cement supplement delivery to silo\",\"CP-1 EP-3\",IF(J53=\"weigh hopper loading\",\"CP-1 EP-4\",IF(J53=\"truck mix loading\",\"CP-1 EP-5\",IF(J53=\"central mix loading\",\"CP-1 EP-6\",IF(J53=\"\",\"\",\"CP-1 EP-1\"))))))","v":""},{"$f":"IF(J53=\"\",\"\",IF(J53=\"aggregate delivery to ground storage\",\"CP-9 EU-1\",IF(J53=\"sand delivery to ground storage\",\"CP-9 EU-2\",IF(J53=\"aggregate transfer to conveyor\",\"CP-9 EU-3\",IF(J53=\"sand transfer to conveyor\",\"CP-9 EU-4\",IF(J53=\"aggregate transfer to elevated storage\",\"CP-9 EU-5\",IF(J53=\"sand transfer to elevated storage\",\"CP-9 EU-6\",IF(J53=\"weigh hopper loading\",\"CP-9 EU-7\",IF(J53=\"central mix loading\",\"CP-9 EU-8\",IF(J53=\"truck mix loading\",\"CP-9 EU-9\",IF(J53=\"cement delivery to silo\",\"CP-9 EU-10\",IF(J53=\"cement supplement delivery to silo\",\"CP-9 EU-11\"))))))))))))","v":""},null,null,null,{"$f":"IF(J53=\"truck mix loading\",IF($F$56=\"yes\",L53*0.05/2000,L53/2000),\"\")","v":""},{"$f":"IF(J53=\"central mix loading\",IF($F$56=\"yes\",L53*0.05/2000,L53/2000),\"\")","v":""}]
[null,{"$f":"IF('Concrete Plant (CP-9)'!$D$4>2,\"County:\",\"\")","v":""},null,null,null,null,null,{"$f":"IF(J54=\"cement delivery to silo\",\"CP-1 EP-2\",IF(J54=\"cement supplement delivery to silo\",\"CP-1 EP-3\",IF(J54=\"weigh hopper loading\",\"CP-1 EP-4\",IF(J54=\"truck mix loading\",\"CP-1 EP-5\",IF(J54=\"central mix loading\",\"CP-1 EP-6\",IF(J54=\"\",\"\",\"CP-1 EP-1\"))))))","v":""},"",null,null,null,{"$f":"IF(J54=\"truck mix loading\",IF($F$56=\"yes\",L54*0.05/2000,L54/2000),\"\")","v":""},{"$f":"IF(J54=\"central mix loading\",IF($F$56=\"yes\",L54*0.05/2000,L54/2000),\"\")","v":""}]
[null,{"$f":"IF('Concrete Plant (CP-9)'!$D$4>2,\"Batching Period (Dates):\",\"\")","v":""},null,null,null,null,null,"","",null,null,null,"",""]
[null,{"$f":"IF(OR(COUNTIF(J53:J62,\"Truck Mix Loading\")>0,(COUNTIF(J53:J62,\"Central Mix Loading\")>0)),\"Is the Central/Truck Mix Loading process controlled by a baghouse?\",\"\")","v":""},null,null,null,null,null,"","",null,null,null,"",""]
[null,null,null,null,null,null,null,"","",null,null,null,"",""]
[null,{"$f":"IF(AND(B60=\"\",B61=\"\",B62=\"\",B63=\"\",B64=\"\"),\"\",\"Process (complete stack information if applicable):\")","v":""},{"$f":"IF(AND(B60=\"\",B61=\"\",B62=\"\",B63=\"\",B64=\"\"),\"\",\"Stack Height (ft):\")","v":""},{"$f":"IF(AND(B60=\"\",B61=\"\",B62=\"\",B63=\"\",B64=\"\"),\"\",\"Stack Diameter (inches):\")","v":""},{"$f":"IF(AND(B60=\"\",B61=\"\",B62=\"\",B63=\"\",B64=\"\"),\"\",\"Flow Rate (acfm):\")","v":""},{"$f":"IF(AND(B60=\"\",B61=\"\",B62=\"\",B63=\"\",B64=\"\"),\"\",\"Temp (Deg F):\")","v":""},null,"","",null,null,null,"",""]
[null,null,null,null,null,null,null,"","",null,null,null,"",""]
[null,{"$f":"IF(COUNTIF(J53:J62,\"Cement Delivery to Silo\")>0,\"EP-2 Cement Silo Stack:\",\"\")","v":""},null,null,null,null,null,"","",null,null,null,"",""]
[null,{"$f":"IF(COUNTIF(J53:J62,\"Cement Supplement Delivery to Silo\")>0,\"EP-3 Cement Supplement Silo Stack:\",\"\")","v":""},null,null,null,null,null,"","",null,null,null,"",""]
[null,{"$f":"IF(COUNTIF(J53:J62,\"Weigh Hopper Loading\")>0,\"EP-4 Weigh Hopper Loading Stack:\",\"\")","v":""},null,null,null,null,null,"","",null,null,null,"",""]
[null,{"$f":"IF(COUNTIF(J53:J62,\"Truck Mix Loading\")>0,\"EP-5 Truck Mix Loading Stack:\",\"\")","v":""}]
[null,{"$f":"IF(COUNTIF(J53:J62,\"Central Mix Loading\")>0,\"EP-6 Central Mix Loading Stack:\",\"\")","v":""},null,null,null,null,null,{"$f":"IF('Concrete Plant (CP-9)'!$D$4>2,\"Stock Pile Area\",\"\")","v":""}]
[null,null,null,null,null,null,null,null,{"$f":"IF('Concrete Plant (CP-9)'!$D$4>2,\"Emission Unit #\",\"\")","v":""},{"$f":"IF('Concrete Plant (CP-9)'!$D$4>2,\"Maximum Storage Area (acres)\",\"\")","v":""},{"$f":"IF('Concrete Plant (CP-9)'!$D$4>2,\"Actual Storage Area (acres)\",\"\")","v":""},{"$f":"IF('Concrete Plant (CP-9)'!$D$4>2,\"Actual Days in Existence (days)\",\"\")","v":""}]
[]
[]
[null,{"$f":"IF('Concrete Plant (CP-9)'!$D$4>3,\"Batch Plant\",\"\")","v":""},{"$f":"IF('Concrete Plant (CP-9)'!$D$4>3,\"Site 4\",\"\")","v":""},null,null,null,null,{"$f":"IF('Concrete Plant (CP-9)'!$D$4>3,\"Emission Point #\",\"\")","v":""},{"$f":"IF('Concrete Plant (CP-9)'!$D$4>3,\"Emission     Unit #\",\"\")","v":""},{"$f":"IF('Concrete Plant (CP-9)'!$D$4>3,\"Processes\",\"\")","v":""},{"$f":"IF('Concrete Plant (CP-9)'!$D$4>3,\"Combined Maximum Hourly Design Rate for all Like Processes (cubic yard/hr)\",\"\")","v":""},{"$f":"IF('Concrete Plant (CP-9)'!$D$4>3,('Facility Information'!G5&\" Annual Throughput (cubic yards)\"),\"\")","v":""}]
[null,{"$f":"IF('Concrete Plant (CP-9)'!$D$4>3,\"Site Name:\",\"\")","v":""},null,null,null,null,null,{"$f":"IF(J69=\"cement delivery to silo\",\"CP-1 EP-2\",IF(J69=\"cement supplement delivery to silo\",\"CP-1 EP-3\",IF(J69=\"weigh hopper loading\",\"CP-1 EP-4\",IF(J69=\"truck mix loading\",\"CP-1 EP-5\",IF(J69=\"central mix loading\",\"CP-1 EP-6\",IF(J69=\"\",\"\",\"CP-1 EP-1\"))))))","v":""},{"$f":"IF(J69=\"\",\"\",IF(J69=\"aggregate delivery to ground storage\",\"CP-9 EU-1\",IF(J69=\"sand delivery to ground storage\",\"CP-9 EU-2\",IF(J69=\"aggregate transfer to conveyor\",\"CP-9 EU-3\",IF(J69=\"sand transfer to conveyor\",\"CP-9 EU-4\",IF(J69=\"aggregate transfer to elevated storage\",\"CP-9 EU-5\",IF(J69=\"sand transfer to elevated storage\",\"CP-9 EU-6\",IF(J69=\"weigh hopper loading\",\"CP-9 EU-7\",IF(J69=\"central mix loading\",\"CP-9 EU-8\",IF(J69=\"truck mix loading\",\"CP-9 EU-9\",IF(J69=\"cement delivery to silo\",\"CP-9 EU-10\",IF(J69=\"cement supplement delivery to silo\",\"CP-9 EU-11\"))))))))))))","v":""},null,null,null,{"$f":"IF(J69=\"truck mix loading\",IF($F$72=\"yes\",L69*0.05/2000,L69/2000),\"\")","v":""},{"$f":"IF(J69=\"central mix loading\",IF($F$72=\"yes\",L69*0.05/2000,L69/2000),\"\")","v":""}]
[null,{"$f":"IF('Concrete Plant (CP-9)'!$D$4>3,\"County:\",\"\")","v":""},null,null,null,null,null,{"$f":"IF(J70=\"cement delivery to silo\",\"CP-1 EP-2\",IF(J70=\"cement supplement delivery to silo\",\"CP-1 EP-3\",IF(J70=\"weigh hopper loading\",\"CP-1 EP-4\",IF(J70=\"truck mix loading\",\"CP-1 EP-5\",IF(J70=\"central mix loading\",\"CP-1 EP-6\",IF(J70=\"\",\"\",\"CP-1 EP-1\"))))))","v":""},"",null,null,null,{"$f":"IF(J70=\"truck mix loading\",IF($F$72=\"yes\",L70*0.05/2000,L70/2000),\"\")","v":""},{"$f":"IF(J70=\"central mix loading\",IF($F$72=\"yes\",L70*0.05/2000,L70/2000),\"\")","v":""}]
[null,{"$f":"IF('Concrete Plant (CP-9)'!$D$4>3,\"Batching Period (Dates):\",\"\")","v":""},null,null,null,null,null,"","",null,null,null,"",""]
[null,{"$f":"IF(OR(COUNTIF(J69:J78,\"Truck Mix Loading\")>0,(COUNTIF(J69:J78,\"Central Mix Loading\")>0)),\"Is the Central/Truck Mix Loading process controlled by a baghouse?\",\"\")","v":""},null,null,null,null,null,"","",null,null,null,"",""]
[null,null,null,null,null,null,null,"","",null,null,null,"",""]
[null,{"$f":"IF(AND(B76=\"\",B77=\"\",B78=\"\",B79=\"\",B80=\"\"),\"\",\"Process (complete stack information if applicable):\")","v":""},{"$f":"IF(AND(B76=\"\",B77=\"\",B78=\"\",B79=\"\",B80=\"\"),\"\",\"Stack Height (ft):\")","v":""},{"$f":"IF(AND(B76=\"\",B77=\"\",B78=\"\",B79=\"\",B80=\"\"),\"\",\"Stack Diameter (inches):\")","v":""},{"$f":"IF(AND(B76=\"\",B77=\"\",B78=\"\",B79=\"\",B80=\"\"),\"\",\"Flow Rate (acfm):\")","v":""},{"$f":"IF(AND(B76=\"\",B77=\"\",B78=\"\",B79=\"\",B80=\"\"),\"\",\"Temp (Deg F):\")","v":""},null,"","",null,null,null,"",""]
[null,null,null,null,null,null,null,"","",null,null,null,"",""]
[null,{"$f":"IF(COUNTIF(J69:J78,\"Cement Delivery to Silo\")>0,\"EP-2 Cement Silo Stack:\",\"\")","v":""},null,null,null,null,null,"","",null,null,null,"",""]
[null,{"$f":"IF(COUNTIF(J69:J78,\"Cement Supplement Delivery to Silo\")>0,\"EP-3 Cement Supplement Silo Stack:\",\"\")","v":""},null,null,null,null,null,"","",null,null,null,"",""]
[null,{"$f":"IF(COUNTIF(J69:J78,\"Weigh Hopper Loading\")>0,\"EP-4 Weigh Hopper Loading Stack:\",\"\")","v":""},null,null,null,null,null,"","",null,null,null,"",""]
[null,{"$f":"IF(COUNTIF(J69:J78,\"Truck Mix Loading\")>0,\"EP-5 Truck Mix Loading Stack:\",\"\")","v":""}]
[null,{"$f":"IF(COUNTIF(J69:J78,\"Central Mix Loading\")>0,\"EP-6 Central Mix Loading Stack:\",\"\")","v":""},null,null,null,null,null,{"$f":"IF('Concrete Plant (CP-9)'!$D$4>3,\"Stock Pile Area\",\"\")","v":""}]
[null,null,null,null,null,null,null,null,{"$f":"IF('Concrete Plant (CP-9)'!$D$4>3,\"Emission Unit #\",\"\")","v":""},{"$f":"IF('Concrete Plant (CP-9)'!$D$4>3,\"Maximum Storage Area (acres)\",\"\")","v":""},{"$f":"IF('Concrete Plant (CP-9)'!$D$4>3,\"Actual Storage Area (acres)\",\"\")","v":""},{"$f":"IF('Concrete Plant (CP-9)'!$D$4>3,\"Actual Days in Existence (days)\",\"\")","v":""}]
[]
[]
[null,{"$f":"IF('Concrete Plant (CP-9)'!$D$4>4,\"Batch Plant\",\"\")","v":""},{"$f":"IF('Concrete Plant (CP-9)'!$D$4>4,\"Site 5\",\"\")","v":""},null,null,null,null,{"$f":"IF('Concrete Plant (CP-9)'!$D$4>4,\"Emission Point #\",\"\")","v":""},{"$f":"IF('Concrete Plant (CP-9)'!$D$4>4,\"Emission     Unit #\",\"\")","v":""},{"$f":"IF('Concrete Plant (CP-9)'!$D$4>4,\"Processes\",\"\")","v":""},{"$f":"IF('Concrete Plant (CP-9)'!$D$4>4,\"Combined Maximum Hourly Design Rate for all Like Processes (cubic yard/hr)\",\"\")","v":""},{"$f":"IF('Concrete Plant (CP-9)'!$D$4>4,('Facility Information'!G5&\" Annual Throughput (cubic yards)\"),\"\")","v":""}]
[null,{"$f":"IF('Concrete Plant (CP-9)'!$D$4>4,\"Site Name:\",\"\")","v":""},null,null,null,null,null,{"$f":"IF(J85=\"cement delivery to silo\",\"CP-1 EP-2\",IF(J85=\"cement supplement delivery to silo\",\"CP-1 EP-3\",IF(J85=\"weigh hopper loading\",\"CP-1 EP-4\",IF(J85=\"truck mix loading\",\"CP-1 EP-5\",IF(J85=\"central mix loading\",\"CP-1 EP-6\",IF(J85=\"\",\"\",\"CP-1 EP-1\"))))))","v":""},{"$f":"IF(J85=\"\",\"\",IF(J85=\"aggregate delivery to ground storage\",\"CP-9 EU-1\",IF(J85=\"sand delivery to ground storage\",\"CP-9 EU-2\",IF(J85=\"aggregate transfer to conveyor\",\"CP-9 EU-3\",IF(J85=\"sand transfer to conveyor\",\"CP-9 EU-4\",IF(J85=\"aggregate transfer to elevated storage\",\"CP-9 EU-5\",IF(J85=\"sand transfer to elevated storage\",\"CP-9 EU-6\",IF(J85=\"weigh hopper loading\",\"CP-9 EU-7\",IF(J85=\"central mix loading\",\"CP-9 EU-8\",IF(J85=\"truck mix loading\",\"CP-9 EU-9\",IF(J85=\"cement delivery to silo\",\"CP-9 EU-10\",IF(J85=\"cement supplement delivery to silo\",\"CP-9 EU-11\"))))))))))))","v":""},null,null,null,{"$f":"IF(J85=\"truck mix loading\",IF($F$88=\"yes\",L85*0.05/2000,L85/2000),\"\")","v":""},{"$f":"IF(J85=\"central mix loading\",IF($F$88=\"yes\",L85*0.05/2000,L85/2000),\"\")","v":""}]
[null,{"$f":"IF('Concrete Plant (CP-9)'!$D$4>4,\"County:\",\"\")","v":""},null,null,null,null,null,{"$f":"IF(J86=\"cement delivery to silo\",\"CP-1 EP-2\",IF(J86=\"cement supplement delivery to silo\",\"CP-1 EP-3\",IF(J86=\"weigh hopper loading\",\"CP-1 EP-4\",IF(J86=\"truck mix loading\",\"CP-1 EP-5\",IF(J86=\"central mix loading\",\"CP-1 EP-6\",IF(J86=\"\",\"\",\"CP-1 EP-1\"))))))","v":""},"",null,null,null,{"$f":"IF(J86=\"truck mix loading\",IF($F$88=\"yes\",L86*0.05/2000,L86/2000),\"\")","v":""},{"$f":"IF(J86=\"central mix loading\",IF($F$88=\"yes\",L86*0.05/2000,L86/2000),\"\")","v":""}]
[null,{"$f":"IF('Concrete Plant (CP-9)'!$D$4>4,\"Batching Period (Dates):\",\"\")","v":""},null,null,null,null,null,"","",null,null,null,"",""]
[null,{"$f":"IF(OR(COUNTIF(J85:J94,\"Truck Mix Loading\")>0,(COUNTIF(J85:J94,\"Central Mix Loading\")>0)),\"Is the Central/Truck Mix Loading process controlled by a baghouse?\",\"\")","v":""},null,null,null,null,null,"","",null,null,null,"",""]
[null,null,null,null,null,null,null,"","",null,null,null,"",""]
[null,{"$f":"IF(AND(B92=\"\",B93=\"\",B94=\"\",B95=\"\",B96=\"\"),\"\",\"Process (complete stack information if applicable):\")","v":""},{"$f":"IF(AND(B92=\"\",B93=\"\",B94=\"\",B95=\"\",B96=\"\"),\"\",\"Stack Height (ft):\")","v":""},{"$f":"IF(AND(B92=\"\",B93=\"\",B94=\"\",B95=\"\",B96=\"\"),\"\",\"Stack Diameter (inches):\")","v":""},{"$f":"IF(AND(B92=\"\",B93=\"\",B94=\"\",B95=\"\",B96=\"\"),\"\",\"Flow Rate (acfm):\")","v":""},{"$f":"IF(AND(B92=\"\",B93=\"\",B94=\"\",B95=\"\",B96=\"\"),\"\",\"Temp (Deg F):\")","v":""},null,"","",null,null,null,"",""]
[null,null,null,null,null,null,null,"","",null,null,null,"",""]
[null,{"$f":"IF(COUNTIF(J85:J94,\"Cement Delivery to Silo\")>0,\"EP-2 Cement Silo Stack:\",\"\")","v":""},null,null,null,null,null,"","",null,null,null,"",""]
[null,{"$f":"IF(COUNTIF(J85:J94,\"Cement Supplement Delivery to Silo\")>0,\"EP-3 Cement Supplement Silo Stack:\",\"\")","v":""},null,null,null,null,null,"","",null,null,null,"",""]
[null,{"$f":"IF(COUNTIF(J85:J94,\"Weigh Hopper Loading\")>0,\"EP-4 Weigh Hopper Loading Stack:\",\"\")","v":""},null,null,null,null,null,"","",null,null,null,"",""]
[null,{"$f":"IF(COUNTIF(J85:J94,\"Truck Mix Loading\")>0,\"EP-5 Truck Mix Loading Stack:\",\"\")","v":""}]
[null,{"$f":"IF(COUNTIF(J85:J94,\"Central Mix Loading\")>0,\"EP-6 Central Mix Loading Stack:\",\"\")","v":""},null,null,null,null,null,{"$f":"IF('Concrete Plant (CP-9)'!$D$4>4,\"Stock Pile Area\",\"\")","v":""}]
[null,null,null,null,null,null,null,null,{"$f":"IF('Concrete Plant (CP-9)'!$D$4>4,\"Emission Unit #\",\"\")","v":""},{"$f":"IF('Concrete Plant (CP-9)'!$D$4>4,\"Maximum Storage Area (acres)\",\"\")","v":""},{"$f":"IF('Concrete Plant (CP-9)'!$D$4>4,\"Actual Storage Area (acres)\",\"\")","v":""},{"$f":"IF('Concrete Plant (CP-9)'!$D$4>4,\"Actual Days in Existence (days)\",\"\")","v":""}]
[]
[]
[null,{"$f":"IF('Concrete Plant (CP-9)'!$D$4>5,\"Batch Plant\",\"\")","v":""},{"$f":"IF('Concrete Plant (CP-9)'!$D$4>5,\"Site 6\",\"\")","v":""},null,null,null,null,{"$f":"IF('Concrete Plant (CP-9)'!$D$4>5,\"Emission Point #\",\"\")","v":""},{"$f":"IF('Concrete Plant (CP-9)'!$D$4>5,\"Emission     Unit #\",\"\")","v":""},{"$f":"IF('Concrete Plant (CP-9)'!$D$4>5,\"Processes\",\"\")","v":""},{"$f":"IF('Concrete Plant (CP-9)'!$D$4>5,\"Combined Maximum Hourly Design Rate for all Like Processes (cubic yard/hr)\",\"\")","v":""},{"$f":"IF('Concrete Plant (CP-9)'!$D$4>5,('Facility Information'!G5&\" Annual Throughput (cubic yards)\"),\"\")","v":""}]
[null,{"$f":"IF('Concrete Plant (CP-9)'!$D$4>5,\"Site Name:\",\"\")","v":""},null,null,null,null,null,{"$f":"IF(J101=\"cement delivery to silo\",\"CP-1 EP-2\",IF(J101=\"cement supplement delivery to silo\",\"CP-1 EP-3\",IF(J101=\"weigh hopper loading\",\"CP-1 EP-4\",IF(J101=\"truck mix loading\",\"CP-1 EP-5\",IF(J101=\"central mix loading\",\"CP-1 EP-6\",IF(J101=\"\",\"\",\"CP-1 EP-1\"))))))","v":""},{"$f":"IF(J101=\"\",\"\",IF(J101=\"aggregate delivery to ground storage\",\"CP-9 EU-1\",IF(J101=\"sand delivery to ground storage\",\"CP-9 EU-2\",IF(J101=\"aggregate transfer to conveyor\",\"CP-9 EU-3\",IF(J101=\"sand transfer to conveyor\",\"CP-9 EU-4\",IF(J101=\"aggregate transfer to elevated storage\",\"CP-9 EU-5\",IF(J101=\"sand transfer to elevated storage\",\"CP-9 EU-6\",IF(J101=\"weigh hopper loading\",\"CP-9 EU-7\",IF(J101=\"central mix loading\",\"CP-9 EU-8\",IF(J101=\"truck mix loading\",\"CP-9 EU-9\",IF(J101=\"cement delivery to silo\",\"CP-9 EU-10\",IF(J101=\"cement supplement delivery to silo\",\"CP-9 EU-11\"))))))))))))","v":""},null,null,null,{"$f":"IF(J101=\"truck mix loading\",IF($F$104=\"yes\",L101*0.05/2000,L101/2000),\"\")","v":""},{"$f":"IF(J101=\"central mix loading\",IF($F$104=\"yes\",L101*0.05/2000,L101/2000),\"\")","v":""}]
[null,{"$f":"IF('Concrete Plant (CP-9)'!$D$4>5,\"County:\",\"\")","v":""},null,null,null,null,null,{"$f":"IF(J102=\"cement delivery to silo\",\"CP-1 EP-2\",IF(J102=\"cement supplement delivery to silo\",\"CP-1 EP-3\",IF(J102=\"weigh hopper loading\",\"CP-1 EP-4\",IF(J102=\"truck mix loading\",\"CP-1 EP-5\",IF(J102=\"central mix loading\",\"CP-1 EP-6\",IF(J102=\"\",\"\",\"CP-1 EP-1\"))))))","v":""},"",null,null,null,{"$f":"IF(J102=\"truck mix loading\",IF($F$104=\"yes\",L102*0.05/2000,L102/2000),\"\")","v":""},{"$f":"IF(J102=\"central mix loading\",IF($F$104=\"yes\",L102*0.05/2000,L102/2000),\"\")","v":""}]
[null,{"$f":"IF('Concrete Plant (CP-9)'!$D$4>5,\"Batching Period (Dates):\",\"\")","v":""},null,null,null,null,null,"","",null,null,null,"",""]
[null,{"$f":"IF(OR(COUNTIF(J101:J110,\"Truck Mix Loading\")>0,(COUNTIF(J101:J110,\"Central Mix Loading\")>0)),\"Is the Central/Truck Mix Loading process controlled by a baghouse?\",\"\")","v":""},null,null,null,null,null,"","",null,null,null,"",""]
[null,null,null,null,null,null,null,"","",null,null,null,"",""]
[null,{"$f":"IF(AND(B108=\"\",B109=\"\",B110=\"\",B111=\"\",B112=\"\"),\"\",\"Process (complete stack information if applicable):\")","v":""},{"$f":"IF(AND(B108=\"\",B109=\"\",B110=\"\",B111=\"\",B112=\"\"),\"\",\"Stack Height (ft):\")","v":""},{"$f":"IF(AND(B108=\"\",B109=\"\",B110=\"\",B111=\"\",B112=\"\"),\"\",\"Stack Diameter (inches):\")","v":""},{"$f":"IF(AND(B108=\"\",B109=\"\",B110=\"\",B111=\"\",B112=\"\"),\"\",\"Flow Rate (acfm):\")","v":""},{"$f":"IF(AND(B108=\"\",B109=\"\",B110=\"\",B111=\"\",B112=\"\"),\"\",\"Temp (Deg F):\")","v":""},null,"","",null,null,null,"",""]
[null,null,null,null,null,null,null,"","",null,null,null,"",""]
[null,{"$f":"IF(COUNTIF(J101:J110,\"Cement Delivery to Silo\")>0,\"EP-2 Cement Silo Stack:\",\"\")","v":""},null,null,null,null,null,"","",null,null,null,"",""]
[null,{"$f":"IF(COUNTIF(J101:J110,\"Cement Supplement Delivery to Silo\")>0,\"EP-3 Cement Supplement Silo Stack:\",\"\")","v":""},null,null,null,null,null,"","",null,null,null,"",""]
[null,{"$f":"IF(COUNTIF(J101:J110,\"Weigh Hopper Loading\")>0,\"EP-4 Weigh Hopper Loading Stack:\",\"\")","v":""},null,null,null,null,null,"","",null,null,null,"",""]
[null,{"$f":"IF(COUNTIF(J101:J110,\"Truck Mix Loading\")>0,\"EP-5 Truck Mix Loading Stack:\",\"\")","v":""}]
[null,{"$f":"IF(COUNTIF(J101:J110,\"Central Mix Loading\")>0,\"EP-6 Central Mix Loading Stack:\",\"\")","v":""},null,null,null,null,null,{"$f":"IF('Concrete Plant (CP-9)'!$D$4>5,\"Stock Pile Area\",\"\")","v":""}]
[null,null,null,null,null,null,null,null,{"$f":"IF('Concrete Plant (CP-9)'!$D$4>5,\"Emission Unit #\",\"\")","v":""},{"$f":"IF('Concrete Plant (CP-9)'!$D$4>5,\"Maximum Storage Area (acres)\",\"\")","v":""},{"$f":"IF('Concrete Plant (CP-9)'!$D$4>5,\"Actual Storage Area (acres)\",\"\")","v":""},{"$f":"IF('Concrete Plant (CP-9)'!$D$4>5,\"Actual Days in Existence (days)\",\"\")","v":""}]
[]
[]
[null,{"$f":"IF('Concrete Plant (CP-9)'!$D$4>6,\"Batch Plant\",\"\")","v":""},{"$f":"IF('Concrete Plant (CP-9)'!$D$4>6,\"Site 7\",\"\")","v":""},null,null,null,null,{"$f":"IF('Concrete Plant (CP-9)'!$D$4>6,\"Emission Point #\",\"\")","v":""},{"$f":"IF('Concrete Plant (CP-9)'!$D$4>6,\"Emission     Unit #\",\"\")","v":""},{"$f":"IF('Concrete Plant (CP-9)'!$D$4>6,\"Processes\",\"\")","v":""},{"$f":"IF('Concrete Plant (CP-9)'!$D$4>6,\"Combined Maximum Hourly Design Rate for all Like Processes (cubic yard/hr)\",\"\")","v":""},{"$f":"IF('Concrete Plant (CP-9)'!$D$4>6,('Facility Information'!G5&\" Annual Throughput (cubic yards)\"),\"\")","v":""}]
[null,{"$f":"IF('Concrete Plant (CP-9)'!$D$4>6,\"Site Name:\",\"\")","v":""},null,null,null,null,null,{"$f":"IF(J117=\"cement delivery to silo\",\"CP-1 EP-2\",IF(J117=\"cement supplement delivery to silo\",\"CP-1 EP-3\",IF(J117=\"weigh hopper loading\",\"CP-1 EP-4\",IF(J117=\"truck mix loading\",\"CP-1 EP-5\",IF(J117=\"central mix loading\",\"CP-1 EP-6\",IF(J117=\"\",\"\",\"CP-1 EP-1\"))))))","v":""},{"$f":"IF(J117=\"\",\"\",IF(J117=\"aggregate delivery to ground storage\",\"CP-9 EU-1\",IF(J117=\"sand delivery to ground storage\",\"CP-9 EU-2\",IF(J117=\"aggregate transfer to conveyor\",\"CP-9 EU-3\",IF(J117=\"sand transfer to conveyor\",\"CP-9 EU-4\",IF(J117=\"aggregate transfer to elevated storage\",\"CP-9 EU-5\",IF(J117=\"sand transfer to elevated storage\",\"CP-9 EU-6\",IF(J117=\"weigh hopper loading\",\"CP-9 EU-7\",IF(J117=\"central mix loading\",\"CP-9 EU-8\",IF(J117=\"truck mix loading\",\"CP-9 EU-9\",IF(J117=\"cement delivery to silo\",\"CP-9 EU-10\",IF(J117=\"cement supplement delivery to silo\",\"CP-9 EU-11\"))))))))))))","v":""},null,null,null,{"$f":"IF(J117=\"truck mix loading\",IF($F$120=\"yes\",L117*0.05/2000,L117/2000),\"\")","v":""},{"$f":"IF(J117=\"central mix loading\",IF($F$120=\"yes\",L117*0.05/2000,L117/2000),\"\")","v":""}]
[null,{"$f":"IF('Concrete Plant (CP-9)'!$D$4>6,\"County:\",\"\")","v":""},null,null,null,null,null,{"$f":"IF(J118=\"cement delivery to silo\",\"CP-1 EP-2\",IF(J118=\"cement supplement delivery to silo\",\"CP-1 EP-3\",IF(J118=\"weigh hopper loading\",\"CP-1 EP-4\",IF(J118=\"truck mix loading\",\"CP-1 EP-5\",IF(J118=\"central mix loading\",\"CP-1 EP-6\",IF(J118=\"\",\"\",\"CP-1 EP-1\"))))))","v":""},"",null,null,null,{"$f":"IF(J118=\"truck mix loading\",IF($F$120=\"yes\",L118*0.05/2000,L118/2000),\"\")","v":""},{"$f":"IF(J118=\"central mix loading\",IF($F$120=\"yes\",L118*0.05/2000,L118/2000),\"\")","v":""}]
[null,{"$f":"IF('Concrete Plant (CP-9)'!$D$4>6,\"Batching Period (Dates):\",\"\")","v":""},null,null,null,null,null,"","",null,null,null,"",""]
[null,{"$f":"IF(OR(COUNTIF(J117:J126,\"Truck Mix Loading\")>0,(COUNTIF(J117:J126,\"Central Mix Loading\")>0)),\"Is the Central/Truck Mix Loading process controlled by a baghouse?\",\"\")","v":""},null,null,null,null,null,"","",null,null,null,"",""]
[null,null,null,null,null,null,null,"","",null,null,null,"",""]
[null,{"$f":"IF(AND(B124=\"\",B125=\"\",B126=\"\",B127=\"\",B128=\"\"),\"\",\"Process (complete stack information if applicable):\")","v":""},{"$f":"IF(AND(B124=\"\",B125=\"\",B126=\"\",B127=\"\",B128=\"\"),\"\",\"Stack Height (ft):\")","v":""},{"$f":"IF(AND(B124=\"\",B125=\"\",B126=\"\",B127=\"\",B128=\"\"),\"\",\"Stack Diameter (inches):\")","v":""},{"$f":"IF(AND(B124=\"\",B125=\"\",B126=\"\",B127=\"\",B128=\"\"),\"\",\"Flow Rate (acfm):\")","v":""},{"$f":"IF(AND(B124=\"\",B125=\"\",B126=\"\",B127=\"\",B128=\"\"),\"\",\"Temp (Deg F):\")","v":""},null,"","",null,null,null,"",""]
[null,null,null,null,null,null,null,"","",null,null,null,"",""]
[null,{"$f":"IF(COUNTIF(J117:J126,\"Cement Delivery to Silo\")>0,\"EP-2 Cement Silo Stack:\",\"\")","v":""},null,null,null,null,null,"","",null,null,null,"",""]
[null,{"$f":"IF(COUNTIF(J117:J126,\"Cement Supplement Delivery to Silo\")>0,\"EP-3 Cement Supplement Silo Stack:\",\"\")","v":""},null,null,null,null,null,"","",null,null,null,"",""]
[null,{"$f":"IF(COUNTIF(J117:J126,\"Weigh Hopper Loading\")>0,\"EP-4 Weigh Hopper Loading Stack:\",\"\")","v":""},null,null,null,null,null,"","",null,null,null,"",""]
[null,{"$f":"IF(COUNTIF(J117:J126,\"Truck Mix Loading\")>0,\"EP-5 Truck Mix Loading Stack:\",\"\")","v":""}]
[null,{"$f":"IF(COUNTIF(J117:J126,\"Central Mix Loading\")>0,\"EP-6 Central Mix Loading Stack:\",\"\")","v":""},null,null,null,null,null,{"$f":"IF('Concrete Plant (CP-9)'!$D$4>6,\"Stock Pile Area\",\"\")","v":""}]
[null,null,null,null,null,null,null,null,{"$f":"IF('Concrete Plant (CP-9)'!$D$4>6,\"Emission Unit #\",\"\")","v":""},{"$f":"IF('Concrete Plant (CP-9)'!$D$4>6,\"Maximum Storage Area (acres)\",\"\")","v":""},{"$f":"IF('Concrete Plant (CP-9)'!$D$4>6,\"Actual Storage Area (acres)\",\"\")","v":""},{"$f":"IF('Concrete Plant (CP-9)'!$D$4>6,\"Actual Days in Existence (days)\",\"\")","v":""}]
[]
[]
[null,{"$f":"IF('Concrete Plant (CP-9)'!$D$4>7,\"Batch Plant\",\"\")","v":""},{"$f":"IF('Concrete Plant (CP-9)'!$D$4>7,\"Site 8\",\"\")","v":""},null,null,null,null,{"$f":"IF('Concrete Plant (CP-9)'!$D$4>7,\"Emission Point #\",\"\")","v":""},{"$f":"IF('Concrete Plant (CP-9)'!$D$4>7,\"Emission     Unit #\",\"\")","v":""},{"$f":"IF('Concrete Plant (CP-9)'!$D$4>7,\"Processes\",\"\")","v":""},{"$f":"IF('Concrete Plant (CP-9)'!$D$4>7,\"Combined Maximum Hourly Design Rate for all Like Processes (cubic yard/hr)\",\"\")","v":""},{"$f":"IF('Concrete Plant (CP-9)'!$D$4>7,('Facility Information'!G5&\" Annual Throughput (cubic yards)\"),\"\")","v":""}]
[null,{"$f":"IF('Concrete Plant (CP-9)'!$D$4>7,\"Site Name:\",\"\")","v":""},null,null,null,null,null,{"$f":"IF(J133=\"cement delivery to silo\",\"CP-1 EP-2\",IF(J133=\"cement supplement delivery to silo\",\"CP-1 EP-3\",IF(J133=\"weigh hopper loading\",\"CP-1 EP-4\",IF(J133=\"truck mix loading\",\"CP-1 EP-5\",IF(J133=\"central mix loading\",\"CP-1 EP-6\",IF(J133=\"\",\"\",\"CP-1 EP-1\"))))))","v":""},{"$f":"IF(J133=\"\",\"\",IF(J133=\"aggregate delivery to ground storage\",\"CP-9 EU-1\",IF(J133=\"sand delivery to ground storage\",\"CP-9 EU-2\",IF(J133=\"aggregate transfer to conveyor\",\"CP-9 EU-3\",IF(J133=\"sand transfer to conveyor\",\"CP-9 EU-4\",IF(J133=\"aggregate transfer to elevated storage\",\"CP-9 EU-5\",IF(J133=\"sand transfer to elevated storage\",\"CP-9 EU-6\",IF(J133=\"weigh hopper loading\",\"CP-9 EU-7\",IF(J133=\"central mix loading\",\"CP-9 EU-8\",IF(J133=\"truck mix loading\",\"CP-9 EU-9\",IF(J133=\"cement delivery to silo\",\"CP-9 EU-10\",IF(J133=\"cement supplement delivery to silo\",\"CP-9 EU-11\"))))))))))))","v":""},null,null,null,{"$f":"IF(J133=\"truck mix loading\",IF($F$136=\"yes\",L133*0.05/2000,L133/2000),\"\")","v":""},{"$f":"IF(J133=\"central mix loading\",IF($F$136=\"yes\",L133*0.05/2000,L133/2000),\"\")","v":""}]
[null,{"$f":"IF('Concrete Plant (CP-9)'!$D$4>7,\"County:\",\"\")","v":""},null,null,null,null,null,{"$f":"IF(J134=\"cement delivery to silo\",\"CP-1 EP-2\",IF(J134=\"cement supplement delivery to silo\",\"CP-1 EP-3\",IF(J134=\"weigh hopper loading\",\"CP-1 EP-4\",IF(J134=\"truck mix loading\",\"CP-1 EP-5\",IF(J134=\"central mix loading\",\"CP-1 EP-6\",IF(J134=\"\",\"\",\"CP-1 EP-1\"))))))","v":""},"",null,null,null,{"$f":"IF(J134=\"truck mix loading\",IF($F$136=\"yes\",L134*0.05/2000,L134/2000),\"\")","v":""},{"$f":"IF(J134=\"central mix loading\",IF($F$136=\"yes\",L134*0.05/2000,L134/2000),\"\")","v":""}]
[null,{"$f":"IF('Concrete Plant (CP-9)'!$D$4>7,\"Batching Period (Dates):\",\"\")","v":""},null,null,null,null,null,"","",null,null,null,"",""]
[null,{"$f":"IF(OR(COUNTIF(J133:J142,\"Truck Mix Loading\")>0,(COUNTIF(J133:J142,\"Central Mix Loading\")>0)),\"Is the Central/Truck Mix Loading process controlled by a baghouse?\",\"\")","v":""},null,null,null,null,null,"","",null,null,null,"",""]
[null,null,null,null,null,null,null,"","",null,null,null,"",""]
[null,{"$f":"IF(AND(B140=\"\",B141=\"\",B142=\"\",B143=\"\",B144=\"\"),\"\",\"Process (complete stack information if applicable):\")","v":""},{"$f":"IF(AND(B140=\"\",B141=\"\",B142=\"\",B143=\"\",B144=\"\"),\"\",\"Stack Height (ft):\")","v":""},{"$f":"IF(AND(B140=\"\",B141=\"\",B142=\"\",B143=\"\",B144=\"\"),\"\",\"Stack Diameter (inches):\")","v":""},{"$f":"IF(AND(B140=\"\",B141=\"\",B142=\"\",B143=\"\",B144=\"\"),\"\",\"Flow Rate (acfm):\")","v":""},{"$f":"IF(AND(B140=\"\",B141=\"\",B142=\"\",B143=\"\",B144=\"\"),\"\",\"Temp (Deg F):\")","v":""},null,"","",null,null,null,"",""]
[null,null,null,null,null,null,null,"","",null,null,null,"",""]
[null,{"$f":"IF(COUNTIF(J133:J142,\"Cement Delivery to Silo\")>0,\"EP-2 Cement Silo Stack:\",\"\")","v":""},null,null,null,null,null,"","",null,null,null,"",""]
[null,{"$f":"IF(COUNTIF(J133:J142,\"Cement Supplement Delivery to Silo\")>0,\"EP-3 Cement Supplement Silo Stack:\",\"\")","v":""},null,null,null,null,null,"","",null,null,null,"",""]
[null,{"$f":"IF(COUNTIF(J133:J142,\"Weigh Hopper Loading\")>0,\"EP-4 Weigh Hopper Loading Stack:\",\"\")","v":""},null,null,null,null,null,"","",null,null,null,"",""]
[null,{"$f":"IF(COUNTIF(J133:J142,\"Truck Mix Loading\")>0,\"EP-5 Truck Mix Loading Stack:\",\"\")","v":""}]
[null,{"$f":"IF(COUNTIF(J133:J142,\"Central Mix Loading\")>0,\"EP-6 Central Mix Loading Stack:\",\"\")","v":""},null,null,null,null,null,{"$f":"IF('Concrete Plant (CP-9)'!$D$4>7,\"Stock Pile Area\",\"\")","v":""}]
[null,null,null,null,null,null,null,null,{"$f":"IF('Concrete Plant (CP-9)'!$D$4>7,\"Emission Unit #\",\"\")","v":""},{"$f":"IF('Concrete Plant (CP-9)'!$D$4>7,\"Maximum Storage Area (acres)\",\"\")","v":""},{"$f":"IF('Concrete Plant (CP-9)'!$D$4>7,\"Actual Storage Area (acres)\",\"\")","v":""},{"$f":"IF('Concrete Plant (CP-9)'!$D$4>7,\"Actual Days in Existence (days)\",\"\")","v":""}]
[]
[]
[null,{"$f":"IF('Concrete Plant (CP-9)'!$D$4>8,\"Batch Plant\",\"\")","v":""},{"$f":"IF('Concrete Plant (CP-9)'!$D$4>8,\"Site 9\",\"\")","v":""},null,null,null,null,{"$f":"IF('Concrete Plant (CP-9)'!$D$4>8,\"Emission Point #\",\"\")","v":""},{"$f":"IF('Concrete Plant (CP-9)'!$D$4>8,\"Emission     Unit #\",\"\")","v":""},{"$f":"IF('Concrete Plant (CP-9)'!$D$4>8,\"Processes\",\"\")","v":""},{"$f":"IF('Concrete Plant (CP-9)'!$D$4>8,\"Combined Maximum Hourly Design Rate for all Like Processes (cubic yard/hr)\",\"\")","v":""},{"$f":"IF('Concrete Plant (CP-9)'!$D$4>8,('Facility Information'!G5&\" Annual Throughput (cubic yards)\"),\"\")","v":""}]
[null,{"$f":"IF('Concrete Plant (CP-9)'!$D$4>8,\"Site Name:\",\"\")","v":""},null,null,null,null,null,{"$f":"IF(J149=\"cement delivery to silo\",\"CP-1 EP-2\",IF(J149=\"cement supplement delivery to silo\",\"CP-1 EP-3\",IF(J149=\"weigh hopper loading\",\"CP-1 EP-4\",IF(J149=\"truck mix loading\",\"CP-1 EP-5\",IF(J149=\"central mix loading\",\"CP-1 EP-6\",IF(J149=\"\",\"\",\"CP-1 EP-1\"))))))","v":""},{"$f":"IF(J149=\"\",\"\",IF(J149=\"aggregate delivery to ground storage\",\"CP-9 EU-1\",IF(J149=\"sand delivery to ground storage\",\"CP-9 EU-2\",IF(J149=\"aggregate transfer to conveyor\",\"CP-9 EU-3\",IF(J149=\"sand transfer to conveyor\",\"CP-9 EU-4\",IF(J149=\"aggregate transfer to elevated storage\",\"CP-9 EU-5\",IF(J149=\"sand transfer to elevated storage\",\"CP-9 EU-6\",IF(J149=\"weigh hopper loading\",\"CP-9 EU-7\",IF(J149=\"central mix loading\",\"CP-9 EU-8\",IF(J149=\"truck mix loading\",\"CP-9 EU-9\",IF(J149=\"cement delivery to silo\",\"CP-9 EU-10\",IF(J149=\"cement supplement delivery to silo\",\"CP-9 EU-11\"))))))))))))","v":""},null,null,null,{"$f":"IF(J149=\"truck mix loading\",IF($F$152=\"yes\",L149*0.05/2000,L149/2000),\"\")","v":""},{"$f":"IF(J149=\"central mix loading\",IF($F$152=\"yes\",L149*0.05/2000,L149/2000),\"\")","v":""}]
[null,{"$f":"IF('Concrete Plant (CP-9)'!$D$4>8,\"County:\",\"\")","v":""},null,null,null,null,null,{"$f":"IF(J150=\"cement delivery to silo\",\"CP-1 EP-2\",IF(J150=\"cement supplement delivery to silo\",\"CP-1 EP-3\",IF(J150=\"weigh hopper loading\",\"CP-1 EP-4\",IF(J150=\"truck mix loading\",\"CP-1 EP-5\",IF(J150=\"central mix loading\",\"CP-1 EP-6\",IF(J150=\"\",\"\",\"CP-1 EP-1\"))))))","v":""},"",null,null,null,{"$f":"IF(J150=\"truck mix loading\",IF($F$152=\"yes\",L150*0.05/2000,L150/2000),\"\")","v":""},{"$f":"IF(J150=\"central mix loading\",IF($F$152=\"yes\",L150*0.05/2000,L150/2000),\"\")","v":""}]
[null,{"$f":"IF('Concrete Plant (CP-9)'!$D$4>8,\"Batching Period (Dates):\",\"\")","v":""},null,null,null,null,null,"","",null,null,null,"",""]
[null,{"$f":"IF(OR(COUNTIF(J149:J158,\"Truck Mix Loading\")>0,(COUNTIF(J149:J158,\"Central Mix Loading\")>0)),\"Is the Central/Truck Mix Loading process controlled by a baghouse?\",\"\")","v":""},null,null,null,null,null,"","",null,null,null,"",""]
[null,null,null,null,null,null,null,"","",null,null,null,"",""]
[null,{"$f":"IF(AND(B156=\"\",B157=\"\",B158=\"\",B159=\"\",B160=\"\"),\"\",\"Process (complete stack information if applicable):\")","v":""},{"$f":"IF(AND(B156=\"\",B157=\"\",B158=\"\",B159=\"\",B160=\"\"),\"\",\"Stack Height (ft):\")","v":""},{"$f":"IF(AND(B156=\"\",B157=\"\",B158=\"\",B159=\"\",B160=\"\"),\"\",\"Stack Diameter (inches):\")","v":""},{"$f":"IF(AND(B156=\"\",B157=\"\",B158=\"\",B159=\"\",B160=\"\"),\"\",\"Flow Rate (acfm):\")","v":""},{"$f":"IF(AND(B156=\"\",B157=\"\",B158=\"\",B159=\"\",B160=\"\"),\"\",\"Temp (Deg F):\")","v":""},null,"","",null,null,null,"",""]
[null,null,null,null,null,null,null,"","",null,null,null,"",""]
[null,{"$f":"IF(COUNTIF(J149:J158,\"Cement Delivery to Silo\")>0,\"EP-2 Cement Silo Stack:\",\"\")","v":""},null,null,null,null,null,"","",null,null,null,"",""]
[null,{"$f":"IF(COUNTIF(J149:J158,\"Cement Supplement Delivery to Silo\")>0,\"EP-3 Cement Supplement Silo Stack:\",\"\")","v":""},null,null,null,null,null,"","",null,null,null,"",""]
[null,{"$f":"IF(COUNTIF(J149:J158,\"Weigh Hopper Loading\")>0,\"EP-4 Weigh Hopper Loading Stack:\",\"\")","v":""},null,null,null,null,null,"","",null,null,null,"",""]
[null,{"$f":"IF(COUNTIF(J149:J158,\"Truck Mix Loading\")>0,\"EP-5 Truck Mix Loading Stack:\",\"\")","v":""}]
[null,{"$f":"IF(COUNTIF(J149:J158,\"Central Mix Loading\")>0,\"EP-6 Central Mix Loading Stack:\",\"\")","v":""},null,null,null,null,null,{"$f":"IF('Concrete Plant (CP-9)'!$D$4>8,\"Stock Pile Area\",\"\")","v":""}]
[null,null,null,null,null,null,null,null,{"$f":"IF('Concrete Plant (CP-9)'!$D$4>8,\"Emission Unit #\",\"\")","v":""},{"$f":"IF('Concrete Plant (CP-9)'!$D$4>8,\"Maximum Storage Area (acres)\",\"\")","v":""},{"$f":"IF('Concrete Plant (CP-9)'!$D$4>8,\"Actual Storage Area (acres)\",\"\")","v":""},{"$f":"IF('Concrete Plant (CP-9)'!$D$4>8,\"Actual Days in Existence (days)\",\"\")","v":""}]
[]
[]
[null,{"$f":"IF('Concrete Plant (CP-9)'!$D$4>9,\"Batch Plant\",\"\")","v":""},{"$f":"IF('Concrete Plant (CP-9)'!$D$4>9,\"Site 10\",\"\")","v":""},null,null,null,null,{"$f":"IF('Concrete Plant (CP-9)'!$D$4>9,\"Emission Point #\",\"\")","v":""},{"$f":"IF('Concrete Plant (CP-9)'!$D$4>9,\"Emission     Unit #\",\"\")","v":""},{"$f":"IF('Concrete Plant (CP-9)'!$D$4>9,\"Processes\",\"\")","v":""},{"$f":"IF('Concrete Plant (CP-9)'!$D$4>9,\"Combined Maximum Hourly Design Rate for all Like Processes (cubic yard/hr)\",\"\")","v":""},{"$f":"IF('Concrete Plant (CP-9)'!$D$4>9,('Facility Information'!G5&\" Annual Throughput (cubic yards)\"),\"\")","v":""}]
[null,{"$f":"IF('Concrete Plant (CP-9)'!$D$4>9,\"Site Name:\",\"\")","v":""},null,null,null,null,null,{"$f":"IF(J165=\"cement delivery to silo\",\"CP-1 EP-2\",IF(J165=\"cement supplement delivery to silo\",\"CP-1 EP-3\",IF(J165=\"weigh hopper loading\",\"CP-1 EP-4\",IF(J165=\"truck mix loading\",\"CP-1 EP-5\",IF(J165=\"central mix loading\",\"CP-1 EP-6\",IF(J165=\"\",\"\",\"CP-1 EP-1\"))))))","v":""},{"$f":"IF(J165=\"\",\"\",IF(J165=\"aggregate delivery to ground storage\",\"CP-9 EU-1\",IF(J165=\"sand delivery to ground storage\",\"CP-9 EU-2\",IF(J165=\"aggregate transfer to conveyor\",\"CP-9 EU-3\",IF(J165=\"sand transfer to conveyor\",\"CP-9 EU-4\",IF(J165=\"aggregate transfer to elevated storage\",\"CP-9 EU-5\",IF(J165=\"sand transfer to elevated storage\",\"CP-9 EU-6\",IF(J165=\"weigh hopper loading\",\"CP-9 EU-7\",IF(J165=\"central mix loading\",\"CP-9 EU-8\",IF(J165=\"truck mix loading\",\"CP-9 EU-9\",IF(J165=\"cement delivery to silo\",\"CP-9 EU-10\",IF(J165=\"cement supplement delivery to silo\",\"CP-9 EU-11\"))))))))))))","v":""},null,null,null,{"$f":"IF(J165=\"truck mix loading\",IF($F$168=\"yes\",L165*0.05/2000,L165/2000),\"\")","v":""},{"$f":"IF(J165=\"central mix loading\",IF($F$168=\"yes\",L165*0.05/2000,L165/2000),\"\")","v":""}]
[null,{"$f":"IF('Concrete Plant (CP-9)'!$D$4>9,\"County:\",\"\")","v":""},null,null,null,null,null,{"$f":"IF(J166=\"cement delivery to silo\",\"CP-1 EP-2\",IF(J166=\"cement supplement delivery to silo\",\"CP-1 EP-3\",IF(J166=\"weigh hopper loading\",\"CP-1 EP-4\",IF(J166=\"truck mix loading\",\"CP-1 EP-5\",IF(J166=\"central mix loading\",\"CP-1 EP-6\",IF(J166=\"\",\"\",\"CP-1 EP-1\"))))))","v":""},"",null,null,null,{"$f":"IF(J166=\"truck mix loading\",IF($F$168=\"yes\",L166*0.05/2000,L166/2000),\"\")","v":""},{"$f":"IF(J166=\"central mix loading\",IF($F$168=\"yes\",L166*0.05/2000,L166/2000),\"\")","v":""}]
[null,{"$f":"IF('Concrete Plant (CP-9)'!$D$4>9,\"Batching Period (Dates):\",\"\")","v":""},null,null,null,null,null,"","",null,null,null,"",""]
[null,{"$f":"IF(OR(COUNTIF(J165:J174,\"Truck Mix Loading\")>0,(COUNTIF(J165:J174,\"Central Mix Loading\")>0)),\"Is the Central/Truck Mix Loading process controlled by a baghouse?\",\"\")","v":""},null,null,null,null,null,"","",null,null,null,"",""]
[null,null,null,null,null,null,null,"","",null,null,null,"",""]
[null,{"$f":"IF(AND(B172=\"\",B173=\"\",B174=\"\",B175=\"\",B176=\"\"),\"\",\"Process (complete stack information if applicable):\")","v":""},{"$f":"IF(AND(B172=\"\",B173=\"\",B174=\"\",B175=\"\",B176=\"\"),\"\",\"Stack Height (ft):\")","v":""},{"$f":"IF(AND(B172=\"\",B173=\"\",B174=\"\",B175=\"\",B176=\"\"),\"\",\"Stack Diameter (inches):\")","v":""},{"$f":"IF(AND(B172=\"\",B173=\"\",B174=\"\",B175=\"\",B176=\"\"),\"\",\"Flow Rate (acfm):\")","v":""},{"$f":"IF(AND(B172=\"\",B173=\"\",B174=\"\",B175=\"\",B176=\"\"),\"\",\"Temp (Deg F):\")","v":""},null,"","",null,null,null,"",""]
[null,null,null,null,null,null,null,"","",null,null,null,"",""]
[null,{"$f":"IF(COUNTIF(J165:J174,\"Cement Delivery to Silo\")>0,\"EP-2 Cement Silo Stack:\",\"\")","v":""},null,null,null,null,null,"","",null,null,null,"",""]
[null,{"$f":"IF(COUNTIF(J165:J174,\"Cement Supplement Delivery to Silo\")>0,\"EP-3 Cement Supplement Silo Stack:\",\"\")","v":""},null,null,null,null,null,"","",null,null,null,"",""]
[null,{"$f":"IF(COUNTIF(J165:J174,\"Weigh Hopper Loading\")>0,\"EP-4 Weigh Hopper Loading Stack:\",\"\")","v":""},null,null,null,null,null,"","",null,null,null,"",""]
[null,{"$f":"IF(COUNTIF(J165:J174,\"Truck Mix Loading\")>0,\"EP-5 Truck Mix Loading Stack:\",\"\")","v":""}]
[null,{"$f":"IF(COUNTIF(J165:J174,\"Central Mix Loading\")>0,\"EP-6 Central Mix Loading Stack:\",\"\")","v":""},null,null,null,null,null,{"$f":"IF('Concrete Plant (CP-9)'!$D$4>9,\"Stock Pile Area\",\"\")","v":""}]
[null,null,null,null,null,null,null,null,{"$f":"IF('Concrete Plant (CP-9)'!$D$4>9,\"Emission Unit #\",\"\")","v":""},{"$f":"IF('Concrete Plant (CP-9)'!$D$4>9,\"Maximum Storage Area (acres)\",\"\")","v":""},{"$f":"IF('Concrete Plant (CP-9)'!$D$4>9,\"Actual Storage Area (acres)\",\"\")","v":""},{"$f":"IF('Concrete Plant (CP-9)'!$D$4>9,\"Actual Days in Existence (days)\",\"\")","v":""}]
[]
[]
[null,null,null,null,null,null,null,null,null,null,null,null,{"$f":"SUM(M165:M174,M149:M158,M133:M142,M117:M126,M101:M110,M85:M94,M69:M78,M53:M62,M38:M47,M21:M30)","v":0},{"$f":"SUM(N165:N174,N149:N158,N133:N142,N117:N126,N101:N110,N85:N94,N69:N78,N53:N62,N38:N47,N21:N30)","v":0}]

{"sheet":"Concrete Plant (CP-10)","index":10,"n_rows":180,"n_cols":23,"rows_kept":180,"cut":false,"hidden":true,"merged":[]}
[null,"CONCRETE BATCH PLANT (CP-10)"]
[null,"Please fill in the yellow boxes as applicable for your facility. ",null,null,null,null,null,null,null,null,null,"Values used for calculating emissions →",null,null,null,"Values Used to Calculate Actual Emissions for the Listed Processes at this Plant"]
[null,null,null,null,null,null,null,null,null,null,null,null,null,null,null,"Process","Maximum Design Rate (cubic yards/hr)","Actual throughput (cubic yards/yr)"]
[null,{"$f":"\"Number of Sites this Plant operated at in \"&'Facility Information'!G5&\":\"","v":"Number of Sites this Plant operated at in :"},null,null,null,null,null,null,null,null,null,null,null,null,null,"Aggregate Delivery to Ground Storage",{"$f":"MAX((IFERROR(OFFSET($J$20,MATCH(\"Aggregate Delivery to Ground Storage\",$J$21:$J$30,0),1),0)),((IFERROR((OFFSET($J$36,MATCH(\"Aggregate Delivery to Ground Storage\",$J$37:$J$46,0),1)),0))),((IFERROR((OFFSET($J$51,MATCH(\"Aggregate Delivery to Ground Storage\",$J$52:$J$61,0),1)),0))),((IFERROR((OFFSET($J$67,MATCH(\"Aggregate Delivery to Ground Storage\",$J$68:$J$77,0),1)),0))),((IFERROR((OFFSET($J$83,MATCH(\"Aggregate Delivery to Ground Storage\",$J$84:$J$93,0),1)),0))),((IFERROR((OFFSET($J$99,MATCH(\"Aggregate Delivery to Ground Storage\",$J$100:$J$109,0),1)),0))),((IFERROR((OFFSET($J$115,MATCH(\"Aggregate Delivery to Ground Storage\",$J$116:$J$125,0),1)),0))),((IFERROR((OFFSET($J$131,MATCH(\"Aggregate Delivery to Ground Storage\",$J$132:$J$141,0),1)),0))),((IFERROR((OFFSET($J$147,MATCH(\"Aggregate Delivery to Ground Storage\",$J$148:$J$157,0),1)),0))),((IFERROR((OFFSET($J$164,MATCH(\"Aggregate Delivery to Ground Storage\",$J$165:$J$174,0),1)),0))))","v":0},{"$f":"SUM((IFERROR(OFFSET($J$20,MATCH(\"Aggregate Delivery to Ground Storage\",$J$21:$J$30,0),2),0)),((IFERROR((OFFSET($J$36,MATCH(\"Aggregate Delivery to Ground Storage\",$J$37:$J$46,0),2)),0))),((IFERROR((OFFSET($J$51,MATCH(\"Aggregate Delivery to Ground Storage\",$J$52:$J$61,0),2)),0))),((IFERROR((OFFSET($J$67,MATCH(\"Aggregate Delivery to Ground Storage\",$J$68:$J$77,0),2)),0))),((IFERROR((OFFSET($J$83,MATCH(\"Aggregate Delivery to Ground Storage\",$J$84:$J$93,0),2)),0))),((IFERROR((OFFSET($J$99,MATCH(\"Aggregate Delivery to Ground Storage\",$J$100:$J$109,0),2)),0))),((IFERROR((OFFSET($J$115,MATCH(\"Aggregate Delivery to Ground Storage\",$J$116:$J$125,0),2)),0))),((IFERROR((OFFSET($J$131,MATCH(\"Aggregate Delivery to Ground Storage\",$J$132:$J$141,0),2)),0))),((IFERROR((OFFSET($J$147,MATCH(\"Aggregate Delivery to Ground Storage\",$J$148:$J$157,0),2)),0))),((IFERROR((OFFSET($J$164,MATCH(\"Aggregate Delivery to Ground Storage\",$J$165:$J$174,0),2)),0))))","v":0},"** As of 2016 Potential Emissions are no longer required to be reported in the Minor Source Emissions Inventory**"]
[null,null,null,null,null,null,null,null,null,null,null,null,null,null,null,"Sand Delivery to Ground Storage",{"$f":"MAX((IFERROR(OFFSET($J$20,MATCH(\"Sand Delivery to Ground Storage\",$J$21:$J$30,0),1),0)),((IFERROR((OFFSET($J$36,MATCH(\"Sand Delivery to Ground Storage\",$J$37:$J$46,0),1)),0))),((IFERROR((OFFSET($J$51,MATCH(\"Sand Delivery to Ground Storage\",$J$52:$J$61,0),1)),0))),((IFERROR((OFFSET($J$67,MATCH(\"Sand Delivery to Ground Storage\",$J$68:$J$77,0),1)),0))),((IFERROR((OFFSET($J$83,MATCH(\"Sand Delivery to Ground Storage\",$J$84:$J$93,0),1)),0))),((IFERROR((OFFSET($J$99,MATCH(\"Sand Delivery to Ground Storage\",$J$100:$J$109,0),1)),0))),((IFERROR((OFFSET($J$115,MATCH(\"Sand Delivery to Ground Storage\",$J$116:$J$125,0),1)),0))),((IFERROR((OFFSET($J$131,MATCH(\"Sand Delivery to Ground Storage\",$J$132:$J$141,0),1)),0))),((IFERROR((OFFSET($J$147,MATCH(\"Sand Delivery to Ground Storage\",$J$148:$J$157,0),1)),0))),((IFERROR((OFFSET($J$164,MATCH(\"Sand Delivery to Ground Storage\",$J$165:$J$174,0),1)),0))))","v":0},{"$f":"SUM((IFERROR(OFFSET($J$20,MATCH(\"Sand Delivery to Ground Storage\",$J$21:$J$30,0),2),0)),((IFERROR((OFFSET($J$36,MATCH(\"Sand Delivery to Ground Storage\",$J$37:$J$46,0),2)),0))),((IFERROR((OFFSET($J$51,MATCH(\"Sand Delivery to Ground Storage\",$J$52:$J$61,0),2)),0))),((IFERROR((OFFSET($J$67,MATCH(\"Sand Delivery to Ground Storage\",$J$68:$J$77,0),2)),0))),((IFERROR((OFFSET($J$83,MATCH(\"Sand Delivery to Ground Storage\",$J$84:$J$93,0),2)),0))),((IFERROR((OFFSET($J$99,MATCH(\"Sand Delivery to Ground Storage\",$J$100:$J$109,0),2)),0))),((IFERROR((OFFSET($J$115,MATCH(\"Sand Delivery to Ground Storage\",$J$116:$J$125,0),2)),0))),((IFERROR((OFFSET($J$131,MATCH(\"Sand Delivery to Ground Storage\",$J$132:$J$141,0),2)),0))),((IFERROR((OFFSET($J$147,MATCH(\"Sand Delivery to Ground Storage\",$J$148:$J$157,0),2)),0))),((IFERROR((OFFSET($J$164,MATCH(\"Sand Delivery to Ground Storage\",$J$165:$J$174,0),2)),0))))","v":0}]
[null,"Plant Specific Permit Number: ",null,null,null,null,null,null,null,null,null,null,null,null,null,"Aggregate Transfer to Conveyor",{"$f":"MAX((IFERROR(OFFSET($J$20,MATCH(\"Aggregate Transfer to Conveyor\",$J$21:$J$30,0),1),0)),((IFERROR((OFFSET($J$36,MATCH(\"Aggregate Transfer to Conveyor\",$J$37:$J$46,0),1)),0))),((IFERROR((OFFSET($J$51,MATCH(\"Aggregate Transfer to Conveyor\",$J$52:$J$61,0),1)),0))),((IFERROR((OFFSET($J$67,MATCH(\"Aggregate Transfer to Conveyor\",$J$68:$J$77,0),1)),0))),((IFERROR((OFFSET($J$83,MATCH(\"Aggregate Transfer to Conveyor\",$J$84:$J$93,0),1)),0))),((IFERROR((OFFSET($J$99,MATCH(\"Aggregate Transfer to Conveyor\",$J$100:$J$109,0),1)),0))),((IFERROR((OFFSET($J$115,MATCH(\"Aggregate Transfer to Conveyor\",$J$116:$J$125,0),1)),0))),((IFERROR((OFFSET($J$131,MATCH(\"Aggregate Transfer to Conveyor\",$J$132:$J$141,0),1)),0))),((IFERROR((OFFSET($J$147,MATCH(\"Aggregate Transfer to Conveyor\",$J$148:$J$157,0),1)),0))),((IFERROR((OFFSET($J$164,MATCH(\"Aggregate Transfer to Conveyor\",$J$165:$J$174,0),1)),0))))","v":0},{"$f":"SUM((IFERROR(OFFSET($J$20,MATCH(\"Aggregate Transfer to Conveyor\",$J$21:$J$30,0),2),0)),((IFERROR((OFFSET($J$36,MATCH(\"Aggregate Transfer to Conveyor\",$J$37:$J$46,0),2)),0))),((IFERROR((OFFSET($J$51,MATCH(\"Aggregate Transfer to Conveyor\",$J$52:$J$61,0),2)),0))),((IFERROR((OFFSET($J$67,MATCH(\"Aggregate Transfer to Conveyor\",$J$68:$J$77,0),2)),0))),((IFERROR((OFFSET($J$83,MATCH(\"Aggregate Transfer to Conveyor\",$J$84:$J$93,0),2)),0))),((IFERROR((OFFSET($J$99,MATCH(\"Aggregate Transfer to Conveyor\",$J$100:$J$109,0),2)),0))),((IFERROR((OFFSET($J$115,MATCH(\"Aggregate Transfer to Conveyor\",$J$116:$J$125,0),2)),0))),((IFERROR((OFFSET($J$131,MATCH(\"Aggregate Transfer to Conveyor\",$J$132:$J$141,0),2)),0))),((IFERROR((OFFSET($J$147,MATCH(\"Aggregate Transfer to Conveyor\",$J$148:$J$157,0),2)),0))),((IFERROR((OFFSET($J$164,MATCH(\"Aggregate Transfer to Conveyor\",$J$165:$J$174,0),2)),0))))","v":0}]
[null,null,null,null,null,null,null,null,null,null,null,null,null,null,null,"Sand Transfer to Conveyor",{"$f":"MAX((IFERROR(OFFSET($J$20,MATCH(\"Sand Transfer to Conveyor\",$J$21:$J$30,0),1),0)),((IFERROR((OFFSET($J$36,MATCH(\"Sand Transfer to Conveyor\",$J$37:$J$46,0),1)),0))),((IFERROR((OFFSET($J$51,MATCH(\"Sand Transfer to Conveyor\",$J$52:$J$61,0),1)),0))),((IFERROR((OFFSET($J$67,MATCH(\"Sand Transfer to Conveyor\",$J$68:$J$77,0),1)),0))),((IFERROR((OFFSET($J$83,MATCH(\"Sand Transfer to Conveyor\",$J$84:$J$93,0),1)),0))),((IFERROR((OFFSET($J$99,MATCH(\"Sand Transfer to Conveyor\",$J$100:$J$109,0),1)),0))),((IFERROR((OFFSET($J$115,MATCH(\"Sand Transfer to Conveyor\",$J$116:$J$125,0),1)),0))),((IFERROR((OFFSET($J$131,MATCH(\"Sand Transfer to Conveyor\",$J$132:$J$141,0),1)),0))),((IFERROR((OFFSET($J$147,MATCH(\"Sand Transfer to Conveyor\",$J$148:$J$157,0),1)),0))),((IFERROR((OFFSET($J$164,MATCH(\"Sand Transfer to Conveyor\",$J$165:$J$174,0),1)),0))))","v":0},{"$f":"SUM((IFERROR(OFFSET($J$20,MATCH(\"Sand Transfer to Conveyor\",$J$21:$J$30,0),2),0)),((IFERROR((OFFSET($J$36,MATCH(\"Sand Transfer to Conveyor\",$J$37:$J$46,0),2)),0))),((IFERROR((OFFSET($J$51,MATCH(\"Sand Transfer to Conveyor\",$J$52:$J$61,0),2)),0))),((IFERROR((OFFSET($J$67,MATCH(\"Sand Transfer to Conveyor\",$J$68:$J$77,0),2)),0))),((IFERROR((OFFSET($J$83,MATCH(\"Sand Transfer to Conveyor\",$J$84:$J$93,0),2)),0))),((IFERROR((OFFSET($J$99,MATCH(\"Sand Transfer to Conveyor\",$J$100:$J$109,0),2)),0))),((IFERROR((OFFSET($J$115,MATCH(\"Sand Transfer to Conveyor\",$J$116:$J$125,0),2)),0))),((IFERROR((OFFSET($J$131,MATCH(\"Sand Transfer to Conveyor\",$J$132:$J$141,0),2)),0))),((IFERROR((OFFSET($J$147,MATCH(\"Sand Transfer to Conveyor\",$J$148:$J$157,0),2)),0))),((IFERROR((OFFSET($J$164,MATCH(\"Sand Transfer to Conveyor\",$J$165:$J$174,0),2)),0))))","v":0}]
[null,"Plant Specific Operating Limits:",null,null,null,null,null,"Plant Specific Emission Limits:",null,null,null,null,null,null,null,"Aggregate Transfer to Elevated Storage",{"$f":"MAX((IFERROR(OFFSET($J$20,MATCH(\"Aggregate Transfer to Elevated Storage\",$J$21:$J$30,0),1),0)),((IFERROR((OFFSET($J$36,MATCH(\"Aggregate Transfer to Elevated Storage\",$J$37:$J$46,0),1)),0))),((IFERROR((OFFSET($J$51,MATCH(\"Aggregate Transfer to Elevated Storage\",$J$52:$J$61,0),1)),0))),((IFERROR((OFFSET($J$67,MATCH(\"Aggregate Transfer to Elevated Storage\",$J$68:$J$77,0),1)),0))),((IFERROR((OFFSET($J$83,MATCH(\"Aggregate Transfer to Elevated Storage\",$J$84:$J$93,0),1)),0))),((IFERROR((OFFSET($J$99,MATCH(\"Aggregate Transfer to Elevated Storage\",$J$100:$J$109,0),1)),0))),((IFERROR((OFFSET($J$115,MATCH(\"Aggregate Transfer to Elevated Storage\",$J$116:$J$125,0),1)),0))),((IFERROR((OFFSET($J$131,MATCH(\"Aggregate Transfer to Elevated Storage\",$J$132:$J$141,0),1)),0))),((IFERROR((OFFSET($J$147,MATCH(\"Aggregate Transfer to Elevated Storage\",$J$148:$J$157,0),1)),0))),((IFERROR((OFFSET($J$164,MATCH(\"Aggregate Transfer to Elevated Storage\",$J$165:$J$174,0),1)),0))))","v":0},{"$f":"SUM((IFERROR(OFFSET($J$20,MATCH(\"Aggregate Transfer to Elevated Storage\",$J$21:$J$30,0),2),0)),((IFERROR((OFFSET($J$36,MATCH(\"Aggregate Transfer to Elevated Storage\",$J$37:$J$46,0),2)),0))),((IFERROR((OFFSET($J$51,MATCH(\"Aggregate Transfer to Elevated Storage\",$J$52:$J$61,0),2)),0))),((IFERROR((OFFSET($J$67,MATCH(\"Aggregate Transfer to Elevated Storage\",$J$68:$J$77,0),2)),0))),((IFERROR((OFFSET($J$83,MATCH(\"Aggregate Transfer to Elevated Storage\",$J$84:$J$93,0),2)),0))),((IFERROR((OFFSET($J$99,MATCH(\"Aggregate Transfer to Elevated Storage\",$J$100:$J$109,0),2)),0))),((IFERROR((OFFSET($J$115,MATCH(\"Aggregate Transfer to Elevated Storage\",$J$116:$J$125,0),2)),0))),((IFERROR((OFFSET($J$131,MATCH(\"Aggregate Transfer to Elevated Storage\",$J$132:$J$141,0),2)),0))),((IFERROR((OFFSET($J$147,MATCH(\"Aggregate Transfer to Elevated Storage\",$J$148:$J$157,0),2)),0))),((IFERROR((OFFSET($J$164,MATCH(\"Aggregate Transfer to Elevated Storage\",$J$165:$J$174,0),2)),0))))","v":0}]
[null,"Throughput Limit (cubic yards/yr):",null,null,null,null,null,"Pollutant","lb/hr","tons/yr",null,null,null,null,null,"Sand Transfer to Elevated Storage",{"$f":"MAX((IFERROR(OFFSET($J$20,MATCH(\"Sand Transfer to Elevated Storage\",$J$21:$J$30,0),1),0)),((IFERROR((OFFSET($J$36,MATCH(\"Sand Transfer to Elevated Storage\",$J$37:$J$46,0),1)),0))),((IFERROR((OFFSET($J$51,MATCH(\"Sand Transfer to Elevated Storage\",$J$52:$J$61,0),1)),0))),((IFERROR((OFFSET($J$37,MATCH(\"Sand Transfer to Elevated Storage\",$J$68:$J$77,0),1)),0))),((IFERROR((OFFSET($J$83,MATCH(\"Sand Transfer to Elevated Storage\",$J$84:$J$93,0),1)),0))),((IFERROR((OFFSET($J$99,MATCH(\"Sand Transfer to Elevated Storage\",$J$100:$J$109,0),1)),0))),((IFERROR((OFFSET($J$115,MATCH(\"Sand Transfer to Elevated Storage\",$J$116:$J$125,0),1)),0))),((IFERROR((OFFSET($J$131,MATCH(\"Sand Transfer to Elevated Storage\",$J$132:$J$141,0),1)),0))),((IFERROR((OFFSET($J$147,MATCH(\"Sand Transfer to Elevated Storage\",$J$148:$J$157,0),1)),0))),((IFERROR((OFFSET($J$164,MATCH(\"Sand Transfer to Elevated Storage\",$J$165:$J$174,0),1)),0))))","v":0},{"$f":"SUM((IFERROR(OFFSET($J$20,MATCH(\"Sand Transfer to Elevated Storage\",$J$21:$J$30,0),2),0)),((IFERROR((OFFSET($J$36,MATCH(\"Sand Transfer to Elevated Storage\",$J$37:$J$46,0),2)),0))),((IFERROR((OFFSET($J$51,MATCH(\"Sand Transfer to Elevated Storage\",$J$52:$J$61,0),2)),0))),((IFERROR((OFFSET($J$37,MATCH(\"Sand Transfer to Elevated Storage\",$J$68:$J$77,0),2)),0))),((IFERROR((OFFSET($J$83,MATCH(\"Sand Transfer to Elevated Storage\",$J$84:$J$93,0),2)),0))),((IFERROR((OFFSET($J$99,MATCH(\"Sand Transfer to Elevated Storage\",$J$100:$J$109,0),2)),0))),((IFERROR((OFFSET($J$115,MATCH(\"Sand Transfer to Elevated Storage\",$J$116:$J$125,0),2)),0))),((IFERROR((OFFSET($J$131,MATCH(\"Sand Transfer to Elevated Storage\",$J$132:$J$141,0),2)),0))),((IFERROR((OFFSET($J$147,MATCH(\"Sand Transfer to Elevated Storage\",$J$148:$J$157,0),2)),0))),((IFERROR((OFFSET($J$164,MATCH(\"Sand Transfer to Elevated Storage\",$J$165:$J$174,0),2)),0))))","v":0}]
[null,"Daily Throughput Limit (cubic yards/day):",null,null,null,null,null,"PM2.5",null,null,null,null,null,null,null,"Weigh Hopper Loading",{"$f":"MAX((IFERROR(OFFSET($J$20,MATCH(\"Weigh Hopper Loading\",$J$21:$J$30,0),1),0)),((IFERROR((OFFSET($J$36,MATCH(\"Weigh Hopper Loading\",$J$37:$J$46,0),1)),0))),((IFERROR((OFFSET($J$51,MATCH(\"Weigh Hopper Loading\",$J$52:$J$61,0),1)),0))),((IFERROR((OFFSET($J$67,MATCH(\"Weigh Hopper Loading\",$J$68:$J$77,0),1)),0))),((IFERROR((OFFSET($J$83,MATCH(\"Weigh Hopper Loading\",$J$84:$J$93,0),1)),0))),((IFERROR((OFFSET($J$99,MATCH(\"Weigh Hopper Loading\",$J$100:$J$109,0),1)),0))),((IFERROR((OFFSET($J$115,MATCH(\"Weigh Hopper Loading\",$J$116:$J$125,0),1)),0))),((IFERROR((OFFSET($J$131,MATCH(\"Weigh Hopper Loading\",$J$132:$J$141,0),1)),0))),((IFERROR((OFFSET($J$147,MATCH(\"Weigh Hopper Loading\",$J$148:$J$157,0),1)),0))),((IFERROR((OFFSET($J$164,MATCH(\"Weigh Hopper Loading\",$J$165:$J$174,0),1)),0))))","v":0},{"$f":"SUM((IFERROR(OFFSET($J$20,MATCH(\"Weigh Hopper Loading\",$J$21:$J$30,0),2),0)),((IFERROR((OFFSET($J$36,MATCH(\"Weigh Hopper Loading\",$J$37:$J$46,0),2)),0))),((IFERROR((OFFSET($J$51,MATCH(\"Weigh Hopper Loading\",$J$52:$J$61,0),2)),0))),((IFERROR((OFFSET($J$67,MATCH(\"Weigh Hopper Loading\",$J$68:$J$77,0),2)),0))),((IFERROR((OFFSET($J$83,MATCH(\"Weigh Hopper Loading\",$J$84:$J$93,0),2)),0))),((IFERROR((OFFSET($J$99,MATCH(\"Weigh Hopper Loading\",$J$100:$J$109,0),2)),0))),((IFERROR((OFFSET($J$115,MATCH(\"Weigh Hopper Loading\",$J$116:$J$125,0),2)),0))),((IFERROR((OFFSET($J$131,MATCH(\"Weigh Hopper Loading\",$J$132:$J$141,0),2)),0))),((IFERROR((OFFSET($J$147,MATCH(\"Weigh Hopper Loading\",$J$148:$J$157,0),2)),0))),((IFERROR((OFFSET($J$164,MATCH(\"Weigh Hopper Loading\",$J$165:$J$174,0),2)),0))))","v":0}]
[null,"Hours of Operation Limit (hours/day):",null,null,null,null,null,"PM10",null,null,null,null,null,null,null,"Central Mix Loading",{"$f":"MAX((IFERROR(OFFSET($J$20,MATCH(\"Central Mix Loading\",$J$21:$J$30,0),1),0)),((IFERROR((OFFSET($J$36,MATCH(\"Central Mix Loading\",$J$37:$J$46,0),1)),0))),((IFERROR((OFFSET($J$51,MATCH(\"Central Mix Loading\",$J$52:$J$61,0),1)),0))),((IFERROR((OFFSET($J$67,MATCH(\"Central Mix Loading\",$J$68:$J$77,0),1)),0))),((IFERROR((OFFSET($J$83,MATCH(\"Central Mix Loading\",$J$84:$J$93,0),1)),0))),((IFERROR((OFFSET($J$99,MATCH(\"Central Mix Loading\",$J$100:$J$109,0),1)),0))),((IFERROR((OFFSET($J$115,MATCH(\"Central Mix Loading\",$J$116:$J$125,0),1)),0))),((IFERROR((OFFSET($J$131,MATCH(\"Central Mix Loading\",$J$132:$J$141,0),1)),0))),((IFERROR((OFFSET($J$147,MATCH(\"Central Mix Loading\",$J$148:$J$157,0),1)),0))),((IFERROR((OFFSET($J$164,MATCH(\"Central Mix Loading\",$J$165:$J$174,0),1)),0))))","v":0},{"$f":"SUM((IFERROR(OFFSET($J$20,MATCH(\"Central Mix Loading\",$J$21:$J$30,0),2),0)),((IFERROR((OFFSET($J$36,MATCH(\"Central Mix Loading\",$J$37:$J$46,0),2)),0))),((IFERROR((OFFSET($J$51,MATCH(\"Central Mix Loading\",$J$52:$J$61,0),2)),0))),((IFERROR((OFFSET($J$67,MATCH(\"Central Mix Loading\",$J$68:$J$77,0),2)),0))),((IFERROR((OFFSET($J$83,MATCH(\"Central Mix Loading\",$J$84:$J$93,0),2)),0))),((IFERROR((OFFSET($J$99,MATCH(\"Central Mix Loading\",$J$100:$J$109,0),2)),0))),((IFERROR((OFFSET($J$115,MATCH(\"Central Mix Loading\",$J$116:$J$125,0),2)),0))),((IFERROR((OFFSET($J$131,MATCH(\"Central Mix Loading\",$J$132:$J$141,0),2)),0))),((IFERROR((OFFSET($J$147,MATCH(\"Central Mix Loading\",$J$148:$J$157,0),2)),0))),((IFERROR((OFFSET($J$164,MATCH(\"Central Mix Loading\",$J$165:$J$174,0),2)),0))))","v":0}]
[null,"Note: if the plant has an hrs/day and a cubic yards/hr permit limit,",null,null,null,null,null,"SO2",null,null,null,null,null,null,null,"Truck Mix Loading",{"$f":"MAX((IFERROR(OFFSET($J$20,MATCH(\"Truck Mix Loading\",$J$21:$J$30,0),1),0)),((IFERROR((OFFSET($J$36,MATCH(\"Truck Mix Loading\",$J$37:$J$46,0),1)),0))),((IFERROR((OFFSET($J$51,MATCH(\"Truck Mix Loading\",$J$52:$J$61,0),1)),0))),((IFERROR((OFFSET($J$67,MATCH(\"Truck Mix Loading\",$J$68:$J$77,0),1)),0))),((IFERROR((OFFSET($J$83,MATCH(\"Truck Mix Loading\",$J$84:$J$93,0),1)),0))),((IFERROR((OFFSET($J$99,MATCH(\"Truck Mix Loading\",$J$100:$J$109,0),1)),0))),((IFERROR((OFFSET($J$115,MATCH(\"Truck Mix Loading\",$J$116:$J$125,0),1)),0))),((IFERROR((OFFSET($J$131,MATCH(\"Truck Mix Loading\",$J$132:$J$141,0),1)),0))),((IFERROR((OFFSET($J$147,MATCH(\"Truck Mix Loading\",$J$148:$J$157,0),1)),0))),((IFERROR((OFFSET($J$164,MATCH(\"Truck Mix Loading\",$J$165:$J$174,0),1)),0))))","v":0},{"$f":"SUM((IFERROR(OFFSET($J$20,MATCH(\"Truck Mix Loading\",$J$21:$J$30,0),2),0)),((IFERROR((OFFSET($J$36,MATCH(\"Truck Mix Loading\",$J$37:$J$46,0),2)),0))),((IFERROR((OFFSET($J$51,MATCH(\"Truck Mix Loading\",$J$52:$J$61,0),2)),0))),((IFERROR((OFFSET($J$67,MATCH(\"Truck Mix Loading\",$J$68:$J$77,0),2)),0))),((IFERROR((OFFSET($J$83,MATCH(\"Truck Mix Loading\",$J$84:$J$93,0),2)),0))),((IFERROR((OFFSET($J$99,MATCH(\"Truck Mix Loading\",$J$100:$J$109,0),2)),0))),((IFERROR((OFFSET($J$115,MATCH(\"Truck Mix Loading\",$J$116:$J$125,0),2)),0))),((IFERROR((OFFSET($J$131,MATCH(\"Truck Mix Loading\",$J$132:$J$141,0),2)),0))),((IFERROR((OFFSET($J$147,MATCH(\"Truck Mix Loading\",$J$148:$J$157,0),2)),0))),((IFERROR((OFFSET($J$164,MATCH(\"Truck Mix Loading\",$J$165:$J$174,0),2)),0))))","v":0}]
[null,"those values should be multiplied together to calculate a cubic ",null,null,null,null,null,"NOx",null,null,null,null,null,null,null,"Cement Delivery to Silo",{"$f":"MAX((IFERROR(OFFSET($J$20,MATCH(\"Cement Delivery to Silo\",$J$21:$J$30,0),1),0)),((IFERROR((OFFSET($J$36,MATCH(\"Cement Delivery to Silo\",$J$37:$J$46,0),1)),0))),((IFERROR((OFFSET($J$51,MATCH(\"Cement Delivery to Silo\",$J$52:$J$61,0),1)),0))),((IFERROR((OFFSET($J$67,MATCH(\"Cement Delivery to Silo\",$J$68:$J$77,0),1)),0))),((IFERROR((OFFSET($J$83,MATCH(\"Cement Delivery to Silo\",$J$84:$J$93,0),1)),0))),((IFERROR((OFFSET($J$99,MATCH(\"Cement Delivery to Silo\",$J$100:$J$109,0),1)),0))),((IFERROR((OFFSET($J$115,MATCH(\"Cement Delivery to Silo\",$J$116:$J$125,0),1)),0))),((IFERROR((OFFSET($J$131,MATCH(\"Cement Delivery to Silo\",$J$132:$J$141,0),1)),0))),((IFERROR((OFFSET($J$147,MATCH(\"Cement Delivery to Silo\",$J$148:$J$157,0),1)),0))),((IFERROR((OFFSET($J$164,MATCH(\"Cement Delivery to Silo\",$J$165:$J$174,0),1)),0))))","v":0},{"$f":"SUM((IFERROR(OFFSET($J$20,MATCH(\"Cement Delivery to Silo\",$J$21:$J$30,0),2),0)),((IFERROR((OFFSET($J$36,MATCH(\"Cement Delivery to Silo\",$J$37:$J$46,0),2)),0))),((IFERROR((OFFSET($J$51,MATCH(\"Cement Delivery to Silo\",$J$52:$J$61,0),2)),0))),((IFERROR((OFFSET($J$67,MATCH(\"Cement Delivery to Silo\",$J$68:$J$77,0),2)),0))),((IFERROR((OFFSET($J$83,MATCH(\"Cement Delivery to Silo\",$J$84:$J$93,0),2)),0))),((IFERROR((OFFSET($J$99,MATCH(\"Cement Delivery to Silo\",$J$100:$J$109,0),2)),0))),((IFERROR((OFFSET($J$115,MATCH(\"Cement Delivery to Silo\",$J$116:$J$125,0),2)),0))),((IFERROR((OFFSET($J$131,MATCH(\"Cement Delivery to Silo\",$J$132:$J$141,0),2)),0))),((IFERROR((OFFSET($J$147,MATCH(\"Cement Delivery to Silo\",$J$148:$J$157,0),2)),0))),((IFERROR((OFFSET($J$164,MATCH(\"Cement Delivery to Silo\",$J$165:$J$174,0),2)),0))))","v":0}]
[null,"yards/day limit and that value should be placed in cell C10.",null,null,null,null,null,"VOC",null,null,null,null,null,null,null,"Cement Supplement Delivery to Silo",{"$f":"MAX((IFERROR(OFFSET($J$20,MATCH(\"Cement Supplement Delivery to Silo\",$J$21:$J$30,0),1),0)),((IFERROR((OFFSET($J$36,MATCH(\"Cement Supplement Delivery to Silo\",$J$37:$J$46,0),1)),0))),((IFERROR((OFFSET($J$51,MATCH(\"Cement Supplement Delivery to Silo\",$J$52:$J$61,0),1)),0))),((IFERROR((OFFSET($J$67,MATCH(\"Cement Supplement Delivery to Silo\",$J$68:$J$77,0),1)),0))),((IFERROR((OFFSET($J$83,MATCH(\"Cement Supplement Delivery to Silo\",$J$84:$J$93,0),1)),0))),((IFERROR((OFFSET($J$99,MATCH(\"Cement Supplement Delivery to Silo\",$J$100:$J$109,0),1)),0))),((IFERROR((OFFSET($J$115,MATCH(\"Cement Supplement Delivery to Silo\",$J$116:$J$125,0),1)),0))),((IFERROR((OFFSET($J$131,MATCH(\"Cement Supplement Delivery to Silo\",$J$132:$J$141,0),1)),0))),((IFERROR((OFFSET($J$147,MATCH(\"Cement Supplement Delivery to Silo\",$J$148:$J$157,0),1)),0))),((IFERROR((OFFSET($J$164,MATCH(\"Cement Supplement Delivery to Silo\",$J$165:$J$174,0),1)),0))))","v":0},{"$f":"SUM((IFERROR(OFFSET($J$20,MATCH(\"Cement Supplement Delivery to Silo\",$J$21:$J$30,0),2),0)),((IFERROR((OFFSET($J$36,MATCH(\"Cement Supplement Delivery to Silo\",$J$37:$J$46,0),2)),0))),((IFERROR((OFFSET($J$51,MATCH(\"Cement Supplement Delivery to Silo\",$J$52:$J$61,0),2)),0))),((IFERROR((OFFSET($J$67,MATCH(\"Cement Supplement Delivery to Silo\",$J$68:$J$77,0),2)),0))),((IFERROR((OFFSET($J$83,MATCH(\"Cement Supplement Delivery to Silo\",$J$84:$J$93,0),2)),0))),((IFERROR((OFFSET($J$99,MATCH(\"Cement Supplement Delivery to Silo\",$J$100:$J$109,0),2)),0))),((IFERROR((OFFSET($J$115,MATCH(\"Cement Supplement Delivery to Silo\",$J$116:$J$125,0),2)),0))),((IFERROR((OFFSET($J$131,MATCH(\"Cement Supplement Delivery to Silo\",$J$132:$J$141,0),2)),0))),((IFERROR((OFFSET($J$147,MATCH(\"Cement Supplement Delivery to Silo\",$J$148:$J$157,0),2)),0))),((IFERROR((OFFSET($J$164,MATCH(\"Cement Supplement Delivery to Silo\",$J$165:$J$174,0),2)),0))))","v":0}]
[null,null,null,null,null,null,null,"CO"]
[null,null,null,null,null,null,null,null,null,null,null,null,null,null,null,null,"Maximum (acres/day)","Actual (acres-day/yr)"]
[null,null,null,null,null,null,null,null,null,null,null,null,null,null,null,"Storage Pile",{"$f":"SUM(J34,J49,J65,J81,J97,J113,J129,J145,J162,J178)","v":0},{"$f":"SUM(K34*L34,K49*L49,K65*L65,K81*L81,K97*L97,K113*L113,K129*L129,K145*L145,K162*L162,K178*L178)","v":0}]
[]
[null,null,null,null,null,null,null,null,null,null,null,null,null,null,null,"Actual Emissions for the Listed Processes at this Plant"]
[null,"Batch Plant","Site 1",null,null,null,null,"Emission Point #","Emission     Unit #","Processes","Combined Maximum Hourly Design Rate for all Like Processes (cubic yard/hr)",{"$f":"('Facility Information'!G5&\" Annual Throughput (cubic yards)\")","v":" Annual Throughput (cubic yards)"},"Truck","Central",null,"PM2.5","Maximum Design Rate (cubic yards/hr)","Emission Factor (lb/cubic yard)","Potential Uncontrolled Emissions (lb/hr)","Potential Controlled Emissions (lb/hr)","Potential Annual Emissions (tons/yr)","Actual Annual Emissions (tons/yr)"]
["YES","Site Name:",null,null,null,null,null,{"$f":"IF(J21=\"cement delivery to silo\",\"CP-1 EP-2\",IF(J21=\"cement supplement delivery to silo\",\"CP-1 EP-3\",IF(J21=\"weigh hopper loading\",\"CP-1 EP-4\",IF(J21=\"truck mix loading\",\"CP-1 EP-5\",IF(J21=\"central mix loading\",\"CP-1 EP-6\",IF(J21=\"\",\"\",\"CP-1 EP-1\"))))))","v":""},{"$f":"IF(J21=\"\",\"\",IF(J21=\"aggregate delivery to ground storage\",\"CP-10 EU-1\",IF(J21=\"sand delivery to ground storage\",\"CP-10 EU-2\",IF(J21=\"aggregate transfer to conveyor\",\"CP-10 EU-3\",IF(J21=\"sand transfer to conveyor\",\"CP-10 EU-4\",IF(J21=\"aggregate transfer to elevated storage\",\"CP-10 EU-5\",IF(J21=\"sand transfer to elevated storage\",\"CP-10 EU-6\",IF(J21=\"weigh hopper loading\",\"CP-10 EU-7\",IF(J21=\"central mix loading\",\"CP-10 EU-8\",IF(J21=\"truck mix loading\",\"CP-10 EU-9\",IF(J21=\"cement delivery to silo\",\"CP-10 EU-10\",IF(J21=\"cement supplement delivery to silo\",\"CP-10 EU-11\"))))))))))))","v":""},null,null,null,{"$f":"IF(J21=\"truck mix loading\",IF($F$24=\"yes\",L21*0.05/2000,L21/2000),\"\")","v":""},{"$f":"IF(J21=\"central mix loading\",IF($F$24=\"yes\",L21*0.05/2000,L21/2000),\"\")","v":""},null,"Aggregate Delivery to Ground Storage",{"$f":"Q4","v":0},{"$f":"IF(Q21=0,0,LOOKUP(P21,'Emission Factors'!$A$5:$A$16,'Emission Factors'!$D$5:$D$16))","v":0},{"$f":"Q21*R21","v":0},{"$f":"IF(Q21=0,\"\",IF($I$10>0,$I$10,\"\"))","v":""},{"$f":"IF($J$10>0,$J$10,IF($D$9>0,$D$9*R21/2000,IF($D$10>0,$D$10*365*R21/2000,IF($D$11>0,$D$11*365*R21*Q21/2000,IF(T21=\"\",S21*8760/2000,T21*8760/2000)))))","v":0},{"$f":"(R4*R21/2000)","v":0}]
["NO","County:",null,null,null,null,null,{"$f":"IF(J22=\"cement delivery to silo\",\"CP-1 EP-2\",IF(J22=\"cement supplement delivery to silo\",\"CP-1 EP-3\",IF(J22=\"weigh hopper loading\",\"CP-1 EP-4\",IF(J22=\"truck mix loading\",\"CP-1 EP-5\",IF(J22=\"central mix loading\",\"CP-1 EP-6\",IF(J22=\"\",\"\",\"CP-1 EP-1\"))))))","v":""},"",null,null,null,{"$f":"IF(J22=\"truck mix loading\",IF($F$24=\"yes\",L22*0.05/2000,L22/2000),\"\")","v":""},{"$f":"IF(J22=\"central mix loading\",IF($F$24=\"yes\",L22*0.05/2000,L22/2000),\"\")","v":""},null,"Sand Delivery to Ground Storage",0,{"$f":"IF(Q22=0,0,LOOKUP(P22,'Emission Factors'!$A$5:$A$16,'Emission Factors'!$D$5:$D$16))","v":0},0,{"$f":"IF(Q22=0,\"\",IF($I$10>0,$I$10,\"\"))","v":""},{"$f":"IF($J$10>0,\"\",IF($D$9>0,$D$9*R22/2000,IF($D$10>0,$D$10*365*R22/2000,IF($D$11>0,$D$11*365*R22*Q22/2000,IF(T22=\"\",S22*8760/2000,T22*8760/2000)))))","v":0},0]
[null,"Batching Period (Dates):",null,null,null,null,null,"","",null,null,null,"","",null,"Aggregate Transfer to Conveyor",0,{"$f":"IF(Q23=0,0,LOOKUP(P23,'Emission Factors'!$A$5:$A$16,'Emission Factors'!$D$5:$D$16))","v":0},0,"",0,0]
["Aggregate Delivery to Ground Storage",{"$f":"IF(OR(COUNTIF(J21:J30,\"Truck Mix Loading\")>0,(COUNTIF(J21:J30,\"Central Mix Loading\")>0)),\"Is the Central/Truck Mix Loading process controlled by a baghouse?\",\"\")","v":""},null,null,null,null,null,"","",null,null,null,"","",null,"Sand Transfer to Conveyor",0,{"$f":"IF(Q24=0,0,LOOKUP(P24,'Emission Factors'!$A$5:$A$16,'Emission Factors'!$D$5:$D$16))","v":0},0,"",0,0]
["Sand Delivery to Ground Storage",null,null,null,null,null,null,"","",null,null,null,"","",null,"Aggregate Transfer to Elevated Storage",0,{"$f":"IF(Q25=0,0,LOOKUP(P25,'Emission Factors'!$A$5:$A$16,'Emission Factors'!$D$5:$D$16))","v":0},0,"",0,0]
["Aggregate Transfer to Conveyor",{"$f":"IF(AND(B28=\"\",B29=\"\",B32=\"\",B31=\"\",B30=\"\"),\"\",\"Process (complete stack information if applicable):\")","v":""},{"$f":"IF(AND(B28=\"\",B29=\"\",B32=\"\",B31=\"\",B30=\"\"),\"\",\"Stack Height (ft):\")","v":""},{"$f":"IF(AND(B28=\"\",B29=\"\",B32=\"\",B31=\"\",B30=\"\"),\"\",\"Stack Diameter (inches):\")","v":""},{"$f":"IF(AND(B28=\"\",B29=\"\",B32=\"\",B31=\"\",B30=\"\"),\"\",\"Flow Rate (acfm):\")","v":""},{"$f":"IF(AND(B28=\"\",B29=\"\",B32=\"\",B31=\"\",B30=\"\"),\"\",\"Temp (Deg F):\")","v":""},null,"","",null,null,null,"","",null,"Sand Transfer to Elevated Storage",0,{"$f":"IF(Q26=0,0,LOOKUP(P26,'Emission Factors'!$A$5:$A$16,'Emission Factors'!$D$5:$D$16))","v":0},0,"",0,0]
["Sand Transfer to Conveyor",null,null,null,null,null,null,"","",null,null,null,"","",null,"Weigh Hopper Loading",0,{"$f":"IF(Q27=0,0,LOOKUP(P27,'Emission Factors'!$A$5:$A$16,'Emission Factors'!$D$5:$D$16))","v":0},0,"",0,0]
["Aggregate Transfer to Elevated Storage",{"$f":"IF(COUNTIF(J21:J30,\"Cement Delivery to Silo\")>0,\"EP-2 Cement Silo Stack:\",\"\")","v":""},null,null,null,null,null,"","",null,null,null,"","",null,"Central Mix Loading",0,{"$f":"IF(Q28=0,0,LOOKUP(P28,'Emission Factors'!$A$5:$A$16,'Emission Factors'!$D$5:$D$16))","v":0},0,{"$f":"IF(Q28=0,\"\",IF($I$10>0,$I$10,IF(COUNTIF($F$24:$F$168,\"no\")>0,\"\",S28*(1-0.95))))","v":""},{"$f":"IF($J$10>0,\"\",IF($D$9>0,$D$9*R28*((100-$W$30)/100)/2000,IF($D$10>0,$D$10*365*R28*((100-$W$30)/100)/2000,IF($D$11>0,$D$11*365*R28*((100-$W$30)/100)*Q28/2000,IF(T28=\"\",S28*8760/2000,T28*8760/2000)))))","v":0},{"$f":"(R28*N180)","v":0}]
["Sand Transfer to Elevated Storage",{"$f":"IF(COUNTIF(J21:J30,\"Cement Supplement Delivery to Silo\")>0,\"EP-3 Cement Supplement Silo Stack:\",\"\")","v":""},null,null,null,null,null,"","",null,null,null,"","",null,"Truck Mix Loading",0,{"$f":"IF(Q29=0,0,LOOKUP(P29,'Emission Factors'!$A$5:$A$16,'Emission Factors'!$D$5:$D$16))","v":0},0,{"$f":"IF(Q29=0,\"\",IF($I$10>0,$I$10,IF(COUNTIF($F$24:$F$168,\"no\")>0,\"\",S29*(1-0.95))))","v":""},{"$f":"IF($J$10>0,\"\",IF($D$9>0,$D$9*R29*((100-$W$30)/100)/2000,IF($D$10>0,$D$10*365*R29*((100-$W$30)/100)/2000,IF($D$11>0,$D$11*365*R29*((100-$W$30)/100)*Q29/2000,IF(T29=\"\",S29*8760/2000,T29*8760/2000)))))","v":0},{"$f":"(R29*M180)","v":0}]
["Weigh Hopper Loading",{"$f":"IF(COUNTIF(J21:J30,\"Weigh Hopper Loading\")>0,\"EP-4 Weigh Hopper Loading Stack:\",\"\")","v":""},null,null,null,null,null,"","",null,null,null,"","",null,"Cement Delivery to Silo",0,{"$f":"IF(Q30=0,0,LOOKUP(P30,'Emission Factors'!$A$5:$A$16,'Emission Factors'!$D$5:$D$16))","v":0},null,{"$f":"IF(Q30=0,0,IF($I$10>0,$I$10,Q30*R30))","v":0},{"$f":"IF($J$10>0,\"\",IF($D$9>0,$D$9*R30/2000,IF($D$10>0,$D$10*365*R30/2000,IF($D$11>0,$D$11*365*R30*Q30/2000,IF($I$10>0,0,T30*8760/2000)))))","v":0},{"$f":"(R13*R30/2000)","v":0},{"$f":"IF(COUNTIF($F$24:$F$168,\"no\")>0,0,95)","v":95}]
["Central Mix Loading",{"$f":"IF(COUNTIF(J21:J30,\"Truck Mix Loading\")>0,\"EP-5 Truck Mix Loading Stack:\",\"\")","v":""},null,null,null,null,null,null,null,null,null,null,null,null,null,"Cement Supplement Delivery to Silo",0,{"$f":"IF(Q31=0,0,LOOKUP(P31,'Emission Factors'!$A$5:$A$16,'Emission Factors'!$D$5:$D$16))","v":0},null,{"$f":"IF(Q31=0,0,IF($I$10>0,$I$10,Q31*R31))","v":0},{"$f":"IF($J$10>0,\"\",IF($D$9>0,$D$9*R31/2000,IF($D$10>0,$D$10*365*R31/2000,IF($D$11>0,$D$11*365*R31*Q31/2000,IF($I$10>0,0,T31*8760/2000)))))","v":0},{"$f":"(R14*R31/2000)","v":0}]
["Truck Mix Loading",{"$f":"IF(COUNTIF(J21:J30,\"Central Mix Loading\")>0,\"EP-6 Central Mix Loading Stack:\",\"\")","v":""},null,null,null,null,null,"Stock Pile Area"]
["Cement Delivery to Silo",null,null,null,null,null,null,null,"Emission Unit #","Maximum Storage Area (acres)","Actual Storage Area (acres)","Actual Days in Existence (days)",null,null,null,"PM10"]
["Cement Supplement Delivery to Silo",null,null,null,null,null,null,null,null,null,null,null,null,null,null,"Aggregate Delivery to Ground Storage",{"$f":"Q4","v":0},{"$f":"IF(Q34=0,0,LOOKUP(P34,'Emission Factors'!$A$5:$A$16,'Emission Factors'!$H$5:$H$16))","v":0},{"$f":"Q34*R34","v":0},{"$f":"IF(Q34=0,\"\",IF($I$11>0,$I$11,\"\"))","v":""},{"$f":"IF($J$11>0,$J$11,IF($D$9>0,$D$9*R34/2000,IF($D$10>0,$D$10*365*R34/2000,IF($D$11>0,$D$11*365*R34*Q34/2000,IF(T34=\"\",S34*8760/2000,T34*8760/2000)))))","v":0},{"$f":"(R4*R34/2000)","v":0}]
[null,null,null,null,null,null,null,null,null,null,null,null,null,null,null,"Sand Delivery to Ground Storage",0,{"$f":"IF(Q35=0,0,LOOKUP(P35,'Emission Factors'!$A$5:$A$16,'Emission Factors'!$H$5:$H$16))","v":0},{"$f":"Q35*R35","v":0},{"$f":"IF(Q35=0,\"\",IF($I$11>0,$I$11,\"\"))","v":""},{"$f":"IF($J$11>0,\"\",IF($D$9>0,$D$9*R35/2000,IF($D$10>0,$D$10*365*R35/2000,IF($D$11>0,$D$11*365*R35*Q35/2000,IF(T35=\"\",S35*8760/2000,T35*8760/2000)))))","v":0},0]
[null,{"$f":"IF('Concrete Plant (CP-10)'!$D$4>1,\"Batch Plant\",\"\")","v":""},{"$f":"IF('Concrete Plant (CP-10)'!$D$4>1,\"Site 2\",\"\")","v":""},null,null,null,null,{"$f":"IF('Concrete Plant (CP-10)'!$D$4>1,\"Emission Point #\",\"\")","v":""},{"$f":"IF('Concrete Plant (CP-10)'!$D$4>1,\"Emission     Unit #\",\"\")","v":""},{"$f":"IF('Concrete Plant (CP-10)'!$D$4>1,\"Processes\",\"\")","v":""},{"$f":"IF('Concrete Plant (CP-10)'!$D$4>1,\"Combined Maximum Hourly Design Rate for all Like Processes (cubic yard/hr)\",\"\")","v":""},{"$f":"IF('Concrete Plant (CP-10)'!$D$4>1,('Facility Information'!G5&\" Annual Throughput (cubic yards)\"),\"\")","v":""},null,null,null,"Aggregate Transfer to Conveyor",0,{"$f":"IF(Q36=0,0,LOOKUP(P36,'Emission Factors'!$A$5:$A$16,'Emission Factors'!$H$5:$H$16))","v":0},0,"",0,0]
[null,{"$f":"IF('Concrete Plant (CP-10)'!$D$4>1,\"Site Name:\",\"\")","v":""},null,null,null,null,null,{"$f":"IF(J37=\"cement delivery to silo\",\"CP-1 EP-2\",IF(J37=\"cement supplement delivery to silo\",\"CP-1 EP-3\",IF(J37=\"weigh hopper loading\",\"CP-1 EP-4\",IF(J37=\"truck mix loading\",\"CP-1 EP-5\",IF(J37=\"central mix loading\",\"CP-1 EP-6\",IF(J37=\"\",\"\",\"CP-1 EP-1\"))))))","v":""},{"$f":"IF(J37=\"\",\"\",IF(J37=\"aggregate delivery to ground storage\",\"CP-10 EU-1\",IF(J37=\"sand delivery to ground storage\",\"CP-10 EU-2\",IF(J37=\"aggregate transfer to conveyor\",\"CP-10 EU-3\",IF(J37=\"sand transfer to conveyor\",\"CP-10 EU-4\",IF(J37=\"aggregate transfer to elevated storage\",\"CP-10 EU-5\",IF(J37=\"sand transfer to elevated storage\",\"CP-10 EU-6\",IF(J37=\"weigh hopper loading\",\"CP-10 EU-7\",IF(J37=\"central mix loading\",\"CP-10 EU-8\",IF(J37=\"truck mix loading\",\"CP-10 EU-9\",IF(J37=\"cement delivery to silo\",\"CP-10 EU-10\",IF(J37=\"cement supplement delivery to silo\",\"CP-10 EU-11\"))))))))))))","v":""},null,null,null,{"$f":"IF(J37=\"truck mix loading\",IF($F$40=\"yes\",L37*0.05/2000,L37/2000),\"\")","v":""},{"$f":"IF(J37=\"central mix loading\",IF($F$40=\"yes\",L37*0.05/2000,L37/2000),\"\")","v":""},null,"Sand Transfer to Conveyor",0,{"$f":"IF(Q37=0,0,LOOKUP(P37,'Emission Factors'!$A$5:$A$16,'Emission Factors'!$H$5:$H$16))","v":0},{"$f":"Q37*R37","v":0},{"$f":"IF(Q37=0,\"\",IF($I$11>0,$I$11,\"\"))","v":""},{"$f":"IF($J$11>0,\"\",IF($D$9>0,$D$9*R37/2000,IF($D$10>0,$D$10*365*R37/2000,IF($D$11>0,$D$11*365*R37*Q37/2000,IF(T37=\"\",S37*8760/2000,T37*8760/2000)))))","v":0},0]
[null,{"$f":"IF('Concrete Plant (CP-10)'!$D$4>1,\"County:\",\"\")","v":""},null,null,null,null,null,{"$f":"IF(J38=\"cement delivery to silo\",\"CP-1 EP-2\",IF(J38=\"cement supplement delivery to silo\",\"CP-1 EP-3\",IF(J38=\"weigh hopper loading\",\"CP-1 EP-4\",IF(J38=\"truck mix loading\",\"CP-1 EP-5\",IF(J38=\"central mix loading\",\"CP-1 EP-6\",IF(J38=\"\",\"\",\"CP-1 EP-1\"))))))","v":""},"",null,null,null,{"$f":"IF(J38=\"truck mix loading\",IF($F$40=\"yes\",L38*0.05/2000,L38/2000),\"\")","v":""},{"$f":"IF(J38=\"central mix loading\",IF($F$40=\"yes\",L38*0.05/2000,L38/2000),\"\")","v":""},null,"Aggregate Transfer to Elevated Storage",0,{"$f":"IF(Q38=0,0,LOOKUP(P38,'Emission Factors'!$A$5:$A$16,'Emission Factors'!$H$5:$H$16))","v":0},0,{"$f":"IF(Q38=0,\"\",IF($I$11>0,$I$11,\"\"))","v":""},{"$f":"IF($J$11>0,\"\",IF($D$9>0,$D$9*R38/2000,IF($D$10>0,$D$10*365*R38/2000,IF($D$11>0,$D$11*365*R38*Q38/2000,IF(T38=\"\",S38*8760/2000,T38*8760/2000)))))","v":0},0]
[null,{"$f":"IF('Concrete Plant (CP-10)'!$D$4>1,\"Batching Period (Dates):\",\"\")","v":""},null,null,null,null,null,"","",null,null,null,"","",null,"Sand Transfer to Elevated Storage",0,{"$f":"IF(Q39=0,0,LOOKUP(P39,'Emission Factors'!$A$5:$A$16,'Emission Factors'!$H$5:$H$16))","v":0},0,{"$f":"IF(Q39=0,\"\",IF($I$11>0,$I$11,\"\"))","v":""},{"$f":"IF($J$11>0,\"\",IF($D$9>0,$D$9*R39/2000,IF($D$10>0,$D$10*365*R39/2000,IF($D$11>0,$D$11*365*R39*Q39/2000,IF(T39=\"\",S39*8760/2000,T39*8760/2000)))))","v":0},0]
[null,{"$f":"IF(OR(COUNTIF(J37:J46,\"Truck Mix Loading\")>0,(COUNTIF(J37:J46,\"Central Mix Loading\")>0)),\"Is the Central/Truck Mix Loading process controlled by a baghouse?\",\"\")","v":""},null,null,null,null,null,"","",null,null,null,"","",null,"Weigh Hopper Loading",0,{"$f":"IF(Q40=0,0,LOOKUP(P40,'Emission Factors'!$A$5:$A$16,'Emission Factors'!$H$5:$H$16))","v":0},0,{"$f":"IF(Q40=0,\"\",IF($I$11>0,$I$11,\"\"))","v":""},{"$f":"IF($J$11>0,\"\",IF($D$9>0,$D$9*R40/2000,IF($D$10>0,$D$10*365*R40/2000,IF($D$11>0,$D$11*365*R40*Q40/2000,IF(T40=\"\",S40*8760/2000,T40*8760/2000)))))","v":0},0,{"$f":"IF(COUNTIF($F$24:$F$168,\"no\")>0,0,95)","v":95}]
[null,null,null,null,null,null,null,"","",null,null,null,"","",null,"Central Mix Loading",0,{"$f":"IF(Q41=0,0,LOOKUP(P41,'Emission Factors'!$A$5:$A$16,'Emission Factors'!$H$5:$H$16))","v":0},0,{"$f":"IF(Q41=0,\"\",IF($I$11>0,$I$11,IF(COUNTIF($F$24:$F$168,\"no\")>0,\"\",S41*(1-0.95))))","v":""},{"$f":"IF($J$11>0,\"\",IF($D$9>0,$D$9*R41*((100-$W$30)/100)/2000,IF($D$10>0,$D$10*365*R41*((100-$W$30)/100)/2000,IF($D$11>0,$D$11*365*R41*((100-$W$30)/100)*Q41/2000,IF(T41=\"\",S41*8760/2000,T41*8760/2000)))))","v":0},{"$f":"(N180*R41)","v":0}]
[null,{"$f":"IF(AND(B44=\"\",B45=\"\",B46=\"\",B47=\"\",B48=\"\"),\"\",\"Process (complete stack information if applicable):\")","v":""},{"$f":"IF(AND(B44=\"\",B45=\"\",B46=\"\",B47=\"\",B48=\"\"),\"\",\"Stack Height (ft):\")","v":""},{"$f":"IF(AND(B44=\"\",B45=\"\",B46=\"\",B47=\"\",B48=\"\"),\"\",\"Stack Diameter (inches):\")","v":""},{"$f":"IF(AND(B44=\"\",B45=\"\",B46=\"\",B47=\"\",B48=\"\"),\"\",\"Flow Rate (acfm):\")","v":""},{"$f":"IF(AND(B44=\"\",B45=\"\",B46=\"\",B47=\"\",B48=\"\"),\"\",\"Temp (Deg F):\")","v":""},null,"","",null,null,null,"","",null,"Truck Mix Loading",0,{"$f":"IF(Q42=0,0,LOOKUP(P42,'Emission Factors'!$A$5:$A$16,'Emission Factors'!$H$5:$H$16))","v":0},0,{"$f":"IF(Q42=0,\"\",IF($I$11>0,$I$11,IF(COUNTIF($F$24:$F$168,\"no\")>0,\"\",S42*(1-0.95))))","v":""},{"$f":"IF($J$11>0,\"\",IF($D$9>0,$D$9*R42*((100-$W$30)/100)/2000,IF($D$10>0,$D$10*365*R42*((100-$W$30)/100)/2000,IF($D$11>0,$D$11*365*R42*((100-$W$30)/100)*Q42/2000,IF(T42=\"\",S42*8760/2000,T42*8760/2000)))))","v":0},{"$f":"(M180*R42)","v":0}]
[null,null,null,null,null,null,null,"","",null,null,null,"","",null,"Cement Delivery to Silo",0,{"$f":"IF(Q43=0,0,LOOKUP(P43,'Emission Factors'!$A$5:$A$16,'Emission Factors'!$H$5:$H$16))","v":0},null,{"$f":"IF(Q43=0,0,IF($I$10>0,$I$10,Q43*R43))","v":0},{"$f":"IF($J$11>0,\"\",IF($D$9>0,$D$9*R43/2000,IF($D$10>0,$D$10*365*R43/2000,IF($D$11>0,$D$11*365*R43*Q43/2000,IF($I$11>0,0,T43*8760/2000)))))","v":0},{"$f":"(R13*R43/2000)","v":0}]
[null,{"$f":"IF(COUNTIF(J37:J46,\"Cement Delivery to Silo\")>0,\"EP-2 Cement Silo Stack:\",\"\")","v":""},null,null,null,null,null,"","",null,null,null,"","",null,"Cement Supplement Delivery to Silo",0,{"$f":"IF(Q44=0,0,LOOKUP(P44,'Emission Factors'!$A$5:$A$16,'Emission Factors'!$H$5:$H$16))","v":0},null,{"$f":"IF(Q44=0,0,IF($I$10>0,$I$10,Q44*R44))","v":0},{"$f":"IF($J$11>0,\"\",IF($D$9>0,$D$9*R44/2000,IF($D$10>0,$D$10*365*R44/2000,IF($D$11>0,$D$11*365*R44*Q44/2000,IF($I$11>0,0,T44*8760/2000)))))","v":0},{"$f":"(R14*R44/2000)","v":0}]
[null,{"$f":"IF(COUNTIF(J37:J46,\"Cement Supplement Delivery to Silo\")>0,\"EP-3 Cement Supplement Silo Stack:\",\"\")","v":""},null,null,null,null,null,"","",null,null,null,"",""]
[null,{"$f":"IF(COUNTIF(J37:J46,\"Weigh Hopper Loading\")>0,\"EP-4 Weigh Hopper Loading Stack:\",\"\")","v":""},null,null,null,null,null,"","",null,null,null,"",""]
[null,{"$f":"IF(COUNTIF(J37:J46,\"Truck Mix Loading\")>0,\"EP-5 Truck Mix Loading Stack:\",\"\")","v":""},null,null,null,null,null,{"$f":"IF('Concrete Plant (CP-10)'!$D$4>1,\"Stock Pile Area\",\"\")","v":""},null,null,null,null,null,null,null,"Storage Pile","Max Design Rate (acres/day)","Emission Factor   (lb/acre-day)","Potential Uncontrolled Emissions (lb/hr)","Potential Controlled Emissions (lb/hr)","Potential Annual Emissions (tons/yr)","Actual Annual Emissions (tons/yr)"]
[null,{"$f":"IF(COUNTIF(J37:J46,\"Central Mix Loading\")>0,\"EP-6 Central Mix Loading Stack:\",\"\")","v":""},null,null,null,null,null,null,{"$f":"IF('Concrete Plant (CP-10)'!$D$4>1,\"Emission Unit #\",\"\")","v":""},{"$f":"IF('Concrete Plant (CP-10)'!$D$4>1,\"Maximum Storage Area (acres)\",\"\")","v":""},{"$f":"IF('Concrete Plant (CP-10)'!$D$4>1,\"Actual Storage Area (acres)\",\"\")","v":""},{"$f":"IF('Concrete Plant (CP-10)'!$D$4>1,\"Actual Days in Existence (days)\",\"\")","v":""},null,null,null,"PM2.5/PM10",{"$f":"Q17","v":0},3.64,{"$f":"Q48*R48*(1/24)","v":0},null,{"$f":"Q48*R48*365/2000","v":0},{"$f":"R17*R48/2000","v":0}]
[]
[]
[null,{"$f":"IF('Concrete Plant (CP-10)'!$D$4>2,\"Batch Plant\",\"\")","v":""},{"$f":"IF('Concrete Plant (CP-10)'!$D$4>2,\"Site 3\",\"\")","v":""},null,null,null,null,{"$f":"IF('Concrete Plant (CP-10)'!$D$4>2,\"Emission Point #\",\"\")","v":""},{"$f":"IF('Concrete Plant (CP-10)'!$D$4>2,\"Emission     Unit #\",\"\")","v":""},{"$f":"IF('Concrete Plant (CP-10)'!$D$4>2,\"Processes\",\"\")","v":""},{"$f":"IF('Concrete Plant (CP-10)'!$D$4>2,\"Combined Maximum Hourly Design Rate for all Like Processes (cubic yard/hr)\",\"\")","v":""},{"$f":"IF('Concrete Plant (CP-10)'!$D$4>2,('Facility Information'!G5&\" Annual Throughput (cubic yards)\"),\"\")","v":""}]
[null,{"$f":"IF('Concrete Plant (CP-10)'!$D$4>2,\"Site Name:\",\"\")","v":""},null,null,null,null,null,{"$f":"IF(J52=\"cement delivery to silo\",\"CP-1 EP-2\",IF(J52=\"cement supplement delivery to silo\",\"CP-1 EP-3\",IF(J52=\"weigh hopper loading\",\"CP-1 EP-4\",IF(J52=\"truck mix loading\",\"CP-1 EP-5\",IF(J52=\"central mix loading\",\"CP-1 EP-6\",IF(J52=\"\",\"\",\"CP-1 EP-1\"))))))","v":""},{"$f":"IF(J52=\"\",\"\",IF(J52=\"aggregate delivery to ground storage\",\"CP-10 EU-1\",IF(J52=\"sand delivery to ground storage\",\"CP-10 EU-2\",IF(J52=\"aggregate transfer to conveyor\",\"CP-10 EU-3\",IF(J52=\"sand transfer to conveyor\",\"CP-10 EU-4\",IF(J52=\"aggregate transfer to elevated storage\",\"CP-10 EU-5\",IF(J52=\"sand transfer to elevated storage\",\"CP-10 EU-6\",IF(J52=\"weigh hopper loading\",\"CP-10 EU-7\",IF(J52=\"central mix loading\",\"CP-10 EU-8\",IF(J52=\"truck mix loading\",\"CP-10 EU-9\",IF(J52=\"cement delivery to silo\",\"CP-10 EU-10\",IF(J52=\"cement supplement delivery to silo\",\"CP-10 EU-11\"))))))))))))","v":""},null,null,null,{"$f":"IF(J52=\"truck mix loading\",IF($F$55=\"yes\",L52*0.05/2000,L52/2000),\"\")","v":""},{"$f":"IF(J52=\"central mix loading\",IF($F$55=\"yes\",L52*0.05/2000,L52/2000),\"\")","v":""}]
[null,{"$f":"IF('Concrete Plant (CP-10)'!$D$4>2,\"County:\",\"\")","v":""},null,null,null,null,null,{"$f":"IF(J53=\"cement delivery to silo\",\"CP-1 EP-2\",IF(J53=\"cement supplement delivery to silo\",\"CP-1 EP-3\",IF(J53=\"weigh hopper loading\",\"CP-1 EP-4\",IF(J53=\"truck mix loading\",\"CP-1 EP-5\",IF(J53=\"central mix loading\",\"CP-1 EP-6\",IF(J53=\"\",\"\",\"CP-1 EP-1\"))))))","v":""},"",null,null,null,{"$f":"IF(J53=\"truck mix loading\",IF($F$55=\"yes\",L53*0.05/2000,L53/2000),\"\")","v":""},{"$f":"IF(J53=\"central mix loading\",IF($F$55=\"yes\",L53*0.05/2000,L53/2000),\"\")","v":""}]
[null,{"$f":"IF('Concrete Plant (CP-10)'!$D$4>2,\"Batching Period (Dates):\",\"\")","v":""},null,null,null,null,null,"","",null,null,null,"",""]
[null,{"$f":"IF(OR(COUNTIF(J52:J61,\"Truck Mix Loading\")>0,(COUNTIF(J52:J61,\"Central Mix Loading\")>0)),\"Is the Central/Truck Mix Loading process controlled by a baghouse?\",\"\")","v":""},null,null,null,null,null,"","",null,null,null,"",""]
[null,null,null,null,null,null,null,"","",null,null,null,"",""]
[null,{"$f":"IF(AND(B59=\"\",B60=\"\",B61=\"\",B62=\"\",B63=\"\"),\"\",\"Process (complete stack information if applicable):\")","v":""},{"$f":"IF(AND(B59=\"\",B60=\"\",B61=\"\",B62=\"\",B63=\"\"),\"\",\"Stack Height (ft):\")","v":""},{"$f":"IF(AND(B59=\"\",B60=\"\",B61=\"\",B62=\"\",B63=\"\"),\"\",\"Stack Diameter (inches):\")","v":""},{"$f":"IF(AND(B59=\"\",B60=\"\",B61=\"\",B62=\"\",B63=\"\"),\"\",\"Flow Rate (acfm):\")","v":""},{"$f":"IF(AND(B59=\"\",B60=\"\",B61=\"\",B62=\"\",B63=\"\"),\"\",\"Temp (Deg F):\")","v":""},null,"","",null,null,null,"",""]
[null,null,null,null,null,null,null,"","",null,null,null,"",""]
[null,{"$f":"IF(COUNTIF(J52:J61,\"Cement Delivery to Silo\")>0,\"EP-2 Cement Silo Stack:\",\"\")","v":""},null,null,null,null,null,"","",null,null,null,"",""]
[null,{"$f":"IF(COUNTIF(J52:J61,\"Cement Supplement Delivery to Silo\")>0,\"EP-3 Cement Supplement Silo Stack:\",\"\")","v":""},null,null,null,null,null,"","",null,null,null,"",""]
[null,{"$f":"IF(COUNTIF(J52:J61,\"Weigh Hopper Loading\")>0,\"EP-4 Weigh Hopper Loading Stack:\",\"\")","v":""},null,null,null,null,null,"","",null,null,null,"",""]
[null,{"$f":"IF(COUNTIF(J52:J61,\"Truck Mix Loading\")>0,\"EP-5 Truck Mix Loading Stack:\",\"\")","v":""}]
[null,{"$f":"IF(COUNTIF(J52:J61,\"Central Mix Loading\")>0,\"EP-6 Central Mix Loading Stack:\",\"\")","v":""},null,null,null,null,null,{"$f":"IF('Concrete Plant (CP-10)'!$D$4>2,\"Stock Pile Area\",\"\")","v":""}]
[null,null,null,null,null,null,null,null,{"$f":"IF('Concrete Plant (CP-10)'!$D$4>2,\"Emission Unit #\",\"\")","v":""},{"$f":"IF('Concrete Plant (CP-10)'!$D$4>2,\"Maximum Storage Area (acres)\",\"\")","v":""},{"$f":"IF('Concrete Plant (CP-10)'!$D$4>2,\"Actual Storage Area (acres)\",\"\")","v":""},{"$f":"IF('Concrete Plant (CP-10)'!$D$4>2,\"Actual Days in Existence (days)\",\"\")","v":""}]
[]
[]
[null,{"$f":"IF('Concrete Plant (CP-10)'!$D$4>3,\"Batch Plant\",\"\")","v":""},{"$f":"IF('Concrete Plant (CP-10)'!$D$4>3,\"Site 4\",\"\")","v":""},null,null,null,null,{"$f":"IF('Concrete Plant (CP-10)'!$D$4>3,\"Emission Point #\",\"\")","v":""},{"$f":"IF('Concrete Plant (CP-10)'!$D$4>3,\"Emission     Unit #\",\"\")","v":""},{"$f":"IF('Concrete Plant (CP-10)'!$D$4>3,\"Processes\",\"\")","v":""},{"$f":"IF('Concrete Plant (CP-10)'!$D$4>3,\"Combined Maximum Hourly Design Rate for all Like Processes (cubic yard/hr)\",\"\")","v":""},{"$f":"IF('Concrete Plant (CP-10)'!$D$4>3,('Facility Information'!G5&\" Annual Throughput (cubic yards)\"),\"\")","v":""}]
[null,{"$f":"IF('Concrete Plant (CP-10)'!$D$4>3,\"Site Name:\",\"\")","v":""},null,null,null,null,null,{"$f":"IF(J68=\"cement delivery to silo\",\"CP-1 EP-2\",IF(J68=\"cement supplement delivery to silo\",\"CP-1 EP-3\",IF(J68=\"weigh hopper loading\",\"CP-1 EP-4\",IF(J68=\"truck mix loading\",\"CP-1 EP-5\",IF(J68=\"central mix loading\",\"CP-1 EP-6\",IF(J68=\"\",\"\",\"CP-1 EP-1\"))))))","v":""},{"$f":"IF(J68=\"\",\"\",IF(J68=\"aggregate delivery to ground storage\",\"CP-10 EU-1\",IF(J68=\"sand delivery to ground storage\",\"CP-10 EU-2\",IF(J68=\"aggregate transfer to conveyor\",\"CP-10 EU-3\",IF(J68=\"sand transfer to conveyor\",\"CP-10 EU-4\",IF(J68=\"aggregate transfer to elevated storage\",\"CP-10 EU-5\",IF(J68=\"sand transfer to elevated storage\",\"CP-10 EU-6\",IF(J68=\"weigh hopper loading\",\"CP-10 EU-7\",IF(J68=\"central mix loading\",\"CP-10 EU-8\",IF(J68=\"truck mix loading\",\"CP-10 EU-9\",IF(J68=\"cement delivery to silo\",\"CP-10 EU-10\",IF(J68=\"cement supplement delivery to silo\",\"CP-10 EU-11\"))))))))))))","v":""},null,null,null,{"$f":"IF(J68=\"truck mix loading\",IF($F$71=\"yes\",L68*0.05/2000,L68/2000),\"\")","v":""},{"$f":"IF(J68=\"central mix loading\",IF($F$71=\"yes\",L68*0.05/2000,L68/2000),\"\")","v":""}]
[null,{"$f":"IF('Concrete Plant (CP-10)'!$D$4>3,\"County:\",\"\")","v":""},null,null,null,null,null,{"$f":"IF(J69=\"cement delivery to silo\",\"CP-1 EP-2\",IF(J69=\"cement supplement delivery to silo\",\"CP-1 EP-3\",IF(J69=\"weigh hopper loading\",\"CP-1 EP-4\",IF(J69=\"truck mix loading\",\"CP-1 EP-5\",IF(J69=\"central mix loading\",\"CP-1 EP-6\",IF(J69=\"\",\"\",\"CP-1 EP-1\"))))))","v":""},"",null,null,null,{"$f":"IF(J69=\"truck mix loading\",IF($F$71=\"yes\",L69*0.05/2000,L69/2000),\"\")","v":""},{"$f":"IF(J69=\"central mix loading\",IF($F$71=\"yes\",L69*0.05/2000,L69/2000),\"\")","v":""}]
[null,{"$f":"IF('Concrete Plant (CP-10)'!$D$4>3,\"Batching Period (Dates):\",\"\")","v":""},null,null,null,null,null,"","",null,null,null,"",""]
[null,{"$f":"IF(OR(COUNTIF(J68:J77,\"Truck Mix Loading\")>0,(COUNTIF(J68:J77,\"Central Mix Loading\")>0)),\"Is the Central/Truck Mix Loading process controlled by a baghouse?\",\"\")","v":""},null,null,null,null,null,"","",null,null,null,"",""]
[null,null,null,null,null,null,null,"","",null,null,null,"",""]
[null,{"$f":"IF(AND(B75=\"\",B76=\"\",B77=\"\",B78=\"\",B79=\"\"),\"\",\"Process (complete stack information if applicable):\")","v":""},{"$f":"IF(AND(B75=\"\",B76=\"\",B77=\"\",B78=\"\",B79=\"\"),\"\",\"Stack Height (ft):\")","v":""},{"$f":"IF(AND(B75=\"\",B76=\"\",B77=\"\",B78=\"\",B79=\"\"),\"\",\"Stack Diameter (inches):\")","v":""},{"$f":"IF(AND(B75=\"\",B76=\"\",B77=\"\",B78=\"\",B79=\"\"),\"\",\"Flow Rate (acfm):\")","v":""},{"$f":"IF(AND(B75=\"\",B76=\"\",B77=\"\",B78=\"\",B79=\"\"),\"\",\"Temp (Deg F):\")","v":""},null,"","",null,null,null,"",""]
[null,null,null,null,null,null,null,"","",null,null,null,"",""]
[null,{"$f":"IF(COUNTIF(J68:J77,\"Cement Delivery to Silo\")>0,\"EP-2 Cement Silo Stack:\",\"\")","v":""},null,null,null,null,null,"","",null,null,null,"",""]
[null,{"$f":"IF(COUNTIF(J68:J77,\"Cement Supplement Delivery to Silo\")>0,\"EP-3 Cement Supplement Silo Stack:\",\"\")","v":""},null,null,null,null,null,"","",null,null,null,"",""]
[null,{"$f":"IF(COUNTIF(J68:J77,\"Weigh Hopper Loading\")>0,\"EP-4 Weigh Hopper Loading Stack:\",\"\")","v":""},null,null,null,null,null,"","",null,null,null,"",""]
[null,{"$f":"IF(COUNTIF(J68:J77,\"Truck Mix Loading\")>0,\"EP-5 Truck Mix Loading Stack:\",\"\")","v":""}]
[null,{"$f":"IF(COUNTIF(J68:J77,\"Central Mix Loading\")>0,\"EP-6 Central Mix Loading Stack:\",\"\")","v":""},null,null,null,null,null,{"$f":"IF('Concrete Plant (CP-10)'!$D$4>3,\"Stock Pile Area\",\"\")","v":""}]
[null,null,null,null,null,null,null,null,{"$f":"IF('Concrete Plant (CP-10)'!$D$4>3,\"Emission Unit #\",\"\")","v":""},{"$f":"IF('Concrete Plant (CP-10)'!$D$4>3,\"Maximum Storage Area (acres)\",\"\")","v":""},{"$f":"IF('Concrete Plant (CP-10)'!$D$4>3,\"Actual Storage Area (acres)\",\"\")","v":""},{"$f":"IF('Concrete Plant (CP-10)'!$D$4>3,\"Actual Days in Existence (days)\",\"\")","v":""}]
[]
[]
[null,{"$f":"IF('Concrete Plant (CP-10)'!$D$4>4,\"Batch Plant\",\"\")","v":""},{"$f":"IF('Concrete Plant (CP-10)'!$D$4>4,\"Site 5\",\"\")","v":""},null,null,null,null,{"$f":"IF('Concrete Plant (CP-10)'!$D$4>4,\"Emission Point #\",\"\")","v":""},{"$f":"IF('Concrete Plant (CP-10)'!$D$4>4,\"Emission     Unit #\",\"\")","v":""},{"$f":"IF('Concrete Plant (CP-10)'!$D$4>4,\"Processes\",\"\")","v":""},{"$f":"IF('Concrete Plant (CP-10)'!$D$4>4,\"Combined Maximum Hourly Design Rate for all Like Processes (cubic yard/hr)\",\"\")","v":""},{"$f":"IF('Concrete Plant (CP-10)'!$D$4>4,('Facility Information'!G5&\" Annual Throughput (cubic yards)\"),\"\")","v":""}]
[null,{"$f":"IF('Concrete Plant (CP-10)'!$D$4>4,\"Site Name:\",\"\")","v":""},null,null,null,null,null,{"$f":"IF(J84=\"cement delivery to silo\",\"CP-1 EP-2\",IF(J84=\"cement supplement delivery to silo\",\"CP-1 EP-3\",IF(J84=\"weigh hopper loading\",\"CP-1 EP-4\",IF(J84=\"truck mix loading\",\"CP-1 EP-5\",IF(J84=\"central mix loading\",\"CP-1 EP-6\",IF(J84=\"\",\"\",\"CP-1 EP-1\"))))))","v":""},{"$f":"IF(J84=\"\",\"\",IF(J84=\"aggregate delivery to ground storage\",\"CP-10 EU-1\",IF(J84=\"sand delivery to ground storage\",\"CP-10 EU-2\",IF(J84=\"aggregate transfer to conveyor\",\"CP-10 EU-3\",IF(J84=\"sand transfer to conveyor\",\"CP-10 EU-4\",IF(J84=\"aggregate transfer to elevated storage\",\"CP-10 EU-5\",IF(J84=\"sand transfer to elevated storage\",\"CP-10 EU-6\",IF(J84=\"weigh hopper loading\",\"CP-10 EU-7\",IF(J84=\"central mix loading\",\"CP-10 EU-8\",IF(J84=\"truck mix loading\",\"CP-10 EU-9\",IF(J84=\"cement delivery to silo\",\"CP-10 EU-10\",IF(J84=\"cement supplement delivery to silo\",\"CP-10 EU-11\"))))))))))))","v":""},null,null,null,{"$f":"IF(J84=\"truck mix loading\",IF($F$87=\"yes\",L84*0.05/2000,L84/2000),\"\")","v":""},{"$f":"IF(J84=\"central mix loading\",IF($F$87=\"yes\",L84*0.05/2000,L84/2000),\"\")","v":""}]
[null,{"$f":"IF('Concrete Plant (CP-10)'!$D$4>4,\"County:\",\"\")","v":""},null,null,null,null,null,{"$f":"IF(J85=\"cement delivery to silo\",\"CP-1 EP-2\",IF(J85=\"cement supplement delivery to silo\",\"CP-1 EP-3\",IF(J85=\"weigh hopper loading\",\"CP-1 EP-4\",IF(J85=\"truck mix loading\",\"CP-1 EP-5\",IF(J85=\"central mix loading\",\"CP-1 EP-6\",IF(J85=\"\",\"\",\"CP-1 EP-1\"))))))","v":""},"",null,null,null,{"$f":"IF(J85=\"truck mix loading\",IF($F$87=\"yes\",L85*0.05/2000,L85/2000),\"\")","v":""},{"$f":"IF(J85=\"central mix loading\",IF($F$87=\"yes\",L85*0.05/2000,L85/2000),\"\")","v":""}]
[null,{"$f":"IF('Concrete Plant (CP-10)'!$D$4>4,\"Batching Period (Dates):\",\"\")","v":""},null,null,null,null,null,"","",null,null,null,"",""]
[null,{"$f":"IF(OR(COUNTIF(J84:J93,\"Truck Mix Loading\")>0,(COUNTIF(J84:J93,\"Central Mix Loading\")>0)),\"Is the Central/Truck Mix Loading process controlled by a baghouse?\",\"\")","v":""},null,null,null,null,null,"","",null,null,null,"",""]
[null,null,null,null,null,null,null,"","",null,null,null,"",""]
[null,{"$f":"IF(AND(B91=\"\",B92=\"\",B93=\"\",B94=\"\",B95=\"\"),\"\",\"Process (complete stack information if applicable):\")","v":""},{"$f":"IF(AND(B91=\"\",B92=\"\",B93=\"\",B94=\"\",B95=\"\"),\"\",\"Stack Height (ft):\")","v":""},{"$f":"IF(AND(B91=\"\",B92=\"\",B93=\"\",B94=\"\",B95=\"\"),\"\",\"Stack Diameter (inches):\")","v":""},{"$f":"IF(AND(B91=\"\",B92=\"\",B93=\"\",B94=\"\",B95=\"\"),\"\",\"Flow Rate (acfm):\")","v":""},{"$f":"IF(AND(B91=\"\",B92=\"\",B93=\"\",B94=\"\",B95=\"\"),\"\",\"Temp (Deg F):\")","v":""},null,"","",null,null,null,"",""]
[null,null,null,null,null,null,null,"","",null,null,null,"",""]
[null,{"$f":"IF(COUNTIF(J84:J93,\"Cement Delivery to Silo\")>0,\"EP-2 Cement Silo Stack:\",\"\")","v":""},null,null,null,null,null,"","",null,null,null,"",""]
[null,{"$f":"IF(COUNTIF(J84:J93,\"Cement Supplement Delivery to Silo\")>0,\"EP-3 Cement Supplement Silo Stack:\",\"\")","v":""},null,null,null,null,null,"","",null,null,null,"",""]
[null,{"$f":"IF(COUNTIF(J84:J93,\"Weigh Hopper Loading\")>0,\"EP-4 Weigh Hopper Loading Stack:\",\"\")","v":""},null,null,null,null,null,"","",null,null,null,"",""]
[null,{"$f":"IF(COUNTIF(J84:J93,\"Truck Mix Loading\")>0,\"EP-5 Truck Mix Loading Stack:\",\"\")","v":""}]
[null,{"$f":"IF(COUNTIF(J84:J93,\"Central Mix Loading\")>0,\"EP-6 Central Mix Loading Stack:\",\"\")","v":""},null,null,null,null,null,{"$f":"IF('Concrete Plant (CP-10)'!$D$4>4,\"Stock Pile Area\",\"\")","v":""}]
[null,null,null,null,null,null,null,null,{"$f":"IF('Concrete Plant (CP-10)'!$D$4>4,\"Emission Unit #\",\"\")","v":""},{"$f":"IF('Concrete Plant (CP-10)'!$D$4>4,\"Maximum Storage Area (acres)\",\"\")","v":""},{"$f":"IF('Concrete Plant (CP-10)'!$D$4>4,\"Actual Storage Area (acres)\",\"\")","v":""},{"$f":"IF('Concrete Plant (CP-10)'!$D$4>4,\"Actual Days in Existence (days)\",\"\")","v":""}]
[]
[]
[null,{"$f":"IF('Concrete Plant (CP-10)'!$D$4>5,\"Batch Plant\",\"\")","v":""},{"$f":"IF('Concrete Plant (CP-10)'!$D$4>5,\"Site 6\",\"\")","v":""},null,null,null,null,{"$f":"IF('Concrete Plant (CP-10)'!$D$4>5,\"Emission Point #\",\"\")","v":""},{"$f":"IF('Concrete Plant (CP-10)'!$D$4>5,\"Emission     Unit #\",\"\")","v":""},{"$f":"IF('Concrete Plant (CP-10)'!$D$4>5,\"Processes\",\"\")","v":""},{"$f":"IF('Concrete Plant (CP-10)'!$D$4>5,\"Combined Maximum Hourly Design Rate for all Like Processes (cubic yard/hr)\",\"\")","v":""},{"$f":"IF('Concrete Plant (CP-10)'!$D$4>5,('Facility Information'!G5&\" Annual Throughput (cubic yards)\"),\"\")","v":""}]
[null,{"$f":"IF('Concrete Plant (CP-10)'!$D$4>5,\"Site Name:\",\"\")","v":""},null,null,null,null,null,{"$f":"IF(J100=\"cement delivery to silo\",\"CP-1 EP-2\",IF(J100=\"cement supplement delivery to silo\",\"CP-1 EP-3\",IF(J100=\"weigh hopper loading\",\"CP-1 EP-4\",IF(J100=\"truck mix loading\",\"CP-1 EP-5\",IF(J100=\"central mix loading\",\"CP-1 EP-6\",IF(J100=\"\",\"\",\"CP-1 EP-1\"))))))","v":""},{"$f":"IF(J100=\"\",\"\",IF(J100=\"aggregate delivery to ground storage\",\"CP-10 EU-1\",IF(J100=\"sand delivery to ground storage\",\"CP-10 EU-2\",IF(J100=\"aggregate transfer to conveyor\",\"CP-10 EU-3\",IF(J100=\"sand transfer to conveyor\",\"CP-10 EU-4\",IF(J100=\"aggregate transfer to elevated storage\",\"CP-10 EU-5\",IF(J100=\"sand transfer to elevated storage\",\"CP-10 EU-6\",IF(J100=\"weigh hopper loading\",\"CP-10 EU-7\",IF(J100=\"central mix loading\",\"CP-10 EU-8\",IF(J100=\"truck mix loading\",\"CP-10 EU-9\",IF(J100=\"cement delivery to silo\",\"CP-10 EU-10\",IF(J100=\"cement supplement delivery to silo\",\"CP-10 EU-11\"))))))))))))","v":""},null,null,null,{"$f":"IF(J100=\"truck mix loading\",IF($F$103=\"yes\",L100*0.05/2000,L100/2000),\"\")","v":""},{"$f":"IF(J100=\"central mix loading\",IF($F$103=\"yes\",L100*0.05/2000,L100/2000),\"\")","v":""}]
[null,{"$f":"IF('Concrete Plant (CP-10)'!$D$4>5,\"County:\",\"\")","v":""},null,null,null,null,null,{"$f":"IF(J101=\"cement delivery to silo\",\"CP-1 EP-2\",IF(J101=\"cement supplement delivery to silo\",\"CP-1 EP-3\",IF(J101=\"weigh hopper loading\",\"CP-1 EP-4\",IF(J101=\"truck mix loading\",\"CP-1 EP-5\",IF(J101=\"central mix loading\",\"CP-1 EP-6\",IF(J101=\"\",\"\",\"CP-1 EP-1\"))))))","v":""},"",null,null,null,{"$f":"IF(J101=\"truck mix loading\",IF($F$103=\"yes\",L101*0.05/2000,L101/2000),\"\")","v":""},{"$f":"IF(J101=\"central mix loading\",IF($F$103=\"yes\",L101*0.05/2000,L101/2000),\"\")","v":""}]
[null,{"$f":"IF('Concrete Plant (CP-10)'!$D$4>5,\"Batching Period (Dates):\",\"\")","v":""},null,null,null,null,null,"","",null,null,null,"",""]
[null,{"$f":"IF(OR(COUNTIF(J100:J109,\"Truck Mix Loading\")>0,(COUNTIF(J100:J109,\"Central Mix Loading\")>0)),\"Is the Central/Truck Mix Loading process controlled by a baghouse?\",\"\")","v":""},null,null,null,null,null,"","",null,null,null,"",""]
[null,null,null,null,null,null,null,"","",null,null,null,"",""]
[null,{"$f":"IF(AND(B107=\"\",B108=\"\",B109=\"\",B110=\"\",B111=\"\"),\"\",\"Process (complete stack information if applicable):\")","v":""},{"$f":"IF(AND(B107=\"\",B108=\"\",B109=\"\",B110=\"\",B111=\"\"),\"\",\"Stack Height (ft):\")","v":""},{"$f":"IF(AND(B107=\"\",B108=\"\",B109=\"\",B110=\"\",B111=\"\"),\"\",\"Stack Diameter (inches):\")","v":""},{"$f":"IF(AND(B107=\"\",B108=\"\",B109=\"\",B110=\"\",B111=\"\"),\"\",\"Flow Rate (acfm):\")","v":""},{"$f":"IF(AND(B107=\"\",B108=\"\",B109=\"\",B110=\"\",B111=\"\"),\"\",\"Temp (Deg F):\")","v":""},null,"","",null,null,null,"",""]
[null,null,null,null,null,null,null,"","",null,null,null,"",""]
[null,{"$f":"IF(COUNTIF(J100:J109,\"Cement Delivery to Silo\")>0,\"EP-2 Cement Silo Stack:\",\"\")","v":""},null,null,null,null,null,"","",null,null,null,"",""]
[null,{"$f":"IF(COUNTIF(J100:J109,\"Cement Supplement Delivery to Silo\")>0,\"EP-3 Cement Supplement Silo Stack:\",\"\")","v":""},null,null,null,null,null,"","",null,null,null,"",""]
[null,{"$f":"IF(COUNTIF(J100:J109,\"Weigh Hopper Loading\")>0,\"EP-4 Weigh Hopper Loading Stack:\",\"\")","v":""},null,null,null,null,null,"","",null,null,null,"",""]
[null,{"$f":"IF(COUNTIF(J100:J109,\"Truck Mix Loading\")>0,\"EP-5 Truck Mix Loading Stack:\",\"\")","v":""}]
[null,{"$f":"IF(COUNTIF(J100:J109,\"Central Mix Loading\")>0,\"EP-6 Central Mix Loading Stack:\",\"\")","v":""},null,null,null,null,null,{"$f":"IF('Concrete Plant (CP-10)'!$D$4>5,\"Stock Pile Area\",\"\")","v":""}]
[null,null,null,null,null,null,null,null,{"$f":"IF('Concrete Plant (CP-10)'!$D$4>5,\"Emission Unit #\",\"\")","v":""},{"$f":"IF('Concrete Plant (CP-10)'!$D$4>5,\"Maximum Storage Area (acres)\",\"\")","v":""},{"$f":"IF('Concrete Plant (CP-10)'!$D$4>5,\"Actual Storage Area (acres)\",\"\")","v":""},{"$f":"IF('Concrete Plant (CP-10)'!$D$4>5,\"Actual Days in Existence (days)\",\"\")","v":""}]
[]
[]
[null,{"$f":"IF('Concrete Plant (CP-10)'!$D$4>6,\"Batch Plant\",\"\")","v":""},{"$f":"IF('Concrete Plant (CP-10)'!$D$4>6,\"Site 7\",\"\")","v":""},null,null,null,null,{"$f":"IF('Concrete Plant (CP-10)'!$D$4>6,\"Emission Point #\",\"\")","v":""},{"$f":"IF('Concrete Plant (CP-10)'!$D$4>6,\"Emission     Unit #\",\"\")","v":""},{"$f":"IF('Concrete Plant (CP-10)'!$D$4>6,\"Processes\",\"\")","v":""},{"$f":"IF('Concrete Plant (CP-10)'!$D$4>6,\"Combined Maximum Hourly Design Rate for all Like Processes (cubic yard/hr)\",\"\")","v":""},{"$f":"IF('Concrete Plant (CP-10)'!$D$4>6,('Facility Information'!G5&\" Annual Throughput (cubic yards)\"),\"\")","v":""}]
[null,{"$f":"IF('Concrete Plant (CP-10)'!$D$4>6,\"Site Name:\",\"\")","v":""},null,null,null,null,null,{"$f":"IF(J116=\"cement delivery to silo\",\"CP-1 EP-2\",IF(J116=\"cement supplement delivery to silo\",\"CP-1 EP-3\",IF(J116=\"weigh hopper loading\",\"CP-1 EP-4\",IF(J116=\"truck mix loading\",\"CP-1 EP-5\",IF(J116=\"central mix loading\",\"CP-1 EP-6\",IF(J116=\"\",\"\",\"CP-1 EP-1\"))))))","v":""},{"$f":"IF(J116=\"\",\"\",IF(J116=\"aggregate delivery to ground storage\",\"CP-10 EU-1\",IF(J116=\"sand delivery to ground storage\",\"CP-10 EU-2\",IF(J116=\"aggregate transfer to conveyor\",\"CP-10 EU-3\",IF(J116=\"sand transfer to conveyor\",\"CP-10 EU-4\",IF(J116=\"aggregate transfer to elevated storage\",\"CP-10 EU-5\",IF(J116=\"sand transfer to elevated storage\",\"CP-10 EU-6\",IF(J116=\"weigh hopper loading\",\"CP-10 EU-7\",IF(J116=\"central mix loading\",\"CP-10 EU-8\",IF(J116=\"truck mix loading\",\"CP-10 EU-9\",IF(J116=\"cement delivery to silo\",\"CP-10 EU-10\",IF(J116=\"cement supplement delivery to silo\",\"CP-10 EU-11\"))))))))))))","v":""},null,null,null,{"$f":"IF(J116=\"truck mix loading\",IF($F$119=\"yes\",L116*0.05/2000,L116/2000),\"\")","v":""},{"$f":"IF(J116=\"central mix loading\",IF($F$119=\"yes\",L116*0.05/2000,L116/2000),\"\")","v":""}]
[null,{"$f":"IF('Concrete Plant (CP-10)'!$D$4>6,\"County:\",\"\")","v":""},null,null,null,null,null,{"$f":"IF(J117=\"cement delivery to silo\",\"CP-1 EP-2\",IF(J117=\"cement supplement delivery to silo\",\"CP-1 EP-3\",IF(J117=\"weigh hopper loading\",\"CP-1 EP-4\",IF(J117=\"truck mix loading\",\"CP-1 EP-5\",IF(J117=\"central mix loading\",\"CP-1 EP-6\",IF(J117=\"\",\"\",\"CP-1 EP-1\"))))))","v":""},"",null,null,null,{"$f":"IF(J117=\"truck mix loading\",IF($F$119=\"yes\",L117*0.05/2000,L117/2000),\"\")","v":""},{"$f":"IF(J117=\"central mix loading\",IF($F$119=\"yes\",L117*0.05/2000,L117/2000),\"\")","v":""}]
[null,{"$f":"IF('Concrete Plant (CP-10)'!$D$4>6,\"Batching Period (Dates):\",\"\")","v":""},null,null,null,null,null,"","",null,null,null,"",""]
[null,{"$f":"IF(OR(COUNTIF(J116:J125,\"Truck Mix Loading\")>0,(COUNTIF(J116:J125,\"Central Mix Loading\")>0)),\"Is the Central/Truck Mix Loading process controlled by a baghouse?\",\"\")","v":""},null,null,null,null,null,"","",null,null,null,"",""]
[null,null,null,null,null,null,null,"","",null,null,null,"",""]
[null,{"$f":"IF(AND(B123=\"\",B124=\"\",B125=\"\",B126=\"\",B127=\"\"),\"\",\"Process (complete stack information if applicable):\")","v":""},{"$f":"IF(AND(B123=\"\",B124=\"\",B125=\"\",B126=\"\",B127=\"\"),\"\",\"Stack Height (ft):\")","v":""},{"$f":"IF(AND(B123=\"\",B124=\"\",B125=\"\",B126=\"\",B127=\"\"),\"\",\"Stack Diameter (inches):\")","v":""},{"$f":"IF(AND(B123=\"\",B124=\"\",B125=\"\",B126=\"\",B127=\"\"),\"\",\"Flow Rate (acfm):\")","v":""},{"$f":"IF(AND(B123=\"\",B124=\"\",B125=\"\",B126=\"\",B127=\"\"),\"\",\"Temp (Deg F):\")","v":""},null,"","",null,null,null,"",""]
[null,null,null,null,null,null,null,"","",null,null,null,"",""]
[null,{"$f":"IF(COUNTIF(J116:J125,\"Cement Delivery to Silo\")>0,\"EP-2 Cement Silo Stack:\",\"\")","v":""},null,null,null,null,null,"","",null,null,null,"",""]
[null,{"$f":"IF(COUNTIF(J116:J125,\"Cement Supplement Delivery to Silo\")>0,\"EP-3 Cement Supplement Silo Stack:\",\"\")","v":""},null,null,null,null,null,"","",null,null,null,"",""]
[null,{"$f":"IF(COUNTIF(J116:J125,\"Weigh Hopper Loading\")>0,\"EP-4 Weigh Hopper Loading Stack:\",\"\")","v":""},null,null,null,null,null,"","",null,null,null,"",""]
[null,{"$f":"IF(COUNTIF(J116:J125,\"Truck Mix Loading\")>0,\"EP-5 Truck Mix Loading Stack:\",\"\")","v":""}]
[null,{"$f":"IF(COUNTIF(J116:J125,\"Central Mix Loading\")>0,\"EP-6 Central Mix Loading Stack:\",\"\")","v":""},null,null,null,null,null,{"$f":"IF('Concrete Plant (CP-10)'!$D$4>6,\"Stock Pile Area\",\"\")","v":""}]
[null,null,null,null,null,null,null,null,{"$f":"IF('Concrete Plant (CP-10)'!$D$4>6,\"Emission Unit #\",\"\")","v":""},{"$f":"IF('Concrete Plant (CP-10)'!$D$4>6,\"Maximum Storage Area (acres)\",\"\")","v":""},{"$f":"IF('Concrete Plant (CP-10)'!$D$4>6,\"Actual Storage Area (acres)\",\"\")","v":""},{"$f":"IF('Concrete Plant (CP-10)'!$D$4>6,\"Actual Days in Existence (days)\",\"\")","v":""}]
[]
[]
[null,{"$f":"IF('Concrete Plant (CP-10)'!$D$4>7,\"Batch Plant\",\"\")","v":""},{"$f":"IF('Concrete Plant (CP-10)'!$D$4>7,\"Site 8\",\"\")","v":""},null,null,null,null,{"$f":"IF('Concrete Plant (CP-10)'!$D$4>7,\"Emission Point #\",\"\")","v":""},{"$f":"IF('Concrete Plant (CP-10)'!$D$4>7,\"Emission     Unit #\",\"\")","v":""},{"$f":"IF('Concrete Plant (CP-10)'!$D$4>7,\"Processes\",\"\")","v":""},{"$f":"IF('Concrete Plant (CP-10)'!$D$4>7,\"Combined Maximum Hourly Design Rate for all Like Processes (cubic yard/hr)\",\"\")","v":""},{"$f":"IF('Concrete Plant (CP-10)'!$D$4>7,('Facility Information'!G5&\" Annual Throughput (cubic yards)\"),\"\")","v":""}]
[null,{"$f":"IF('Concrete Plant (CP-10)'!$D$4>7,\"Site Name:\",\"\")","v":""},null,null,null,null,null,{"$f":"IF(J132=\"cement delivery to silo\",\"CP-1 EP-2\",IF(J132=\"cement supplement delivery to silo\",\"CP-1 EP-3\",IF(J132=\"weigh hopper loading\",\"CP-1 EP-4\",IF(J132=\"truck mix loading\",\"CP-1 EP-5\",IF(J132=\"central mix loading\",\"CP-1 EP-6\",IF(J132=\"\",\"\",\"CP-1 EP-1\"))))))","v":""},{"$f":"IF(J132=\"\",\"\",IF(J132=\"aggregate delivery to ground storage\",\"CP-10 EU-1\",IF(J132=\"sand delivery to ground storage\",\"CP-10 EU-2\",IF(J132=\"aggregate transfer to conveyor\",\"CP-10 EU-3\",IF(J132=\"sand transfer to conveyor\",\"CP-10 EU-4\",IF(J132=\"aggregate transfer to elevated storage\",\"CP-10 EU-5\",IF(J132=\"sand transfer to elevated storage\",\"CP-10 EU-6\",IF(J132=\"weigh hopper loading\",\"CP-10 EU-7\",IF(J132=\"central mix loading\",\"CP-10 EU-8\",IF(J132=\"truck mix loading\",\"CP-10 EU-9\",IF(J132=\"cement delivery to silo\",\"CP-10 EU-10\",IF(J132=\"cement supplement delivery to silo\",\"CP-10 EU-11\"))))))))))))","v":""},null,null,null,{"$f":"IF(J132=\"truck mix loading\",IF($F$135=\"yes\",L132*0.05/2000,L132/2000),\"\")","v":""},{"$f":"IF(J132=\"central mix loading\",IF($F$135=\"yes\",L132*0.05/2000,L132/2000),\"\")","v":""}]
[null,{"$f":"IF('Concrete Plant (CP-10)'!$D$4>7,\"County:\",\"\")","v":""},null,null,null,null,null,{"$f":"IF(J133=\"cement delivery to silo\",\"CP-1 EP-2\",IF(J133=\"cement supplement delivery to silo\",\"CP-1 EP-3\",IF(J133=\"weigh hopper loading\",\"CP-1 EP-4\",IF(J133=\"truck mix loading\",\"CP-1 EP-5\",IF(J133=\"central mix loading\",\"CP-1 EP-6\",IF(J133=\"\",\"\",\"CP-1 EP-1\"))))))","v":""},"",null,null,null,{"$f":"IF(J133=\"truck mix loading\",IF($F$135=\"yes\",L133*0.05/2000,L133/2000),\"\")","v":""},{"$f":"IF(J133=\"central mix loading\",IF($F$135=\"yes\",L133*0.05/2000,L133/2000),\"\")","v":""}]
[null,{"$f":"IF('Concrete Plant (CP-10)'!$D$4>7,\"Batching Period (Dates):\",\"\")","v":""},null,null,null,null,null,"","",null,null,null,"",""]
[null,{"$f":"IF(OR(COUNTIF(J132:J141,\"Truck Mix Loading\")>0,(COUNTIF(J132:J141,\"Central Mix Loading\")>0)),\"Is the Central/Truck Mix Loading process controlled by a baghouse?\",\"\")","v":""},null,null,null,null,null,"","",null,null,null,"",""]
[null,null,null,null,null,null,null,"","",null,null,null,"",""]
[null,{"$f":"IF(AND(B139=\"\",B140=\"\",B141=\"\",B142=\"\",B143=\"\"),\"\",\"Process (complete stack information if applicable):\")","v":""},{"$f":"IF(AND(B139=\"\",B140=\"\",B141=\"\",B142=\"\",B143=\"\"),\"\",\"Stack Height (ft):\")","v":""},{"$f":"IF(AND(B139=\"\",B140=\"\",B141=\"\",B142=\"\",B143=\"\"),\"\",\"Stack Diameter (inches):\")","v":""},{"$f":"IF(AND(B139=\"\",B140=\"\",B141=\"\",B142=\"\",B143=\"\"),\"\",\"Flow Rate (acfm):\")","v":""},{"$f":"IF(AND(B139=\"\",B140=\"\",B141=\"\",B142=\"\",B143=\"\"),\"\",\"Temp (Deg F):\")","v":""},null,"","",null,null,null,"",""]
[null,null,null,null,null,null,null,"","",null,null,null,"",""]
[null,{"$f":"IF(COUNTIF(J132:J141,\"Cement Delivery to Silo\")>0,\"EP-2 Cement Silo Stack:\",\"\")","v":""},null,null,null,null,null,"","",null,null,null,"",""]
[null,{"$f":"IF(COUNTIF(J132:J141,\"Cement Supplement Delivery to Silo\")>0,\"EP-3 Cement Supplement Silo Stack:\",\"\")","v":""},null,null,null,null,null,"","",null,null,null,"",""]
[null,{"$f":"IF(COUNTIF(J132:J141,\"Weigh Hopper Loading\")>0,\"EP-4 Weigh Hopper Loading Stack:\",\"\")","v":""},null,null,null,null,null,"","",null,null,null,"",""]
[null,{"$f":"IF(COUNTIF(J132:J141,\"Truck Mix Loading\")>0,\"EP-5 Truck Mix Loading Stack:\",\"\")","v":""}]
[null,{"$f":"IF(COUNTIF(J132:J141,\"Central Mix Loading\")>0,\"EP-6 Central Mix Loading Stack:\",\"\")","v":""},null,null,null,null,null,{"$f":"IF('Concrete Plant (CP-10)'!$D$4>7,\"Stock Pile Area\",\"\")","v":""}]
[null,null,null,null,null,null,null,null,{"$f":"IF('Concrete Plant (CP-10)'!$D$4>7,\"Emission Unit #\",\"\")","v":""},{"$f":"IF('Concrete Plant (CP-10)'!$D$4>7,\"Maximum Storage Area (acres)\",\"\")","v":""},{"$f":"IF('Concrete Plant (CP-10)'!$D$4>7,\"Actual Storage Area (acres)\",\"\")","v":""},{"$f":"IF('Concrete Plant (CP-10)'!$D$4>7,\"Actual Days in Existence (days)\",\"\")","v":""}]
[]
[]
[]
[null,{"$f":"IF('Concrete Plant (CP-10)'!$D$4>8,\"Batch Plant\",\"\")","v":""},{"$f":"IF('Concrete Plant (CP-10)'!$D$4>8,\"Site 9\",\"\")","v":""},null,null,null,null,{"$f":"IF('Concrete Plant (CP-10)'!$D$4>8,\"Emission Point #\",\"\")","v":""},{"$f":"IF('Concrete Plant (CP-10)'!$D$4>8,\"Emission     Unit #\",\"\")","v":""},{"$f":"IF('Concrete Plant (CP-10)'!$D$4>8,\"Processes\",\"\")","v":""},{"$f":"IF('Concrete Plant (CP-10)'!$D$4>8,\"Combined Maximum Hourly Design Rate for all Like Processes (cubic yard/hr)\",\"\")","v":""},{"$f":"IF('Concrete Plant (CP-10)'!$D$4>8,('Facility Information'!G5&\" Annual Throughput (cubic yards)\"),\"\")","v":""}]
[null,{"$f":"IF('Concrete Plant (CP-10)'!$D$4>8,\"Site Name:\",\"\")","v":""},null,null,null,null,null,{"$f":"IF(J149=\"cement delivery to silo\",\"CP-1 EP-2\",IF(J149=\"cement supplement delivery to silo\",\"CP-1 EP-3\",IF(J149=\"weigh hopper loading\",\"CP-1 EP-4\",IF(J149=\"truck mix loading\",\"CP-1 EP-5\",IF(J149=\"central mix loading\",\"CP-1 EP-6\",IF(J149=\"\",\"\",\"CP-1 EP-1\"))))))","v":""},{"$f":"IF(J149=\"\",\"\",IF(J149=\"aggregate delivery to ground storage\",\"CP-10 EU-1\",IF(J149=\"sand delivery to ground storage\",\"CP-10 EU-2\",IF(J149=\"aggregate transfer to conveyor\",\"CP-10 EU-3\",IF(J149=\"sand transfer to conveyor\",\"CP-10 EU-4\",IF(J149=\"aggregate transfer to elevated storage\",\"CP-10 EU-5\",IF(J149=\"sand transfer to elevated storage\",\"CP-10 EU-6\",IF(J149=\"weigh hopper loading\",\"CP-10 EU-7\",IF(J149=\"central mix loading\",\"CP-10 EU-8\",IF(J149=\"truck mix loading\",\"CP-10 EU-9\",IF(J149=\"cement delivery to silo\",\"CP-10 EU-10\",IF(J149=\"cement supplement delivery to silo\",\"CP-10 EU-11\"))))))))))))","v":""},null,null,null,{"$f":"IF(J149=\"truck mix loading\",IF($F$152=\"yes\",L149*0.05/2000,L149/2000),\"\")","v":""},{"$f":"IF(J149=\"central mix loading\",IF($F$152=\"yes\",L149*0.05/2000,L149/2000),\"\")","v":""}]
[null,{"$f":"IF('Concrete Plant (CP-10)'!$D$4>8,\"County:\",\"\")","v":""},null,null,null,null,null,{"$f":"IF(J150=\"cement delivery to silo\",\"CP-1 EP-2\",IF(J150=\"cement supplement delivery to silo\",\"CP-1 EP-3\",IF(J150=\"weigh hopper loading\",\"CP-1 EP-4\",IF(J150=\"truck mix loading\",\"CP-1 EP-5\",IF(J150=\"central mix loading\",\"CP-1 EP-6\",IF(J150=\"\",\"\",\"CP-1 EP-1\"))))))","v":""},"",null,null,null,{"$f":"IF(J150=\"truck mix loading\",IF($F$152=\"yes\",L150*0.05/2000,L150/2000),\"\")","v":""},{"$f":"IF(J150=\"central mix loading\",IF($F$152=\"yes\",L150*0.05/2000,L150/2000),\"\")","v":""}]
[null,{"$f":"IF('Concrete Plant (CP-10)'!$D$4>8,\"Batching Period (Dates):\",\"\")","v":""},null,null,null,null,null,"","",null,null,null,"",""]
[null,{"$f":"IF(OR(COUNTIF(J149:J158,\"Truck Mix Loading\")>0,(COUNTIF(J149:J158,\"Central Mix Loading\")>0)),\"Is the Central/Truck Mix Loading process controlled by a baghouse?\",\"\")","v":""},null,null,null,null,null,"","",null,null,null,"",""]
[null,null,null,null,null,null,null,"","",null,null,null,"",""]
[null,{"$f":"IF(AND(B156=\"\",B157=\"\",B158=\"\",B159=\"\",B160=\"\"),\"\",\"Process (complete stack information if applicable):\")","v":""},{"$f":"IF(AND(B156=\"\",B157=\"\",B158=\"\",B159=\"\",B160=\"\"),\"\",\"Stack Height (ft):\")","v":""},{"$f":"IF(AND(B156=\"\",B157=\"\",B158=\"\",B159=\"\",B160=\"\"),\"\",\"Stack Diameter (inches):\")","v":""},{"$f":"IF(AND(B156=\"\",B157=\"\",B158=\"\",B159=\"\",B160=\"\"),\"\",\"Flow Rate (acfm):\")","v":""},{"$f":"IF(AND(B156=\"\",B157=\"\",B158=\"\",B159=\"\",B160=\"\"),\"\",\"Temp (Deg F):\")","v":""},null,"","",null,null,null,"",""]
[null,null,null,null,null,null,null,"","",null,null,null,"",""]
[null,{"$f":"IF(COUNTIF(J149:J158,\"Cement Delivery to Silo\")>0,\"EP-2 Cement Silo Stack:\",\"\")","v":""},null,null,null,null,null,"","",null,null,null,"",""]
[null,{"$f":"IF(COUNTIF(J149:J158,\"Cement Supplement Delivery to Silo\")>0,\"EP-3 Cement Supplement Silo Stack:\",\"\")","v":""},null,null,null,null,null,"","",null,null,null,"",""]
[null,{"$f":"IF(COUNTIF(J149:J158,\"Weigh Hopper Loading\")>0,\"EP-4 Weigh Hopper Loading Stack:\",\"\")","v":""},null,null,null,null,null,"","",null,null,null,"",""]
[null,{"$f":"IF(COUNTIF(J149:J158,\"Truck Mix Loading\")>0,\"EP-5 Truck Mix Loading Stack:\",\"\")","v":""}]
[null,{"$f":"IF(COUNTIF(J149:J158,\"Central Mix Loading\")>0,\"EP-6 Central Mix Loading Stack:\",\"\")","v":""},null,null,null,null,null,{"$f":"IF('Concrete Plant (CP-10)'!$D$4>8,\"Stock Pile Area\",\"\")","v":""}]
[null,null,null,null,null,null,null,null,{"$f":"IF('Concrete Plant (CP-10)'!$D$4>8,\"Emission Unit #\",\"\")","v":""},{"$f":"IF('Concrete Plant (CP-10)'!$D$4>8,\"Maximum Storage Area (acres)\",\"\")","v":""},{"$f":"IF('Concrete Plant (CP-10)'!$D$4>8,\"Actual Storage Area (acres)\",\"\")","v":""},{"$f":"IF('Concrete Plant (CP-10)'!$D$4>8,\"Actual Days in Existence (days)\",\"\")","v":""}]
[]
[]
[null,{"$f":"IF('Concrete Plant (CP-10)'!$D$4>9,\"Batch Plant\",\"\")","v":""},{"$f":"IF('Concrete Plant (CP-10)'!$D$4>9,\"Site 10\",\"\")","v":""},null,null,null,null,{"$f":"IF('Concrete Plant (CP-10)'!$D$4>9,\"Emission Point #\",\"\")","v":""},{"$f":"IF('Concrete Plant (CP-10)'!$D$4>9,\"Emission     Unit #\",\"\")","v":""},{"$f":"IF('Concrete Plant (CP-10)'!$D$4>9,\"Processes\",\"\")","v":""},{"$f":"IF('Concrete Plant (CP-10)'!$D$4>9,\"Combined Maximum Hourly Design Rate for all Like Processes (cubic yard/hr)\",\"\")","v":""},{"$f":"IF('Concrete Plant (CP-10)'!$D$4>9,('Facility Information'!G5&\" Annual Throughput (cubic yards)\"),\"\")","v":""}]
[null,{"$f":"IF('Concrete Plant (CP-10)'!$D$4>9,\"Site Name:\",\"\")","v":""},null,null,null,null,null,{"$f":"IF(J165=\"cement delivery to silo\",\"CP-1 EP-2\",IF(J165=\"cement supplement delivery to silo\",\"CP-1 EP-3\",IF(J165=\"weigh hopper loading\",\"CP-1 EP-4\",IF(J165=\"truck mix loading\",\"CP-1 EP-5\",IF(J165=\"central mix loading\",\"CP-1 EP-6\",IF(J165=\"\",\"\",\"CP-1 EP-1\"))))))","v":""},{"$f":"IF(J165=\"\",\"\",IF(J165=\"aggregate delivery to ground storage\",\"CP-10 EU-1\",IF(J165=\"sand delivery to ground storage\",\"CP-10 EU-2\",IF(J165=\"aggregate transfer to conveyor\",\"CP-10 EU-3\",IF(J165=\"sand transfer to conveyor\",\"CP-10 EU-4\",IF(J165=\"aggregate transfer to elevated storage\",\"CP-10 EU-5\",IF(J165=\"sand transfer to elevated storage\",\"CP-10 EU-6\",IF(J165=\"weigh hopper loading\",\"CP-10 EU-7\",IF(J165=\"central mix loading\",\"CP-10 EU-8\",IF(J165=\"truck mix loading\",\"CP-10 EU-9\",IF(J165=\"cement delivery to silo\",\"CP-10 EU-10\",IF(J165=\"cement supplement delivery to silo\",\"CP-10 EU-11\"))))))))))))","v":""},null,null,null,{"$f":"IF(J165=\"truck mix loading\",IF($F$168=\"yes\",L165*0.05/2000,L165/2000),\"\")","v":""},{"$f":"IF(J165=\"central mix loading\",IF($F$168=\"yes\",L165*0.05/2000,L165/2000),\"\")","v":""}]
[null,{"$f":"IF('Concrete Plant (CP-10)'!$D$4>9,\"County:\",\"\")","v":""},null,null,null,null,null,{"$f":"IF(J166=\"cement delivery to silo\",\"CP-1 EP-2\",IF(J166=\"cement supplement delivery to silo\",\"CP-1 EP-3\",IF(J166=\"weigh hopper loading\",\"CP-1 EP-4\",IF(J166=\"truck mix loading\",\"CP-1 EP-5\",IF(J166=\"central mix loading\",\"CP-1 EP-6\",IF(J166=\"\",\"\",\"CP-1 EP-1\"))))))","v":""},"",null,null,null,{"$f":"IF(J166=\"truck mix loading\",IF($F$168=\"yes\",L166*0.05/2000,L166/2000),\"\")","v":""},{"$f":"IF(J166=\"central mix loading\",IF($F$168=\"yes\",L166*0.05/2000,L166/2000),\"\")","v":""}]
[null,{"$f":"IF('Concrete Plant (CP-10)'!$D$4>9,\"Batching Period (Dates):\",\"\")","v":""},null,null,null,null,null,"","",null,null,null,"",""]
[null,{"$f":"IF(OR(COUNTIF(J165:J174,\"Truck Mix Loading\")>0,(COUNTIF(J165:J174,\"Central Mix Loading\")>0)),\"Is the Central/Truck Mix Loading process controlled by a baghouse?\",\"\")","v":""},null,null,null,null,null,"","",null,null,null,"",""]
[null,null,null,null,null,null,null,"","",null,null,null,"",""]
[null,{"$f":"IF(AND(B172=\"\",B173=\"\",B174=\"\",B175=\"\",B176=\"\"),\"\",\"Process (complete stack information if applicable):\")","v":""},{"$f":"IF(AND(B172=\"\",B173=\"\",B174=\"\",B175=\"\",B176=\"\"),\"\",\"Stack Height (ft):\")","v":""},{"$f":"IF(AND(B172=\"\",B173=\"\",B174=\"\",B175=\"\",B176=\"\"),\"\",\"Stack Diameter (inches):\")","v":""},{"$f":"IF(AND(B172=\"\",B173=\"\",B174=\"\",B175=\"\",B176=\"\"),\"\",\"Flow Rate (acfm):\")","v":""},{"$f":"IF(AND(B172=\"\",B173=\"\",B174=\"\",B175=\"\",B176=\"\"),\"\",\"Temp (Deg F):\")","v":""},null,"","",null,null,null,"",""]
[null,null,null,null,null,null,null,"","",null,null,null,"",""]
[null,{"$f":"IF(COUNTIF(J165:J174,\"Cement Delivery to Silo\")>0,\"EP-2 Cement Silo Stack:\",\"\")","v":""},null,null,null,null,null,"","",null,null,null,"",""]
[null,{"$f":"IF(COUNTIF(J165:J174,\"Cement Supplement Delivery to Silo\")>0,\"EP-3 Cement Supplement Silo Stack:\",\"\")","v":""},null,null,null,null,null,"","",null,null,null,"",""]
[null,{"$f":"IF(COUNTIF(J165:J174,\"Weigh Hopper Loading\")>0,\"EP-4 Weigh Hopper Loading Stack:\",\"\")","v":""},null,null,null,null,null,"","",null,null,null,"",""]
[null,{"$f":"IF(COUNTIF(J165:J174,\"Truck Mix Loading\")>0,\"EP-5 Truck Mix Loading Stack:\",\"\")","v":""}]
[null,{"$f":"IF(COUNTIF(J165:J174,\"Central Mix Loading\")>0,\"EP-6 Central Mix Loading Stack:\",\"\")","v":""},null,null,null,null,null,{"$f":"IF('Concrete Plant (CP-10)'!$D$4>9,\"Stock Pile Area\",\"\")","v":""}]
[null,null,null,null,null,null,null,null,{"$f":"IF('Concrete Plant (CP-10)'!$D$4>9,\"Emission Unit #\",\"\")","v":""},{"$f":"IF('Concrete Plant (CP-10)'!$D$4>9,\"Maximum Storage Area (acres)\",\"\")","v":""},{"$f":"IF('Concrete Plant (CP-10)'!$D$4>9,\"Actual Storage Area (acres)\",\"\")","v":""},{"$f":"IF('Concrete Plant (CP-10)'!$D$4>9,\"Actual Days in Existence (days)\",\"\")","v":""}]
[]
[]
[null,null,null,null,null,null,null,null,null,null,null,null,{"$f":"SUM(M165:M174,M149:M158,M132:M141,M116:M125,M100:M109,M84:M93,M68:M77,M52:M61,M37:M46,M21:M30)","v":0},{"$f":"SUM(N165:N174,N149:N158,N132:N141,N116:N125,N100:N109,N84:N93,N68:N77,N52:N61,N37:N46,N21:N30)","v":0}]

{"sheet":"Haul Roads","index":11,"n_rows":48,"n_cols":41,"rows_kept":48,"cut":false,"hidden":false,"merged":[]}
[null,"HAUL ROADS"]
[null,"Please fill in the yellow boxes as applicable for your facility. "]
[null,null,null,null,null,null,null,null,null,null,null,null,"Convert:",null,"yd3/day","=",{"$f":"IF(N3=0,\"\",N3*4024*365/2000)","v":""},"ton/yr"]
[null,null,null,null,null,null,null,null,null,null,null,null,"Convert:",null,"yd3/yr","=",{"$f":"IF(N4=0,\"\",N4*4024/2000)","v":""},"ton/yr"]
[]
[null,"Paved or Unpaved Haul Road","Emission Point Number","Emission Unit Number","Concrete Plant Number              (i.e., CP-1)","Site Name","Avg Vehicle Wt. Empty (unloaded) (tons)","Avg Vehicle Wt. Full (loaded) (tons)","Percent of Miles Vehicles Travel While Empty (%)","Average Vehicle Weight (tons) W","Average Load Weight (tons)","Round Trip Length of Haul Road (miles)","Annual Throughput Permit Limit (tons/yr)","Maximum Annual Throughput (tons/yr)","Actual Annual Throughput (tons/yr)","Potential One-Way Trips Taken","Actual One-Way Trips Taken","Road Surface Silt Loading (g/m2) S/sL","Days/Year with at least 0.01 inches of Precipitation P","Is dust supressant used to control emissions?","PM2.5 Emission Factor (lb/vmt)","Potential Emissions (lb/hr)","Potential Controlled Emissions (lb/hr)","Potential Emissions (tons/yr)","Actual Emissions (tons/yr)","PM10 Emission Factor (lb/vmt)","Potential Emissions (lb/hr)","Potential Controlled Emissions (lb/hr)","Potential Emissions (tons/yr)","Actual Emissions (tons/yr)"]
["Paved Haul Road",null,null,null,null,null,null,null,null,{"$f":"IF(G7=\"\",\"\",(G7*(I7/100)+H7*(1-(I7/100))))","v":""},{"$f":"IF(G7=\"\",\"\",H7-G7)","v":""},null,{"$f":"IF(E7=\"\",\"\",IF(E7=\"CP-1\",IF('Concrete Plant (CP-1)'!$D$9>0,'Concrete Plant (CP-1)'!$D$9*4024/2000,IF('Concrete Plant (CP-1)'!$D$10>0,'Concrete Plant (CP-1)'!$D$10*365*4024/2000,\"\")),IF(E7=\"CP-2\",IF('Concrete Plant (CP-2)'!$D$9>0,'Concrete Plant (CP-2)'!$D$9*4024/2000,IF('Concrete Plant (CP-2)'!$C$10>0,'Concrete Plant (CP-2)'!$C$10*365*4024/2000,\"\")),IF(E7=\"CP-3\",IF('Concrete Plant (CP-3)'!$D$9>0,'Concrete Plant (CP-3)'!$D$9*4024/2000,IF('Concrete Plant (CP-3)'!$D$10>0,'Concrete Plant (CP-3)'!$D$10*365*4024/2000,\"\")),IF(E7=\"CP-4\",IF('Concrete Plant (CP-4)'!$D$9>0,'Concrete Plant (CP-4)'!$D$9*4024/2000,IF('Concrete Plant (CP-4)'!$D$10>0,'Concrete Plant (CP-4)'!$D$10*365*4024/2000,\"\")),IF(E7=\"CP-5\",IF('Concrete Plant (CP-5)'!$D$9>0,'Concrete Plant (CP-5)'!$D$9*4024/2000,IF('Concrete Plant (CP-5)'!$D$10>0,'Concrete Plant (CP-5)'!$D$10*365*4024/2000,\"\")),IF(E7=\"CP-6\",IF('Concrete Plant (CP-6)'!$D$9>0,'Concrete Plant (CP-6)'!$D$9*4024/2000,IF('Concrete Plant (CP-6)'!$D$10>0,'Concrete Plant (CP-6)'!$D$10*365*4024/2000,\"\")),IF(E7=\"CP-7\",IF('Concrete Plant (CP-7)'!$D$9>0,'Concrete Plant (CP-7)'!$D$9*4024/2000,IF('Concrete Plant (CP-7)'!$D$10>0,'Concrete Plant (CP-7)'!$D$10*365*4024/2000,\"\")),IF(E7=\"CP-8\",IF('Concrete Plant (CP-8)'!$D$9>0,'Concrete Plant (CP-8)'!$D$9*4024/2000,IF('Concrete Plant (CP-8)'!$D$10>0,'Concrete Plant (CP-8)'!$D$10*365*4024/2000,\"\")),IF(E7=\"CP-9\",IF('Concrete Plant (CP-9)'!$D$9>0,'Concrete Plant (CP-9)'!$D$9*4024/2000,IF('Concrete Plant (CP-9)'!$D$10>0,'Concrete Plant (CP-9)'!$D$10*365*4024/2000,\"\")),IF(E7=\"CP-10\",IF('Concrete Plant (CP-10)'!$D$9>0,'Concrete Plant (CP-10)'!$D$9*4024/2000,IF('Concrete Plant (CP-10)'!$D$10>0,'Concrete Plant (CP-10)'!$D$10*365*4024/2000,\"\")))))))))))))","v":""},null,null,{"$f":"IF(B7=\"\",\"\",IF(M7=\"\",N7/K7,M7/K7))","v":""},{"$f":"IF(O7=\"\",\"\",O7/K7)","v":""},{"$f":"IF(B7=\"\",\"\",IF(B7=\"Unpaved Haul Road\",4.8,12))","v":""},{"$f":"IF(B7=\"\",\"\",100)","v":""},null,{"$f":"IF(B7=\"\",\"\",IF(B7=\"unpaved haul road\",(0.15*((R7/12)^0.9)*((J7/3)^0.45)*((365-S7)/365)),((0.00054*(R7^0.91)*(J7^1.02))*(1-S7/1460))))","v":""},{"$f":"IF(B7=\"\",\"\",U7*P7*L7/8760)","v":""},{"$f":"IF(B7=\"\",\"\",IF(T7=\"yes\",V7*((100-40)/100),\"\"))","v":""},{"$f":"IF(B7=\"\",\"\",IF(W7=\"\",V7*8760/2000,W7*8760/2000))","v":""},{"$f":"IF(B7=\"\",\"\",IF(T7=\"yes\",Q7*L7*U7/2000*((100-40)/100),Q7*L7*U7/2000))","v":""},{"$f":"IF(B7=\"\",\"\",IF(B7=\"unpaved haul road\",(1.5*((R7/12)^0.9)*((J7/3)^0.45)*((365-S7)/365)),((0.0022*(R7^0.91)*(J7^1.02))*(1-S7/1460))))","v":""},{"$f":"IF(B7=\"\",\"\",Z7*P7*L7/8760)","v":""},{"$f":"IF(B7=\"\",\"\",IF(T7=\"yes\",AA7*((100-40)/100),\"\"))","v":""},{"$f":"IF(B7=\"\",\"\",IF(AB7=\"\",AA7*8760/2000,AB7*8760/2000))","v":""},{"$f":"IF(B7=\"\",\"\",IF(T7=\"yes\",Q7*L7*Z7/2000*((100-40)/100),Q7*L7*Z7/2000))","v":""},{"$f":"IF(B7=\"unpaved haul road\",\"x\",\"\")","v":""},{"$f":"IF(AND('Concrete Plant (CP-1)'!$D$10=\"\",'Concrete Plant (CP-1)'!$D$9=\"\"),SUMIFS($X$7:$X$36,$E$7:$E$36,\"CP-1\",$AE$7:$AE$36,\"x\"),MAX(IF($E$7:$E$36=\"CP-1\",IF($AE$7:$AE$36=\"x\",$X$7:$X$36))))","v":0},{"$f":"IF(AND('Concrete Plant (CP-1)'!$D$10=\"\",'Concrete Plant (CP-1)'!$D$9=\"\"),SUMIFS($X$7:$X$36,$E$7:$E$36,\"CP-1\",AE7:AE36,\"\"),MAX(IF($E$7:$E$36=\"CP-1\",IF($AE$7:$AE$36=\"\",$X$7:$X$36))))","v":0},{"$f":"IF(AND('Concrete Plant (CP-1)'!$D$10=\"\",'Concrete Plant (CP-1)'!$D$9=\"\"),SUMIFS($AC$7:$AC$36,$E$7:$E$36,\"CP-1\",$AE$7:$AE$36,\"x\"),MAX(IF($E$7:$E$36=\"CP-1\",IF($AE$7:$AE$36=\"x\",$AC$7:$AC$36))))","v":0},{"$f":"IF(AND('Concrete Plant (CP-1)'!$D$10=\"\",'Concrete Plant (CP-1)'!$D$9=\"\"),SUMIFS($AC$7:$AC$36,$E$7:$E$36,\"CP-1\",$AE$7:$AE$36,\"\"),MAX(IF($E$7:$E$36=\"CP-1\",IF($AE$7:$AE$36=\"\",$AC$7:$AC$36))))","v":0},null,null,null,"PM2.5",null,"PM10"]
["Unpaved Haul Road",null,null,null,null,null,null,null,null,{"$f":"IF(G8=\"\",\"\",(G8*(I8/100)+H8*(1-(I8/100))))","v":""},{"$f":"IF(G8=\"\",\"\",H8-G8)","v":""},null,{"$f":"IF(E8=\"\",\"\",IF(E8=\"CP-1\",IF('Concrete Plant (CP-1)'!$D$9>0,'Concrete Plant (CP-1)'!$D$9*4024/2000,IF('Concrete Plant (CP-1)'!$D$10>0,'Concrete Plant (CP-1)'!$D$10*365*4024/2000,\"\")),IF(E8=\"CP-2\",IF('Concrete Plant (CP-2)'!$D$9>0,'Concrete Plant (CP-2)'!$D$9*4024/2000,IF('Concrete Plant (CP-2)'!$C$10>0,'Concrete Plant (CP-2)'!$C$10*365*4024/2000,\"\")),IF(E8=\"CP-3\",IF('Concrete Plant (CP-3)'!$D$9>0,'Concrete Plant (CP-3)'!$D$9*4024/2000,IF('Concrete Plant (CP-3)'!$D$10>0,'Concrete Plant (CP-3)'!$D$10*365*4024/2000,\"\")),IF(E8=\"CP-4\",IF('Concrete Plant (CP-4)'!$D$9>0,'Concrete Plant (CP-4)'!$D$9*4024/2000,IF('Concrete Plant (CP-4)'!$D$10>0,'Concrete Plant (CP-4)'!$D$10*365*4024/2000,\"\")),IF(E8=\"CP-5\",IF('Concrete Plant (CP-5)'!$D$9>0,'Concrete Plant (CP-5)'!$D$9*4024/2000,IF('Concrete Plant (CP-5)'!$D$10>0,'Concrete Plant (CP-5)'!$D$10*365*4024/2000,\"\")),IF(E8=\"CP-6\",IF('Concrete Plant (CP-6)'!$D$9>0,'Concrete Plant (CP-6)'!$D$9*4024/2000,IF('Concrete Plant (CP-6)'!$D$10>0,'Concrete Plant (CP-6)'!$D$10*365*4024/2000,\"\")),IF(E8=\"CP-7\",IF('Concrete Plant (CP-7)'!$D$9>0,'Concrete Plant (CP-7)'!$D$9*4024/2000,IF('Concrete Plant (CP-7)'!$D$10>0,'Concrete Plant (CP-7)'!$D$10*365*4024/2000,\"\")),IF(E8=\"CP-8\",IF('Concrete Plant (CP-8)'!$D$9>0,'Concrete Plant (CP-8)'!$D$9*4024/2000,IF('Concrete Plant (CP-8)'!$D$10>0,'Concrete Plant (CP-8)'!$D$10*365*4024/2000,\"\")),IF(E8=\"CP-9\",IF('Concrete Plant (CP-9)'!$D$9>0,'Concrete Plant (CP-9)'!$D$9*4024/2000,IF('Concrete Plant (CP-9)'!$D$10>0,'Concrete Plant (CP-9)'!$D$10*365*4024/2000,\"\")),IF(E8=\"CP-10\",IF('Concrete Plant (CP-10)'!$D$9>0,'Concrete Plant (CP-10)'!$D$9*4024/2000,IF('Concrete Plant (CP-10)'!$D$10>0,'Concrete Plant (CP-10)'!$D$10*365*4024/2000,\"\")))))))))))))","v":""},null,null,"",{"$f":"IF(O8=\"\",\"\",O8/K8)","v":""},{"$f":"IF(B8=\"\",\"\",IF(B8=\"Unpaved Haul Road\",4.8,12))","v":""},"",null,"","","","","","","","","","",{"$f":"IF(B8=\"unpaved haul road\",\"x\",\"\")","v":""},{"$f":"IF(AND('Concrete Plant (CP-2)'!$C$10=\"\",'Concrete Plant (CP-2)'!$C$9=\"\"),SUMIFS($X$7:$X$36,$E$7:$E$36,\"CP-2\",$AE$7:$AE$36,\"x\"),MAX(IF($E$7:$E$36=\"CP-2\",IF($AE$7:$AE$36=\"x\",$X$7:$X$36))))","v":0},{"$f":"IF(AND('Concrete Plant (CP-2)'!$C$10=\"\",'Concrete Plant (CP-2)'!$C$9=\"\"),SUMIFS($X$7:$X$36,$E$7:$E$36,\"CP-2\",AE8:AE37,\"\"),MAX(IF($E$7:$E$36=\"CP-2\",IF($AE$7:$AE$36=\"\",$X$7:$X$36))))","v":0},{"$f":"IF(AND('Concrete Plant (CP-2)'!$C$10=\"\",'Concrete Plant (CP-2)'!$C$9=\"\"),SUMIFS($AC$7:$AC$36,$E$7:$E$36,\"CP-2\",$AE$7:$AE$36,\"x\"),MAX(IF($E$7:$E$36=\"CP-2\",IF($AE$7:$AE$36=\"x\",$AC$7:$AC$36))))","v":0},{"$f":"IF(AND('Concrete Plant (CP-2)'!$C$10=\"\",'Concrete Plant (CP-2)'!$C$9=\"\"),SUMIFS($AC$7:$AC$36,$E$7:$E$36,\"CP-2\",$AE$7:$AE$36,\"\"),MAX(IF($E$7:$E$36=\"CP-2\",IF($AE$7:$AE$36=\"\",$AC$7:$AC$36))))","v":0},null,null,"Potential tpy","Actual tpy","Potential tpy","Actual tpy"]
[null,null,null,null,null,null,null,null,null,"","",null,{"$f":"IF(E9=\"\",\"\",IF(E9=\"CP-1\",IF('Concrete Plant (CP-1)'!$D$9>0,'Concrete Plant (CP-1)'!$D$9*4024/2000,IF('Concrete Plant (CP-1)'!$D$10>0,'Concrete Plant (CP-1)'!$D$10*365*4024/2000,\"\")),IF(E9=\"CP-2\",IF('Concrete Plant (CP-2)'!$D$9>0,'Concrete Plant (CP-2)'!$D$9*4024/2000,IF('Concrete Plant (CP-2)'!$C$10>0,'Concrete Plant (CP-2)'!$C$10*365*4024/2000,\"\")),IF(E9=\"CP-3\",IF('Concrete Plant (CP-3)'!$D$9>0,'Concrete Plant (CP-3)'!$D$9*4024/2000,IF('Concrete Plant (CP-3)'!$D$10>0,'Concrete Plant (CP-3)'!$D$10*365*4024/2000,\"\")),IF(E9=\"CP-4\",IF('Concrete Plant (CP-4)'!$D$9>0,'Concrete Plant (CP-4)'!$D$9*4024/2000,IF('Concrete Plant (CP-4)'!$D$10>0,'Concrete Plant (CP-4)'!$D$10*365*4024/2000,\"\")),IF(E9=\"CP-5\",IF('Concrete Plant (CP-5)'!$D$9>0,'Concrete Plant (CP-5)'!$D$9*4024/2000,IF('Concrete Plant (CP-5)'!$D$10>0,'Concrete Plant (CP-5)'!$D$10*365*4024/2000,\"\")),IF(E9=\"CP-6\",IF('Concrete Plant (CP-6)'!$D$9>0,'Concrete Plant (CP-6)'!$D$9*4024/2000,IF('Concrete Plant (CP-6)'!$D$10>0,'Concrete Plant (CP-6)'!$D$10*365*4024/2000,\"\")),IF(E9=\"CP-7\",IF('Concrete Plant (CP-7)'!$D$9>0,'Concrete Plant (CP-7)'!$D$9*4024/2000,IF('Concrete Plant (CP-7)'!$D$10>0,'Concrete Plant (CP-7)'!$D$10*365*4024/2000,\"\")),IF(E9=\"CP-8\",IF('Concrete Plant (CP-8)'!$D$9>0,'Concrete Plant (CP-8)'!$D$9*4024/2000,IF('Concrete Plant (CP-8)'!$D$10>0,'Concrete Plant (CP-8)'!$D$10*365*4024/2000,\"\")),IF(E9=\"CP-9\",IF('Concrete Plant (CP-9)'!$D$9>0,'Concrete Plant (CP-9)'!$D$9*4024/2000,IF('Concrete Plant (CP-9)'!$D$10>0,'Concrete Plant (CP-9)'!$D$10*365*4024/2000,\"\")),IF(E9=\"CP-10\",IF('Concrete Plant (CP-10)'!$D$9>0,'Concrete Plant (CP-10)'!$D$9*4024/2000,IF('Concrete Plant (CP-10)'!$D$10>0,'Concrete Plant (CP-10)'!$D$10*365*4024/2000,\"\")))))))))))))","v":""},null,null,"","","","",null,"","","","","","","","","","","",{"$f":"IF(AND('Concrete Plant (CP-3)'!$D$10=\"\",'Concrete Plant (CP-3)'!$D$9=\"\"),SUMIFS($X$7:$X$36,$E$7:$E$36,\"CP-3\",$AE$7:$AE$36,\"x\"),MAX(IF($E$7:$E$36=\"CP-3\",IF($AE$7:$AE$36=\"x\",$X$7:$X$36))))","v":0},{"$f":"IF(AND('Concrete Plant (CP-3)'!$D$10=\"\",'Concrete Plant (CP-3)'!$D$9=\"\"),SUMIFS($X$7:$X$36,$E$7:$E$36,\"CP-3\",AE9:AE38,\"\"),MAX(IF($E$7:$E$36=\"CP-3\",IF($AE$7:$AE$36=\"\",$X$7:$X$36))))","v":0},{"$f":"IF(AND('Concrete Plant (CP-3)'!$D$10=\"\",'Concrete Plant (CP-3)'!$D$9=\"\"),SUMIFS($AC$7:$AC$36,$E$7:$E$36,\"CP-3\",$AE$7:$AE$36,\"x\"),MAX(IF($E$7:$E$36=\"CP-3\",IF($AE$7:$AE$36=\"x\",$AC$7:$AC$36))))","v":0},{"$f":"IF(AND('Concrete Plant (CP-3)'!$D$10=\"\",'Concrete Plant (CP-3)'!$D$9=\"\"),SUMIFS($AC$7:$AC$36,$E$7:$E$36,\"CP-3\",$AE$7:$AE$36,\"\"),MAX(IF($E$7:$E$36=\"CP-3\",IF($AE$7:$AE$36=\"\",$AC$7:$AC$36))))","v":0},null,"CP-1",{"$f":"IF(AND('Concrete Plant (CP-1)'!$D$10=\"\",'Concrete Plant (CP-1)'!$D$9=\"\"),SUMIF($E$7:$E$36,\"CP-1\",$X$7:$X$36),MAX(IF($E$7:$E$36=\"CP-1\",$X$7:$X$36)))","v":0},{"$f":"SUMIF($E$7:$E$36,\"CP-1\",$Y$7:$Y$36)","v":0},{"$f":"IF(AND('Concrete Plant (CP-1)'!$D$10=\"\",'Concrete Plant (CP-1)'!$D$9=\"\"),SUMIF($E$7:$E$36,\"CP-1\",$AC$7:$AC$36),MAX(IF($E$7:$E$36=\"CP-1\",$AC$7:$AC$36)))","v":0},{"$f":"SUMIF($E$7:$E436,\"CP-1\",$AD$7:$AD$36)","v":0}]
["yes",null,null,null,null,null,null,null,null,"","",null,{"$f":"IF(E10=\"\",\"\",IF(E10=\"CP-1\",IF('Concrete Plant (CP-1)'!$D$9>0,'Concrete Plant (CP-1)'!$D$9*4024/2000,IF('Concrete Plant (CP-1)'!$D$10>0,'Concrete Plant (CP-1)'!$D$10*365*4024/2000,\"\")),IF(E10=\"CP-2\",IF('Concrete Plant (CP-2)'!$D$9>0,'Concrete Plant (CP-2)'!$D$9*4024/2000,IF('Concrete Plant (CP-2)'!$C$10>0,'Concrete Plant (CP-2)'!$C$10*365*4024/2000,\"\")),IF(E10=\"CP-3\",IF('Concrete Plant (CP-3)'!$D$9>0,'Concrete Plant (CP-3)'!$D$9*4024/2000,IF('Concrete Plant (CP-3)'!$D$10>0,'Concrete Plant (CP-3)'!$D$10*365*4024/2000,\"\")),IF(E10=\"CP-4\",IF('Concrete Plant (CP-4)'!$D$9>0,'Concrete Plant (CP-4)'!$D$9*4024/2000,IF('Concrete Plant (CP-4)'!$D$10>0,'Concrete Plant (CP-4)'!$D$10*365*4024/2000,\"\")),IF(E10=\"CP-5\",IF('Concrete Plant (CP-5)'!$D$9>0,'Concrete Plant (CP-5)'!$D$9*4024/2000,IF('Concrete Plant (CP-5)'!$D$10>0,'Concrete Plant (CP-5)'!$D$10*365*4024/2000,\"\")),IF(E10=\"CP-6\",IF('Concrete Plant (CP-6)'!$D$9>0,'Concrete Plant (CP-6)'!$D$9*4024/2000,IF('Concrete Plant (CP-6)'!$D$10>0,'Concrete Plant (CP-6)'!$D$10*365*4024/2000,\"\")),IF(E10=\"CP-7\",IF('Concrete Plant (CP-7)'!$D$9>0,'Concrete Plant (CP-7)'!$D$9*4024/2000,IF('Concrete Plant (CP-7)'!$D$10>0,'Concrete Plant (CP-7)'!$D$10*365*4024/2000,\"\")),IF(E10=\"CP-8\",IF('Concrete Plant (CP-8)'!$D$9>0,'Concrete Plant (CP-8)'!$D$9*4024/2000,IF('Concrete Plant (CP-8)'!$D$10>0,'Concrete Plant (CP-8)'!$D$10*365*4024/2000,\"\")),IF(E10=\"CP-9\",IF('Concrete Plant (CP-9)'!$D$9>0,'Concrete Plant (CP-9)'!$D$9*4024/2000,IF('Concrete Plant (CP-9)'!$D$10>0,'Concrete Plant (CP-9)'!$D$10*365*4024/2000,\"\")),IF(E10=\"CP-10\",IF('Concrete Plant (CP-10)'!$D$9>0,'Concrete Plant (CP-10)'!$D$9*4024/2000,IF('Concrete Plant (CP-10)'!$D$10>0,'Concrete Plant (CP-10)'!$D$10*365*4024/2000,\"\")))))))))))))","v":""},null,null,"","","","",null,"","","","","","","","","","","",{"$f":"IF(AND('Concrete Plant (CP-4)'!$D$10=\"\",'Concrete Plant (CP-4)'!$D$9=\"\"),SUMIFS($X$7:$X$36,$E$7:$E$36,\"CP-4\",$AE$7:$AE$36,\"x\"),MAX(IF($E$7:$E$36=\"CP-4\",IF($AE$7:$AE$36=\"x\",$X$7:$X$36))))","v":0},{"$f":"IF(AND('Concrete Plant (CP-4)'!$D$10=\"\",'Concrete Plant (CP-4)'!$D$9=\"\"),SUMIFS($X$7:$X$36,$E$7:$E$36,\"CP-4\",AE10:AE39,\"\"),MAX(IF($E$7:$E$36=\"CP-4\",IF($AE$7:$AE$36=\"\",$X$7:$X$36))))","v":0},{"$f":"IF(AND('Concrete Plant (CP-4)'!$D$10=\"\",'Concrete Plant (CP-4)'!$D$9=\"\"),SUMIFS($AC$7:$AC$36,$E$7:$E$36,\"CP-4\",$AE$7:$AE$36,\"x\"),MAX(IF($E$7:$E$36=\"CP-4\",IF($AE$7:$AE$36=\"x\",$AC$7:$AC$36))))","v":0},{"$f":"IF(AND('Concrete Plant (CP-4)'!$D$10=\"\",'Concrete Plant (CP-4)'!$D$9=\"\"),SUMIFS($AC$7:$AC$36,$E$7:$E$36,\"CP-4\",$AE$7:$AE$36,\"\"),MAX(IF($E$7:$E$36=\"CP-4\",IF($AE$7:$AE$36=\"\",$AC$7:$AC$36))))","v":0},null,"CP-2",{"$f":"IF(AND('Concrete Plant (CP-2)'!$D$10=\"\",'Concrete Plant (CP-2)'!$D$9=\"\"),SUMIF($E$7:$E$36,\"CP-2\",$X$7:$X$36),MAX(IF($E$7:$E$36=\"CP-2\",$X$7:$X$36)))","v":0},{"$f":"SUMIF($E$7:$E$36,\"CP-2\",$Y$7:$Y$36)","v":0},{"$f":"IF(AND('Concrete Plant (CP-2)'!$D$10=\"\",'Concrete Plant (CP-2)'!$D$9=\"\"),SUMIF($E$7:$E$36,\"CP-2\",$AC$7:$AC$36),MAX(IF($E$7:$E$36=\"CP-2\",$AC$7:$AC$36)))","v":0},{"$f":"SUMIF($E$7:$E437,\"CP-2\",$AD$7:$AD$36)","v":0}]
["no",null,null,null,null,null,null,null,null,"","",null,{"$f":"IF(E11=\"\",\"\",IF(E11=\"CP-1\",IF('Concrete Plant (CP-1)'!$D$9>0,'Concrete Plant (CP-1)'!$D$9*4024/2000,IF('Concrete Plant (CP-1)'!$D$10>0,'Concrete Plant (CP-1)'!$D$10*365*4024/2000,\"\")),IF(E11=\"CP-2\",IF('Concrete Plant (CP-2)'!$D$9>0,'Concrete Plant (CP-2)'!$D$9*4024/2000,IF('Concrete Plant (CP-2)'!$C$10>0,'Concrete Plant (CP-2)'!$C$10*365*4024/2000,\"\")),IF(E11=\"CP-3\",IF('Concrete Plant (CP-3)'!$D$9>0,'Concrete Plant (CP-3)'!$D$9*4024/2000,IF('Concrete Plant (CP-3)'!$D$10>0,'Concrete Plant (CP-3)'!$D$10*365*4024/2000,\"\")),IF(E11=\"CP-4\",IF('Concrete Plant (CP-4)'!$D$9>0,'Concrete Plant (CP-4)'!$D$9*4024/2000,IF('Concrete Plant (CP-4)'!$D$10>0,'Concrete Plant (CP-4)'!$D$10*365*4024/2000,\"\")),IF(E11=\"CP-5\",IF('Concrete Plant (CP-5)'!$D$9>0,'Concrete Plant (CP-5)'!$D$9*4024/2000,IF('Concrete Plant (CP-5)'!$D$10>0,'Concrete Plant (CP-5)'!$D$10*365*4024/2000,\"\")),IF(E11=\"CP-6\",IF('Concrete Plant (CP-6)'!$D$9>0,'Concrete Plant (CP-6)'!$D$9*4024/2000,IF('Concrete Plant (CP-6)'!$D$10>0,'Concrete Plant (CP-6)'!$D$10*365*4024/2000,\"\")),IF(E11=\"CP-7\",IF('Concrete Plant (CP-7)'!$D$9>0,'Concrete Plant (CP-7)'!$D$9*4024/2000,IF('Concrete Plant (CP-7)'!$D$10>0,'Concrete Plant (CP-7)'!$D$10*365*4024/2000,\"\")),IF(E11=\"CP-8\",IF('Concrete Plant (CP-8)'!$D$9>0,'Concrete Plant (CP-8)'!$D$9*4024/2000,IF('Concrete Plant (CP-8)'!$D$10>0,'Concrete Plant (CP-8)'!$D$10*365*4024/2000,\"\")),IF(E11=\"CP-9\",IF('Concrete Plant (CP-9)'!$D$9>0,'Concrete Plant (CP-9)'!$D$9*4024/2000,IF('Concrete Plant (CP-9)'!$D$10>0,'Concrete Plant (CP-9)'!$D$10*365*4024/2000,\"\")),IF(E11=\"CP-10\",IF('Concrete Plant (CP-10)'!$D$9>0,'Concrete Plant (CP-10)'!$D$9*4024/2000,IF('Concrete Plant (CP-10)'!$D$10>0,'Concrete Plant (CP-10)'!$D$10*365*4024/2000,\"\")))))))))))))","v":""},null,null,"","","","",null,"","","","","","","","","","","",{"$f":"IF(AND('Concrete Plant (CP-5)'!$D$10=\"\",'Concrete Plant (CP-5)'!$D$9=\"\"),SUMIFS($X$7:$X$36,$E$7:$E$36,\"CP-5\",$AE$7:$AE$36,\"x\"),MAX(IF($E$7:$E$36=\"CP-5\",IF($AE$7:$AE$36=\"x\",$X$7:$X$36))))","v":0},{"$f":"IF(AND('Concrete Plant (CP-5)'!$D$10=\"\",'Concrete Plant (CP-5)'!$D$9=\"\"),SUMIFS($X$7:$X$36,$E$7:$E$36,\"CP-5\",AE11:AE40,\"\"),MAX(IF($E$7:$E$36=\"CP-5\",IF($AE$7:$AE$36=\"\",$X$7:$X$36))))","v":0},{"$f":"IF(AND('Concrete Plant (CP-5)'!$D$10=\"\",'Concrete Plant (CP-5)'!$D$9=\"\"),SUMIFS($AC$7:$AC$36,$E$7:$E$36,\"CP-5\",$AE$7:$AE$36,\"x\"),MAX(IF($E$7:$E$36=\"CP-5\",IF($AE$7:$AE$36=\"x\",$AC$7:$AC$36))))","v":0},{"$f":"IF(AND('Concrete Plant (CP-5)'!$D$10=\"\",'Concrete Plant (CP-5)'!$D$9=\"\"),SUMIFS($AC$7:$AC$36,$E$7:$E$36,\"CP-5\",$AE$7:$AE$36,\"\"),MAX(IF($E$7:$E$36=\"CP-5\",IF($AE$7:$AE$36=\"\",$AC$7:$AC$36))))","v":0},null,"CP-3",{"$f":"IF(AND('Concrete Plant (CP-3)'!$D$10=\"\",'Concrete Plant (CP-3)'!$D$9=\"\"),SUMIF($E$7:$E$36,\"CP-3\",$X$7:$X$36),MAX(IF($E$7:$E$36=\"CP-3\",$X$7:$X$36)))","v":0},{"$f":"SUMIF($E$7:$E$36,\"CP-3\",$Y$7:$Y$36)","v":0},{"$f":"IF(AND('Concrete Plant (CP-3)'!$D$10=\"\",'Concrete Plant (CP-3)'!$D$9=\"\"),SUMIF($E$7:$E$36,\"CP-3\",$AC$7:$AC$36),MAX(IF($E$7:$E$36=\"CP-3\",$AC$7:$AC$36)))","v":0},{"$f":"SUMIF($E$7:$E438,\"CP-3\",$AD$7:$AD$36)","v":0}]
[null,null,null,null,null,null,null,null,null,"","",null,{"$f":"IF(E12=\"\",\"\",IF(E12=\"CP-1\",IF('Concrete Plant (CP-1)'!$D$9>0,'Concrete Plant (CP-1)'!$D$9*4024/2000,IF('Concrete Plant (CP-1)'!$D$10>0,'Concrete Plant (CP-1)'!$D$10*365*4024/2000,\"\")),IF(E12=\"CP-2\",IF('Concrete Plant (CP-2)'!$D$9>0,'Concrete Plant (CP-2)'!$D$9*4024/2000,IF('Concrete Plant (CP-2)'!$C$10>0,'Concrete Plant (CP-2)'!$C$10*365*4024/2000,\"\")),IF(E12=\"CP-3\",IF('Concrete Plant (CP-3)'!$D$9>0,'Concrete Plant (CP-3)'!$D$9*4024/2000,IF('Concrete Plant (CP-3)'!$D$10>0,'Concrete Plant (CP-3)'!$D$10*365*4024/2000,\"\")),IF(E12=\"CP-4\",IF('Concrete Plant (CP-4)'!$D$9>0,'Concrete Plant (CP-4)'!$D$9*4024/2000,IF('Concrete Plant (CP-4)'!$D$10>0,'Concrete Plant (CP-4)'!$D$10*365*4024/2000,\"\")),IF(E12=\"CP-5\",IF('Concrete Plant (CP-5)'!$D$9>0,'Concrete Plant (CP-5)'!$D$9*4024/2000,IF('Concrete Plant (CP-5)'!$D$10>0,'Concrete Plant (CP-5)'!$D$10*365*4024/2000,\"\")),IF(E12=\"CP-6\",IF('Concrete Plant (CP-6)'!$D$9>0,'Concrete Plant (CP-6)'!$D$9*4024/2000,IF('Concrete Plant (CP-6)'!$D$10>0,'Concrete Plant (CP-6)'!$D$10*365*4024/2000,\"\")),IF(E12=\"CP-7\",IF('Concrete Plant (CP-7)'!$D$9>0,'Concrete Plant (CP-7)'!$D$9*4024/2000,IF('Concrete Plant (CP-7)'!$D$10>0,'Concrete Plant (CP-7)'!$D$10*365*4024/2000,\"\")),IF(E12=\"CP-8\",IF('Concrete Plant (CP-8)'!$D$9>0,'Concrete Plant (CP-8)'!$D$9*4024/2000,IF('Concrete Plant (CP-8)'!$D$10>0,'Concrete Plant (CP-8)'!$D$10*365*4024/2000,\"\")),IF(E12=\"CP-9\",IF('Concrete Plant (CP-9)'!$D$9>0,'Concrete Plant (CP-9)'!$D$9*4024/2000,IF('Concrete Plant (CP-9)'!$D$10>0,'Concrete Plant (CP-9)'!$D$10*365*4024/2000,\"\")),IF(E12=\"CP-10\",IF('Concrete Plant (CP-10)'!$D$9>0,'Concrete Plant (CP-10)'!$D$9*4024/2000,IF('Concrete Plant (CP-10)'!$D$10>0,'Concrete Plant (CP-10)'!$D$10*365*4024/2000,\"\")))))))))))))","v":""},null,null,"","","","",null,"","","","","","","","","","","",{"$f":"IF(AND('Concrete Plant (CP-6)'!$D$10=\"\",'Concrete Plant (CP-6)'!$D$9=\"\"),SUMIFS($X$7:$X$36,$E$7:$E$36,\"CP-6\",$AE$7:$AE$36,\"x\"),MAX(IF($E$7:$E$36=\"CP-6\",IF($AE$7:$AE$36=\"x\",$X$7:$X$36))))","v":0},{"$f":"IF(AND('Concrete Plant (CP-6)'!$D$10=\"\",'Concrete Plant (CP-6)'!$D$9=\"\"),SUMIFS($X$7:$X$36,$E$7:$E$36,\"CP-6\",AE12:AE41,\"\"),MAX(IF($E$7:$E$36=\"CP-6\",IF($AE$7:$AE$36=\"\",$X$7:$X$36))))","v":0},{"$f":"IF(AND('Concrete Plant (CP-6)'!$D$10=\"\",'Concrete Plant (CP-6)'!$D$9=\"\"),SUMIFS($AC$7:$AC$36,$E$7:$E$36,\"CP-6\",$AE$7:$AE$36,\"x\"),MAX(IF($E$7:$E$36=\"CP-6\",IF($AE$7:$AE$36=\"x\",$AC$7:$AC$36))))","v":0},{"$f":"IF(AND('Concrete Plant (CP-6)'!$D$10=\"\",'Concrete Plant (CP-6)'!$D$9=\"\"),SUMIFS($AC$7:$AC$36,$E$7:$E$36,\"CP-6\",$AE$7:$AE$36,\"\"),MAX(IF($E$7:$E$36=\"CP-6\",IF($AE$7:$AE$36=\"\",$AC$7:$AC$36))))","v":0},null,"CP-4",{"$f":"IF(AND('Concrete Plant (CP-4)'!$D$10=\"\",'Concrete Plant (CP-4)'!$D$9=\"\"),SUMIF($E$7:$E$36,\"CP-4\",$X$7:$X$36),MAX(IF($E$7:$E$36=\"CP-4\",$X$7:$X$36)))","v":0},{"$f":"SUMIF($E$7:$E$36,\"CP-4\",$Y$7:$Y$36)","v":0},{"$f":"IF(AND('Concrete Plant (CP-4)'!$D$10=\"\",'Concrete Plant (CP-4)'!$D$9=\"\"),SUMIF($E$7:$E$36,\"CP-4\",$AC$7:$AC$36),MAX(IF($E$7:$E$36=\"CP-4\",$AC$7:$AC$36)))","v":0},{"$f":"SUMIF($E$7:$E439,\"CP-4\",$AD$7:$AD$36)","v":0}]
[{"$f":"IF('Facility Information'!$C$21>0,\"CP-1\",\"\")","v":""},null,null,null,null,null,null,null,null,"","",null,{"$f":"IF(E13=\"\",\"\",IF(E13=\"CP-1\",IF('Concrete Plant (CP-1)'!$D$9>0,'Concrete Plant (CP-1)'!$D$9*4024/2000,IF('Concrete Plant (CP-1)'!$D$10>0,'Concrete Plant (CP-1)'!$D$10*365*4024/2000,\"\")),IF(E13=\"CP-2\",IF('Concrete Plant (CP-2)'!$D$9>0,'Concrete Plant (CP-2)'!$D$9*4024/2000,IF('Concrete Plant (CP-2)'!$C$10>0,'Concrete Plant (CP-2)'!$C$10*365*4024/2000,\"\")),IF(E13=\"CP-3\",IF('Concrete Plant (CP-3)'!$D$9>0,'Concrete Plant (CP-3)'!$D$9*4024/2000,IF('Concrete Plant (CP-3)'!$D$10>0,'Concrete Plant (CP-3)'!$D$10*365*4024/2000,\"\")),IF(E13=\"CP-4\",IF('Concrete Plant (CP-4)'!$D$9>0,'Concrete Plant (CP-4)'!$D$9*4024/2000,IF('Concrete Plant (CP-4)'!$D$10>0,'Concrete Plant (CP-4)'!$D$10*365*4024/2000,\"\")),IF(E13=\"CP-5\",IF('Concrete Plant (CP-5)'!$D$9>0,'Concrete Plant (CP-5)'!$D$9*4024/2000,IF('Concrete Plant (CP-5)'!$D$10>0,'Concrete Plant (CP-5)'!$D$10*365*4024/2000,\"\")),IF(E13=\"CP-6\",IF('Concrete Plant (CP-6)'!$D$9>0,'Concrete Plant (CP-6)'!$D$9*4024/2000,IF('Concrete Plant (CP-6)'!$D$10>0,'Concrete Plant (CP-6)'!$D$10*365*4024/2000,\"\")),IF(E13=\"CP-7\",IF('Concrete Plant (CP-7)'!$D$9>0,'Concrete Plant (CP-7)'!$D$9*4024/2000,IF('Concrete Plant (CP-7)'!$D$10>0,'Concrete Plant (CP-7)'!$D$10*365*4024/2000,\"\")),IF(E13=\"CP-8\",IF('Concrete Plant (CP-8)'!$D$9>0,'Concrete Plant (CP-8)'!$D$9*4024/2000,IF('Concrete Plant (CP-8)'!$D$10>0,'Concrete Plant (CP-8)'!$D$10*365*4024/2000,\"\")),IF(E13=\"CP-9\",IF('Concrete Plant (CP-9)'!$D$9>0,'Concrete Plant (CP-9)'!$D$9*4024/2000,IF('Concrete Plant (CP-9)'!$D$10>0,'Concrete Plant (CP-9)'!$D$10*365*4024/2000,\"\")),IF(E13=\"CP-10\",IF('Concrete Plant (CP-10)'!$D$9>0,'Concrete Plant (CP-10)'!$D$9*4024/2000,IF('Concrete Plant (CP-10)'!$D$10>0,'Concrete Plant (CP-10)'!$D$10*365*4024/2000,\"\")))))))))))))","v":""},null,null,"","","","",null,"","","","","","","","","","","",{"$f":"IF(AND('Concrete Plant (CP-7)'!$D$10=\"\",'Concrete Plant (CP-7)'!$D$9=\"\"),SUMIFS($X$7:$X$36,$E$7:$E$36,\"CP-7\",$AE$7:$AE$36,\"x\"),MAX(IF($E$7:$E$36=\"CP-7\",IF($AE$7:$AE$36=\"x\",$X$7:$X$36))))","v":0},{"$f":"IF(AND('Concrete Plant (CP-7)'!$D$10=\"\",'Concrete Plant (CP-7)'!$D$9=\"\"),SUMIFS($X$7:$X$36,$E$7:$E$36,\"CP-7\",AE13:AE42,\"\"),MAX(IF($E$7:$E$36=\"CP-7\",IF($AE$7:$AE$36=\"\",$X$7:$X$36))))","v":0},{"$f":"IF(AND('Concrete Plant (CP-7)'!$D$10=\"\",'Concrete Plant (CP-7)'!$D$9=\"\"),SUMIFS($AC$7:$AC$36,$E$7:$E$36,\"CP-7\",$AE$7:$AE$36,\"x\"),MAX(IF($E$7:$E$36=\"CP-7\",IF($AE$7:$AE$36=\"x\",$AC$7:$AC$36))))","v":0},{"$f":"IF(AND('Concrete Plant (CP-7)'!$D$10=\"\",'Concrete Plant (CP-7)'!$D$9=\"\"),SUMIFS($AC$7:$AC$36,$E$7:$E$36,\"CP-7\",$AE$7:$AE$36,\"\"),MAX(IF($E$7:$E$36=\"CP-7\",IF($AE$7:$AE$36=\"\",$AC$7:$AC$36))))","v":0},null,"CP-5",{"$f":"IF(AND('Concrete Plant (CP-5)'!$D$10=\"\",'Concrete Plant (CP-5)'!$D$9=\"\"),SUMIF($E$7:$E$36,\"CP-5\",$X$7:$X$36),MAX(IF($E$7:$E$36=\"CP-5\",$X$7:$X$36)))","v":0},{"$f":"SUMIF($E$7:$E$36,\"CP-5\",$Y$7:$Y$36)","v":0},{"$f":"IF(AND('Concrete Plant (CP-5)'!$D$10=\"\",'Concrete Plant (CP-5)'!$D$9=\"\"),SUMIF($E$7:$E$36,\"CP-5\",$AC$7:$AC$36),MAX(IF($E$7:$E$36=\"CP-5\",$AC$7:$AC$36)))","v":0},{"$f":"SUMIF($E$7:$E440,\"CP-5\",$AD$7:$AD$36)","v":0}]
[{"$f":"IF('Facility Information'!$C$21>1,\"CP-2\",\"\")","v":""},null,null,null,null,null,null,null,null,"","",null,{"$f":"IF(E14=\"\",\"\",IF(E14=\"CP-1\",IF('Concrete Plant (CP-1)'!$D$9>0,'Concrete Plant (CP-1)'!$D$9*4024/2000,IF('Concrete Plant (CP-1)'!$D$10>0,'Concrete Plant (CP-1)'!$D$10*365*4024/2000,\"\")),IF(E14=\"CP-2\",IF('Concrete Plant (CP-2)'!$D$9>0,'Concrete Plant (CP-2)'!$D$9*4024/2000,IF('Concrete Plant (CP-2)'!$C$10>0,'Concrete Plant (CP-2)'!$C$10*365*4024/2000,\"\")),IF(E14=\"CP-3\",IF('Concrete Plant (CP-3)'!$D$9>0,'Concrete Plant (CP-3)'!$D$9*4024/2000,IF('Concrete Plant (CP-3)'!$D$10>0,'Concrete Plant (CP-3)'!$D$10*365*4024/2000,\"\")),IF(E14=\"CP-4\",IF('Concrete Plant (CP-4)'!$D$9>0,'Concrete Plant (CP-4)'!$D$9*4024/2000,IF('Concrete Plant (CP-4)'!$D$10>0,'Concrete Plant (CP-4)'!$D$10*365*4024/2000,\"\")),IF(E14=\"CP-5\",IF('Concrete Plant (CP-5)'!$D$9>0,'Concrete Plant (CP-5)'!$D$9*4024/2000,IF('Concrete Plant (CP-5)'!$D$10>0,'Concrete Plant (CP-5)'!$D$10*365*4024/2000,\"\")),IF(E14=\"CP-6\",IF('Concrete Plant (CP-6)'!$D$9>0,'Concrete Plant (CP-6)'!$D$9*4024/2000,IF('Concrete Plant (CP-6)'!$D$10>0,'Concrete Plant (CP-6)'!$D$10*365*4024/2000,\"\")),IF(E14=\"CP-7\",IF('Concrete Plant (CP-7)'!$D$9>0,'Concrete Plant (CP-7)'!$D$9*4024/2000,IF('Concrete Plant (CP-7)'!$D$10>0,'Concrete Plant (CP-7)'!$D$10*365*4024/2000,\"\")),IF(E14=\"CP-8\",IF('Concrete Plant (CP-8)'!$D$9>0,'Concrete Plant (CP-8)'!$D$9*4024/2000,IF('Concrete Plant (CP-8)'!$D$10>0,'Concrete Plant (CP-8)'!$D$10*365*4024/2000,\"\")),IF(E14=\"CP-9\",IF('Concrete Plant (CP-9)'!$D$9>0,'Concrete Plant (CP-9)'!$D$9*4024/2000,IF('Concrete Plant (CP-9)'!$D$10>0,'Concrete Plant (CP-9)'!$D$10*365*4024/2000,\"\")),IF(E14=\"CP-10\",IF('Concrete Plant (CP-10)'!$D$9>0,'Concrete Plant (CP-10)'!$D$9*4024/2000,IF('Concrete Plant (CP-10)'!$D$10>0,'Concrete Plant (CP-10)'!$D$10*365*4024/2000,\"\")))))))))))))","v":""},null,null,"","","","",null,"","","","","","","","","","","",{"$f":"IF(AND('Concrete Plant (CP-8)'!$D$10=\"\",'Concrete Plant (CP-8)'!$D$9=\"\"),SUMIFS($X$7:$X$36,$E$7:$E$36,\"CP-8\",$AE$7:$AE$36,\"x\"),MAX(IF($E$7:$E$36=\"CP-8\",IF($AE$7:$AE$36=\"x\",$X$7:$X$36))))","v":0},{"$f":"IF(AND('Concrete Plant (CP-8)'!$D$10=\"\",'Concrete Plant (CP-8)'!$D$9=\"\"),SUMIFS($X$7:$X$36,$E$7:$E$36,\"CP-8\",AE14:AE43,\"\"),MAX(IF($E$7:$E$36=\"CP-8\",IF($AE$7:$AE$36=\"\",$X$7:$X$36))))","v":0},{"$f":"IF(AND('Concrete Plant (CP-8)'!$D$10=\"\",'Concrete Plant (CP-8)'!$D$9=\"\"),SUMIFS($AC$7:$AC$36,$E$7:$E$36,\"CP-8\",$AE$7:$AE$36,\"x\"),MAX(IF($E$7:$E$36=\"CP-8\",IF($AE$7:$AE$36=\"x\",$AC$7:$AC$36))))","v":0},{"$f":"IF(AND('Concrete Plant (CP-8)'!$D$10=\"\",'Concrete Plant (CP-8)'!$D$9=\"\"),SUMIFS($AC$7:$AC$36,$E$7:$E$36,\"CP-8\",$AE$7:$AE$36,\"\"),MAX(IF($E$7:$E$36=\"CP-8\",IF($AE$7:$AE$36=\"\",$AC$7:$AC$36))))","v":0},null,"CP-6",{"$f":"IF(AND('Concrete Plant (CP-6)'!$D$10=\"\",'Concrete Plant (CP-6)'!$D$9=\"\"),SUMIF($E$7:$E$36,\"CP-6\",$X$7:$X$36),MAX(IF($E$7:$E$36=\"CP-6\",$X$7:$X$36)))","v":0},{"$f":"SUMIF($E$7:$E$36,\"CP-6\",$Y$7:$Y$36)","v":0},{"$f":"IF(AND('Concrete Plant (CP-6)'!$D$10=\"\",'Concrete Plant (CP-6)'!$D$9=\"\"),SUMIF($E$7:$E$36,\"CP-6\",$AC$7:$AC$36),MAX(IF($E$7:$E$36=\"CP-6\",$AC$7:$AC$36)))","v":0},{"$f":"SUMIF($E$7:$E441,\"CP-6\",$AD$7:$AD$36)","v":0}]
[{"$f":"IF('Facility Information'!$C$21>2,\"CP-3\",\"\")","v":""},null,null,null,null,null,null,null,null,"","",null,{"$f":"IF(E15=\"\",\"\",IF(E15=\"CP-1\",IF('Concrete Plant (CP-1)'!$D$9>0,'Concrete Plant (CP-1)'!$D$9*4024/2000,IF('Concrete Plant (CP-1)'!$D$10>0,'Concrete Plant (CP-1)'!$D$10*365*4024/2000,\"\")),IF(E15=\"CP-2\",IF('Concrete Plant (CP-2)'!$D$9>0,'Concrete Plant (CP-2)'!$D$9*4024/2000,IF('Concrete Plant (CP-2)'!$C$10>0,'Concrete Plant (CP-2)'!$C$10*365*4024/2000,\"\")),IF(E15=\"CP-3\",IF('Concrete Plant (CP-3)'!$D$9>0,'Concrete Plant (CP-3)'!$D$9*4024/2000,IF('Concrete Plant (CP-3)'!$D$10>0,'Concrete Plant (CP-3)'!$D$10*365*4024/2000,\"\")),IF(E15=\"CP-4\",IF('Concrete Plant (CP-4)'!$D$9>0,'Concrete Plant (CP-4)'!$D$9*4024/2000,IF('Concrete Plant (CP-4)'!$D$10>0,'Concrete Plant (CP-4)'!$D$10*365*4024/2000,\"\")),IF(E15=\"CP-5\",IF('Concrete Plant (CP-5)'!$D$9>0,'Concrete Plant (CP-5)'!$D$9*4024/2000,IF('Concrete Plant (CP-5)'!$D$10>0,'Concrete Plant (CP-5)'!$D$10*365*4024/2000,\"\")),IF(E15=\"CP-6\",IF('Concrete Plant (CP-6)'!$D$9>0,'Concrete Plant (CP-6)'!$D$9*4024/2000,IF('Concrete Plant (CP-6)'!$D$10>0,'Concrete Plant (CP-6)'!$D$10*365*4024/2000,\"\")),IF(E15=\"CP-7\",IF('Concrete Plant (CP-7)'!$D$9>0,'Concrete Plant (CP-7)'!$D$9*4024/2000,IF('Concrete Plant (CP-7)'!$D$10>0,'Concrete Plant (CP-7)'!$D$10*365*4024/2000,\"\")),IF(E15=\"CP-8\",IF('Concrete Plant (CP-8)'!$D$9>0,'Concrete Plant (CP-8)'!$D$9*4024/2000,IF('Concrete Plant (CP-8)'!$D$10>0,'Concrete Plant (CP-8)'!$D$10*365*4024/2000,\"\")),IF(E15=\"CP-9\",IF('Concrete Plant (CP-9)'!$D$9>0,'Concrete Plant (CP-9)'!$D$9*4024/2000,IF('Concrete Plant (CP-9)'!$D$10>0,'Concrete Plant (CP-9)'!$D$10*365*4024/2000,\"\")),IF(E15=\"CP-10\",IF('Concrete Plant (CP-10)'!$D$9>0,'Concrete Plant (CP-10)'!$D$9*4024/2000,IF('Concrete Plant (CP-10)'!$D$10>0,'Concrete Plant (CP-10)'!$D$10*365*4024/2000,\"\")))))))))))))","v":""},null,null,"","","","",null,"","","","","","","","","","","",{"$f":"IF(AND('Concrete Plant (CP-9)'!$D$10=\"\",'Concrete Plant (CP-9)'!$D$9=\"\"),SUMIFS($X$7:$X$36,$E$7:$E$36,\"CP-9\",$AE$7:$AE$36,\"x\"),MAX(IF($E$7:$E$36=\"CP-9\",IF($AE$7:$AE$36=\"x\",$X$7:$X$36))))","v":0},{"$f":"IF(AND('Concrete Plant (CP-9)'!$D$10=\"\",'Concrete Plant (CP-9)'!$D$9=\"\"),SUMIFS($X$7:$X$36,$E$7:$E$36,\"CP-9\",AE15:AE44,\"\"),MAX(IF($E$7:$E$36=\"CP-9\",IF($AE$7:$AE$36=\"\",$X$7:$X$36))))","v":0},{"$f":"IF(AND('Concrete Plant (CP-9)'!$D$10=\"\",'Concrete Plant (CP-9)'!$D$9=\"\"),SUMIFS($AC$7:$AC$36,$E$7:$E$36,\"CP-9\",$AE$7:$AE$36,\"x\"),MAX(IF($E$7:$E$36=\"CP-9\",IF($AE$7:$AE$36=\"x\",$AC$7:$AC$36))))","v":0},{"$f":"IF(AND('Concrete Plant (CP-9)'!$D$10=\"\",'Concrete Plant (CP-9)'!$D$9=\"\"),SUMIFS($AC$7:$AC$36,$E$7:$E$36,\"CP-9\",$AE$7:$AE$36,\"\"),MAX(IF($E$7:$E$36=\"CP-9\",IF($AE$7:$AE$36=\"\",$AC$7:$AC$36))))","v":0},null,"CP-7",{"$f":"IF(AND('Concrete Plant (CP-7)'!$D$10=\"\",'Concrete Plant (CP-7)'!$D$9=\"\"),SUMIF($E$7:$E$36,\"CP-7\",$X$7:$X$36),MAX(IF($E$7:$E$36=\"CP-7\",$X$7:$X$36)))","v":0},{"$f":"SUMIF($E$7:$E$36,\"CP-7\",$Y$7:$Y$36)","v":0},{"$f":"IF(AND('Concrete Plant (CP-7)'!$D$10=\"\",'Concrete Plant (CP-7)'!$D$9=\"\"),SUMIF($E$7:$E$36,\"CP-7\",$AC$7:$AC$36),MAX(IF($E$7:$E$36=\"CP-7\",$AC$7:$AC$36)))","v":0},{"$f":"SUMIF($E$7:$E442,\"CP-7\",$AD$7:$AD$36)","v":0}]
[{"$f":"IF('Facility Information'!$C$21>3,\"CP-4\",\"\")","v":""},null,null,null,null,null,null,null,null,"","",null,{"$f":"IF(E16=\"\",\"\",IF(E16=\"CP-1\",IF('Concrete Plant (CP-1)'!$D$9>0,'Concrete Plant (CP-1)'!$D$9*4024/2000,IF('Concrete Plant (CP-1)'!$D$10>0,'Concrete Plant (CP-1)'!$D$10*365*4024/2000,\"\")),IF(E16=\"CP-2\",IF('Concrete Plant (CP-2)'!$D$9>0,'Concrete Plant (CP-2)'!$D$9*4024/2000,IF('Concrete Plant (CP-2)'!$C$10>0,'Concrete Plant (CP-2)'!$C$10*365*4024/2000,\"\")),IF(E16=\"CP-3\",IF('Concrete Plant (CP-3)'!$D$9>0,'Concrete Plant (CP-3)'!$D$9*4024/2000,IF('Concrete Plant (CP-3)'!$D$10>0,'Concrete Plant (CP-3)'!$D$10*365*4024/2000,\"\")),IF(E16=\"CP-4\",IF('Concrete Plant (CP-4)'!$D$9>0,'Concrete Plant (CP-4)'!$D$9*4024/2000,IF('Concrete Plant (CP-4)'!$D$10>0,'Concrete Plant (CP-4)'!$D$10*365*4024/2000,\"\")),IF(E16=\"CP-5\",IF('Concrete Plant (CP-5)'!$D$9>0,'Concrete Plant (CP-5)'!$D$9*4024/2000,IF('Concrete Plant (CP-5)'!$D$10>0,'Concrete Plant (CP-5)'!$D$10*365*4024/2000,\"\")),IF(E16=\"CP-6\",IF('Concrete Plant (CP-6)'!$D$9>0,'Concrete Plant (CP-6)'!$D$9*4024/2000,IF('Concrete Plant (CP-6)'!$D$10>0,'Concrete Plant (CP-6)'!$D$10*365*4024/2000,\"\")),IF(E16=\"CP-7\",IF('Concrete Plant (CP-7)'!$D$9>0,'Concrete Plant (CP-7)'!$D$9*4024/2000,IF('Concrete Plant (CP-7)'!$D$10>0,'Concrete Plant (CP-7)'!$D$10*365*4024/2000,\"\")),IF(E16=\"CP-8\",IF('Concrete Plant (CP-8)'!$D$9>0,'Concrete Plant (CP-8)'!$D$9*4024/2000,IF('Concrete Plant (CP-8)'!$D$10>0,'Concrete Plant (CP-8)'!$D$10*365*4024/2000,\"\")),IF(E16=\"CP-9\",IF('Concrete Plant (CP-9)'!$D$9>0,'Concrete Plant (CP-9)'!$D$9*4024/2000,IF('Concrete Plant (CP-9)'!$D$10>0,'Concrete Plant (CP-9)'!$D$10*365*4024/2000,\"\")),IF(E16=\"CP-10\",IF('Concrete Plant (CP-10)'!$D$9>0,'Concrete Plant (CP-10)'!$D$9*4024/2000,IF('Concrete Plant (CP-10)'!$D$10>0,'Concrete Plant (CP-10)'!$D$10*365*4024/2000,\"\")))))))))))))","v":""},null,null,"","","","",null,"","","","","","","","","","","",{"$f":"IF(AND('Concrete Plant (CP-10)'!$D$10=\"\",'Concrete Plant (CP-10)'!$D$9=\"\"),SUMIFS($X$7:$X$36,$E$7:$E$36,\"CP-10\",$AE$7:$AE$36,\"x\"),MAX(IF($E$7:$E$36=\"CP-10\",IF($AE$7:$AE$36=\"x\",$X$7:$X$36))))","v":0},{"$f":"IF(AND('Concrete Plant (CP-10)'!$D$10=\"\",'Concrete Plant (CP-10)'!$D$9=\"\"),SUMIFS($X$7:$X$36,$E$7:$E$36,\"CP-10\",AE16:AE45,\"\"),MAX(IF($E$7:$E$36=\"CP-10\",IF($AE$7:$AE$36=\"\",$X$7:$X$36))))","v":0},{"$f":"IF(AND('Concrete Plant (CP-10)'!$D$10=\"\",'Concrete Plant (CP-10)'!$D$9=\"\"),SUMIFS($AC$7:$AC$36,$E$7:$E$36,\"CP-10\",$AE$7:$AE$36,\"x\"),MAX(IF($E$7:$E$36=\"CP-10\",IF($AE$7:$AE$36=\"x\",$AC$7:$AC$36))))","v":0},{"$f":"IF(AND('Concrete Plant (CP-10)'!$D$10=\"\",'Concrete Plant (CP-10)'!$D$9=\"\"),SUMIFS($AC$7:$AC$36,$E$7:$E$36,\"CP-10\",$AE$7:$AE$36,\"\"),MAX(IF($E$7:$E$36=\"CP-10\",IF($AE$7:$AE$36=\"\",$AC$7:$AC$36))))","v":0},null,"CP-8",{"$f":"IF(AND('Concrete Plant (CP-8)'!$D$10=\"\",'Concrete Plant (CP-8)'!$D$9=\"\"),SUMIF($E$7:$E$36,\"CP-8\",$X$7:$X$36),MAX(IF($E$7:$E$36=\"CP-8\",$X$7:$X$36)))","v":0},{"$f":"SUMIF($E$7:$E$36,\"CP-8\",$Y$7:$Y$36)","v":0},{"$f":"IF(AND('Concrete Plant (CP-8)'!$D$10=\"\",'Concrete Plant (CP-8)'!$D$9=\"\"),SUMIF($E$7:$E$36,\"CP-8\",$AC$7:$AC$36),MAX(IF($E$7:$E$36=\"CP-8\",$AC$7:$AC$36)))","v":0},{"$f":"SUMIF($E$7:$E443,\"CP-8\",$AD$7:$AD$36)","v":0}]
[{"$f":"IF('Facility Information'!$C$21>4,\"CP-5\",\"\")","v":""},null,null,null,null,null,null,null,null,{"$f":"IF(G17=\"\",\"\",(G17*(I17/100)+H17*(1-(I17/100))))","v":""},{"$f":"IF(G17=\"\",\"\",H17-G17)","v":""},null,{"$f":"IF(E17=\"\",\"\",IF(E17=\"CP-1\",IF('Concrete Plant (CP-1)'!$D$9>0,'Concrete Plant (CP-1)'!$D$9*4024/2000,IF('Concrete Plant (CP-1)'!$D$10>0,'Concrete Plant (CP-1)'!$D$10*365*4024/2000,\"\")),IF(E17=\"CP-2\",IF('Concrete Plant (CP-2)'!$D$9>0,'Concrete Plant (CP-2)'!$D$9*4024/2000,IF('Concrete Plant (CP-2)'!$C$10>0,'Concrete Plant (CP-2)'!$C$10*365*4024/2000,\"\")),IF(E17=\"CP-3\",IF('Concrete Plant (CP-3)'!$D$9>0,'Concrete Plant (CP-3)'!$D$9*4024/2000,IF('Concrete Plant (CP-3)'!$D$10>0,'Concrete Plant (CP-3)'!$D$10*365*4024/2000,\"\")),IF(E17=\"CP-4\",IF('Concrete Plant (CP-4)'!$D$9>0,'Concrete Plant (CP-4)'!$D$9*4024/2000,IF('Concrete Plant (CP-4)'!$D$10>0,'Concrete Plant (CP-4)'!$D$10*365*4024/2000,\"\")),IF(E17=\"CP-5\",IF('Concrete Plant (CP-5)'!$D$9>0,'Concrete Plant (CP-5)'!$D$9*4024/2000,IF('Concrete Plant (CP-5)'!$D$10>0,'Concrete Plant (CP-5)'!$D$10*365*4024/2000,\"\")),IF(E17=\"CP-6\",IF('Concrete Plant (CP-6)'!$D$9>0,'Concrete Plant (CP-6)'!$D$9*4024/2000,IF('Concrete Plant (CP-6)'!$D$10>0,'Concrete Plant (CP-6)'!$D$10*365*4024/2000,\"\")),IF(E17=\"CP-7\",IF('Concrete Plant (CP-7)'!$D$9>0,'Concrete Plant (CP-7)'!$D$9*4024/2000,IF('Concrete Plant (CP-7)'!$D$10>0,'Concrete Plant (CP-7)'!$D$10*365*4024/2000,\"\")),IF(E17=\"CP-8\",IF('Concrete Plant (CP-8)'!$D$9>0,'Concrete Plant (CP-8)'!$D$9*4024/2000,IF('Concrete Plant (CP-8)'!$D$10>0,'Concrete Plant (CP-8)'!$D$10*365*4024/2000,\"\")),IF(E17=\"CP-9\",IF('Concrete Plant (CP-9)'!$D$9>0,'Concrete Plant (CP-9)'!$D$9*4024/2000,IF('Concrete Plant (CP-9)'!$D$10>0,'Concrete Plant (CP-9)'!$D$10*365*4024/2000,\"\")),IF(E17=\"CP-10\",IF('Concrete Plant (CP-10)'!$D$9>0,'Concrete Plant (CP-10)'!$D$9*4024/2000,IF('Concrete Plant (CP-10)'!$D$10>0,'Concrete Plant (CP-10)'!$D$10*365*4024/2000,\"\")))))))))))))","v":""},null,null,"",{"$f":"IF(O17=\"\",\"\",O17/K17)","v":""},"","",null,"","","","","","","","","","",{"$f":"IF(B17=\"unpaved haul road\",\"x\",\"\")","v":""},null,null,null,null,null,"CP-9",{"$f":"IF(AND('Concrete Plant (CP-9)'!$D$10=\"\",'Concrete Plant (CP-9)'!$D$9=\"\"),SUMIF($E$7:$E$36,\"CP-9\",$X$7:$X$36),MAX(IF($E$7:$E$36=\"CP-9\",$X$7:$X$36)))","v":0},{"$f":"SUMIF($E$7:$E$36,\"CP-9\",$Y$7:$Y$36)","v":0},{"$f":"IF(AND('Concrete Plant (CP-9)'!$D$10=\"\",'Concrete Plant (CP-9)'!$D$9=\"\"),SUMIF($E$7:$E$36,\"CP-9\",$AC$7:$AC$36),MAX(IF($E$7:$E$36=\"CP-9\",$AC$7:$AC$36)))","v":0},{"$f":"SUMIF($E$7:$E444,\"CP-9\",$AD$7:$AD$36)","v":0}]
[{"$f":"IF('Facility Information'!$C$21>5,\"CP-6\",\"\")","v":""},null,null,null,null,null,null,null,null,"","",null,{"$f":"IF(E18=\"\",\"\",IF(E18=\"CP-1\",IF('Concrete Plant (CP-1)'!$D$9>0,'Concrete Plant (CP-1)'!$D$9*4024/2000,IF('Concrete Plant (CP-1)'!$D$10>0,'Concrete Plant (CP-1)'!$D$10*365*4024/2000,\"\")),IF(E18=\"CP-2\",IF('Concrete Plant (CP-2)'!$D$9>0,'Concrete Plant (CP-2)'!$D$9*4024/2000,IF('Concrete Plant (CP-2)'!$C$10>0,'Concrete Plant (CP-2)'!$C$10*365*4024/2000,\"\")),IF(E18=\"CP-3\",IF('Concrete Plant (CP-3)'!$D$9>0,'Concrete Plant (CP-3)'!$D$9*4024/2000,IF('Concrete Plant (CP-3)'!$D$10>0,'Concrete Plant (CP-3)'!$D$10*365*4024/2000,\"\")),IF(E18=\"CP-4\",IF('Concrete Plant (CP-4)'!$D$9>0,'Concrete Plant (CP-4)'!$D$9*4024/2000,IF('Concrete Plant (CP-4)'!$D$10>0,'Concrete Plant (CP-4)'!$D$10*365*4024/2000,\"\")),IF(E18=\"CP-5\",IF('Concrete Plant (CP-5)'!$D$9>0,'Concrete Plant (CP-5)'!$D$9*4024/2000,IF('Concrete Plant (CP-5)'!$D$10>0,'Concrete Plant (CP-5)'!$D$10*365*4024/2000,\"\")),IF(E18=\"CP-6\",IF('Concrete Plant (CP-6)'!$D$9>0,'Concrete Plant (CP-6)'!$D$9*4024/2000,IF('Concrete Plant (CP-6)'!$D$10>0,'Concrete Plant (CP-6)'!$D$10*365*4024/2000,\"\")),IF(E18=\"CP-7\",IF('Concrete Plant (CP-7)'!$D$9>0,'Concrete Plant (CP-7)'!$D$9*4024/2000,IF('Concrete Plant (CP-7)'!$D$10>0,'Concrete Plant (CP-7)'!$D$10*365*4024/2000,\"\")),IF(E18=\"CP-8\",IF('Concrete Plant (CP-8)'!$D$9>0,'Concrete Plant (CP-8)'!$D$9*4024/2000,IF('Concrete Plant (CP-8)'!$D$10>0,'Concrete Plant (CP-8)'!$D$10*365*4024/2000,\"\")),IF(E18=\"CP-9\",IF('Concrete Plant (CP-9)'!$D$9>0,'Concrete Plant (CP-9)'!$D$9*4024/2000,IF('Concrete Plant (CP-9)'!$D$10>0,'Concrete Plant (CP-9)'!$D$10*365*4024/2000,\"\")),IF(E18=\"CP-10\",IF('Concrete Plant (CP-10)'!$D$9>0,'Concrete Plant (CP-10)'!$D$9*4024/2000,IF('Concrete Plant (CP-10)'!$D$10>0,'Concrete Plant (CP-10)'!$D$10*365*4024/2000,\"\")))))))))))))","v":""},null,null,"","","","",null,"","","","","","","","","","","","CP-1",{"$f":"IF('Concrete Plant (CP-1)'!$D$9>0,'Concrete Plant (CP-1)'!$D$9,IF('Concrete Plant (CP-1)'!$D$10>0,'Concrete Plant (CP-1)'!$D$10*365,\"\"))","v":""},null,null,null,"CP-10",{"$f":"IF(AND('Concrete Plant (CP-10)'!$D$10=\"\",'Concrete Plant (CP-10)'!$D$9=\"\"),SUMIF($E$7:$E$36,\"CP-10\",$X$7:$X$36),MAX(IF($E$7:$E$36=\"CP-10\",$X$7:$X$36)))","v":0},{"$f":"SUMIF($E$7:$E$36,\"CP-10\",$Y$7:$Y$36)","v":0},{"$f":"IF(AND('Concrete Plant (CP-10)'!$D$10=\"\",'Concrete Plant (CP-10)'!$D$9=\"\"),SUMIF($E$7:$E$36,\"CP-10\",$AC$7:$AC$36),MAX(IF($E$7:$E$36=\"CP-10\",$AC$7:$AC$36)))","v":0},{"$f":"SUMIF($E$7:$E445,\"CP-10\",$AD$7:$AD$36)","v":0}]
[{"$f":"IF('Facility Information'!$C$21>6,\"CP-7\",\"\")","v":""},null,null,null,null,null,null,null,null,"","",null,{"$f":"IF(E19=\"\",\"\",IF(E19=\"CP-1\",IF('Concrete Plant (CP-1)'!$D$9>0,'Concrete Plant (CP-1)'!$D$9*4024/2000,IF('Concrete Plant (CP-1)'!$D$10>0,'Concrete Plant (CP-1)'!$D$10*365*4024/2000,\"\")),IF(E19=\"CP-2\",IF('Concrete Plant (CP-2)'!$D$9>0,'Concrete Plant (CP-2)'!$D$9*4024/2000,IF('Concrete Plant (CP-2)'!$C$10>0,'Concrete Plant (CP-2)'!$C$10*365*4024/2000,\"\")),IF(E19=\"CP-3\",IF('Concrete Plant (CP-3)'!$D$9>0,'Concrete Plant (CP-3)'!$D$9*4024/2000,IF('Concrete Plant (CP-3)'!$D$10>0,'Concrete Plant (CP-3)'!$D$10*365*4024/2000,\"\")),IF(E19=\"CP-4\",IF('Concrete Plant (CP-4)'!$D$9>0,'Concrete Plant (CP-4)'!$D$9*4024/2000,IF('Concrete Plant (CP-4)'!$D$10>0,'Concrete Plant (CP-4)'!$D$10*365*4024/2000,\"\")),IF(E19=\"CP-5\",IF('Concrete Plant (CP-5)'!$D$9>0,'Concrete Plant (CP-5)'!$D$9*4024/2000,IF('Concrete Plant (CP-5)'!$D$10>0,'Concrete Plant (CP-5)'!$D$10*365*4024/2000,\"\")),IF(E19=\"CP-6\",IF('Concrete Plant (CP-6)'!$D$9>0,'Concrete Plant (CP-6)'!$D$9*4024/2000,IF('Concrete Plant (CP-6)'!$D$10>0,'Concrete Plant (CP-6)'!$D$10*365*4024/2000,\"\")),IF(E19=\"CP-7\",IF('Concrete Plant (CP-7)'!$D$9>0,'Concrete Plant (CP-7)'!$D$9*4024/2000,IF('Concrete Plant (CP-7)'!$D$10>0,'Concrete Plant (CP-7)'!$D$10*365*4024/2000,\"\")),IF(E19=\"CP-8\",IF('Concrete Plant (CP-8)'!$D$9>0,'Concrete Plant (CP-8)'!$D$9*4024/2000,IF('Concrete Plant (CP-8)'!$D$10>0,'Concrete Plant (CP-8)'!$D$10*365*4024/2000,\"\")),IF(E19=\"CP-9\",IF('Concrete Plant (CP-9)'!$D$9>0,'Concrete Plant (CP-9)'!$D$9*4024/2000,IF('Concrete Plant (CP-9)'!$D$10>0,'Concrete Plant (CP-9)'!$D$10*365*4024/2000,\"\")),IF(E19=\"CP-10\",IF('Concrete Plant (CP-10)'!$D$9>0,'Concrete Plant (CP-10)'!$D$9*4024/2000,IF('Concrete Plant (CP-10)'!$D$10>0,'Concrete Plant (CP-10)'!$D$10*365*4024/2000,\"\")))))))))))))","v":""},null,null,"","","","",null,"","","","","","","","","","","","CP-2",{"$f":"IF('Concrete Plant (CP-2)'!$C$9>0,'Concrete Plant (CP-2)'!$C$9,IF('Concrete Plant (CP-2)'!$C$10>0,'Concrete Plant (CP-2)'!$C$10*365,\"\"))","v":""}]
[{"$f":"IF('Facility Information'!$C$21>7,\"CP-8\",\"\")","v":""},null,null,null,null,null,null,null,null,"","",null,{"$f":"IF(E20=\"\",\"\",IF(E20=\"CP-1\",IF('Concrete Plant (CP-1)'!$D$9>0,'Concrete Plant (CP-1)'!$D$9*4024/2000,IF('Concrete Plant (CP-1)'!$D$10>0,'Concrete Plant (CP-1)'!$D$10*365*4024/2000,\"\")),IF(E20=\"CP-2\",IF('Concrete Plant (CP-2)'!$D$9>0,'Concrete Plant (CP-2)'!$D$9*4024/2000,IF('Concrete Plant (CP-2)'!$C$10>0,'Concrete Plant (CP-2)'!$C$10*365*4024/2000,\"\")),IF(E20=\"CP-3\",IF('Concrete Plant (CP-3)'!$D$9>0,'Concrete Plant (CP-3)'!$D$9*4024/2000,IF('Concrete Plant (CP-3)'!$D$10>0,'Concrete Plant (CP-3)'!$D$10*365*4024/2000,\"\")),IF(E20=\"CP-4\",IF('Concrete Plant (CP-4)'!$D$9>0,'Concrete Plant (CP-4)'!$D$9*4024/2000,IF('Concrete Plant (CP-4)'!$D$10>0,'Concrete Plant (CP-4)'!$D$10*365*4024/2000,\"\")),IF(E20=\"CP-5\",IF('Concrete Plant (CP-5)'!$D$9>0,'Concrete Plant (CP-5)'!$D$9*4024/2000,IF('Concrete Plant (CP-5)'!$D$10>0,'Concrete Plant (CP-5)'!$D$10*365*4024/2000,\"\")),IF(E20=\"CP-6\",IF('Concrete Plant (CP-6)'!$D$9>0,'Concrete Plant (CP-6)'!$D$9*4024/2000,IF('Concrete Plant (CP-6)'!$D$10>0,'Concrete Plant (CP-6)'!$D$10*365*4024/2000,\"\")),IF(E20=\"CP-7\",IF('Concrete Plant (CP-7)'!$D$9>0,'Concrete Plant (CP-7)'!$D$9*4024/2000,IF('Concrete Plant (CP-7)'!$D$10>0,'Concrete Plant (CP-7)'!$D$10*365*4024/2000,\"\")),IF(E20=\"CP-8\",IF('Concrete Plant (CP-8)'!$D$9>0,'Concrete Plant (CP-8)'!$D$9*4024/2000,IF('Concrete Plant (CP-8)'!$D$10>0,'Concrete Plant (CP-8)'!$D$10*365*4024/2000,\"\")),IF(E20=\"CP-9\",IF('Concrete Plant (CP-9)'!$D$9>0,'Concrete Plant (CP-9)'!$D$9*4024/2000,IF('Concrete Plant (CP-9)'!$D$10>0,'Concrete Plant (CP-9)'!$D$10*365*4024/2000,\"\")),IF(E20=\"CP-10\",IF('Concrete Plant (CP-10)'!$D$9>0,'Concrete Plant (CP-10)'!$D$9*4024/2000,IF('Concrete Plant (CP-10)'!$D$10>0,'Concrete Plant (CP-10)'!$D$10*365*4024/2000,\"\")))))))))))))","v":""},null,null,"","","","",null,"","","","","","","","","","","","CP-3",{"$f":"IF('Concrete Plant (CP-3)'!$D$9>0,'Concrete Plant (CP-3)'!$D$9,IF('Concrete Plant (CP-3)'!$D$10>0,'Concrete Plant (CP-3)'!$D$10*365,\"\"))","v":""}]
[{"$f":"IF('Facility Information'!$C$21>8,\"CP-9\",\"\")","v":""},null,null,null,null,null,null,null,null,"","",null,{"$f":"IF(E21=\"\",\"\",IF(E21=\"CP-1\",IF('Concrete Plant (CP-1)'!$D$9>0,'Concrete Plant (CP-1)'!$D$9*4024/2000,IF('Concrete Plant (CP-1)'!$D$10>0,'Concrete Plant (CP-1)'!$D$10*365*4024/2000,\"\")),IF(E21=\"CP-2\",IF('Concrete Plant (CP-2)'!$D$9>0,'Concrete Plant (CP-2)'!$D$9*4024/2000,IF('Concrete Plant (CP-2)'!$C$10>0,'Concrete Plant (CP-2)'!$C$10*365*4024/2000,\"\")),IF(E21=\"CP-3\",IF('Concrete Plant (CP-3)'!$D$9>0,'Concrete Plant (CP-3)'!$D$9*4024/2000,IF('Concrete Plant (CP-3)'!$D$10>0,'Concrete Plant (CP-3)'!$D$10*365*4024/2000,\"\")),IF(E21=\"CP-4\",IF('Concrete Plant (CP-4)'!$D$9>0,'Concrete Plant (CP-4)'!$D$9*4024/2000,IF('Concrete Plant (CP-4)'!$D$10>0,'Concrete Plant (CP-4)'!$D$10*365*4024/2000,\"\")),IF(E21=\"CP-5\",IF('Concrete Plant (CP-5)'!$D$9>0,'Concrete Plant (CP-5)'!$D$9*4024/2000,IF('Concrete Plant (CP-5)'!$D$10>0,'Concrete Plant (CP-5)'!$D$10*365*4024/2000,\"\")),IF(E21=\"CP-6\",IF('Concrete Plant (CP-6)'!$D$9>0,'Concrete Plant (CP-6)'!$D$9*4024/2000,IF('Concrete Plant (CP-6)'!$D$10>0,'Concrete Plant (CP-6)'!$D$10*365*4024/2000,\"\")),IF(E21=\"CP-7\",IF('Concrete Plant (CP-7)'!$D$9>0,'Concrete Plant (CP-7)'!$D$9*4024/2000,IF('Concrete Plant (CP-7)'!$D$10>0,'Concrete Plant (CP-7)'!$D$10*365*4024/2000,\"\")),IF(E21=\"CP-8\",IF('Concrete Plant (CP-8)'!$D$9>0,'Concrete Plant (CP-8)'!$D$9*4024/2000,IF('Concrete Plant (CP-8)'!$D$10>0,'Concrete Plant (CP-8)'!$D$10*365*4024/2000,\"\")),IF(E21=\"CP-9\",IF('Concrete Plant (CP-9)'!$D$9>0,'Concrete Plant (CP-9)'!$D$9*4024/2000,IF('Concrete Plant (CP-9)'!$D$10>0,'Concrete Plant (CP-9)'!$D$10*365*4024/2000,\"\")),IF(E21=\"CP-10\",IF('Concrete Plant (CP-10)'!$D$9>0,'Concrete Plant (CP-10)'!$D$9*4024/2000,IF('Concrete Plant (CP-10)'!$D$10>0,'Concrete Plant (CP-10)'!$D$10*365*4024/2000,\"\")))))))))))))","v":""},null,null,"","","","",null,"","","","","","","","","","","","CP-4",{"$f":"IF('Concrete Plant (CP-4)'!$D$9>0,'Concrete Plant (CP-4)'!$D$9,IF('Concrete Plant (CP-4)'!$D$10>0,'Concrete Plant (CP-4)'!$D$10*365,\"\"))","v":""}]
[{"$f":"IF('Facility Information'!$C$21>9,\"CP-10\",\"\")","v":""},null,null,null,null,null,null,null,null,"","",null,{"$f":"IF(E22=\"\",\"\",IF(E22=\"CP-1\",IF('Concrete Plant (CP-1)'!$D$9>0,'Concrete Plant (CP-1)'!$D$9*4024/2000,IF('Concrete Plant (CP-1)'!$D$10>0,'Concrete Plant (CP-1)'!$D$10*365*4024/2000,\"\")),IF(E22=\"CP-2\",IF('Concrete Plant (CP-2)'!$D$9>0,'Concrete Plant (CP-2)'!$D$9*4024/2000,IF('Concrete Plant (CP-2)'!$C$10>0,'Concrete Plant (CP-2)'!$C$10*365*4024/2000,\"\")),IF(E22=\"CP-3\",IF('Concrete Plant (CP-3)'!$D$9>0,'Concrete Plant (CP-3)'!$D$9*4024/2000,IF('Concrete Plant (CP-3)'!$D$10>0,'Concrete Plant (CP-3)'!$D$10*365*4024/2000,\"\")),IF(E22=\"CP-4\",IF('Concrete Plant (CP-4)'!$D$9>0,'Concrete Plant (CP-4)'!$D$9*4024/2000,IF('Concrete Plant (CP-4)'!$D$10>0,'Concrete Plant (CP-4)'!$D$10*365*4024/2000,\"\")),IF(E22=\"CP-5\",IF('Concrete Plant (CP-5)'!$D$9>0,'Concrete Plant (CP-5)'!$D$9*4024/2000,IF('Concrete Plant (CP-5)'!$D$10>0,'Concrete Plant (CP-5)'!$D$10*365*4024/2000,\"\")),IF(E22=\"CP-6\",IF('Concrete Plant (CP-6)'!$D$9>0,'Concrete Plant (CP-6)'!$D$9*4024/2000,IF('Concrete Plant (CP-6)'!$D$10>0,'Concrete Plant (CP-6)'!$D$10*365*4024/2000,\"\")),IF(E22=\"CP-7\",IF('Concrete Plant (CP-7)'!$D$9>0,'Concrete Plant (CP-7)'!$D$9*4024/2000,IF('Concrete Plant (CP-7)'!$D$10>0,'Concrete Plant (CP-7)'!$D$10*365*4024/2000,\"\")),IF(E22=\"CP-8\",IF('Concrete Plant (CP-8)'!$D$9>0,'Concrete Plant (CP-8)'!$D$9*4024/2000,IF('Concrete Plant (CP-8)'!$D$10>0,'Concrete Plant (CP-8)'!$D$10*365*4024/2000,\"\")),IF(E22=\"CP-9\",IF('Concrete Plant (CP-9)'!$D$9>0,'Concrete Plant (CP-9)'!$D$9*4024/2000,IF('Concrete Plant (CP-9)'!$D$10>0,'Concrete Plant (CP-9)'!$D$10*365*4024/2000,\"\")),IF(E22=\"CP-10\",IF('Concrete Plant (CP-10)'!$D$9>0,'Concrete Plant (CP-10)'!$D$9*4024/2000,IF('Concrete Plant (CP-10)'!$D$10>0,'Concrete Plant (CP-10)'!$D$10*365*4024/2000,\"\")))))))))))))","v":""},null,null,"","","","",null,"","","","","","","","","","","","CP-5",{"$f":"IF('Concrete Plant (CP-5)'!$D$9>0,'Concrete Plant (CP-5)'!$D$9,IF('Concrete Plant (CP-5)'!$D$10>0,'Concrete Plant (CP-5)'!$D$10*365,\"\"))","v":""}]
[null,null,null,null,null,null,null,null,null,"","",null,{"$f":"IF(E23=\"\",\"\",IF(E23=\"CP-1\",IF('Concrete Plant (CP-1)'!$D$9>0,'Concrete Plant (CP-1)'!$D$9*4024/2000,IF('Concrete Plant (CP-1)'!$D$10>0,'Concrete Plant (CP-1)'!$D$10*365*4024/2000,\"\")),IF(E23=\"CP-2\",IF('Concrete Plant (CP-2)'!$D$9>0,'Concrete Plant (CP-2)'!$D$9*4024/2000,IF('Concrete Plant (CP-2)'!$C$10>0,'Concrete Plant (CP-2)'!$C$10*365*4024/2000,\"\")),IF(E23=\"CP-3\",IF('Concrete Plant (CP-3)'!$D$9>0,'Concrete Plant (CP-3)'!$D$9*4024/2000,IF('Concrete Plant (CP-3)'!$D$10>0,'Concrete Plant (CP-3)'!$D$10*365*4024/2000,\"\")),IF(E23=\"CP-4\",IF('Concrete Plant (CP-4)'!$D$9>0,'Concrete Plant (CP-4)'!$D$9*4024/2000,IF('Concrete Plant (CP-4)'!$D$10>0,'Concrete Plant (CP-4)'!$D$10*365*4024/2000,\"\")),IF(E23=\"CP-5\",IF('Concrete Plant (CP-5)'!$D$9>0,'Concrete Plant (CP-5)'!$D$9*4024/2000,IF('Concrete Plant (CP-5)'!$D$10>0,'Concrete Plant (CP-5)'!$D$10*365*4024/2000,\"\")),IF(E23=\"CP-6\",IF('Concrete Plant (CP-6)'!$D$9>0,'Concrete Plant (CP-6)'!$D$9*4024/2000,IF('Concrete Plant (CP-6)'!$D$10>0,'Concrete Plant (CP-6)'!$D$10*365*4024/2000,\"\")),IF(E23=\"CP-7\",IF('Concrete Plant (CP-7)'!$D$9>0,'Concrete Plant (CP-7)'!$D$9*4024/2000,IF('Concrete Plant (CP-7)'!$D$10>0,'Concrete Plant (CP-7)'!$D$10*365*4024/2000,\"\")),IF(E23=\"CP-8\",IF('Concrete Plant (CP-8)'!$D$9>0,'Concrete Plant (CP-8)'!$D$9*4024/2000,IF('Concrete Plant (CP-8)'!$D$10>0,'Concrete Plant (CP-8)'!$D$10*365*4024/2000,\"\")),IF(E23=\"CP-9\",IF('Concrete Plant (CP-9)'!$D$9>0,'Concrete Plant (CP-9)'!$D$9*4024/2000,IF('Concrete Plant (CP-9)'!$D$10>0,'Concrete Plant (CP-9)'!$D$10*365*4024/2000,\"\")),IF(E23=\"CP-10\",IF('Concrete Plant (CP-10)'!$D$9>0,'Concrete Plant (CP-10)'!$D$9*4024/2000,IF('Concrete Plant (CP-10)'!$D$10>0,'Concrete Plant (CP-10)'!$D$10*365*4024/2000,\"\")))))))))))))","v":""},null,null,"","","","",null,"","","","","","","","","","","","CP-6",{"$f":"IF('Concrete Plant (CP-6)'!$D$9>0,'Concrete Plant (CP-6)'!$D$9,IF('Concrete Plant (CP-6)'!$D$10>0,'Concrete Plant (CP-6)'!$D$10*365,\"\"))","v":""}]
[null,null,null,null,null,null,null,null,null,"","",null,{"$f":"IF(E24=\"\",\"\",IF(E24=\"CP-1\",IF('Concrete Plant (CP-1)'!$D$9>0,'Concrete Plant (CP-1)'!$D$9*4024/2000,IF('Concrete Plant (CP-1)'!$D$10>0,'Concrete Plant (CP-1)'!$D$10*365*4024/2000,\"\")),IF(E24=\"CP-2\",IF('Concrete Plant (CP-2)'!$D$9>0,'Concrete Plant (CP-2)'!$D$9*4024/2000,IF('Concrete Plant (CP-2)'!$C$10>0,'Concrete Plant (CP-2)'!$C$10*365*4024/2000,\"\")),IF(E24=\"CP-3\",IF('Concrete Plant (CP-3)'!$D$9>0,'Concrete Plant (CP-3)'!$D$9*4024/2000,IF('Concrete Plant (CP-3)'!$D$10>0,'Concrete Plant (CP-3)'!$D$10*365*4024/2000,\"\")),IF(E24=\"CP-4\",IF('Concrete Plant (CP-4)'!$D$9>0,'Concrete Plant (CP-4)'!$D$9*4024/2000,IF('Concrete Plant (CP-4)'!$D$10>0,'Concrete Plant (CP-4)'!$D$10*365*4024/2000,\"\")),IF(E24=\"CP-5\",IF('Concrete Plant (CP-5)'!$D$9>0,'Concrete Plant (CP-5)'!$D$9*4024/2000,IF('Concrete Plant (CP-5)'!$D$10>0,'Concrete Plant (CP-5)'!$D$10*365*4024/2000,\"\")),IF(E24=\"CP-6\",IF('Concrete Plant (CP-6)'!$D$9>0,'Concrete Plant (CP-6)'!$D$9*4024/2000,IF('Concrete Plant (CP-6)'!$D$10>0,'Concrete Plant (CP-6)'!$D$10*365*4024/2000,\"\")),IF(E24=\"CP-7\",IF('Concrete Plant (CP-7)'!$D$9>0,'Concrete Plant (CP-7)'!$D$9*4024/2000,IF('Concrete Plant (CP-7)'!$D$10>0,'Concrete Plant (CP-7)'!$D$10*365*4024/2000,\"\")),IF(E24=\"CP-8\",IF('Concrete Plant (CP-8)'!$D$9>0,'Concrete Plant (CP-8)'!$D$9*4024/2000,IF('Concrete Plant (CP-8)'!$D$10>0,'Concrete Plant (CP-8)'!$D$10*365*4024/2000,\"\")),IF(E24=\"CP-9\",IF('Concrete Plant (CP-9)'!$D$9>0,'Concrete Plant (CP-9)'!$D$9*4024/2000,IF('Concrete Plant (CP-9)'!$D$10>0,'Concrete Plant (CP-9)'!$D$10*365*4024/2000,\"\")),IF(E24=\"CP-10\",IF('Concrete Plant (CP-10)'!$D$9>0,'Concrete Plant (CP-10)'!$D$9*4024/2000,IF('Concrete Plant (CP-10)'!$D$10>0,'Concrete Plant (CP-10)'!$D$10*365*4024/2000,\"\")))))))))))))","v":""},null,null,"","","","",null,"","","","","","","","","","","","CP-7",{"$f":"IF('Concrete Plant (CP-7)'!$D$9>0,'Concrete Plant (CP-7)'!$D$9,IF('Concrete Plant (CP-7)'!$D$10>0,'Concrete Plant (CP-7)'!$D$10*365,\"\"))","v":""}]
[null,null,null,null,null,null,null,null,null,"","",null,{"$f":"IF(E25=\"\",\"\",IF(E25=\"CP-1\",IF('Concrete Plant (CP-1)'!$D$9>0,'Concrete Plant (CP-1)'!$D$9*4024/2000,IF('Concrete Plant (CP-1)'!$D$10>0,'Concrete Plant (CP-1)'!$D$10*365*4024/2000,\"\")),IF(E25=\"CP-2\",IF('Concrete Plant (CP-2)'!$D$9>0,'Concrete Plant (CP-2)'!$D$9*4024/2000,IF('Concrete Plant (CP-2)'!$C$10>0,'Concrete Plant (CP-2)'!$C$10*365*4024/2000,\"\")),IF(E25=\"CP-3\",IF('Concrete Plant (CP-3)'!$D$9>0,'Concrete Plant (CP-3)'!$D$9*4024/2000,IF('Concrete Plant (CP-3)'!$D$10>0,'Concrete Plant (CP-3)'!$D$10*365*4024/2000,\"\")),IF(E25=\"CP-4\",IF('Concrete Plant (CP-4)'!$D$9>0,'Concrete Plant (CP-4)'!$D$9*4024/2000,IF('Concrete Plant (CP-4)'!$D$10>0,'Concrete Plant (CP-4)'!$D$10*365*4024/2000,\"\")),IF(E25=\"CP-5\",IF('Concrete Plant (CP-5)'!$D$9>0,'Concrete Plant (CP-5)'!$D$9*4024/2000,IF('Concrete Plant (CP-5)'!$D$10>0,'Concrete Plant (CP-5)'!$D$10*365*4024/2000,\"\")),IF(E25=\"CP-6\",IF('Concrete Plant (CP-6)'!$D$9>0,'Concrete Plant (CP-6)'!$D$9*4024/2000,IF('Concrete Plant (CP-6)'!$D$10>0,'Concrete Plant (CP-6)'!$D$10*365*4024/2000,\"\")),IF(E25=\"CP-7\",IF('Concrete Plant (CP-7)'!$D$9>0,'Concrete Plant (CP-7)'!$D$9*4024/2000,IF('Concrete Plant (CP-7)'!$D$10>0,'Concrete Plant (CP-7)'!$D$10*365*4024/2000,\"\")),IF(E25=\"CP-8\",IF('Concrete Plant (CP-8)'!$D$9>0,'Concrete Plant (CP-8)'!$D$9*4024/2000,IF('Concrete Plant (CP-8)'!$D$10>0,'Concrete Plant (CP-8)'!$D$10*365*4024/2000,\"\")),IF(E25=\"CP-9\",IF('Concrete Plant (CP-9)'!$D$9>0,'Concrete Plant (CP-9)'!$D$9*4024/2000,IF('Concrete Plant (CP-9)'!$D$10>0,'Concrete Plant (CP-9)'!$D$10*365*4024/2000,\"\")),IF(E25=\"CP-10\",IF('Concrete Plant (CP-10)'!$D$9>0,'Concrete Plant (CP-10)'!$D$9*4024/2000,IF('Concrete Plant (CP-10)'!$D$10>0,'Concrete Plant (CP-10)'!$D$10*365*4024/2000,\"\")))))))))))))","v":""},null,null,"","","","",null,"","","","","","","","","","","","CP-8",{"$f":"IF('Concrete Plant (CP-8)'!$D$9>0,'Concrete Plant (CP-8)'!$D$9,IF('Concrete Plant (CP-8)'!$D$10>0,'Concrete Plant (CP-8)'!$D$10*365,\"\"))","v":""}]
[null,null,null,null,null,null,null,null,null,"","",null,{"$f":"IF(E26=\"\",\"\",IF(E26=\"CP-1\",IF('Concrete Plant (CP-1)'!$D$9>0,'Concrete Plant (CP-1)'!$D$9*4024/2000,IF('Concrete Plant (CP-1)'!$D$10>0,'Concrete Plant (CP-1)'!$D$10*365*4024/2000,\"\")),IF(E26=\"CP-2\",IF('Concrete Plant (CP-2)'!$D$9>0,'Concrete Plant (CP-2)'!$D$9*4024/2000,IF('Concrete Plant (CP-2)'!$C$10>0,'Concrete Plant (CP-2)'!$C$10*365*4024/2000,\"\")),IF(E26=\"CP-3\",IF('Concrete Plant (CP-3)'!$D$9>0,'Concrete Plant (CP-3)'!$D$9*4024/2000,IF('Concrete Plant (CP-3)'!$D$10>0,'Concrete Plant (CP-3)'!$D$10*365*4024/2000,\"\")),IF(E26=\"CP-4\",IF('Concrete Plant (CP-4)'!$D$9>0,'Concrete Plant (CP-4)'!$D$9*4024/2000,IF('Concrete Plant (CP-4)'!$D$10>0,'Concrete Plant (CP-4)'!$D$10*365*4024/2000,\"\")),IF(E26=\"CP-5\",IF('Concrete Plant (CP-5)'!$D$9>0,'Concrete Plant (CP-5)'!$D$9*4024/2000,IF('Concrete Plant (CP-5)'!$D$10>0,'Concrete Plant (CP-5)'!$D$10*365*4024/2000,\"\")),IF(E26=\"CP-6\",IF('Concrete Plant (CP-6)'!$D$9>0,'Concrete Plant (CP-6)'!$D$9*4024/2000,IF('Concrete Plant (CP-6)'!$D$10>0,'Concrete Plant (CP-6)'!$D$10*365*4024/2000,\"\")),IF(E26=\"CP-7\",IF('Concrete Plant (CP-7)'!$D$9>0,'Concrete Plant (CP-7)'!$D$9*4024/2000,IF('Concrete Plant (CP-7)'!$D$10>0,'Concrete Plant (CP-7)'!$D$10*365*4024/2000,\"\")),IF(E26=\"CP-8\",IF('Concrete Plant (CP-8)'!$D$9>0,'Concrete Plant (CP-8)'!$D$9*4024/2000,IF('Concrete Plant (CP-8)'!$D$10>0,'Concrete Plant (CP-8)'!$D$10*365*4024/2000,\"\")),IF(E26=\"CP-9\",IF('Concrete Plant (CP-9)'!$D$9>0,'Concrete Plant (CP-9)'!$D$9*4024/2000,IF('Concrete Plant (CP-9)'!$D$10>0,'Concrete Plant (CP-9)'!$D$10*365*4024/2000,\"\")),IF(E26=\"CP-10\",IF('Concrete Plant (CP-10)'!$D$9>0,'Concrete Plant (CP-10)'!$D$9*4024/2000,IF('Concrete Plant (CP-10)'!$D$10>0,'Concrete Plant (CP-10)'!$D$10*365*4024/2000,\"\")))))))))))))","v":""},null,null,"","","","",null,"","","","","","","","","","","","CP-9",{"$f":"IF('Concrete Plant (CP-9)'!$D$9>0,'Concrete Plant (CP-9)'!$D$9,IF('Concrete Plant (CP-9)'!$D$10>0,'Concrete Plant (CP-9)'!$D$10*365,\"\"))","v":""}]
[null,null,null,null,null,null,null,null,null,"","",null,{"$f":"IF(E27=\"\",\"\",IF(E27=\"CP-1\",IF('Concrete Plant (CP-1)'!$D$9>0,'Concrete Plant (CP-1)'!$D$9*4024/2000,IF('Concrete Plant (CP-1)'!$D$10>0,'Concrete Plant (CP-1)'!$D$10*365*4024/2000,\"\")),IF(E27=\"CP-2\",IF('Concrete Plant (CP-2)'!$D$9>0,'Concrete Plant (CP-2)'!$D$9*4024/2000,IF('Concrete Plant (CP-2)'!$C$10>0,'Concrete Plant (CP-2)'!$C$10*365*4024/2000,\"\")),IF(E27=\"CP-3\",IF('Concrete Plant (CP-3)'!$D$9>0,'Concrete Plant (CP-3)'!$D$9*4024/2000,IF('Concrete Plant (CP-3)'!$D$10>0,'Concrete Plant (CP-3)'!$D$10*365*4024/2000,\"\")),IF(E27=\"CP-4\",IF('Concrete Plant (CP-4)'!$D$9>0,'Concrete Plant (CP-4)'!$D$9*4024/2000,IF('Concrete Plant (CP-4)'!$D$10>0,'Concrete Plant (CP-4)'!$D$10*365*4024/2000,\"\")),IF(E27=\"CP-5\",IF('Concrete Plant (CP-5)'!$D$9>0,'Concrete Plant (CP-5)'!$D$9*4024/2000,IF('Concrete Plant (CP-5)'!$D$10>0,'Concrete Plant (CP-5)'!$D$10*365*4024/2000,\"\")),IF(E27=\"CP-6\",IF('Concrete Plant (CP-6)'!$D$9>0,'Concrete Plant (CP-6)'!$D$9*4024/2000,IF('Concrete Plant (CP-6)'!$D$10>0,'Concrete Plant (CP-6)'!$D$10*365*4024/2000,\"\")),IF(E27=\"CP-7\",IF('Concrete Plant (CP-7)'!$D$9>0,'Concrete Plant (CP-7)'!$D$9*4024/2000,IF('Concrete Plant (CP-7)'!$D$10>0,'Concrete Plant (CP-7)'!$D$10*365*4024/2000,\"\")),IF(E27=\"CP-8\",IF('Concrete Plant (CP-8)'!$D$9>0,'Concrete Plant (CP-8)'!$D$9*4024/2000,IF('Concrete Plant (CP-8)'!$D$10>0,'Concrete Plant (CP-8)'!$D$10*365*4024/2000,\"\")),IF(E27=\"CP-9\",IF('Concrete Plant (CP-9)'!$D$9>0,'Concrete Plant (CP-9)'!$D$9*4024/2000,IF('Concrete Plant (CP-9)'!$D$10>0,'Concrete Plant (CP-9)'!$D$10*365*4024/2000,\"\")),IF(E27=\"CP-10\",IF('Concrete Plant (CP-10)'!$D$9>0,'Concrete Plant (CP-10)'!$D$9*4024/2000,IF('Concrete Plant (CP-10)'!$D$10>0,'Concrete Plant (CP-10)'!$D$10*365*4024/2000,\"\")))))))))))))","v":""},null,null,"","","","",null,"","","","","","","","","","",{"$f":"IF(B27=\"unpaved haul road\",\"x\",\"\")","v":""},"CP-10",{"$f":"IF('Concrete Plant (CP-10)'!$D$9>0,'Concrete Plant (CP-10)'!$D$9,IF('Concrete Plant (CP-10)'!$D$10>0,'Concrete Plant (CP-10)'!$D$10*365,\"\"))","v":""}]
[null,null,null,null,null,null,null,null,null,"","",null,{"$f":"IF(E28=\"\",\"\",IF(E28=\"CP-1\",IF('Concrete Plant (CP-1)'!$D$9>0,'Concrete Plant (CP-1)'!$D$9*4024/2000,IF('Concrete Plant (CP-1)'!$D$10>0,'Concrete Plant (CP-1)'!$D$10*365*4024/2000,\"\")),IF(E28=\"CP-2\",IF('Concrete Plant (CP-2)'!$D$9>0,'Concrete Plant (CP-2)'!$D$9*4024/2000,IF('Concrete Plant (CP-2)'!$C$10>0,'Concrete Plant (CP-2)'!$C$10*365*4024/2000,\"\")),IF(E28=\"CP-3\",IF('Concrete Plant (CP-3)'!$D$9>0,'Concrete Plant (CP-3)'!$D$9*4024/2000,IF('Concrete Plant (CP-3)'!$D$10>0,'Concrete Plant (CP-3)'!$D$10*365*4024/2000,\"\")),IF(E28=\"CP-4\",IF('Concrete Plant (CP-4)'!$D$9>0,'Concrete Plant (CP-4)'!$D$9*4024/2000,IF('Concrete Plant (CP-4)'!$D$10>0,'Concrete Plant (CP-4)'!$D$10*365*4024/2000,\"\")),IF(E28=\"CP-5\",IF('Concrete Plant (CP-5)'!$D$9>0,'Concrete Plant (CP-5)'!$D$9*4024/2000,IF('Concrete Plant (CP-5)'!$D$10>0,'Concrete Plant (CP-5)'!$D$10*365*4024/2000,\"\")),IF(E28=\"CP-6\",IF('Concrete Plant (CP-6)'!$D$9>0,'Concrete Plant (CP-6)'!$D$9*4024/2000,IF('Concrete Plant (CP-6)'!$D$10>0,'Concrete Plant (CP-6)'!$D$10*365*4024/2000,\"\")),IF(E28=\"CP-7\",IF('Concrete Plant (CP-7)'!$D$9>0,'Concrete Plant (CP-7)'!$D$9*4024/2000,IF('Concrete Plant (CP-7)'!$D$10>0,'Concrete Plant (CP-7)'!$D$10*365*4024/2000,\"\")),IF(E28=\"CP-8\",IF('Concrete Plant (CP-8)'!$D$9>0,'Concrete Plant (CP-8)'!$D$9*4024/2000,IF('Concrete Plant (CP-8)'!$D$10>0,'Concrete Plant (CP-8)'!$D$10*365*4024/2000,\"\")),IF(E28=\"CP-9\",IF('Concrete Plant (CP-9)'!$D$9>0,'Concrete Plant (CP-9)'!$D$9*4024/2000,IF('Concrete Plant (CP-9)'!$D$10>0,'Concrete Plant (CP-9)'!$D$10*365*4024/2000,\"\")),IF(E28=\"CP-10\",IF('Concrete Plant (CP-10)'!$D$9>0,'Concrete Plant (CP-10)'!$D$9*4024/2000,IF('Concrete Plant (CP-10)'!$D$10>0,'Concrete Plant (CP-10)'!$D$10*365*4024/2000,\"\")))))))))))))","v":""},null,null,"","","","",null,"","","","","","","","","","",""]
[null,null,null,null,null,null,null,null,null,"","",null,{"$f":"IF(E29=\"\",\"\",IF(E29=\"CP-1\",IF('Concrete Plant (CP-1)'!$D$9>0,'Concrete Plant (CP-1)'!$D$9*4024/2000,IF('Concrete Plant (CP-1)'!$D$10>0,'Concrete Plant (CP-1)'!$D$10*365*4024/2000,\"\")),IF(E29=\"CP-2\",IF('Concrete Plant (CP-2)'!$D$9>0,'Concrete Plant (CP-2)'!$D$9*4024/2000,IF('Concrete Plant (CP-2)'!$C$10>0,'Concrete Plant (CP-2)'!$C$10*365*4024/2000,\"\")),IF(E29=\"CP-3\",IF('Concrete Plant (CP-3)'!$D$9>0,'Concrete Plant (CP-3)'!$D$9*4024/2000,IF('Concrete Plant (CP-3)'!$D$10>0,'Concrete Plant (CP-3)'!$D$10*365*4024/2000,\"\")),IF(E29=\"CP-4\",IF('Concrete Plant (CP-4)'!$D$9>0,'Concrete Plant (CP-4)'!$D$9*4024/2000,IF('Concrete Plant (CP-4)'!$D$10>0,'Concrete Plant (CP-4)'!$D$10*365*4024/2000,\"\")),IF(E29=\"CP-5\",IF('Concrete Plant (CP-5)'!$D$9>0,'Concrete Plant (CP-5)'!$D$9*4024/2000,IF('Concrete Plant (CP-5)'!$D$10>0,'Concrete Plant (CP-5)'!$D$10*365*4024/2000,\"\")),IF(E29=\"CP-6\",IF('Concrete Plant (CP-6)'!$D$9>0,'Concrete Plant (CP-6)'!$D$9*4024/2000,IF('Concrete Plant (CP-6)'!$D$10>0,'Concrete Plant (CP-6)'!$D$10*365*4024/2000,\"\")),IF(E29=\"CP-7\",IF('Concrete Plant (CP-7)'!$D$9>0,'Concrete Plant (CP-7)'!$D$9*4024/2000,IF('Concrete Plant (CP-7)'!$D$10>0,'Concrete Plant (CP-7)'!$D$10*365*4024/2000,\"\")),IF(E29=\"CP-8\",IF('Concrete Plant (CP-8)'!$D$9>0,'Concrete Plant (CP-8)'!$D$9*4024/2000,IF('Concrete Plant (CP-8)'!$D$10>0,'Concrete Plant (CP-8)'!$D$10*365*4024/2000,\"\")),IF(E29=\"CP-9\",IF('Concrete Plant (CP-9)'!$D$9>0,'Concrete Plant (CP-9)'!$D$9*4024/2000,IF('Concrete Plant (CP-9)'!$D$10>0,'Concrete Plant (CP-9)'!$D$10*365*4024/2000,\"\")),IF(E29=\"CP-10\",IF('Concrete Plant (CP-10)'!$D$9>0,'Concrete Plant (CP-10)'!$D$9*4024/2000,IF('Concrete Plant (CP-10)'!$D$10>0,'Concrete Plant (CP-10)'!$D$10*365*4024/2000,\"\")))))))))))))","v":""},null,null,"","","","",null,"","","","","","","","","","",""]
[null,null,null,null,null,null,null,null,null,"","",null,{"$f":"IF(E30=\"\",\"\",IF(E30=\"CP-1\",IF('Concrete Plant (CP-1)'!$D$9>0,'Concrete Plant (CP-1)'!$D$9*4024/2000,IF('Concrete Plant (CP-1)'!$D$10>0,'Concrete Plant (CP-1)'!$D$10*365*4024/2000,\"\")),IF(E30=\"CP-2\",IF('Concrete Plant (CP-2)'!$D$9>0,'Concrete Plant (CP-2)'!$D$9*4024/2000,IF('Concrete Plant (CP-2)'!$C$10>0,'Concrete Plant (CP-2)'!$C$10*365*4024/2000,\"\")),IF(E30=\"CP-3\",IF('Concrete Plant (CP-3)'!$D$9>0,'Concrete Plant (CP-3)'!$D$9*4024/2000,IF('Concrete Plant (CP-3)'!$D$10>0,'Concrete Plant (CP-3)'!$D$10*365*4024/2000,\"\")),IF(E30=\"CP-4\",IF('Concrete Plant (CP-4)'!$D$9>0,'Concrete Plant (CP-4)'!$D$9*4024/2000,IF('Concrete Plant (CP-4)'!$D$10>0,'Concrete Plant (CP-4)'!$D$10*365*4024/2000,\"\")),IF(E30=\"CP-5\",IF('Concrete Plant (CP-5)'!$D$9>0,'Concrete Plant (CP-5)'!$D$9*4024/2000,IF('Concrete Plant (CP-5)'!$D$10>0,'Concrete Plant (CP-5)'!$D$10*365*4024/2000,\"\")),IF(E30=\"CP-6\",IF('Concrete Plant (CP-6)'!$D$9>0,'Concrete Plant (CP-6)'!$D$9*4024/2000,IF('Concrete Plant (CP-6)'!$D$10>0,'Concrete Plant (CP-6)'!$D$10*365*4024/2000,\"\")),IF(E30=\"CP-7\",IF('Concrete Plant (CP-7)'!$D$9>0,'Concrete Plant (CP-7)'!$D$9*4024/2000,IF('Concrete Plant (CP-7)'!$D$10>0,'Concrete Plant (CP-7)'!$D$10*365*4024/2000,\"\")),IF(E30=\"CP-8\",IF('Concrete Plant (CP-8)'!$D$9>0,'Concrete Plant (CP-8)'!$D$9*4024/2000,IF('Concrete Plant (CP-8)'!$D$10>0,'Concrete Plant (CP-8)'!$D$10*365*4024/2000,\"\")),IF(E30=\"CP-9\",IF('Concrete Plant (CP-9)'!$D$9>0,'Concrete Plant (CP-9)'!$D$9*4024/2000,IF('Concrete Plant (CP-9)'!$D$10>0,'Concrete Plant (CP-9)'!$D$10*365*4024/2000,\"\")),IF(E30=\"CP-10\",IF('Concrete Plant (CP-10)'!$D$9>0,'Concrete Plant (CP-10)'!$D$9*4024/2000,IF('Concrete Plant (CP-10)'!$D$10>0,'Concrete Plant (CP-10)'!$D$10*365*4024/2000,\"\")))))))))))))","v":""},null,null,"","","","",null,"","","","","","","","","","",""]
[null,null,null,null,null,null,null,null,null,"","",null,{"$f":"IF(E31=\"\",\"\",IF(E31=\"CP-1\",IF('Concrete Plant (CP-1)'!$D$9>0,'Concrete Plant (CP-1)'!$D$9*4024/2000,IF('Concrete Plant (CP-1)'!$D$10>0,'Concrete Plant (CP-1)'!$D$10*365*4024/2000,\"\")),IF(E31=\"CP-2\",IF('Concrete Plant (CP-2)'!$D$9>0,'Concrete Plant (CP-2)'!$D$9*4024/2000,IF('Concrete Plant (CP-2)'!$C$10>0,'Concrete Plant (CP-2)'!$C$10*365*4024/2000,\"\")),IF(E31=\"CP-3\",IF('Concrete Plant (CP-3)'!$D$9>0,'Concrete Plant (CP-3)'!$D$9*4024/2000,IF('Concrete Plant (CP-3)'!$D$10>0,'Concrete Plant (CP-3)'!$D$10*365*4024/2000,\"\")),IF(E31=\"CP-4\",IF('Concrete Plant (CP-4)'!$D$9>0,'Concrete Plant (CP-4)'!$D$9*4024/2000,IF('Concrete Plant (CP-4)'!$D$10>0,'Concrete Plant (CP-4)'!$D$10*365*4024/2000,\"\")),IF(E31=\"CP-5\",IF('Concrete Plant (CP-5)'!$D$9>0,'Concrete Plant (CP-5)'!$D$9*4024/2000,IF('Concrete Plant (CP-5)'!$D$10>0,'Concrete Plant (CP-5)'!$D$10*365*4024/2000,\"\")),IF(E31=\"CP-6\",IF('Concrete Plant (CP-6)'!$D$9>0,'Concrete Plant (CP-6)'!$D$9*4024/2000,IF('Concrete Plant (CP-6)'!$D$10>0,'Concrete Plant (CP-6)'!$D$10*365*4024/2000,\"\")),IF(E31=\"CP-7\",IF('Concrete Plant (CP-7)'!$D$9>0,'Concrete Plant (CP-7)'!$D$9*4024/2000,IF('Concrete Plant (CP-7)'!$D$10>0,'Concrete Plant (CP-7)'!$D$10*365*4024/2000,\"\")),IF(E31=\"CP-8\",IF('Concrete Plant (CP-8)'!$D$9>0,'Concrete Plant (CP-8)'!$D$9*4024/2000,IF('Concrete Plant (CP-8)'!$D$10>0,'Concrete Plant (CP-8)'!$D$10*365*4024/2000,\"\")),IF(E31=\"CP-9\",IF('Concrete Plant (CP-9)'!$D$9>0,'Concrete Plant (CP-9)'!$D$9*4024/2000,IF('Concrete Plant (CP-9)'!$D$10>0,'Concrete Plant (CP-9)'!$D$10*365*4024/2000,\"\")),IF(E31=\"CP-10\",IF('Concrete Plant (CP-10)'!$D$9>0,'Concrete Plant (CP-10)'!$D$9*4024/2000,IF('Concrete Plant (CP-10)'!$D$10>0,'Concrete Plant (CP-10)'!$D$10*365*4024/2000,\"\")))))))))))))","v":""},null,null,"","","","",null,"","","","","","","","","","",""]
[null,null,null,null,null,null,null,null,null,"","",null,{"$f":"IF(E32=\"\",\"\",IF(E32=\"CP-1\",IF('Concrete Plant (CP-1)'!$D$9>0,'Concrete Plant (CP-1)'!$D$9*4024/2000,IF('Concrete Plant (CP-1)'!$D$10>0,'Concrete Plant (CP-1)'!$D$10*365*4024/2000,\"\")),IF(E32=\"CP-2\",IF('Concrete Plant (CP-2)'!$D$9>0,'Concrete Plant (CP-2)'!$D$9*4024/2000,IF('Concrete Plant (CP-2)'!$C$10>0,'Concrete Plant (CP-2)'!$C$10*365*4024/2000,\"\")),IF(E32=\"CP-3\",IF('Concrete Plant (CP-3)'!$D$9>0,'Concrete Plant (CP-3)'!$D$9*4024/2000,IF('Concrete Plant (CP-3)'!$D$10>0,'Concrete Plant (CP-3)'!$D$10*365*4024/2000,\"\")),IF(E32=\"CP-4\",IF('Concrete Plant (CP-4)'!$D$9>0,'Concrete Plant (CP-4)'!$D$9*4024/2000,IF('Concrete Plant (CP-4)'!$D$10>0,'Concrete Plant (CP-4)'!$D$10*365*4024/2000,\"\")),IF(E32=\"CP-5\",IF('Concrete Plant (CP-5)'!$D$9>0,'Concrete Plant (CP-5)'!$D$9*4024/2000,IF('Concrete Plant (CP-5)'!$D$10>0,'Concrete Plant (CP-5)'!$D$10*365*4024/2000,\"\")),IF(E32=\"CP-6\",IF('Concrete Plant (CP-6)'!$D$9>0,'Concrete Plant (CP-6)'!$D$9*4024/2000,IF('Concrete Plant (CP-6)'!$D$10>0,'Concrete Plant (CP-6)'!$D$10*365*4024/2000,\"\")),IF(E32=\"CP-7\",IF('Concrete Plant (CP-7)'!$D$9>0,'Concrete Plant (CP-7)'!$D$9*4024/2000,IF('Concrete Plant (CP-7)'!$D$10>0,'Concrete Plant (CP-7)'!$D$10*365*4024/2000,\"\")),IF(E32=\"CP-8\",IF('Concrete Plant (CP-8)'!$D$9>0,'Concrete Plant (CP-8)'!$D$9*4024/2000,IF('Concrete Plant (CP-8)'!$D$10>0,'Concrete Plant (CP-8)'!$D$10*365*4024/2000,\"\")),IF(E32=\"CP-9\",IF('Concrete Plant (CP-9)'!$D$9>0,'Concrete Plant (CP-9)'!$D$9*4024/2000,IF('Concrete Plant (CP-9)'!$D$10>0,'Concrete Plant (CP-9)'!$D$10*365*4024/2000,\"\")),IF(E32=\"CP-10\",IF('Concrete Plant (CP-10)'!$D$9>0,'Concrete Plant (CP-10)'!$D$9*4024/2000,IF('Concrete Plant (CP-10)'!$D$10>0,'Concrete Plant (CP-10)'!$D$10*365*4024/2000,\"\")))))))))))))","v":""},null,null,"","","","",null,"","","","","","","","","","",""]
[null,null,null,null,null,null,null,null,null,"","",null,{"$f":"IF(E33=\"\",\"\",IF(E33=\"CP-1\",IF('Concrete Plant (CP-1)'!$D$9>0,'Concrete Plant (CP-1)'!$D$9*4024/2000,IF('Concrete Plant (CP-1)'!$D$10>0,'Concrete Plant (CP-1)'!$D$10*365*4024/2000,\"\")),IF(E33=\"CP-2\",IF('Concrete Plant (CP-2)'!$D$9>0,'Concrete Plant (CP-2)'!$D$9*4024/2000,IF('Concrete Plant (CP-2)'!$C$10>0,'Concrete Plant (CP-2)'!$C$10*365*4024/2000,\"\")),IF(E33=\"CP-3\",IF('Concrete Plant (CP-3)'!$D$9>0,'Concrete Plant (CP-3)'!$D$9*4024/2000,IF('Concrete Plant (CP-3)'!$D$10>0,'Concrete Plant (CP-3)'!$D$10*365*4024/2000,\"\")),IF(E33=\"CP-4\",IF('Concrete Plant (CP-4)'!$D$9>0,'Concrete Plant (CP-4)'!$D$9*4024/2000,IF('Concrete Plant (CP-4)'!$D$10>0,'Concrete Plant (CP-4)'!$D$10*365*4024/2000,\"\")),IF(E33=\"CP-5\",IF('Concrete Plant (CP-5)'!$D$9>0,'Concrete Plant (CP-5)'!$D$9*4024/2000,IF('Concrete Plant (CP-5)'!$D$10>0,'Concrete Plant (CP-5)'!$D$10*365*4024/2000,\"\")),IF(E33=\"CP-6\",IF('Concrete Plant (CP-6)'!$D$9>0,'Concrete Plant (CP-6)'!$D$9*4024/2000,IF('Concrete Plant (CP-6)'!$D$10>0,'Concrete Plant (CP-6)'!$D$10*365*4024/2000,\"\")),IF(E33=\"CP-7\",IF('Concrete Plant (CP-7)'!$D$9>0,'Concrete Plant (CP-7)'!$D$9*4024/2000,IF('Concrete Plant (CP-7)'!$D$10>0,'Concrete Plant (CP-7)'!$D$10*365*4024/2000,\"\")),IF(E33=\"CP-8\",IF('Concrete Plant (CP-8)'!$D$9>0,'Concrete Plant (CP-8)'!$D$9*4024/2000,IF('Concrete Plant (CP-8)'!$D$10>0,'Concrete Plant (CP-8)'!$D$10*365*4024/2000,\"\")),IF(E33=\"CP-9\",IF('Concrete Plant (CP-9)'!$D$9>0,'Concrete Plant (CP-9)'!$D$9*4024/2000,IF('Concrete Plant (CP-9)'!$D$10>0,'Concrete Plant (CP-9)'!$D$10*365*4024/2000,\"\")),IF(E33=\"CP-10\",IF('Concrete Plant (CP-10)'!$D$9>0,'Concrete Plant (CP-10)'!$D$9*4024/2000,IF('Concrete Plant (CP-10)'!$D$10>0,'Concrete Plant (CP-10)'!$D$10*365*4024/2000,\"\")))))))))))))","v":""},null,null,"","","","",null,"","","","","","","","","","",""]
[null,null,null,null,null,null,null,null,null,"","",null,{"$f":"IF(E34=\"\",\"\",IF(E34=\"CP-1\",IF('Concrete Plant (CP-1)'!$D$9>0,'Concrete Plant (CP-1)'!$D$9*4024/2000,IF('Concrete Plant (CP-1)'!$D$10>0,'Concrete Plant (CP-1)'!$D$10*365*4024/2000,\"\")),IF(E34=\"CP-2\",IF('Concrete Plant (CP-2)'!$D$9>0,'Concrete Plant (CP-2)'!$D$9*4024/2000,IF('Concrete Plant (CP-2)'!$C$10>0,'Concrete Plant (CP-2)'!$C$10*365*4024/2000,\"\")),IF(E34=\"CP-3\",IF('Concrete Plant (CP-3)'!$D$9>0,'Concrete Plant (CP-3)'!$D$9*4024/2000,IF('Concrete Plant (CP-3)'!$D$10>0,'Concrete Plant (CP-3)'!$D$10*365*4024/2000,\"\")),IF(E34=\"CP-4\",IF('Concrete Plant (CP-4)'!$D$9>0,'Concrete Plant (CP-4)'!$D$9*4024/2000,IF('Concrete Plant (CP-4)'!$D$10>0,'Concrete Plant (CP-4)'!$D$10*365*4024/2000,\"\")),IF(E34=\"CP-5\",IF('Concrete Plant (CP-5)'!$D$9>0,'Concrete Plant (CP-5)'!$D$9*4024/2000,IF('Concrete Plant (CP-5)'!$D$10>0,'Concrete Plant (CP-5)'!$D$10*365*4024/2000,\"\")),IF(E34=\"CP-6\",IF('Concrete Plant (CP-6)'!$D$9>0,'Concrete Plant (CP-6)'!$D$9*4024/2000,IF('Concrete Plant (CP-6)'!$D$10>0,'Concrete Plant (CP-6)'!$D$10*365*4024/2000,\"\")),IF(E34=\"CP-7\",IF('Concrete Plant (CP-7)'!$D$9>0,'Concrete Plant (CP-7)'!$D$9*4024/2000,IF('Concrete Plant (CP-7)'!$D$10>0,'Concrete Plant (CP-7)'!$D$10*365*4024/2000,\"\")),IF(E34=\"CP-8\",IF('Concrete Plant (CP-8)'!$D$9>0,'Concrete Plant (CP-8)'!$D$9*4024/2000,IF('Concrete Plant (CP-8)'!$D$10>0,'Concrete Plant (CP-8)'!$D$10*365*4024/2000,\"\")),IF(E34=\"CP-9\",IF('Concrete Plant (CP-9)'!$D$9>0,'Concrete Plant (CP-9)'!$D$9*4024/2000,IF('Concrete Plant (CP-9)'!$D$10>0,'Concrete Plant (CP-9)'!$D$10*365*4024/2000,\"\")),IF(E34=\"CP-10\",IF('Concrete Plant (CP-10)'!$D$9>0,'Concrete Plant (CP-10)'!$D$9*4024/2000,IF('Concrete Plant (CP-10)'!$D$10>0,'Concrete Plant (CP-10)'!$D$10*365*4024/2000,\"\")))))))))))))","v":""},null,null,"","","","",null,"","","","","","","","","","",""]
[null,null,null,null,null,null,null,null,null,"","",null,{"$f":"IF(E35=\"\",\"\",IF(E35=\"CP-1\",IF('Concrete Plant (CP-1)'!$D$9>0,'Concrete Plant (CP-1)'!$D$9*4024/2000,IF('Concrete Plant (CP-1)'!$D$10>0,'Concrete Plant (CP-1)'!$D$10*365*4024/2000,\"\")),IF(E35=\"CP-2\",IF('Concrete Plant (CP-2)'!$D$9>0,'Concrete Plant (CP-2)'!$D$9*4024/2000,IF('Concrete Plant (CP-2)'!$C$10>0,'Concrete Plant (CP-2)'!$C$10*365*4024/2000,\"\")),IF(E35=\"CP-3\",IF('Concrete Plant (CP-3)'!$D$9>0,'Concrete Plant (CP-3)'!$D$9*4024/2000,IF('Concrete Plant (CP-3)'!$D$10>0,'Concrete Plant (CP-3)'!$D$10*365*4024/2000,\"\")),IF(E35=\"CP-4\",IF('Concrete Plant (CP-4)'!$D$9>0,'Concrete Plant (CP-4)'!$D$9*4024/2000,IF('Concrete Plant (CP-4)'!$D$10>0,'Concrete Plant (CP-4)'!$D$10*365*4024/2000,\"\")),IF(E35=\"CP-5\",IF('Concrete Plant (CP-5)'!$D$9>0,'Concrete Plant (CP-5)'!$D$9*4024/2000,IF('Concrete Plant (CP-5)'!$D$10>0,'Concrete Plant (CP-5)'!$D$10*365*4024/2000,\"\")),IF(E35=\"CP-6\",IF('Concrete Plant (CP-6)'!$D$9>0,'Concrete Plant (CP-6)'!$D$9*4024/2000,IF('Concrete Plant (CP-6)'!$D$10>0,'Concrete Plant (CP-6)'!$D$10*365*4024/2000,\"\")),IF(E35=\"CP-7\",IF('Concrete Plant (CP-7)'!$D$9>0,'Concrete Plant (CP-7)'!$D$9*4024/2000,IF('Concrete Plant (CP-7)'!$D$10>0,'Concrete Plant (CP-7)'!$D$10*365*4024/2000,\"\")),IF(E35=\"CP-8\",IF('Concrete Plant (CP-8)'!$D$9>0,'Concrete Plant (CP-8)'!$D$9*4024/2000,IF('Concrete Plant (CP-8)'!$D$10>0,'Concrete Plant (CP-8)'!$D$10*365*4024/2000,\"\")),IF(E35=\"CP-9\",IF('Concrete Plant (CP-9)'!$D$9>0,'Concrete Plant (CP-9)'!$D$9*4024/2000,IF('Concrete Plant (CP-9)'!$D$10>0,'Concrete Plant (CP-9)'!$D$10*365*4024/2000,\"\")),IF(E35=\"CP-10\",IF('Concrete Plant (CP-10)'!$D$9>0,'Concrete Plant (CP-10)'!$D$9*4024/2000,IF('Concrete Plant (CP-10)'!$D$10>0,'Concrete Plant (CP-10)'!$D$10*365*4024/2000,\"\")))))))))))))","v":""},null,null,"","","","",null,"","","","","","","","","","",""]
[null,null,null,null,null,null,null,null,null,"","",null,{"$f":"IF(E36=\"\",\"\",IF(E36=\"CP-1\",IF('Concrete Plant (CP-1)'!$D$9>0,'Concrete Plant (CP-1)'!$D$9*4024/2000,IF('Concrete Plant (CP-1)'!$D$10>0,'Concrete Plant (CP-1)'!$D$10*365*4024/2000,\"\")),IF(E36=\"CP-2\",IF('Concrete Plant (CP-2)'!$D$9>0,'Concrete Plant (CP-2)'!$D$9*4024/2000,IF('Concrete Plant (CP-2)'!$C$10>0,'Concrete Plant (CP-2)'!$C$10*365*4024/2000,\"\")),IF(E36=\"CP-3\",IF('Concrete Plant (CP-3)'!$D$9>0,'Concrete Plant (CP-3)'!$D$9*4024/2000,IF('Concrete Plant (CP-3)'!$D$10>0,'Concrete Plant (CP-3)'!$D$10*365*4024/2000,\"\")),IF(E36=\"CP-4\",IF('Concrete Plant (CP-4)'!$D$9>0,'Concrete Plant (CP-4)'!$D$9*4024/2000,IF('Concrete Plant (CP-4)'!$D$10>0,'Concrete Plant (CP-4)'!$D$10*365*4024/2000,\"\")),IF(E36=\"CP-5\",IF('Concrete Plant (CP-5)'!$D$9>0,'Concrete Plant (CP-5)'!$D$9*4024/2000,IF('Concrete Plant (CP-5)'!$D$10>0,'Concrete Plant (CP-5)'!$D$10*365*4024/2000,\"\")),IF(E36=\"CP-6\",IF('Concrete Plant (CP-6)'!$D$9>0,'Concrete Plant (CP-6)'!$D$9*4024/2000,IF('Concrete Plant (CP-6)'!$D$10>0,'Concrete Plant (CP-6)'!$D$10*365*4024/2000,\"\")),IF(E36=\"CP-7\",IF('Concrete Plant (CP-7)'!$D$9>0,'Concrete Plant (CP-7)'!$D$9*4024/2000,IF('Concrete Plant (CP-7)'!$D$10>0,'Concrete Plant (CP-7)'!$D$10*365*4024/2000,\"\")),IF(E36=\"CP-8\",IF('Concrete Plant (CP-8)'!$D$9>0,'Concrete Plant (CP-8)'!$D$9*4024/2000,IF('Concrete Plant (CP-8)'!$D$10>0,'Concrete Plant (CP-8)'!$D$10*365*4024/2000,\"\")),IF(E36=\"CP-9\",IF('Concrete Plant (CP-9)'!$D$9>0,'Concrete Plant (CP-9)'!$D$9*4024/2000,IF('Concrete Plant (CP-9)'!$D$10>0,'Concrete Plant (CP-9)'!$D$10*365*4024/2000,\"\")),IF(E36=\"CP-10\",IF('Concrete Plant (CP-10)'!$D$9>0,'Concrete Plant (CP-10)'!$D$9*4024/2000,IF('Concrete Plant (CP-10)'!$D$10>0,'Concrete Plant (CP-10)'!$D$10*365*4024/2000,\"\")))))))))))))","v":""},null,null,"","","","",null,"","","","","","","","","","",""]
[null,null,null,null,null,null,null,null,null,null,null,{"$f":"(SUM(IF(AE7=\"x\",L7,0),IF(AE8=\"x\",L8,0),IF(AE9=\"x\",L9,0),IF(AE10=\"x\",L10,0),IF(AE11=\"x\",L11,0),IF(AE12=\"x\",L12,0),IF(AE13=\"x\",L13,0),IF(AE14=\"x\",L14,0),IF(AE15=\"x\",L15,0),IF(AE16=\"x\",L16,0),IF(AE17=\"x\",L17,0),IF(AE18=\"x\",L18,0),IF(AE19=\"x\",L19,0),IF(AE20=\"x\",L20,0),IF(AE21=\"x\",L21,0),IF(AE22=\"x\",L22,0),IF(AE23=\"x\",L23,0),IF(AE24=\"x\",L24,0),IF(AE25=\"x\",L25,0),IF(AE26=\"x\",L26,0),IF(AE27=\"x\",L27,0),IF(AE28=\"x\",L28,0),IF(AE29=\"x\",L29,0),IF(AE30=\"x\",L30,0),IF(AE31=\"x\",L31,0),IF(AE32=\"x\",L32,0),IF(AE33=\"x\",L33,0),IF(AE34=\"x\",L34,0),IF(AE35=\"x\",L35,0),IF(AE36=\"x\",L36,0)))","v":0},{"$f":"IF(E37=\"\",\"\",IF(E37=\"CP-1\",IF('Concrete Plant (CP-1)'!$D$9>0,'Concrete Plant (CP-1)'!$D$9,IF('Concrete Plant (CP-1)'!$D$10>0,'Concrete Plant (CP-1)'!$D$10*365,\"\")),IF(E37=\"CP-2\",IF('Concrete Plant (CP-2)'!$C$9>0,'Concrete Plant (CP-2)'!$C$9,IF('Concrete Plant (CP-2)'!$C$10>0,'Concrete Plant (CP-2)'!$C$10*365,\"\")),IF(E37=\"CP-3\",IF('Concrete Plant (CP-3)'!$D$9>0,'Concrete Plant (CP-3)'!$D$9,IF('Concrete Plant (CP-3)'!$D$10>0,'Concrete Plant (CP-3)'!$D$10*365,\"\")),IF(E37=\"CP-4\",IF('Concrete Plant (CP-4)'!$D$9>0,'Concrete Plant (CP-4)'!$D$9,IF('Concrete Plant (CP-4)'!$D$10>0,'Concrete Plant (CP-4)'!$D$10*365,\"\")),IF(E37=\"CP-5\",IF('Concrete Plant (CP-5)'!$D$9>0,'Concrete Plant (CP-5)'!$D$9,IF('Concrete Plant (CP-5)'!$D$10>0,'Concrete Plant (CP-5)'!$D$10*365,\"\")),IF(E37=\"CP-6\",IF('Concrete Plant (CP-6)'!$D$9>0,'Concrete Plant (CP-6)'!$D$9,IF('Concrete Plant (CP-6)'!$D$10>0,'Concrete Plant (CP-6)'!$D$10*365,\"\")),IF(E37=\"CP-7\",IF('Concrete Plant (CP-7)'!$D$9>0,'Concrete Plant (CP-7)'!$D$9,IF('Concrete Plant (CP-7)'!$D$10>0,'Concrete Plant (CP-7)'!$D$10*365,\"\")),IF(E37=\"CP-8\",IF('Concrete Plant (CP-8)'!$D$9>0,'Concrete Plant (CP-8)'!$D$9,IF('Concrete Plant (CP-8)'!$D$10>0,'Concrete Plant (CP-8)'!$D$10*365,\"\")),IF(E37=\"CP-9\",IF('Concrete Plant (CP-9)'!$D$9>0,'Concrete Plant (CP-9)'!$D$9,IF('Concrete Plant (CP-9)'!$D$10>0,'Concrete Plant (CP-9)'!$D$10*365,\"\")),IF(E37=\"CP-10\",IF('Concrete Plant (CP-10)'!$D$9>0,'Concrete Plant (CP-10)'!$D$9,IF('Concrete Plant (CP-10)'!$D$10>0,'Concrete Plant (CP-10)'!$D$10*365,\"\")))))))))))))","v":""},null,null,{"$f":"(SUM(IF(AE7=\"x\",P7,0),IF(AE8=\"x\",P8,0),IF(AE9=\"x\",P9,0),IF(AE10=\"x\",P10,0),IF(AE11=\"x\",P11,0),IF(AE12=\"x\",P12,0),IF(AE13=\"x\",P13,0),IF(AE14=\"x\",P14,0),IF(AE15=\"x\",P15,0),IF(AE16=\"x\",P16,0),IF(AE17=\"x\",P17,0),IF(AE18=\"x\",P18,0),IF(AE19=\"x\",P19,0),IF(AE20=\"x\",P20,0),IF(AE21=\"x\",P21,0),IF(AE22=\"x\",P22,0),IF(AE23=\"x\",P23,0),IF(AE24=\"x\",P24,0),IF(AE25=\"x\",P25,0),IF(AE26=\"x\",P26,0),IF(AE27=\"x\",P27,0),IF(AE28=\"x\",P28,0),IF(AE29=\"x\",P29,0),IF(AE30=\"x\",P30,0),IF(AE31=\"x\",P31,0),IF(AE32=\"x\",P32,0),IF(AE33=\"x\",P33,0),IF(AE34=\"x\",P34,0),IF(AE35=\"x\",P35,0),IF(AE36=\"x\",P36,0)))","v":0},null,"",null,"Unpaved",{"$f":"(MAX(IF(AE7=\"x\",U7,0),IF(AE8=\"x\",U8,0),IF(AE9=\"x\",U9,0),IF(AE10=\"x\",U10,0),IF(AE11=\"x\",U11,0),IF(AE12=\"x\",U12,0),IF(AE13=\"x\",U13,0),IF(AE14=\"x\",U14,0),IF(AE15=\"x\",U15,0),IF(AE16=\"x\",U16,0),IF(AE27=\"x\",U27,0),IF(AE28=\"x\",U28,0),IF(AE29=\"x\",U29,0),IF(AE30=\"x\",U30,0),IF(AE31=\"x\",U31,0),IF(AE32=\"x\",U32,0),IF(AE33=\"x\",U33,0),IF(AE34=\"x\",U34,0),IF(AE35=\"x\",U35,0),IF(AE36=\"x\",U36,0)))","v":0},{"$f":"(SUM(IF(AE7=\"x\",V7,0),IF(AE8=\"x\",V8,0),IF(AE9=\"x\",V9,0),IF(AE10=\"x\",V10,0),IF(AE11=\"x\",V11,0),IF(AE12=\"x\",V12,0),IF(AE13=\"x\",V13,0),IF(AE14=\"x\",V14,0),IF(AE15=\"x\",V15,0),IF(AE16=\"x\",V16,0),IF(AE27=\"x\",V27,0),IF(AE28=\"x\",V28,0),IF(AE29=\"x\",V29,0),IF(AE30=\"x\",V30,0),IF(AE31=\"x\",V31,0),IF(AE32=\"x\",V32,0),IF(AE33=\"x\",V33,0),IF(AE34=\"x\",V34,0),IF(AE35=\"x\",V35,0),IF(AE36=\"x\",V36,0)))","v":0},{"$f":"SUM(W7:W36)","v":0},"",null,{"$f":"(MAX(IF(AE7=\"x\",Z7,0),IF(AE8=\"x\",Z8,0),IF(AE9=\"x\",Z9,0),IF(AE10=\"x\",Z10,0),IF(AE11=\"x\",Z11,0),IF(AE12=\"x\",Z12,0),IF(AE13=\"x\",Z13,0),IF(AE14=\"x\",Z14,0),IF(AE15=\"x\",Z15,0),IF(AE16=\"x\",Z16,0),IF(AE27=\"x\",Z27,0),IF(AE28=\"x\",Z28,0),IF(AE29=\"x\",Z29,0),IF(AE30=\"x\",Z30,0),IF(AE31=\"x\",Z31,0),IF(AE32=\"x\",Z32,0),IF(AE33=\"x\",Z33,0),IF(AE34=\"x\",Z34,0),IF(AE35=\"x\",Z35,0),IF(AE36=\"x\",Z36,0)))","v":0},{"$f":"(SUM(IF(AE7=\"x\",AA7,0),IF(AE8=\"x\",AA8,0),IF(AE9=\"x\",AA9,0),IF(AE10=\"x\",AA10,0),IF(AE11=\"x\",AA11,0),IF(AE12=\"x\",AA12,0),IF(AE13=\"x\",AA13,0),IF(AE14=\"x\",AA14,0),IF(AE15=\"x\",AA15,0),IF(AE16=\"x\",AA16,0),IF(AE27=\"x\",AA27,0),IF(AE28=\"x\",AA28,0),IF(AE29=\"x\",AA29,0),IF(AE30=\"x\",AA30,0),IF(AE31=\"x\",AA31,0),IF(AE32=\"x\",AA32,0),IF(AE33=\"x\",AA33,0),IF(AE34=\"x\",AA34,0),IF(AE35=\"x\",AA35,0),IF(AE36=\"x\",AA36,0)))","v":0},{"$f":"SUM(AB7:AB36)","v":0},""]
[null,null,null,null,null,null,null,null,null,null,null,{"$f":"(SUM(IF(AE7=\"x\",0,L7),IF(AE8=\"x\",0,L8),IF(AE9=\"x\",0,L9),IF(AE10=\"x\",0,L10),IF(AE11=\"x\",0,L11),IF(AE12=\"x\",0,L12),IF(AE13=\"x\",0,L13),IF(AE14=\"x\",0,L14),IF(AE15=\"x\",0,L15),IF(AE16=\"x\",0,L16),IF(AE17=\"x\",0,L17),IF(AE18=\"x\",0,L18),IF(AE19=\"x\",0,L19),IF(AE20=\"x\",0,L20),IF(AE21=\"x\",0,L21),IF(AE22=\"x\",0,L22),IF(AE23=\"x\",0,L23),IF(AE24=\"x\",0,L24),IF(AE25=\"x\",0,L25),IF(AE26=\"x\",0,L26),IF(AE27=\"x\",0,L27),IF(AE28=\"x\",0,L28),IF(AE29=\"x\",0,L29),IF(AE30=\"x\",0,L30),IF(AE31=\"x\",0,L31),IF(AE32=\"x\",0,L32),IF(AE33=\"x\",0,L33),IF(AE34=\"x\",0,L34),IF(AE35=\"x\",0,L35),IF(AE36=\"x\",0,L36)))","v":0},{"$f":"IF(E38=\"\",\"\",IF(E38=\"CP-1\",IF('Concrete Plant (CP-1)'!$D$9>0,'Concrete Plant (CP-1)'!$D$9,IF('Concrete Plant (CP-1)'!$D$10>0,'Concrete Plant (CP-1)'!$D$10*365,\"\")),IF(E38=\"CP-2\",IF('Concrete Plant (CP-2)'!$C$9>0,'Concrete Plant (CP-2)'!$C$9,IF('Concrete Plant (CP-2)'!$C$10>0,'Concrete Plant (CP-2)'!$C$10*365,\"\")),IF(E38=\"CP-3\",IF('Concrete Plant (CP-3)'!$D$9>0,'Concrete Plant (CP-3)'!$D$9,IF('Concrete Plant (CP-3)'!$D$10>0,'Concrete Plant (CP-3)'!$D$10*365,\"\")),IF(E38=\"CP-4\",IF('Concrete Plant (CP-4)'!$D$9>0,'Concrete Plant (CP-4)'!$D$9,IF('Concrete Plant (CP-4)'!$D$10>0,'Concrete Plant (CP-4)'!$D$10*365,\"\")),IF(E38=\"CP-5\",IF('Concrete Plant (CP-5)'!$D$9>0,'Concrete Plant (CP-5)'!$D$9,IF('Concrete Plant (CP-5)'!$D$10>0,'Concrete Plant (CP-5)'!$D$10*365,\"\")),IF(E38=\"CP-6\",IF('Concrete Plant (CP-6)'!$D$9>0,'Concrete Plant (CP-6)'!$D$9,IF('Concrete Plant (CP-6)'!$D$10>0,'Concrete Plant (CP-6)'!$D$10*365,\"\")),IF(E38=\"CP-7\",IF('Concrete Plant (CP-7)'!$D$9>0,'Concrete Plant (CP-7)'!$D$9,IF('Concrete Plant (CP-7)'!$D$10>0,'Concrete Plant (CP-7)'!$D$10*365,\"\")),IF(E38=\"CP-8\",IF('Concrete Plant (CP-8)'!$D$9>0,'Concrete Plant (CP-8)'!$D$9,IF('Concrete Plant (CP-8)'!$D$10>0,'Concrete Plant (CP-8)'!$D$10*365,\"\")),IF(E38=\"CP-9\",IF('Concrete Plant (CP-9)'!$D$9>0,'Concrete Plant (CP-9)'!$D$9,IF('Concrete Plant (CP-9)'!$D$10>0,'Concrete Plant (CP-9)'!$D$10*365,\"\")),IF(E38=\"CP-10\",IF('Concrete Plant (CP-10)'!$D$9>0,'Concrete Plant (CP-10)'!$D$9,IF('Concrete Plant (CP-10)'!$D$10>0,'Concrete Plant (CP-10)'!$D$10*365,\"\")))))))))))))","v":""},null,null,{"$f":"(SUM(IF(AE7=\"x\",0,P7),IF(AE8=\"x\",0,P8),IF(AE9=\"x\",0,P9),IF(AE10=\"x\",0,P10),IF(AE11=\"x\",0,P11),IF(AE12=\"x\",0,P12),IF(AE13=\"x\",0,P13),IF(AE14=\"x\",0,P14),IF(AE15=\"x\",0,P15),IF(AE16=\"x\",0,P16),IF(AE17=\"x\",0,P17),IF(AE18=\"x\",0,P18),IF(AE19=\"x\",0,P19),IF(AE20=\"x\",0,P20),IF(AE21=\"x\",0,P21),IF(AE22=\"x\",0,P22),IF(AE23=\"x\",0,P23),IF(AE24=\"x\",0,P24),IF(AE25=\"x\",0,P25),IF(AE26=\"x\",0,P26),IF(AE27=\"x\",0,P27),IF(AE28=\"x\",0,P28),IF(AE29=\"x\",0,P29),IF(AE30=\"x\",0,P30),IF(AE31=\"x\",0,P31),IF(AE32=\"x\",0,P32),IF(AE33=\"x\",0,P33),IF(AE34=\"x\",0,P34),IF(AE35=\"x\",0,P35),IF(AE36=\"x\",0,P36)))","v":0},null,"",null,"Paved",{"$f":"(SUM(IF(AE7=\"x\",0,U7),IF(AE8=\"x\",0,U8),IF(AE9=\"x\",0,U9),IF(AE10=\"x\",0,U10),IF(AE11=\"x\",0,U11),IF(AE12=\"x\",0,U12),IF(AE13=\"x\",0,U13),IF(AE14=\"x\",0,U14),IF(AE15=\"x\",0,U15),IF(AE16=\"x\",0,U16),IF(AE27=\"x\",0,U27),IF(AE28=\"x\",0,U28),IF(AE29=\"x\",0,U29),IF(AE30=\"x\",0,U30),IF(AE31=\"x\",0,U31),IF(AE32=\"x\",0,U32),IF(AE33=\"x\",0,U33),IF(AE34=\"x\",0,U34),IF(AE35=\"x\",0,U35),IF(AE36=\"x\",0,U36)))","v":0},{"$f":"(SUM(IF(AE7=\"x\",0,V7),IF(AE8=\"x\",0,V8),IF(AE9=\"x\",0,V9),IF(AE10=\"x\",0,V10),IF(AE11=\"x\",0,V11),IF(AE12=\"x\",0,V12),IF(AE13=\"x\",0,V13),IF(AE14=\"x\",0,V14),IF(AE15=\"x\",0,V15),IF(AE16=\"x\",0,V16),IF(AE27=\"x\",0,V27),IF(AE28=\"x\",0,V28),IF(AE29=\"x\",0,V29),IF(AE30=\"x\",0,V30),IF(AE31=\"x\",0,V31),IF(AE32=\"x\",0,V32),IF(AE33=\"x\",0,V33),IF(AE34=\"x\",0,V34),IF(AE35=\"x\",0,V35),IF(AE36=\"x\",0,V36)))","v":0},null,null,null,{"$f":"(SUM(IF(AE7=\"x\",0,Z7),IF(AE8=\"x\",0,Z8),IF(AE9=\"x\",0,Z9),IF(AE10=\"x\",0,Z10),IF(AE11=\"x\",0,Z11),IF(AE12=\"x\",0,Z12),IF(AE13=\"x\",0,Z13),IF(AE14=\"x\",0,Z14),IF(AE15=\"x\",0,Z15),IF(AE16=\"x\",0,Z16),IF(AE27=\"x\",0,Z27),IF(AE28=\"x\",0,Z28),IF(AE29=\"x\",0,Z29),IF(AE30=\"x\",0,Z30),IF(AE31=\"x\",0,Z31),IF(AE32=\"x\",0,Z32),IF(AE33=\"x\",0,Z33),IF(AE34=\"x\",0,Z34),IF(AE35=\"x\",0,Z35),IF(AE36=\"x\",0,Z36)))","v":0},{"$f":"(SUM(IF(AE7=\"x\",0,AA7),IF(AE8=\"x\",0,AA8),IF(AE9=\"x\",0,AA9),IF(AE10=\"x\",0,AA10),IF(AE11=\"x\",0,AA11),IF(AE12=\"x\",0,AA12),IF(AE13=\"x\",0,AA13),IF(AE14=\"x\",0,AA14),IF(AE15=\"x\",0,AA15),IF(AE16=\"x\",0,AA16),IF(AE27=\"x\",0,AA27),IF(AE28=\"x\",0,AA28),IF(AE29=\"x\",0,AA29),IF(AE30=\"x\",0,AA30),IF(AE31=\"x\",0,AA31),IF(AE32=\"x\",0,AA32),IF(AE33=\"x\",0,AA33),IF(AE34=\"x\",0,AA34),IF(AE35=\"x\",0,AA35),IF(AE36=\"x\",0,AA36)))","v":0}]
[]
[null,null,null,"Total potential PM2.5 emissions (tons/yr) from all unpaved haul roads used by the facility:",null,null,null,null,null,null,null,{"$f":"(SUM(IF(AE7=\"x\",X7,0),IF(AE8=\"x\",X8,0),IF(AE9=\"x\",X9,0),IF(AE10=\"x\",X10,0),IF(AE11=\"x\",X11,0),IF(AE12=\"x\",X12,0),IF(AE13=\"x\",X13,0),IF(AE14=\"x\",X14,0),IF(AE15=\"x\",X15,0),IF(AE16=\"x\",X16,0),IF(AE17=\"x\",X17,0),IF(AE18=\"x\",X18,0),IF(AE19=\"x\",X19,0),IF(AE20=\"x\",X20,0),IF(AE21=\"x\",X21,0),IF(AE22=\"x\",X22,0),IF(AE23=\"x\",X23,0),IF(AE24=\"x\",X24,0),IF(AE25=\"x\",X25,0),IF(AE26=\"x\",X26,0),IF(AE27=\"x\",X27,0),IF(AE28=\"x\",X28,0),IF(AE29=\"x\",X29,0),IF(AE30=\"x\",X30,0),IF(AE31=\"x\",X31,0),IF(AE32=\"x\",X32,0),IF(AE33=\"x\",X33,0),IF(AE34=\"x\",X34,0),IF(AE35=\"x\",X35,0),IF(AE36=\"x\",X36,0)))","v":0}]
[null,null,null,"Total potential PM2.5 emissions (tons/yr) from all paved haul roads used by the facility:",null,null,null,null,null,null,null,{"$f":"(SUM(IF(AE7=\"x\",0,X7),IF(AE8=\"x\",0,X8),IF(AE9=\"x\",0,X9),IF(AE10=\"x\",0,X10),IF(AE11=\"x\",0,X11),IF(AE12=\"x\",0,X12),IF(AE13=\"x\",0,X13),IF(AE14=\"x\",0,X14),IF(AE15=\"x\",0,X15),IF(AE16=\"x\",0,X16),IF(AE17=\"x\",0,X17),IF(AE18=\"x\",0,X18),IF(AE19=\"x\",0,X19),IF(AE20=\"x\",0,X20),IF(AE21=\"x\",0,X21),IF(AE22=\"x\",0,X22),IF(AE23=\"x\",0,X23),IF(AE24=\"x\",0,X24),IF(AE25=\"x\",0,X25),IF(AE26=\"x\",0,X26),IF(AE27=\"x\",0,X27),IF(AE28=\"x\",0,X28),IF(AE29=\"x\",0,X29),IF(AE30=\"x\",0,X30),IF(AE31=\"x\",0,X31),IF(AE32=\"x\",0,X32),IF(AE33=\"x\",0,X33),IF(AE34=\"x\",0,X34),IF(AE35=\"x\",0,X35),IF(AE36=\"x\",0,X36)))","v":0}]
[null,null,null,"Total potential PM10 emissions (tons/yr) from all unpaved haul roads used by the facility:",null,null,null,null,null,null,null,{"$f":"(SUM(IF(AE7=\"x\",AC7,0),IF(AE8=\"x\",AC8,0),IF(AE9=\"x\",AC9,0),IF(AE10=\"x\",AC10,0),IF(AE11=\"x\",AC11,0),IF(AE12=\"x\",AC12,0),IF(AE13=\"x\",AC13,0),IF(AE14=\"x\",AC14,0),IF(AE15=\"x\",AC15,0),IF(AE16=\"x\",AC16,0),IF(AE17=\"x\",AC17,0),IF(AE18=\"x\",AC18,0),IF(AE19=\"x\",AC19,0),IF(AE20=\"x\",AC20,0),IF(AE21=\"x\",AC21,0),IF(AE22=\"x\",AC22,0),IF(AE23=\"x\",AC23,0),IF(AE24=\"x\",AC24,0),IF(AE25=\"x\",AC25,0),IF(AE26=\"x\",AC26,0),IF(AE27=\"x\",AC27,0),IF(AE28=\"x\",AC28,0),IF(AE29=\"x\",AC29,0),IF(AE30=\"x\",AC30,0),IF(AE31=\"x\",AC31,0),IF(AE32=\"x\",AC32,0),IF(AE33=\"x\",AC33,0),IF(AE34=\"x\",AC34,0),IF(AE35=\"x\",AC35,0),IF(AE36=\"x\",AC36,0)))","v":0}]
[null,null,null,"Total potential PM10 emissions (tons/yr) from all paved haul roads used by the facility:",null,null,null,null,null,null,null,{"$f":"(SUM(IF(AE7=\"x\",0,AC7),IF(AE8=\"x\",0,AC8),IF(AE9=\"x\",0,AC9),IF(AE10=\"x\",0,AC10),IF(AE11=\"x\",0,AC11),IF(AE12=\"x\",0,AC12),IF(AE13=\"x\",0,AC13),IF(AE14=\"x\",0,AC14),IF(AE15=\"x\",0,AC15),IF(AE16=\"x\",0,AC16),IF(AE17=\"x\",0,AC17),IF(AE18=\"x\",0,AC18),IF(AE19=\"x\",0,AC19),IF(AE20=\"x\",0,AC20),IF(AE21=\"x\",0,AC21),IF(AE22=\"x\",0,AC22),IF(AE23=\"x\",0,AC23),IF(AE24=\"x\",0,AC24),IF(AE25=\"x\",0,AC25),IF(AE26=\"x\",0,AC26),IF(AE27=\"x\",0,AC27),IF(AE28=\"x\",0,AC28),IF(AE29=\"x\",0,AC29),IF(AE30=\"x\",0,AC30),IF(AE31=\"x\",0,AC31),IF(AE32=\"x\",0,AC32),IF(AE33=\"x\",0,AC33),IF(AE34=\"x\",0,AC34),IF(AE35=\"x\",0,AC35),IF(AE36=\"x\",0,AC36)))","v":0}]
[]
[null,null,null,"Total actual PM2.5 emissions (tons/yr) from all unpaved haul roads used by the facility:",null,null,null,null,null,null,null,{"$f":"(SUM(IF(AE7=\"x\",Y7,0),IF(AE8=\"x\",Y8,0),IF(AE9=\"x\",Y9,0),IF(AE10=\"x\",Y10,0),IF(AE11=\"x\",Y11,0),IF(AE12=\"x\",Y12,0),IF(AE13=\"x\",Y13,0),IF(AE14=\"x\",Y14,0),IF(AE15=\"x\",Y15,0),IF(AE16=\"x\",Y16,0),IF(AE17=\"x\",Y17,0),IF(AE18=\"x\",Y18,0),IF(AE19=\"x\",Y19,0),IF(AE20=\"x\",Y20,0),IF(AE21=\"x\",Y21,0),IF(AE22=\"x\",Y22,0),IF(AE23=\"x\",Y23,0),IF(AE24=\"x\",Y24,0),IF(AE25=\"x\",Y25,0),IF(AE26=\"x\",Y26,0),IF(AE27=\"x\",Y27,0),IF(AE28=\"x\",Y28,0),IF(AE29=\"x\",Y29,0),IF(AE30=\"x\",Y30,0),IF(AE31=\"x\",Y31,0),IF(AE32=\"x\",Y32,0),IF(AE33=\"x\",Y33,0),IF(AE34=\"x\",Y34,0),IF(AE35=\"x\",Y35,0),IF(AE36=\"x\",Y36,0)))","v":0}]
[null,null,null,"Total actual PM2.5 emissions (tons/yr) from all paved haul roads used by the facility:",null,null,null,null,null,null,null,{"$f":"(SUM(IF(AE7=\"x\",0,Y7),IF(AE8=\"x\",0,Y8),IF(AE9=\"x\",0,Y9),IF(AE10=\"x\",0,Y10),IF(AE11=\"x\",0,Y11),IF(AE12=\"x\",0,Y12),IF(AE13=\"x\",0,Y13),IF(AE14=\"x\",0,Y14),IF(AE15=\"x\",0,Y15),IF(AE16=\"x\",0,Y16),IF(AE17=\"x\",0,Y17),IF(AE18=\"x\",0,Y18),IF(AE19=\"x\",0,Y19),IF(AE20=\"x\",0,Y20),IF(AE21=\"x\",0,Y21),IF(AE22=\"x\",0,Y22),IF(AE23=\"x\",0,Y23),IF(AE24=\"x\",0,Y24),IF(AE25=\"x\",0,Y25),IF(AE26=\"x\",0,Y26),IF(AE27=\"x\",0,Y27),IF(AE28=\"x\",0,Y28),IF(AE29=\"x\",0,Y29),IF(AE30=\"x\",0,Y30),IF(AE31=\"x\",0,Y31),IF(AE32=\"x\",0,Y32),IF(AE33=\"x\",0,Y33),IF(AE34=\"x\",0,Y34),IF(AE35=\"x\",0,Y35),IF(AE36=\"x\",0,Y36)))","v":0}]
[null,null,null,"Total actual PM10 emissions (tons/yr) from all unpaved haul roads used by the facility:",null,null,null,null,null,null,null,{"$f":"(SUM(IF(AE7=\"x\",AD7,0),IF(AE8=\"x\",AD8,0),IF(AE9=\"x\",AD9,0),IF(AE10=\"x\",AD10,0),IF(AE11=\"x\",AD11,0),IF(AE12=\"x\",AD12,0),IF(AE13=\"x\",AD13,0),IF(AE14=\"x\",AD14,0),IF(AE15=\"x\",AD15,0),IF(AE16=\"x\",AD16,0),IF(AE17=\"x\",AD17,0),IF(AE18=\"x\",AD18,0),IF(AE19=\"x\",AD19,0),IF(AE20=\"x\",AD20,0),IF(AE21=\"x\",AD21,0),IF(AE22=\"x\",AD22,0),IF(AE23=\"x\",AD23,0),IF(AE24=\"x\",AD24,0),IF(AE25=\"x\",AD25,0),IF(AE26=\"x\",AD26,0),IF(AE27=\"x\",AD27,0),IF(AE28=\"x\",AD28,0),IF(AE29=\"x\",AD29,0),IF(AE30=\"x\",AD30,0),IF(AE31=\"x\",AD31,0),IF(AE32=\"x\",AD32,0),IF(AE33=\"x\",AD33,0),IF(AE34=\"x\",AD34,0),IF(AE35=\"x\",AD35,0),IF(AE36=\"x\",AD36,0)))","v":0}]
[null,null,null,"Total actual PM10 emissions (tons/yr) from all paved haul roads used by the facility:",null,null,null,null,null,null,null,{"$f":"(SUM(IF(AE7=\"x\",0,AD7),IF(AE8=\"x\",0,AD8),IF(AE9=\"x\",0,AD9),IF(AE10=\"x\",0,AD10),IF(AE11=\"x\",0,AD11),IF(AE12=\"x\",0,AD12),IF(AE13=\"x\",0,AD13),IF(AE14=\"x\",0,AD14),IF(AE15=\"x\",0,AD15),IF(AE16=\"x\",0,AD16),IF(AE17=\"x\",0,AD17),IF(AE18=\"x\",0,AD18),IF(AE19=\"x\",0,AD19),IF(AE20=\"x\",0,AD20),IF(AE21=\"x\",0,AD21),IF(AE22=\"x\",0,AD22),IF(AE23=\"x\",0,AD23),IF(AE24=\"x\",0,AD24),IF(AE25=\"x\",0,AD25),IF(AE26=\"x\",0,AD26),IF(AE27=\"x\",0,AD27),IF(AE28=\"x\",0,AD28),IF(AE29=\"x\",0,AD29),IF(AE30=\"x\",0,AD30),IF(AE31=\"x\",0,AD31),IF(AE32=\"x\",0,AD32),IF(AE33=\"x\",0,AD33),IF(AE34=\"x\",0,AD34),IF(AE35=\"x\",0,AD35),IF(AE36=\"x\",0,AD36)))","v":0}]

{"sheet":"Permitted Diesel Engines","index":12,"n_rows":76,"n_cols":55,"rows_kept":76,"cut":false,"hidden":false,"merged":[]}
[null,null,"PERMITTED DIESEL ENGINES"]
[null,null,"Please fill in the yellow boxes as applicable for your facility. "]
[]
[null,null,null,null,null,"Actual Sulfur Content of Fuel:",null,"%"]
[]
[null,null,"Concrete Plant #","Emission Point #","Emission Unit #","Emission Unit Description     (>600 bhp / ≤ 600 bhp)","Permit Number","Hours/Yr Plant Wide Limit","Gal/Yr Plant Wide Limit","Sulfur Content Limit (%)","Sulfur Content","Stack Height (ft)","Stack Diameter (inches)","Stack Type","Exhaust Flowrate (acfm)","Exhaust Temp (Degree F)","Max Hourly Rate (gal/hr)","Max Hourly Rate (MMBtu/hr)",{"$f":"'Facility Information'!A53&\" Annual Throughput (gallons/yr)\"","v":" Annual Throughput (gallons/yr)"},"Annual Throughput (MMBtu/yr)","Diesel Generator> 600 bhp",null,null,"PM2.5 Emission Factor (lb/MMBtu)","Potential Emissions (lb/hr)","Potential Emissions (tons/yr)","Actual Emissions (tons/yr)","PM10 Emission Factor (lb/MMBtu)","Potential Emissions (lb/hr)","Potential Emissions (tons/yr)","Actual Emissions (tons/yr)","SO2 Emission Factor (lb/MMBtu)","Potential Emissions (lb/hr)","Potential Emissions (tons/yr)","Actual Emissions (tons/yr)","NOx Emission Factor (lb/MMBtu)","Potential Emissions (lb/hr)","Potential Emissions (tons/yr)","Actual Emissions (tons/yr)","VOC Emission Factor (lb/MMBtu)","Potential Emissions (lb/hr)","Potential Emissions (tons/yr)","Actual Emissions (tons/yr)","CO Emission Factor (lb/MMBtu)","Potential Emissions (lb/hr)","Potential Emissions (tons/yr)","Actual Emissions (tons/yr)","Formaldehyde Emission Factor (lb/MMBtu)","Potential Emissions (lb/hr)","Potential Emissions (tons/yr)","Actual Emissions (tons/yr)","Benzene Emission Factor (lb/MMBtu)","Potential Emissions (lb/hr)","Potential Emissions (tons/yr)","Actual Emissions (tons/yr)"]
[">600 bhp",{"$f":"IF(F7=\"Diesel Generator> 600 bhp\",\"yes\",\"no\")","v":"no"},null,null,null,null,null,null,null,null,{"$f":"IF(J7=\"\",0.5,J7)","v":0.5},null,null,null,null,null,null,{"$f":"IF(Q7=\"\",\"\",Q7*0.14)","v":""},null,{"$f":"IF(S7=\"\",\"\",S7*0.14)","v":""},"Diesel Generator ≤ 600 bhp",{"$f":"IF(B7=\"no\",H7*Q7*0.14,\"\")","v":0},{"$f":"IF(B7=\"yes\",H7*Q7*0.14,\"\")","v":""},{"$f":"IF(F7=\"\",\"\",IF(B7=\"no\",'Emission Factors'!$D$33,'Emission Factors'!$D$34))","v":""},{"$f":"IF(F7=\"\",\"\",X7*R7)","v":""},{"$f":"IF(F7=\"\",\"\",IF(I7>0,I7*0.14*X7/2000,IF(H7>0,X7*R7*H7/2000,Y7*8760/2000)))","v":""},{"$f":"IF(F7=\"\",\"\",T7*X7/2000)","v":""},{"$f":"IF(F7=\"\",\"\",IF(B7=\"no\",'Emission Factors'!$F$33,'Emission Factors'!$F$34))","v":""},{"$f":"IF(F7=\"\",\"\",AB7*R7)","v":""},{"$f":"IF(F7=\"\",\"\",IF(I7>0,I7*0.14*AB7/2000,IF(H7>0,AB7*R7*H7/2000,AC7*8760/2000)))","v":""},{"$f":"IF(F7=\"\",\"\",T7*AB7/2000)","v":""},{"$f":"IF(F7=\"\",\"\",IF(B7=\"no\",'Emission Factors'!$H$33,'Emission Factors'!$H$34))","v":""},{"$f":"IF(F7=\"\",\"\",IF(C7=\"CP-1\",IF('Concrete Plant (CP-1)'!$I$12>0,'Concrete Plant (CP-1)'!$I$12,AF7*R7*K7),IF(C7=\"CP-2\",IF('Concrete Plant (CP-2)'!$I$12>0,'Concrete Plant (CP-2)'!$I$12,AF7*R7*K7),IF(C7=\"CP-3\",IF('Concrete Plant (CP-3)'!$I$12>0,'Concrete Plant (CP-3)'!$I$12,AF7*R7*K7),IF(C7=\"CP-4\",IF('Concrete Plant (CP-4)'!$I$12>0,'Concrete Plant (CP-4)'!$I$12,AF7*R7*K7),IF(C7=\"CP-5\",IF('Concrete Plant (CP-5)'!$I$12>0,'Concrete Plant (CP-5)'!$I$12,AF7*R7*K7),IF(C7=\"CP-6\",IF('Concrete Plant (CP-6)'!$I$12>0,'Concrete Plant (CP-6)'!$I$12,AF7*R7*K7),IF(C7=\"CP-7\",IF('Concrete Plant (CP-7)'!$I$12>0,'Concrete Plant (CP-7)'!$I$12,AF7*R7*K7),IF(C7=\"CP-8\",IF('Concrete Plant (CP-8)'!$I$12>0,'Concrete Plant (CP-8)'!$I$12,AF7*R7*K7),IF(C7=\"CP-9\",IF('Concrete Plant (CP-9)'!$I$12>0,'Concrete Plant (CP-9)'!$I$12,AF7*R7*K7),IF(C7=\"CP-10\",IF('Concrete Plant (CP-10)'!$I$12>0,'Concrete Plant (CP-10)'!$I$12,AF7*R7*K7))))))))))))","v":""},{"$f":"IF(F7=\"\",\"\",IF(AF7=1.01,IF(I7>0,I7*0.14*AF7*K7/2000,IF(H7>0,AF7*K7*R7*H7/2000,AG7*8760/2000)),IF(I7>0,I7*0.14*AF7/2000,IF(H7>0,AF7*R7*H7/2000,AG7*8760/2000))))","v":""},{"$f":"IF(F7=\"\",\"\",IF(AF7=1.01,IF($G$4=\"\",T7*AF7*K7/2000,T7*AF7*$G$4/2000),AF7*T7/2000))","v":""},{"$f":"IF(F7=\"\",\"\",IF(B7=\"no\",'Emission Factors'!$J$33,'Emission Factors'!$J$34))","v":""},{"$f":"IF(F7=\"\",\"\",IF(C7=\"CP-1\",IF('Concrete Plant (CP-1)'!$I$13>0,'Concrete Plant (CP-1)'!$I$13,AJ7*R7),IF(C7=\"CP-2\",IF('Concrete Plant (CP-2)'!$I$13>0,'Concrete Plant (CP-2)'!$I$13,AJ7*R7),IF(C7=\"CP-3\",IF('Concrete Plant (CP-3)'!$I$13>0,'Concrete Plant (CP-3)'!$I$13,AJ7*R7),IF(C7=\"CP-4\",IF('Concrete Plant (CP-4)'!$I$13>0,'Concrete Plant (CP-4)'!$I$13,AJ7*R7),IF(C7=\"CP-5\",IF('Concrete Plant (CP-5)'!$I$13>0,'Concrete Plant (CP-5)'!$I$13,AJ7*R7),IF(C7=\"CP-6\",IF('Concrete Plant (CP-6)'!$I$13>0,'Concrete Plant (CP-6)'!$I$13,AJ7*R7),IF(C7=\"CP-7\",IF('Concrete Plant (CP-7)'!$I$13>0,'Concrete Plant (CP-7)'!$I$13,AJ7*R7),IF(C7=\"CP-8\",IF('Concrete Plant (CP-8)'!$I$13>0,'Concrete Plant (CP-8)'!$I$13,AJ7*R7),IF(C7=\"CP-9\",IF('Concrete Plant (CP-9)'!$I$13>0,'Concrete Plant (CP-9)'!$I$13,AJ7*R7),IF(C7=\"CP-10\",IF('Concrete Plant (CP-10)'!$I$13>0,'Concrete Plant (CP-10)'!$I$13,AJ7*R7))))))))))))","v":""},{"$f":"IF(F7=\"\",\"\",IF(I7>0,I7*0.14*AJ7/2000,IF(H7>0,AJ7*R7*H7/2000,AK7*8760/2000)))","v":""},{"$f":"IF(F7=\"\",\"\",T7*AJ7/2000)","v":""},{"$f":"IF(F7=\"\",\"\",IF(B7=\"no\",'Emission Factors'!$L$33,'Emission Factors'!$L$34))","v":""},{"$f":"IF(F7=\"\",\"\",IF(C7=\"CP-1\",IF('Concrete Plant (CP-1)'!$I$14>0,'Concrete Plant (CP-1)'!$I$14,AN7*R7),IF(C7=\"CP-2\",IF('Concrete Plant (CP-2)'!$I$14>0,'Concrete Plant (CP-2)'!$I$14,AN7*R7),IF(C7=\"CP-3\",IF('Concrete Plant (CP-3)'!$I$14>0,'Concrete Plant (CP-3)'!$I$14,AN7*R7),IF(C7=\"CP-4\",IF('Concrete Plant (CP-4)'!$I$14>0,'Concrete Plant (CP-4)'!$I$14,AN7*R7),IF(C7=\"CP-5\",IF('Concrete Plant (CP-5)'!$I$14>0,'Concrete Plant (CP-5)'!$I$14,AN7*R7),IF(C7=\"CP-6\",IF('Concrete Plant (CP-6)'!$I$14>0,'Concrete Plant (CP-6)'!$I$14,AN7*R7),IF(C7=\"CP-7\",IF('Concrete Plant (CP-7)'!$I$14>0,'Concrete Plant (CP-7)'!$I$14,AN7*R7),IF(C7=\"CP-8\",IF('Concrete Plant (CP-8)'!$I$14>0,'Concrete Plant (CP-8)'!$I$14,AN7*R7),IF(C7=\"CP-9\",IF('Concrete Plant (CP-9)'!$I$14>0,'Concrete Plant (CP-9)'!$I$14,AN7*R7),IF(C7=\"CP-10\",IF('Concrete Plant (CP-10)'!$I$14>0,'Concrete Plant (CP-10)'!$I$14,AN7*R7))))))))))))","v":""},{"$f":"IF(F7=\"\",\"\",IF(I7>0,I7*0.14*AN7/2000,IF(H7>0,AN7*R7*H7/2000,AO7*8760/2000)))","v":""},{"$f":"IF(F7=\"\",\"\",T7*AN7/2000)","v":""},{"$f":"IF(F7=\"\",\"\",IF(B7=\"no\",'Emission Factors'!$N$33,'Emission Factors'!$N$34))","v":""},{"$f":"IF(F7=\"\",\"\",IF(C7=\"CP-1\",IF('Concrete Plant (CP-1)'!$I$15>0,'Concrete Plant (CP-1)'!$I$15,AR7*R7),IF(C7=\"CP-2\",IF('Concrete Plant (CP-2)'!$I$15>0,'Concrete Plant (CP-2)'!$I$15,AR7*R7),IF(C7=\"CP-3\",IF('Concrete Plant (CP-3)'!$I$15>0,'Concrete Plant (CP-3)'!$I$15,AR7*R7),IF(C7=\"CP-4\",IF('Concrete Plant (CP-4)'!$I$15>0,'Concrete Plant (CP-4)'!$I$15,AR7*R7),IF(C7=\"CP-5\",IF('Concrete Plant (CP-5)'!$I$15>0,'Concrete Plant (CP-5)'!$I$15,AR7*R7),IF(C7=\"CP-6\",IF('Concrete Plant (CP-6)'!$I$15>0,'Concrete Plant (CP-6)'!$I$15,AR7*R7),IF(C7=\"CP-7\",IF('Concrete Plant (CP-7)'!$I$15>0,'Concrete Plant (CP-7)'!$I$15,AR7*R7),IF(C7=\"CP-8\",IF('Concrete Plant (CP-8)'!$I$15>0,'Concrete Plant (CP-8)'!$I$15,AR7*R7),IF(C7=\"CP-9\",IF('Concrete Plant (CP-9)'!$I$15>0,'Concrete Plant (CP-9)'!$I$15,AR7*R7),IF(C7=\"CP-10\",IF('Concrete Plant (CP-10)'!$I$15>0,'Concrete Plant (CP-10)'!$I$15,AR7*R7))))))))))))","v":""},{"$f":"IF(F7=\"\",\"\",IF(I7>0,I7*0.14*AR7/2000,IF(H7>0,AR7*R7*H7/2000,AS7*8760/2000)))","v":""},{"$f":"IF(F7=\"\",\"\",T7*AR7/2000)","v":""},{"$f":"IF(F7=\"\",\"\",IF(B7=\"no\",'Emission Factors'!$P$33,'Emission Factors'!$P$34))","v":""},{"$f":"IF(F7=\"\",\"\",AV7*R7)","v":""},{"$f":"IF(F7=\"\",\"\",IF(I7>0,I7*0.14*AV7/2000,IF(H7>0,AV7*R7*H7/2000,AW7*8760/2000)))","v":""},{"$f":"IF(F7=\"\",\"\",T7*AV7/2000)","v":""},{"$f":"IF(F7=\"\",\"\",IF(B7=\"no\",'Emission Factors'!$R$33,'Emission Factors'!$R$34))","v":""},{"$f":"IF(F7=\"\",\"\",AZ7*R7)","v":""},{"$f":"IF(F7=\"\",\"\",IF(I7>0,I7*0.14*AZ7/2000,IF(H7>0,AZ7*R7*H7/2000,BA7*8760/2000)))","v":""},{"$f":"IF(F7=\"\",\"\",T7*AZ7/2000)","v":""}]
[null,"no",null,null,null,null,null,null,null,null,0.5,null,null,null,null,null,null,"",null,"",null,0,"",{"$f":"IF(F8=\"\",\"\",IF(B8=\"no\",'Emission Factors'!$D$33,'Emission Factors'!$D$34))","v":""},{"$f":"IF(F8=\"\",\"\",X8*R8)","v":""},{"$f":"IF(F8=\"\",\"\",IF(I8>0,I8*0.14*X8/2000,IF(H8>0,X8*R8*H8/2000,Y8*8760/2000)))","v":""},{"$f":"IF(F8=\"\",\"\",T8*X8/2000)","v":""},{"$f":"IF(F8=\"\",\"\",IF(B8=\"no\",'Emission Factors'!$F$33,'Emission Factors'!$F$34))","v":""},{"$f":"IF(F8=\"\",\"\",AB8*R8)","v":""},{"$f":"IF(F8=\"\",\"\",IF(I8>0,I8*0.14*AB8/2000,IF(H8>0,AB8*R8*H8/2000,AC8*8760/2000)))","v":""},{"$f":"IF(F8=\"\",\"\",T8*AB8/2000)","v":""},{"$f":"IF(F8=\"\",\"\",IF(B8=\"no\",'Emission Factors'!$H$33,'Emission Factors'!$H$34))","v":""},{"$f":"IF(F8=\"\",\"\",IF(C8=\"CP-1\",IF('Concrete Plant (CP-1)'!$I$12>0,'Concrete Plant (CP-1)'!$I$12,AF8*R8*K8),IF(C8=\"CP-2\",IF('Concrete Plant (CP-2)'!$I$12>0,'Concrete Plant (CP-2)'!$I$12,AF8*R8*K8),IF(C8=\"CP-3\",IF('Concrete Plant (CP-3)'!$I$12>0,'Concrete Plant (CP-3)'!$I$12,AF8*R8*K8),IF(C8=\"CP-4\",IF('Concrete Plant (CP-4)'!$I$12>0,'Concrete Plant (CP-4)'!$I$12,AF8*R8*K8),IF(C8=\"CP-5\",IF('Concrete Plant (CP-5)'!$I$12>0,'Concrete Plant (CP-5)'!$I$12,AF8*R8*K8),IF(C8=\"CP-6\",IF('Concrete Plant (CP-6)'!$I$12>0,'Concrete Plant (CP-6)'!$I$12,AF8*R8*K8),IF(C8=\"CP-7\",IF('Concrete Plant (CP-7)'!$I$12>0,'Concrete Plant (CP-7)'!$I$12,AF8*R8*K8),IF(C8=\"CP-8\",IF('Concrete Plant (CP-8)'!$I$12>0,'Concrete Plant (CP-8)'!$I$12,AF8*R8*K8),IF(C8=\"CP-9\",IF('Concrete Plant (CP-9)'!$I$12>0,'Concrete Plant (CP-9)'!$I$12,AF8*R8*K8),IF(C8=\"CP-10\",IF('Concrete Plant (CP-10)'!$I$12>0,'Concrete Plant (CP-10)'!$I$12,AF8*R8*K8))))))))))))","v":""},{"$f":"IF(F8=\"\",\"\",IF(AF8=1.01,IF(I8>0,I8*0.14*AF8*K8/2000,IF(H8>0,AF8*K8*R8*H8/2000,AG8*8760/2000)),IF(I8>0,I8*0.14*AF8/2000,IF(H8>0,AF8*R8*H8/2000,AG8*8760/2000))))","v":""},{"$f":"IF(F8=\"\",\"\",IF(AF8=1.01,IF($G$4=\"\",T8*AF8*K8/2000,T8*AF8*$G$4/2000),AF8*T8/2000))","v":""},{"$f":"IF(F8=\"\",\"\",IF(B8=\"no\",'Emission Factors'!$J$33,'Emission Factors'!$J$34))","v":""},{"$f":"IF(F8=\"\",\"\",IF(C8=\"CP-1\",IF('Concrete Plant (CP-1)'!$I$13>0,'Concrete Plant (CP-1)'!$I$13,AJ8*R8),IF(C8=\"CP-2\",IF('Concrete Plant (CP-2)'!$I$13>0,'Concrete Plant (CP-2)'!$I$13,AJ8*R8),IF(C8=\"CP-3\",IF('Concrete Plant (CP-3)'!$I$13>0,'Concrete Plant (CP-3)'!$I$13,AJ8*R8),IF(C8=\"CP-4\",IF('Concrete Plant (CP-4)'!$I$13>0,'Concrete Plant (CP-4)'!$I$13,AJ8*R8),IF(C8=\"CP-5\",IF('Concrete Plant (CP-5)'!$I$13>0,'Concrete Plant (CP-5)'!$I$13,AJ8*R8),IF(C8=\"CP-6\",IF('Concrete Plant (CP-6)'!$I$13>0,'Concrete Plant (CP-6)'!$I$13,AJ8*R8),IF(C8=\"CP-7\",IF('Concrete Plant (CP-7)'!$I$13>0,'Concrete Plant (CP-7)'!$I$13,AJ8*R8),IF(C8=\"CP-8\",IF('Concrete Plant (CP-8)'!$I$13>0,'Concrete Plant (CP-8)'!$I$13,AJ8*R8),IF(C8=\"CP-9\",IF('Concrete Plant (CP-9)'!$I$13>0,'Concrete Plant (CP-9)'!$I$13,AJ8*R8),IF(C8=\"CP-10\",IF('Concrete Plant (CP-10)'!$I$13>0,'Concrete Plant (CP-10)'!$I$13,AJ8*R8))))))))))))","v":""},{"$f":"IF(F8=\"\",\"\",IF(I8>0,I8*0.14*AJ8/2000,IF(H8>0,AJ8*R8*H8/2000,AK8*8760/2000)))","v":""},{"$f":"IF(F8=\"\",\"\",T8*AJ8/2000)","v":""},{"$f":"IF(F8=\"\",\"\",IF(B8=\"no\",'Emission Factors'!$L$33,'Emission Factors'!$L$34))","v":""},{"$f":"IF(F8=\"\",\"\",IF(C8=\"CP-1\",IF('Concrete Plant (CP-1)'!$I$14>0,'Concrete Plant (CP-1)'!$I$14,AN8*R8),IF(C8=\"CP-2\",IF('Concrete Plant (CP-2)'!$I$14>0,'Concrete Plant (CP-2)'!$I$14,AN8*R8),IF(C8=\"CP-3\",IF('Concrete Plant (CP-3)'!$I$14>0,'Concrete Plant (CP-3)'!$I$14,AN8*R8),IF(C8=\"CP-4\",IF('Concrete Plant (CP-4)'!$I$14>0,'Concrete Plant (CP-4)'!$I$14,AN8*R8),IF(C8=\"CP-5\",IF('Concrete Plant (CP-5)'!$I$14>0,'Concrete Plant (CP-5)'!$I$14,AN8*R8),IF(C8=\"CP-6\",IF('Concrete Plant (CP-6)'!$I$14>0,'Concrete Plant (CP-6)'!$I$14,AN8*R8),IF(C8=\"CP-7\",IF('Concrete Plant (CP-7)'!$I$14>0,'Concrete Plant (CP-7)'!$I$14,AN8*R8),IF(C8=\"CP-8\",IF('Concrete Plant (CP-8)'!$I$14>0,'Concrete Plant (CP-8)'!$I$14,AN8*R8),IF(C8=\"CP-9\",IF('Concrete Plant (CP-9)'!$I$14>0,'Concrete Plant (CP-9)'!$I$14,AN8*R8),IF(C8=\"CP-10\",IF('Concrete Plant (CP-10)'!$I$14>0,'Concrete Plant (CP-10)'!$I$14,AN8*R8))))))))))))","v":""},{"$f":"IF(F8=\"\",\"\",IF(I8>0,I8*0.14*AN8/2000,IF(H8>0,AN8*R8*H8/2000,AO8*8760/2000)))","v":""},{"$f":"IF(F8=\"\",\"\",T8*AN8/2000)","v":""},{"$f":"IF(F8=\"\",\"\",IF(B8=\"no\",'Emission Factors'!$N$33,'Emission Factors'!$N$34))","v":""},{"$f":"IF(F8=\"\",\"\",IF(C8=\"CP-1\",IF('Concrete Plant (CP-1)'!$I$15>0,'Concrete Plant (CP-1)'!$I$15,AR8*R8),IF(C8=\"CP-2\",IF('Concrete Plant (CP-2)'!$I$15>0,'Concrete Plant (CP-2)'!$I$15,AR8*R8),IF(C8=\"CP-3\",IF('Concrete Plant (CP-3)'!$I$15>0,'Concrete Plant (CP-3)'!$I$15,AR8*R8),IF(C8=\"CP-4\",IF('Concrete Plant (CP-4)'!$I$15>0,'Concrete Plant (CP-4)'!$I$15,AR8*R8),IF(C8=\"CP-5\",IF('Concrete Plant (CP-5)'!$I$15>0,'Concrete Plant (CP-5)'!$I$15,AR8*R8),IF(C8=\"CP-6\",IF('Concrete Plant (CP-6)'!$I$15>0,'Concrete Plant (CP-6)'!$I$15,AR8*R8),IF(C8=\"CP-7\",IF('Concrete Plant (CP-7)'!$I$15>0,'Concrete Plant (CP-7)'!$I$15,AR8*R8),IF(C8=\"CP-8\",IF('Concrete Plant (CP-8)'!$I$15>0,'Concrete Plant (CP-8)'!$I$15,AR8*R8),IF(C8=\"CP-9\",IF('Concrete Plant (CP-9)'!$I$15>0,'Concrete Plant (CP-9)'!$I$15,AR8*R8),IF(C8=\"CP-10\",IF('Concrete Plant (CP-10)'!$I$15>0,'Concrete Plant (CP-10)'!$I$15,AR8*R8))))))))))))","v":""},{"$f":"IF(F8=\"\",\"\",IF(I8>0,I8*0.14*AR8/2000,IF(H8>0,AR8*R8*H8/2000,AS8*8760/2000)))","v":""},{"$f":"IF(F8=\"\",\"\",T8*AR8/2000)","v":""},{"$f":"IF(F8=\"\",\"\",IF(B8=\"no\",'Emission Factors'!$P$33,'Emission Factors'!$P$34))","v":""},{"$f":"IF(F8=\"\",\"\",AV8*R8)","v":""},{"$f":"IF(F8=\"\",\"\",IF(I8>0,I8*0.14*AV8/2000,IF(H8>0,AV8*R8*H8/2000,AW8*8760/2000)))","v":""},{"$f":"IF(F8=\"\",\"\",T8*AV8/2000)","v":""},{"$f":"IF(F8=\"\",\"\",IF(B8=\"no\",'Emission Factors'!$R$33,'Emission Factors'!$R$34))","v":""},{"$f":"IF(F8=\"\",\"\",AZ8*R8)","v":""},{"$f":"IF(F8=\"\",\"\",IF(I8>0,I8*0.14*AZ8/2000,IF(H8>0,AZ8*R8*H8/2000,BA8*8760/2000)))","v":""},{"$f":"IF(F8=\"\",\"\",T8*AZ8/2000)","v":""}]
[{"$f":"IF('Facility Information'!$C$21>0,\"CP-1\",\"\")","v":""},"no",null,null,null,null,null,null,null,null,0.5,null,null,null,null,null,null,"",null,"",null,0,"",{"$f":"IF(F9=\"\",\"\",IF(B9=\"no\",'Emission Factors'!$D$33,'Emission Factors'!$D$34))","v":""},"","","",{"$f":"IF(F9=\"\",\"\",IF(B9=\"no\",'Emission Factors'!$F$33,'Emission Factors'!$F$34))","v":""},"","","",{"$f":"IF(F9=\"\",\"\",IF(B9=\"no\",'Emission Factors'!$H$33,'Emission Factors'!$H$34))","v":""},{"$f":"IF(F9=\"\",\"\",IF(C9=\"CP-1\",IF('Concrete Plant (CP-1)'!$I$12>0,'Concrete Plant (CP-1)'!$I$12,AF9*R9*K9),IF(C9=\"CP-2\",IF('Concrete Plant (CP-2)'!$I$12>0,'Concrete Plant (CP-2)'!$I$12,AF9*R9*K9),IF(C9=\"CP-3\",IF('Concrete Plant (CP-3)'!$I$12>0,'Concrete Plant (CP-3)'!$I$12,AF9*R9*K9),IF(C9=\"CP-4\",IF('Concrete Plant (CP-4)'!$I$12>0,'Concrete Plant (CP-4)'!$I$12,AF9*R9*K9),IF(C9=\"CP-5\",IF('Concrete Plant (CP-5)'!$I$12>0,'Concrete Plant (CP-5)'!$I$12,AF9*R9*K9),IF(C9=\"CP-6\",IF('Concrete Plant (CP-6)'!$I$12>0,'Concrete Plant (CP-6)'!$I$12,AF9*R9*K9),IF(C9=\"CP-7\",IF('Concrete Plant (CP-7)'!$I$12>0,'Concrete Plant (CP-7)'!$I$12,AF9*R9*K9),IF(C9=\"CP-8\",IF('Concrete Plant (CP-8)'!$I$12>0,'Concrete Plant (CP-8)'!$I$12,AF9*R9*K9),IF(C9=\"CP-9\",IF('Concrete Plant (CP-9)'!$I$12>0,'Concrete Plant (CP-9)'!$I$12,AF9*R9*K9),IF(C9=\"CP-10\",IF('Concrete Plant (CP-10)'!$I$12>0,'Concrete Plant (CP-10)'!$I$12,AF9*R9*K9))))))))))))","v":""},"","",{"$f":"IF(F9=\"\",\"\",IF(B9=\"no\",'Emission Factors'!$J$33,'Emission Factors'!$J$34))","v":""},{"$f":"IF(F9=\"\",\"\",IF(C9=\"CP-1\",IF('Concrete Plant (CP-1)'!$I$13>0,'Concrete Plant (CP-1)'!$I$13,AJ9*R9),IF(C9=\"CP-2\",IF('Concrete Plant (CP-2)'!$I$13>0,'Concrete Plant (CP-2)'!$I$13,AJ9*R9),IF(C9=\"CP-3\",IF('Concrete Plant (CP-3)'!$I$13>0,'Concrete Plant (CP-3)'!$I$13,AJ9*R9),IF(C9=\"CP-4\",IF('Concrete Plant (CP-4)'!$I$13>0,'Concrete Plant (CP-4)'!$I$13,AJ9*R9),IF(C9=\"CP-5\",IF('Concrete Plant (CP-5)'!$I$13>0,'Concrete Plant (CP-5)'!$I$13,AJ9*R9),IF(C9=\"CP-6\",IF('Concrete Plant (CP-6)'!$I$13>0,'Concrete Plant (CP-6)'!$I$13,AJ9*R9),IF(C9=\"CP-7\",IF('Concrete Plant (CP-7)'!$I$13>0,'Concrete Plant (CP-7)'!$I$13,AJ9*R9),IF(C9=\"CP-8\",IF('Concrete Plant (CP-8)'!$I$13>0,'Concrete Plant (CP-8)'!$I$13,AJ9*R9),IF(C9=\"CP-9\",IF('Concrete Plant (CP-9)'!$I$13>0,'Concrete Plant (CP-9)'!$I$13,AJ9*R9),IF(C9=\"CP-10\",IF('Concrete Plant (CP-10)'!$I$13>0,'Concrete Plant (CP-10)'!$I$13,AJ9*R9))))))))))))","v":""},"","",{"$f":"IF(F9=\"\",\"\",IF(B9=\"no\",'Emission Factors'!$L$33,'Emission Factors'!$L$34))","v":""},{"$f":"IF(F9=\"\",\"\",IF(C9=\"CP-1\",IF('Concrete Plant (CP-1)'!$I$14>0,'Concrete Plant (CP-1)'!$I$14,AN9*R9),IF(C9=\"CP-2\",IF('Concrete Plant (CP-2)'!$I$14>0,'Concrete Plant (CP-2)'!$I$14,AN9*R9),IF(C9=\"CP-3\",IF('Concrete Plant (CP-3)'!$I$14>0,'Concrete Plant (CP-3)'!$I$14,AN9*R9),IF(C9=\"CP-4\",IF('Concrete Plant (CP-4)'!$I$14>0,'Concrete Plant (CP-4)'!$I$14,AN9*R9),IF(C9=\"CP-5\",IF('Concrete Plant (CP-5)'!$I$14>0,'Concrete Plant (CP-5)'!$I$14,AN9*R9),IF(C9=\"CP-6\",IF('Concrete Plant (CP-6)'!$I$14>0,'Concrete Plant (CP-6)'!$I$14,AN9*R9),IF(C9=\"CP-7\",IF('Concrete Plant (CP-7)'!$I$14>0,'Concrete Plant (CP-7)'!$I$14,AN9*R9),IF(C9=\"CP-8\",IF('Concrete Plant (CP-8)'!$I$14>0,'Concrete Plant (CP-8)'!$I$14,AN9*R9),IF(C9=\"CP-9\",IF('Concrete Plant (CP-9)'!$I$14>0,'Concrete Plant (CP-9)'!$I$14,AN9*R9),IF(C9=\"CP-10\",IF('Concrete Plant (CP-10)'!$I$14>0,'Concrete Plant (CP-10)'!$I$14,AN9*R9))))))))))))","v":""},"","",{"$f":"IF(F9=\"\",\"\",IF(B9=\"no\",'Emission Factors'!$N$33,'Emission Factors'!$N$34))","v":""},{"$f":"IF(F9=\"\",\"\",IF(C9=\"CP-1\",IF('Concrete Plant (CP-1)'!$I$15>0,'Concrete Plant (CP-1)'!$I$15,AR9*R9),IF(C9=\"CP-2\",IF('Concrete Plant (CP-2)'!$I$15>0,'Concrete Plant (CP-2)'!$I$15,AR9*R9),IF(C9=\"CP-3\",IF('Concrete Plant (CP-3)'!$I$15>0,'Concrete Plant (CP-3)'!$I$15,AR9*R9),IF(C9=\"CP-4\",IF('Concrete Plant (CP-4)'!$I$15>0,'Concrete Plant (CP-4)'!$I$15,AR9*R9),IF(C9=\"CP-5\",IF('Concrete Plant (CP-5)'!$I$15>0,'Concrete Plant (CP-5)'!$I$15,AR9*R9),IF(C9=\"CP-6\",IF('Concrete Plant (CP-6)'!$I$15>0,'Concrete Plant (CP-6)'!$I$15,AR9*R9),IF(C9=\"CP-7\",IF('Concrete Plant (CP-7)'!$I$15>0,'Concrete Plant (CP-7)'!$I$15,AR9*R9),IF(C9=\"CP-8\",IF('Concrete Plant (CP-8)'!$I$15>0,'Concrete Plant (CP-8)'!$I$15,AR9*R9),IF(C9=\"CP-9\",IF('Concrete Plant (CP-9)'!$I$15>0,'Concrete Plant (CP-9)'!$I$15,AR9*R9),IF(C9=\"CP-10\",IF('Concrete Plant (CP-10)'!$I$15>0,'Concrete Plant (CP-10)'!$I$15,AR9*R9))))))))))))","v":""},"","",{"$f":"IF(F9=\"\",\"\",IF(B9=\"no\",'Emission Factors'!$P$33,'Emission Factors'!$P$34))","v":""},"","","",{"$f":"IF(F9=\"\",\"\",IF(B9=\"no\",'Emission Factors'!$R$33,'Emission Factors'!$R$34))","v":""},"","",""]
[{"$f":"IF('Facility Information'!$C$21>1,\"CP-2\",\"\")","v":""},"no",null,null,null,null,null,null,null,null,0.5,null,null,null,null,null,null,"",null,"",null,0,"",{"$f":"IF(F10=\"\",\"\",IF(B10=\"no\",'Emission Factors'!$D$33,'Emission Factors'!$D$34))","v":""},"","","",{"$f":"IF(F10=\"\",\"\",IF(B10=\"no\",'Emission Factors'!$F$33,'Emission Factors'!$F$34))","v":""},"","","",{"$f":"IF(F10=\"\",\"\",IF(B10=\"no\",'Emission Factors'!$H$33,'Emission Factors'!$H$34))","v":""},{"$f":"IF(F10=\"\",\"\",IF(C10=\"CP-1\",IF('Concrete Plant (CP-1)'!$I$12>0,'Concrete Plant (CP-1)'!$I$12,AF10*R10*K10),IF(C10=\"CP-2\",IF('Concrete Plant (CP-2)'!$I$12>0,'Concrete Plant (CP-2)'!$I$12,AF10*R10*K10),IF(C10=\"CP-3\",IF('Concrete Plant (CP-3)'!$I$12>0,'Concrete Plant (CP-3)'!$I$12,AF10*R10*K10),IF(C10=\"CP-4\",IF('Concrete Plant (CP-4)'!$I$12>0,'Concrete Plant (CP-4)'!$I$12,AF10*R10*K10),IF(C10=\"CP-5\",IF('Concrete Plant (CP-5)'!$I$12>0,'Concrete Plant (CP-5)'!$I$12,AF10*R10*K10),IF(C10=\"CP-6\",IF('Concrete Plant (CP-6)'!$I$12>0,'Concrete Plant (CP-6)'!$I$12,AF10*R10*K10),IF(C10=\"CP-7\",IF('Concrete Plant (CP-7)'!$I$12>0,'Concrete Plant (CP-7)'!$I$12,AF10*R10*K10),IF(C10=\"CP-8\",IF('Concrete Plant (CP-8)'!$I$12>0,'Concrete Plant (CP-8)'!$I$12,AF10*R10*K10),IF(C10=\"CP-9\",IF('Concrete Plant (CP-9)'!$I$12>0,'Concrete Plant (CP-9)'!$I$12,AF10*R10*K10),IF(C10=\"CP-10\",IF('Concrete Plant (CP-10)'!$I$12>0,'Concrete Plant (CP-10)'!$I$12,AF10*R10*K10))))))))))))","v":""},"","",{"$f":"IF(F10=\"\",\"\",IF(B10=\"no\",'Emission Factors'!$J$33,'Emission Factors'!$J$34))","v":""},{"$f":"IF(F10=\"\",\"\",IF(C10=\"CP-1\",IF('Concrete Plant (CP-1)'!$I$13>0,'Concrete Plant (CP-1)'!$I$13,AJ10*R10),IF(C10=\"CP-2\",IF('Concrete Plant (CP-2)'!$I$13>0,'Concrete Plant (CP-2)'!$I$13,AJ10*R10),IF(C10=\"CP-3\",IF('Concrete Plant (CP-3)'!$I$13>0,'Concrete Plant (CP-3)'!$I$13,AJ10*R10),IF(C10=\"CP-4\",IF('Concrete Plant (CP-4)'!$I$13>0,'Concrete Plant (CP-4)'!$I$13,AJ10*R10),IF(C10=\"CP-5\",IF('Concrete Plant (CP-5)'!$I$13>0,'Concrete Plant (CP-5)'!$I$13,AJ10*R10),IF(C10=\"CP-6\",IF('Concrete Plant (CP-6)'!$I$13>0,'Concrete Plant (CP-6)'!$I$13,AJ10*R10),IF(C10=\"CP-7\",IF('Concrete Plant (CP-7)'!$I$13>0,'Concrete Plant (CP-7)'!$I$13,AJ10*R10),IF(C10=\"CP-8\",IF('Concrete Plant (CP-8)'!$I$13>0,'Concrete Plant (CP-8)'!$I$13,AJ10*R10),IF(C10=\"CP-9\",IF('Concrete Plant (CP-9)'!$I$13>0,'Concrete Plant (CP-9)'!$I$13,AJ10*R10),IF(C10=\"CP-10\",IF('Concrete Plant (CP-10)'!$I$13>0,'Concrete Plant (CP-10)'!$I$13,AJ10*R10))))))))))))","v":""},"","",{"$f":"IF(F10=\"\",\"\",IF(B10=\"no\",'Emission Factors'!$L$33,'Emission Factors'!$L$34))","v":""},{"$f":"IF(F10=\"\",\"\",IF(C10=\"CP-1\",IF('Concrete Plant (CP-1)'!$I$14>0,'Concrete Plant (CP-1)'!$I$14,AN10*R10),IF(C10=\"CP-2\",IF('Concrete Plant (CP-2)'!$I$14>0,'Concrete Plant (CP-2)'!$I$14,AN10*R10),IF(C10=\"CP-3\",IF('Concrete Plant (CP-3)'!$I$14>0,'Concrete Plant (CP-3)'!$I$14,AN10*R10),IF(C10=\"CP-4\",IF('Concrete Plant (CP-4)'!$I$14>0,'Concrete Plant (CP-4)'!$I$14,AN10*R10),IF(C10=\"CP-5\",IF('Concrete Plant (CP-5)'!$I$14>0,'Concrete Plant (CP-5)'!$I$14,AN10*R10),IF(C10=\"CP-6\",IF('Concrete Plant (CP-6)'!$I$14>0,'Concrete Plant (CP-6)'!$I$14,AN10*R10),IF(C10=\"CP-7\",IF('Concrete Plant (CP-7)'!$I$14>0,'Concrete Plant (CP-7)'!$I$14,AN10*R10),IF(C10=\"CP-8\",IF('Concrete Plant (CP-8)'!$I$14>0,'Concrete Plant (CP-8)'!$I$14,AN10*R10),IF(C10=\"CP-9\",IF('Concrete Plant (CP-9)'!$I$14>0,'Concrete Plant (CP-9)'!$I$14,AN10*R10),IF(C10=\"CP-10\",IF('Concrete Plant (CP-10)'!$I$14>0,'Concrete Plant (CP-10)'!$I$14,AN10*R10))))))))))))","v":""},"","",{"$f":"IF(F10=\"\",\"\",IF(B10=\"no\",'Emission Factors'!$N$33,'Emission Factors'!$N$34))","v":""},{"$f":"IF(F10=\"\",\"\",IF(C10=\"CP-1\",IF('Concrete Plant (CP-1)'!$I$15>0,'Concrete Plant (CP-1)'!$I$15,AR10*R10),IF(C10=\"CP-2\",IF('Concrete Plant (CP-2)'!$I$15>0,'Concrete Plant (CP-2)'!$I$15,AR10*R10),IF(C10=\"CP-3\",IF('Concrete Plant (CP-3)'!$I$15>0,'Concrete Plant (CP-3)'!$I$15,AR10*R10),IF(C10=\"CP-4\",IF('Concrete Plant (CP-4)'!$I$15>0,'Concrete Plant (CP-4)'!$I$15,AR10*R10),IF(C10=\"CP-5\",IF('Concrete Plant (CP-5)'!$I$15>0,'Concrete Plant (CP-5)'!$I$15,AR10*R10),IF(C10=\"CP-6\",IF('Concrete Plant (CP-6)'!$I$15>0,'Concrete Plant (CP-6)'!$I$15,AR10*R10),IF(C10=\"CP-7\",IF('Concrete Plant (CP-7)'!$I$15>0,'Concrete Plant (CP-7)'!$I$15,AR10*R10),IF(C10=\"CP-8\",IF('Concrete Plant (CP-8)'!$I$15>0,'Concrete Plant (CP-8)'!$I$15,AR10*R10),IF(C10=\"CP-9\",IF('Concrete Plant (CP-9)'!$I$15>0,'Concrete Plant (CP-9)'!$I$15,AR10*R10),IF(C10=\"CP-10\",IF('Concrete Plant (CP-10)'!$I$15>0,'Concrete Plant (CP-10)'!$I$15,AR10*R10))))))))))))","v":""},"","",{"$f":"IF(F10=\"\",\"\",IF(B10=\"no\",'Emission Factors'!$P$33,'Emission Factors'!$P$34))","v":""},"","","",{"$f":"IF(F10=\"\",\"\",IF(B10=\"no\",'Emission Factors'!$R$33,'Emission Factors'!$R$34))","v":""},"","",""]
[{"$f":"IF('Facility Information'!$C$21>2,\"CP-3\",\"\")","v":""},"no",null,null,null,null,null,null,null,null,0.5,null,null,null,null,null,null,"",null,"",null,0,"",{"$f":"IF(F11=\"\",\"\",IF(B11=\"no\",'Emission Factors'!$D$33,'Emission Factors'!$D$34))","v":""},"","","",{"$f":"IF(F11=\"\",\"\",IF(B11=\"no\",'Emission Factors'!$F$33,'Emission Factors'!$F$34))","v":""},"","","",{"$f":"IF(F11=\"\",\"\",IF(B11=\"no\",'Emission Factors'!$H$33,'Emission Factors'!$H$34))","v":""},{"$f":"IF(F11=\"\",\"\",IF(C11=\"CP-1\",IF('Concrete Plant (CP-1)'!$I$12>0,'Concrete Plant (CP-1)'!$I$12,AF11*R11*K11),IF(C11=\"CP-2\",IF('Concrete Plant (CP-2)'!$I$12>0,'Concrete Plant (CP-2)'!$I$12,AF11*R11*K11),IF(C11=\"CP-3\",IF('Concrete Plant (CP-3)'!$I$12>0,'Concrete Plant (CP-3)'!$I$12,AF11*R11*K11),IF(C11=\"CP-4\",IF('Concrete Plant (CP-4)'!$I$12>0,'Concrete Plant (CP-4)'!$I$12,AF11*R11*K11),IF(C11=\"CP-5\",IF('Concrete Plant (CP-5)'!$I$12>0,'Concrete Plant (CP-5)'!$I$12,AF11*R11*K11),IF(C11=\"CP-6\",IF('Concrete Plant (CP-6)'!$I$12>0,'Concrete Plant (CP-6)'!$I$12,AF11*R11*K11),IF(C11=\"CP-7\",IF('Concrete Plant (CP-7)'!$I$12>0,'Concrete Plant (CP-7)'!$I$12,AF11*R11*K11),IF(C11=\"CP-8\",IF('Concrete Plant (CP-8)'!$I$12>0,'Concrete Plant (CP-8)'!$I$12,AF11*R11*K11),IF(C11=\"CP-9\",IF('Concrete Plant (CP-9)'!$I$12>0,'Concrete Plant (CP-9)'!$I$12,AF11*R11*K11),IF(C11=\"CP-10\",IF('Concrete Plant (CP-10)'!$I$12>0,'Concrete Plant (CP-10)'!$I$12,AF11*R11*K11))))))))))))","v":""},"","",{"$f":"IF(F11=\"\",\"\",IF(B11=\"no\",'Emission Factors'!$J$33,'Emission Factors'!$J$34))","v":""},{"$f":"IF(F11=\"\",\"\",IF(C11=\"CP-1\",IF('Concrete Plant (CP-1)'!$I$13>0,'Concrete Plant (CP-1)'!$I$13,AJ11*R11),IF(C11=\"CP-2\",IF('Concrete Plant (CP-2)'!$I$13>0,'Concrete Plant (CP-2)'!$I$13,AJ11*R11),IF(C11=\"CP-3\",IF('Concrete Plant (CP-3)'!$I$13>0,'Concrete Plant (CP-3)'!$I$13,AJ11*R11),IF(C11=\"CP-4\",IF('Concrete Plant (CP-4)'!$I$13>0,'Concrete Plant (CP-4)'!$I$13,AJ11*R11),IF(C11=\"CP-5\",IF('Concrete Plant (CP-5)'!$I$13>0,'Concrete Plant (CP-5)'!$I$13,AJ11*R11),IF(C11=\"CP-6\",IF('Concrete Plant (CP-6)'!$I$13>0,'Concrete Plant (CP-6)'!$I$13,AJ11*R11),IF(C11=\"CP-7\",IF('Concrete Plant (CP-7)'!$I$13>0,'Concrete Plant (CP-7)'!$I$13,AJ11*R11),IF(C11=\"CP-8\",IF('Concrete Plant (CP-8)'!$I$13>0,'Concrete Plant (CP-8)'!$I$13,AJ11*R11),IF(C11=\"CP-9\",IF('Concrete Plant (CP-9)'!$I$13>0,'Concrete Plant (CP-9)'!$I$13,AJ11*R11),IF(C11=\"CP-10\",IF('Concrete Plant (CP-10)'!$I$13>0,'Concrete Plant (CP-10)'!$I$13,AJ11*R11))))))))))))","v":""},"","",{"$f":"IF(F11=\"\",\"\",IF(B11=\"no\",'Emission Factors'!$L$33,'Emission Factors'!$L$34))","v":""},{"$f":"IF(F11=\"\",\"\",IF(C11=\"CP-1\",IF('Concrete Plant (CP-1)'!$I$14>0,'Concrete Plant (CP-1)'!$I$14,AN11*R11),IF(C11=\"CP-2\",IF('Concrete Plant (CP-2)'!$I$14>0,'Concrete Plant (CP-2)'!$I$14,AN11*R11),IF(C11=\"CP-3\",IF('Concrete Plant (CP-3)'!$I$14>0,'Concrete Plant (CP-3)'!$I$14,AN11*R11),IF(C11=\"CP-4\",IF('Concrete Plant (CP-4)'!$I$14>0,'Concrete Plant (CP-4)'!$I$14,AN11*R11),IF(C11=\"CP-5\",IF('Concrete Plant (CP-5)'!$I$14>0,'Concrete Plant (CP-5)'!$I$14,AN11*R11),IF(C11=\"CP-6\",IF('Concrete Plant (CP-6)'!$I$14>0,'Concrete Plant (CP-6)'!$I$14,AN11*R11),IF(C11=\"CP-7\",IF('Concrete Plant (CP-7)'!$I$14>0,'Concrete Plant (CP-7)'!$I$14,AN11*R11),IF(C11=\"CP-8\",IF('Concrete Plant (CP-8)'!$I$14>0,'Concrete Plant (CP-8)'!$I$14,AN11*R11),IF(C11=\"CP-9\",IF('Concrete Plant (CP-9)'!$I$14>0,'Concrete Plant (CP-9)'!$I$14,AN11*R11),IF(C11=\"CP-10\",IF('Concrete Plant (CP-10)'!$I$14>0,'Concrete Plant (CP-10)'!$I$14,AN11*R11))))))))))))","v":""},"","",{"$f":"IF(F11=\"\",\"\",IF(B11=\"no\",'Emission Factors'!$N$33,'Emission Factors'!$N$34))","v":""},{"$f":"IF(F11=\"\",\"\",IF(C11=\"CP-1\",IF('Concrete Plant (CP-1)'!$I$15>0,'Concrete Plant (CP-1)'!$I$15,AR11*R11),IF(C11=\"CP-2\",IF('Concrete Plant (CP-2)'!$I$15>0,'Concrete Plant (CP-2)'!$I$15,AR11*R11),IF(C11=\"CP-3\",IF('Concrete Plant (CP-3)'!$I$15>0,'Concrete Plant (CP-3)'!$I$15,AR11*R11),IF(C11=\"CP-4\",IF('Concrete Plant (CP-4)'!$I$15>0,'Concrete Plant (CP-4)'!$I$15,AR11*R11),IF(C11=\"CP-5\",IF('Concrete Plant (CP-5)'!$I$15>0,'Concrete Plant (CP-5)'!$I$15,AR11*R11),IF(C11=\"CP-6\",IF('Concrete Plant (CP-6)'!$I$15>0,'Concrete Plant (CP-6)'!$I$15,AR11*R11),IF(C11=\"CP-7\",IF('Concrete Plant (CP-7)'!$I$15>0,'Concrete Plant (CP-7)'!$I$15,AR11*R11),IF(C11=\"CP-8\",IF('Concrete Plant (CP-8)'!$I$15>0,'Concrete Plant (CP-8)'!$I$15,AR11*R11),IF(C11=\"CP-9\",IF('Concrete Plant (CP-9)'!$I$15>0,'Concrete Plant (CP-9)'!$I$15,AR11*R11),IF(C11=\"CP-10\",IF('Concrete Plant (CP-10)'!$I$15>0,'Concrete Plant (CP-10)'!$I$15,AR11*R11))))))))))))","v":""},"","",{"$f":"IF(F11=\"\",\"\",IF(B11=\"no\",'Emission Factors'!$P$33,'Emission Factors'!$P$34))","v":""},"","","",{"$f":"IF(F11=\"\",\"\",IF(B11=\"no\",'Emission Factors'!$R$33,'Emission Factors'!$R$34))","v":""},"","",""]
[{"$f":"IF('Facility Information'!$C$21>3,\"CP-4\",\"\")","v":""},"no",null,null,null,null,null,null,null,null,0.5,null,null,null,null,null,null,"",null,"",null,0,"",{"$f":"IF(F12=\"\",\"\",IF(B12=\"no\",'Emission Factors'!$D$33,'Emission Factors'!$D$34))","v":""},"","","",{"$f":"IF(F12=\"\",\"\",IF(B12=\"no\",'Emission Factors'!$F$33,'Emission Factors'!$F$34))","v":""},"","","",{"$f":"IF(F12=\"\",\"\",IF(B12=\"no\",'Emission Factors'!$H$33,'Emission Factors'!$H$34))","v":""},{"$f":"IF(F12=\"\",\"\",IF(C12=\"CP-1\",IF('Concrete Plant (CP-1)'!$I$12>0,'Concrete Plant (CP-1)'!$I$12,AF12*R12*K12),IF(C12=\"CP-2\",IF('Concrete Plant (CP-2)'!$I$12>0,'Concrete Plant (CP-2)'!$I$12,AF12*R12*K12),IF(C12=\"CP-3\",IF('Concrete Plant (CP-3)'!$I$12>0,'Concrete Plant (CP-3)'!$I$12,AF12*R12*K12),IF(C12=\"CP-4\",IF('Concrete Plant (CP-4)'!$I$12>0,'Concrete Plant (CP-4)'!$I$12,AF12*R12*K12),IF(C12=\"CP-5\",IF('Concrete Plant (CP-5)'!$I$12>0,'Concrete Plant (CP-5)'!$I$12,AF12*R12*K12),IF(C12=\"CP-6\",IF('Concrete Plant (CP-6)'!$I$12>0,'Concrete Plant (CP-6)'!$I$12,AF12*R12*K12),IF(C12=\"CP-7\",IF('Concrete Plant (CP-7)'!$I$12>0,'Concrete Plant (CP-7)'!$I$12,AF12*R12*K12),IF(C12=\"CP-8\",IF('Concrete Plant (CP-8)'!$I$12>0,'Concrete Plant (CP-8)'!$I$12,AF12*R12*K12),IF(C12=\"CP-9\",IF('Concrete Plant (CP-9)'!$I$12>0,'Concrete Plant (CP-9)'!$I$12,AF12*R12*K12),IF(C12=\"CP-10\",IF('Concrete Plant (CP-10)'!$I$12>0,'Concrete Plant (CP-10)'!$I$12,AF12*R12*K12))))))))))))","v":""},"","",{"$f":"IF(F12=\"\",\"\",IF(B12=\"no\",'Emission Factors'!$J$33,'Emission Factors'!$J$34))","v":""},{"$f":"IF(F12=\"\",\"\",IF(C12=\"CP-1\",IF('Concrete Plant (CP-1)'!$I$13>0,'Concrete Plant (CP-1)'!$I$13,AJ12*R12),IF(C12=\"CP-2\",IF('Concrete Plant (CP-2)'!$I$13>0,'Concrete Plant (CP-2)'!$I$13,AJ12*R12),IF(C12=\"CP-3\",IF('Concrete Plant (CP-3)'!$I$13>0,'Concrete Plant (CP-3)'!$I$13,AJ12*R12),IF(C12=\"CP-4\",IF('Concrete Plant (CP-4)'!$I$13>0,'Concrete Plant (CP-4)'!$I$13,AJ12*R12),IF(C12=\"CP-5\",IF('Concrete Plant (CP-5)'!$I$13>0,'Concrete Plant (CP-5)'!$I$13,AJ12*R12),IF(C12=\"CP-6\",IF('Concrete Plant (CP-6)'!$I$13>0,'Concrete Plant (CP-6)'!$I$13,AJ12*R12),IF(C12=\"CP-7\",IF('Concrete Plant (CP-7)'!$I$13>0,'Concrete Plant (CP-7)'!$I$13,AJ12*R12),IF(C12=\"CP-8\",IF('Concrete Plant (CP-8)'!$I$13>0,'Concrete Plant (CP-8)'!$I$13,AJ12*R12),IF(C12=\"CP-9\",IF('Concrete Plant (CP-9)'!$I$13>0,'Concrete Plant (CP-9)'!$I$13,AJ12*R12),IF(C12=\"CP-10\",IF('Concrete Plant (CP-10)'!$I$13>0,'Concrete Plant (CP-10)'!$I$13,AJ12*R12))))))))))))","v":""},"","",{"$f":"IF(F12=\"\",\"\",IF(B12=\"no\",'Emission Factors'!$L$33,'Emission Factors'!$L$34))","v":""},{"$f":"IF(F12=\"\",\"\",IF(C12=\"CP-1\",IF('Concrete Plant (CP-1)'!$I$14>0,'Concrete Plant (CP-1)'!$I$14,AN12*R12),IF(C12=\"CP-2\",IF('Concrete Plant (CP-2)'!$I$14>0,'Concrete Plant (CP-2)'!$I$14,AN12*R12),IF(C12=\"CP-3\",IF('Concrete Plant (CP-3)'!$I$14>0,'Concrete Plant (CP-3)'!$I$14,AN12*R12),IF(C12=\"CP-4\",IF('Concrete Plant (CP-4)'!$I$14>0,'Concrete Plant (CP-4)'!$I$14,AN12*R12),IF(C12=\"CP-5\",IF('Concrete Plant (CP-5)'!$I$14>0,'Concrete Plant (CP-5)'!$I$14,AN12*R12),IF(C12=\"CP-6\",IF('Concrete Plant (CP-6)'!$I$14>0,'Concrete Plant (CP-6)'!$I$14,AN12*R12),IF(C12=\"CP-7\",IF('Concrete Plant (CP-7)'!$I$14>0,'Concrete Plant (CP-7)'!$I$14,AN12*R12),IF(C12=\"CP-8\",IF('Concrete Plant (CP-8)'!$I$14>0,'Concrete Plant (CP-8)'!$I$14,AN12*R12),IF(C12=\"CP-9\",IF('Concrete Plant (CP-9)'!$I$14>0,'Concrete Plant (CP-9)'!$I$14,AN12*R12),IF(C12=\"CP-10\",IF('Concrete Plant (CP-10)'!$I$14>0,'Concrete Plant (CP-10)'!$I$14,AN12*R12))))))))))))","v":""},"","",{"$f":"IF(F12=\"\",\"\",IF(B12=\"no\",'Emission Factors'!$N$33,'Emission Factors'!$N$34))","v":""},{"$f":"IF(F12=\"\",\"\",IF(C12=\"CP-1\",IF('Concrete Plant (CP-1)'!$I$15>0,'Concrete Plant (CP-1)'!$I$15,AR12*R12),IF(C12=\"CP-2\",IF('Concrete Plant (CP-2)'!$I$15>0,'Concrete Plant (CP-2)'!$I$15,AR12*R12),IF(C12=\"CP-3\",IF('Concrete Plant (CP-3)'!$I$15>0,'Concrete Plant (CP-3)'!$I$15,AR12*R12),IF(C12=\"CP-4\",IF('Concrete Plant (CP-4)'!$I$15>0,'Concrete Plant (CP-4)'!$I$15,AR12*R12),IF(C12=\"CP-5\",IF('Concrete Plant (CP-5)'!$I$15>0,'Concrete Plant (CP-5)'!$I$15,AR12*R12),IF(C12=\"CP-6\",IF('Concrete Plant (CP-6)'!$I$15>0,'Concrete Plant (CP-6)'!$I$15,AR12*R12),IF(C12=\"CP-7\",IF('Concrete Plant (CP-7)'!$I$15>0,'Concrete Plant (CP-7)'!$I$15,AR12*R12),IF(C12=\"CP-8\",IF('Concrete Plant (CP-8)'!$I$15>0,'Concrete Plant (CP-8)'!$I$15,AR12*R12),IF(C12=\"CP-9\",IF('Concrete Plant (CP-9)'!$I$15>0,'Concrete Plant (CP-9)'!$I$15,AR12*R12),IF(C12=\"CP-10\",IF('Concrete Plant (CP-10)'!$I$15>0,'Concrete Plant (CP-10)'!$I$15,AR12*R12))))))))))))","v":""},"","",{"$f":"IF(F12=\"\",\"\",IF(B12=\"no\",'Emission Factors'!$P$33,'Emission Factors'!$P$34))","v":""},"","","",{"$f":"IF(F12=\"\",\"\",IF(B12=\"no\",'Emission Factors'!$R$33,'Emission Factors'!$R$34))","v":""},"","",""]
[{"$f":"IF('Facility Information'!$C$21>4,\"CP-5\",\"\")","v":""},{"$f":"IF(F13=\"Diesel Generator> 600 bhp\",\"yes\",\"no\")","v":"no"},null,null,null,null,null,null,null,null,0.5,null,null,null,null,null,null,{"$f":"IF(Q13=\"\",\"\",Q13*0.14)","v":""},null,{"$f":"IF(S13=\"\",\"\",S13*0.14)","v":""},null,0,"",{"$f":"IF(F13=\"\",\"\",IF(B13=\"no\",'Emission Factors'!$D$33,'Emission Factors'!$D$34))","v":""},"","","",{"$f":"IF(F13=\"\",\"\",IF(B13=\"no\",'Emission Factors'!$F$33,'Emission Factors'!$F$34))","v":""},"","","",{"$f":"IF(F13=\"\",\"\",IF(B13=\"no\",'Emission Factors'!$H$33,'Emission Factors'!$H$34))","v":""},{"$f":"IF(F13=\"\",\"\",IF(C13=\"CP-1\",IF('Concrete Plant (CP-1)'!$I$12>0,'Concrete Plant (CP-1)'!$I$12,AF13*R13*K13),IF(C13=\"CP-2\",IF('Concrete Plant (CP-2)'!$I$12>0,'Concrete Plant (CP-2)'!$I$12,AF13*R13*K13),IF(C13=\"CP-3\",IF('Concrete Plant (CP-3)'!$I$12>0,'Concrete Plant (CP-3)'!$I$12,AF13*R13*K13),IF(C13=\"CP-4\",IF('Concrete Plant (CP-4)'!$I$12>0,'Concrete Plant (CP-4)'!$I$12,AF13*R13*K13),IF(C13=\"CP-5\",IF('Concrete Plant (CP-5)'!$I$12>0,'Concrete Plant (CP-5)'!$I$12,AF13*R13*K13),IF(C13=\"CP-6\",IF('Concrete Plant (CP-6)'!$I$12>0,'Concrete Plant (CP-6)'!$I$12,AF13*R13*K13),IF(C13=\"CP-7\",IF('Concrete Plant (CP-7)'!$I$12>0,'Concrete Plant (CP-7)'!$I$12,AF13*R13*K13),IF(C13=\"CP-8\",IF('Concrete Plant (CP-8)'!$I$12>0,'Concrete Plant (CP-8)'!$I$12,AF13*R13*K13),IF(C13=\"CP-9\",IF('Concrete Plant (CP-9)'!$I$12>0,'Concrete Plant (CP-9)'!$I$12,AF13*R13*K13),IF(C13=\"CP-10\",IF('Concrete Plant (CP-10)'!$I$12>0,'Concrete Plant (CP-10)'!$I$12,AF13*R13*K13))))))))))))","v":""},"","",{"$f":"IF(F13=\"\",\"\",IF(B13=\"no\",'Emission Factors'!$J$33,'Emission Factors'!$J$34))","v":""},{"$f":"IF(F13=\"\",\"\",IF(C13=\"CP-1\",IF('Concrete Plant (CP-1)'!$I$13>0,'Concrete Plant (CP-1)'!$I$13,AJ13*R13),IF(C13=\"CP-2\",IF('Concrete Plant (CP-2)'!$I$13>0,'Concrete Plant (CP-2)'!$I$13,AJ13*R13),IF(C13=\"CP-3\",IF('Concrete Plant (CP-3)'!$I$13>0,'Concrete Plant (CP-3)'!$I$13,AJ13*R13),IF(C13=\"CP-4\",IF('Concrete Plant (CP-4)'!$I$13>0,'Concrete Plant (CP-4)'!$I$13,AJ13*R13),IF(C13=\"CP-5\",IF('Concrete Plant (CP-5)'!$I$13>0,'Concrete Plant (CP-5)'!$I$13,AJ13*R13),IF(C13=\"CP-6\",IF('Concrete Plant (CP-6)'!$I$13>0,'Concrete Plant (CP-6)'!$I$13,AJ13*R13),IF(C13=\"CP-7\",IF('Concrete Plant (CP-7)'!$I$13>0,'Concrete Plant (CP-7)'!$I$13,AJ13*R13),IF(C13=\"CP-8\",IF('Concrete Plant (CP-8)'!$I$13>0,'Concrete Plant (CP-8)'!$I$13,AJ13*R13),IF(C13=\"CP-9\",IF('Concrete Plant (CP-9)'!$I$13>0,'Concrete Plant (CP-9)'!$I$13,AJ13*R13),IF(C13=\"CP-10\",IF('Concrete Plant (CP-10)'!$I$13>0,'Concrete Plant (CP-10)'!$I$13,AJ13*R13))))))))))))","v":""},"","",{"$f":"IF(F13=\"\",\"\",IF(B13=\"no\",'Emission Factors'!$L$33,'Emission Factors'!$L$34))","v":""},{"$f":"IF(F13=\"\",\"\",IF(C13=\"CP-1\",IF('Concrete Plant (CP-1)'!$I$14>0,'Concrete Plant (CP-1)'!$I$14,AN13*R13),IF(C13=\"CP-2\",IF('Concrete Plant (CP-2)'!$I$14>0,'Concrete Plant (CP-2)'!$I$14,AN13*R13),IF(C13=\"CP-3\",IF('Concrete Plant (CP-3)'!$I$14>0,'Concrete Plant (CP-3)'!$I$14,AN13*R13),IF(C13=\"CP-4\",IF('Concrete Plant (CP-4)'!$I$14>0,'Concrete Plant (CP-4)'!$I$14,AN13*R13),IF(C13=\"CP-5\",IF('Concrete Plant (CP-5)'!$I$14>0,'Concrete Plant (CP-5)'!$I$14,AN13*R13),IF(C13=\"CP-6\",IF('Concrete Plant (CP-6)'!$I$14>0,'Concrete Plant (CP-6)'!$I$14,AN13*R13),IF(C13=\"CP-7\",IF('Concrete Plant (CP-7)'!$I$14>0,'Concrete Plant (CP-7)'!$I$14,AN13*R13),IF(C13=\"CP-8\",IF('Concrete Plant (CP-8)'!$I$14>0,'Concrete Plant (CP-8)'!$I$14,AN13*R13),IF(C13=\"CP-9\",IF('Concrete Plant (CP-9)'!$I$14>0,'Concrete Plant (CP-9)'!$I$14,AN13*R13),IF(C13=\"CP-10\",IF('Concrete Plant (CP-10)'!$I$14>0,'Concrete Plant (CP-10)'!$I$14,AN13*R13))))))))))))","v":""},"","",{"$f":"IF(F13=\"\",\"\",IF(B13=\"no\",'Emission Factors'!$N$33,'Emission Factors'!$N$34))","v":""},{"$f":"IF(F13=\"\",\"\",IF(C13=\"CP-1\",IF('Concrete Plant (CP-1)'!$I$15>0,'Concrete Plant (CP-1)'!$I$15,AR13*R13),IF(C13=\"CP-2\",IF('Concrete Plant (CP-2)'!$I$15>0,'Concrete Plant (CP-2)'!$I$15,AR13*R13),IF(C13=\"CP-3\",IF('Concrete Plant (CP-3)'!$I$15>0,'Concrete Plant (CP-3)'!$I$15,AR13*R13),IF(C13=\"CP-4\",IF('Concrete Plant (CP-4)'!$I$15>0,'Concrete Plant (CP-4)'!$I$15,AR13*R13),IF(C13=\"CP-5\",IF('Concrete Plant (CP-5)'!$I$15>0,'Concrete Plant (CP-5)'!$I$15,AR13*R13),IF(C13=\"CP-6\",IF('Concrete Plant (CP-6)'!$I$15>0,'Concrete Plant (CP-6)'!$I$15,AR13*R13),IF(C13=\"CP-7\",IF('Concrete Plant (CP-7)'!$I$15>0,'Concrete Plant (CP-7)'!$I$15,AR13*R13),IF(C13=\"CP-8\",IF('Concrete Plant (CP-8)'!$I$15>0,'Concrete Plant (CP-8)'!$I$15,AR13*R13),IF(C13=\"CP-9\",IF('Concrete Plant (CP-9)'!$I$15>0,'Concrete Plant (CP-9)'!$I$15,AR13*R13),IF(C13=\"CP-10\",IF('Concrete Plant (CP-10)'!$I$15>0,'Concrete Plant (CP-10)'!$I$15,AR13*R13))))))))))))","v":""},"","",{"$f":"IF(F13=\"\",\"\",IF(B13=\"no\",'Emission Factors'!$P$33,'Emission Factors'!$P$34))","v":""},"","","",{"$f":"IF(F13=\"\",\"\",IF(B13=\"no\",'Emission Factors'!$R$33,'Emission Factors'!$R$34))","v":""},"","",""]
[{"$f":"IF('Facility Information'!$C$21>5,\"CP-6\",\"\")","v":""},"no",null,null,null,null,null,null,null,null,0.5,null,null,null,null,null,null,"",null,"",null,0,"",{"$f":"IF(F14=\"\",\"\",IF(B14=\"no\",'Emission Factors'!$D$33,'Emission Factors'!$D$34))","v":""},"","","",{"$f":"IF(F14=\"\",\"\",IF(B14=\"no\",'Emission Factors'!$F$33,'Emission Factors'!$F$34))","v":""},"","","",{"$f":"IF(F14=\"\",\"\",IF(B14=\"no\",'Emission Factors'!$H$33,'Emission Factors'!$H$34))","v":""},{"$f":"IF(F14=\"\",\"\",IF(C14=\"CP-1\",IF('Concrete Plant (CP-1)'!$I$12>0,'Concrete Plant (CP-1)'!$I$12,AF14*R14*K14),IF(C14=\"CP-2\",IF('Concrete Plant (CP-2)'!$I$12>0,'Concrete Plant (CP-2)'!$I$12,AF14*R14*K14),IF(C14=\"CP-3\",IF('Concrete Plant (CP-3)'!$I$12>0,'Concrete Plant (CP-3)'!$I$12,AF14*R14*K14),IF(C14=\"CP-4\",IF('Concrete Plant (CP-4)'!$I$12>0,'Concrete Plant (CP-4)'!$I$12,AF14*R14*K14),IF(C14=\"CP-5\",IF('Concrete Plant (CP-5)'!$I$12>0,'Concrete Plant (CP-5)'!$I$12,AF14*R14*K14),IF(C14=\"CP-6\",IF('Concrete Plant (CP-6)'!$I$12>0,'Concrete Plant (CP-6)'!$I$12,AF14*R14*K14),IF(C14=\"CP-7\",IF('Concrete Plant (CP-7)'!$I$12>0,'Concrete Plant (CP-7)'!$I$12,AF14*R14*K14),IF(C14=\"CP-8\",IF('Concrete Plant (CP-8)'!$I$12>0,'Concrete Plant (CP-8)'!$I$12,AF14*R14*K14),IF(C14=\"CP-9\",IF('Concrete Plant (CP-9)'!$I$12>0,'Concrete Plant (CP-9)'!$I$12,AF14*R14*K14),IF(C14=\"CP-10\",IF('Concrete Plant (CP-10)'!$I$12>0,'Concrete Plant (CP-10)'!$I$12,AF14*R14*K14))))))))))))","v":""},"","",{"$f":"IF(F14=\"\",\"\",IF(B14=\"no\",'Emission Factors'!$J$33,'Emission Factors'!$J$34))","v":""},{"$f":"IF(F14=\"\",\"\",IF(C14=\"CP-1\",IF('Concrete Plant (CP-1)'!$I$13>0,'Concrete Plant (CP-1)'!$I$13,AJ14*R14),IF(C14=\"CP-2\",IF('Concrete Plant (CP-2)'!$I$13>0,'Concrete Plant (CP-2)'!$I$13,AJ14*R14),IF(C14=\"CP-3\",IF('Concrete Plant (CP-3)'!$I$13>0,'Concrete Plant (CP-3)'!$I$13,AJ14*R14),IF(C14=\"CP-4\",IF('Concrete Plant (CP-4)'!$I$13>0,'Concrete Plant (CP-4)'!$I$13,AJ14*R14),IF(C14=\"CP-5\",IF('Concrete Plant (CP-5)'!$I$13>0,'Concrete Plant (CP-5)'!$I$13,AJ14*R14),IF(C14=\"CP-6\",IF('Concrete Plant (CP-6)'!$I$13>0,'Concrete Plant (CP-6)'!$I$13,AJ14*R14),IF(C14=\"CP-7\",IF('Concrete Plant (CP-7)'!$I$13>0,'Concrete Plant (CP-7)'!$I$13,AJ14*R14),IF(C14=\"CP-8\",IF('Concrete Plant (CP-8)'!$I$13>0,'Concrete Plant (CP-8)'!$I$13,AJ14*R14),IF(C14=\"CP-9\",IF('Concrete Plant (CP-9)'!$I$13>0,'Concrete Plant (CP-9)'!$I$13,AJ14*R14),IF(C14=\"CP-10\",IF('Concrete Plant (CP-10)'!$I$13>0,'Concrete Plant (CP-10)'!$I$13,AJ14*R14))))))))))))","v":""},"","",{"$f":"IF(F14=\"\",\"\",IF(B14=\"no\",'Emission Factors'!$L$33,'Emission Factors'!$L$34))","v":""},{"$f":"IF(F14=\"\",\"\",IF(C14=\"CP-1\",IF('Concrete Plant (CP-1)'!$I$14>0,'Concrete Plant (CP-1)'!$I$14,AN14*R14),IF(C14=\"CP-2\",IF('Concrete Plant (CP-2)'!$I$14>0,'Concrete Plant (CP-2)'!$I$14,AN14*R14),IF(C14=\"CP-3\",IF('Concrete Plant (CP-3)'!$I$14>0,'Concrete Plant (CP-3)'!$I$14,AN14*R14),IF(C14=\"CP-4\",IF('Concrete Plant (CP-4)'!$I$14>0,'Concrete Plant (CP-4)'!$I$14,AN14*R14),IF(C14=\"CP-5\",IF('Concrete Plant (CP-5)'!$I$14>0,'Concrete Plant (CP-5)'!$I$14,AN14*R14),IF(C14=\"CP-6\",IF('Concrete Plant (CP-6)'!$I$14>0,'Concrete Plant (CP-6)'!$I$14,AN14*R14),IF(C14=\"CP-7\",IF('Concrete Plant (CP-7)'!$I$14>0,'Concrete Plant (CP-7)'!$I$14,AN14*R14),IF(C14=\"CP-8\",IF('Concrete Plant (CP-8)'!$I$14>0,'Concrete Plant (CP-8)'!$I$14,AN14*R14),IF(C14=\"CP-9\",IF('Concrete Plant (CP-9)'!$I$14>0,'Concrete Plant (CP-9)'!$I$14,AN14*R14),IF(C14=\"CP-10\",IF('Concrete Plant (CP-10)'!$I$14>0,'Concrete Plant (CP-10)'!$I$14,AN14*R14))))))))))))","v":""},"","",{"$f":"IF(F14=\"\",\"\",IF(B14=\"no\",'Emission Factors'!$N$33,'Emission Factors'!$N$34))","v":""},{"$f":"IF(F14=\"\",\"\",IF(C14=\"CP-1\",IF('Concrete Plant (CP-1)'!$I$15>0,'Concrete Plant (CP-1)'!$I$15,AR14*R14),IF(C14=\"CP-2\",IF('Concrete Plant (CP-2)'!$I$15>0,'Concrete Plant (CP-2)'!$I$15,AR14*R14),IF(C14=\"CP-3\",IF('Concrete Plant (CP-3)'!$I$15>0,'Concrete Plant (CP-3)'!$I$15,AR14*R14),IF(C14=\"CP-4\",IF('Concrete Plant (CP-4)'!$I$15>0,'Concrete Plant (CP-4)'!$I$15,AR14*R14),IF(C14=\"CP-5\",IF('Concrete Plant (CP-5)'!$I$15>0,'Concrete Plant (CP-5)'!$I$15,AR14*R14),IF(C14=\"CP-6\",IF('Concrete Plant (CP-6)'!$I$15>0,'Concrete Plant (CP-6)'!$I$15,AR14*R14),IF(C14=\"CP-7\",IF('Concrete Plant (CP-7)'!$I$15>0,'Concrete Plant (CP-7)'!$I$15,AR14*R14),IF(C14=\"CP-8\",IF('Concrete Plant (CP-8)'!$I$15>0,'Concrete Plant (CP-8)'!$I$15,AR14*R14),IF(C14=\"CP-9\",IF('Concrete Plant (CP-9)'!$I$15>0,'Concrete Plant (CP-9)'!$I$15,AR14*R14),IF(C14=\"CP-10\",IF('Concrete Plant (CP-10)'!$I$15>0,'Concrete Plant (CP-10)'!$I$15,AR14*R14))))))))))))","v":""},"","",{"$f":"IF(F14=\"\",\"\",IF(B14=\"no\",'Emission Factors'!$P$33,'Emission Factors'!$P$34))","v":""},"","","",{"$f":"IF(F14=\"\",\"\",IF(B14=\"no\",'Emission Factors'!$R$33,'Emission Factors'!$R$34))","v":""},"","",""]
[{"$f":"IF('Facility Information'!$C$21>6,\"CP-7\",\"\")","v":""},"no",null,null,null,null,null,null,null,null,0.5,null,null,null,null,null,null,"",null,"",null,0,"",{"$f":"IF(F15=\"\",\"\",IF(B15=\"no\",'Emission Factors'!$D$33,'Emission Factors'!$D$34))","v":""},"","","",{"$f":"IF(F15=\"\",\"\",IF(B15=\"no\",'Emission Factors'!$F$33,'Emission Factors'!$F$34))","v":""},"","","",{"$f":"IF(F15=\"\",\"\",IF(B15=\"no\",'Emission Factors'!$H$33,'Emission Factors'!$H$34))","v":""},{"$f":"IF(F15=\"\",\"\",IF(C15=\"CP-1\",IF('Concrete Plant (CP-1)'!$I$12>0,'Concrete Plant (CP-1)'!$I$12,AF15*R15*K15),IF(C15=\"CP-2\",IF('Concrete Plant (CP-2)'!$I$12>0,'Concrete Plant (CP-2)'!$I$12,AF15*R15*K15),IF(C15=\"CP-3\",IF('Concrete Plant (CP-3)'!$I$12>0,'Concrete Plant (CP-3)'!$I$12,AF15*R15*K15),IF(C15=\"CP-4\",IF('Concrete Plant (CP-4)'!$I$12>0,'Concrete Plant (CP-4)'!$I$12,AF15*R15*K15),IF(C15=\"CP-5\",IF('Concrete Plant (CP-5)'!$I$12>0,'Concrete Plant (CP-5)'!$I$12,AF15*R15*K15),IF(C15=\"CP-6\",IF('Concrete Plant (CP-6)'!$I$12>0,'Concrete Plant (CP-6)'!$I$12,AF15*R15*K15),IF(C15=\"CP-7\",IF('Concrete Plant (CP-7)'!$I$12>0,'Concrete Plant (CP-7)'!$I$12,AF15*R15*K15),IF(C15=\"CP-8\",IF('Concrete Plant (CP-8)'!$I$12>0,'Concrete Plant (CP-8)'!$I$12,AF15*R15*K15),IF(C15=\"CP-9\",IF('Concrete Plant (CP-9)'!$I$12>0,'Concrete Plant (CP-9)'!$I$12,AF15*R15*K15),IF(C15=\"CP-10\",IF('Concrete Plant (CP-10)'!$I$12>0,'Concrete Plant (CP-10)'!$I$12,AF15*R15*K15))))))))))))","v":""},"","",{"$f":"IF(F15=\"\",\"\",IF(B15=\"no\",'Emission Factors'!$J$33,'Emission Factors'!$J$34))","v":""},{"$f":"IF(F15=\"\",\"\",IF(C15=\"CP-1\",IF('Concrete Plant (CP-1)'!$I$13>0,'Concrete Plant (CP-1)'!$I$13,AJ15*R15),IF(C15=\"CP-2\",IF('Concrete Plant (CP-2)'!$I$13>0,'Concrete Plant (CP-2)'!$I$13,AJ15*R15),IF(C15=\"CP-3\",IF('Concrete Plant (CP-3)'!$I$13>0,'Concrete Plant (CP-3)'!$I$13,AJ15*R15),IF(C15=\"CP-4\",IF('Concrete Plant (CP-4)'!$I$13>0,'Concrete Plant (CP-4)'!$I$13,AJ15*R15),IF(C15=\"CP-5\",IF('Concrete Plant (CP-5)'!$I$13>0,'Concrete Plant (CP-5)'!$I$13,AJ15*R15),IF(C15=\"CP-6\",IF('Concrete Plant (CP-6)'!$I$13>0,'Concrete Plant (CP-6)'!$I$13,AJ15*R15),IF(C15=\"CP-7\",IF('Concrete Plant (CP-7)'!$I$13>0,'Concrete Plant (CP-7)'!$I$13,AJ15*R15),IF(C15=\"CP-8\",IF('Concrete Plant (CP-8)'!$I$13>0,'Concrete Plant (CP-8)'!$I$13,AJ15*R15),IF(C15=\"CP-9\",IF('Concrete Plant (CP-9)'!$I$13>0,'Concrete Plant (CP-9)'!$I$13,AJ15*R15),IF(C15=\"CP-10\",IF('Concrete Plant (CP-10)'!$I$13>0,'Concrete Plant (CP-10)'!$I$13,AJ15*R15))))))))))))","v":""},"","",{"$f":"IF(F15=\"\",\"\",IF(B15=\"no\",'Emission Factors'!$L$33,'Emission Factors'!$L$34))","v":""},{"$f":"IF(F15=\"\",\"\",IF(C15=\"CP-1\",IF('Concrete Plant (CP-1)'!$I$14>0,'Concrete Plant (CP-1)'!$I$14,AN15*R15),IF(C15=\"CP-2\",IF('Concrete Plant (CP-2)'!$I$14>0,'Concrete Plant (CP-2)'!$I$14,AN15*R15),IF(C15=\"CP-3\",IF('Concrete Plant (CP-3)'!$I$14>0,'Concrete Plant (CP-3)'!$I$14,AN15*R15),IF(C15=\"CP-4\",IF('Concrete Plant (CP-4)'!$I$14>0,'Concrete Plant (CP-4)'!$I$14,AN15*R15),IF(C15=\"CP-5\",IF('Concrete Plant (CP-5)'!$I$14>0,'Concrete Plant (CP-5)'!$I$14,AN15*R15),IF(C15=\"CP-6\",IF('Concrete Plant (CP-6)'!$I$14>0,'Concrete Plant (CP-6)'!$I$14,AN15*R15),IF(C15=\"CP-7\",IF('Concrete Plant (CP-7)'!$I$14>0,'Concrete Plant (CP-7)'!$I$14,AN15*R15),IF(C15=\"CP-8\",IF('Concrete Plant (CP-8)'!$I$14>0,'Concrete Plant (CP-8)'!$I$14,AN15*R15),IF(C15=\"CP-9\",IF('Concrete Plant (CP-9)'!$I$14>0,'Concrete Plant (CP-9)'!$I$14,AN15*R15),IF(C15=\"CP-10\",IF('Concrete Plant (CP-10)'!$I$14>0,'Concrete Plant (CP-10)'!$I$14,AN15*R15))))))))))))","v":""},"","",{"$f":"IF(F15=\"\",\"\",IF(B15=\"no\",'Emission Factors'!$N$33,'Emission Factors'!$N$34))","v":""},{"$f":"IF(F15=\"\",\"\",IF(C15=\"CP-1\",IF('Concrete Plant (CP-1)'!$I$15>0,'Concrete Plant (CP-1)'!$I$15,AR15*R15),IF(C15=\"CP-2\",IF('Concrete Plant (CP-2)'!$I$15>0,'Concrete Plant (CP-2)'!$I$15,AR15*R15),IF(C15=\"CP-3\",IF('Concrete Plant (CP-3)'!$I$15>0,'Concrete Plant (CP-3)'!$I$15,AR15*R15),IF(C15=\"CP-4\",IF('Concrete Plant (CP-4)'!$I$15>0,'Concrete Plant (CP-4)'!$I$15,AR15*R15),IF(C15=\"CP-5\",IF('Concrete Plant (CP-5)'!$I$15>0,'Concrete Plant (CP-5)'!$I$15,AR15*R15),IF(C15=\"CP-6\",IF('Concrete Plant (CP-6)'!$I$15>0,'Concrete Plant (CP-6)'!$I$15,AR15*R15),IF(C15=\"CP-7\",IF('Concrete Plant (CP-7)'!$I$15>0,'Concrete Plant (CP-7)'!$I$15,AR15*R15),IF(C15=\"CP-8\",IF('Concrete Plant (CP-8)'!$I$15>0,'Concrete Plant (CP-8)'!$I$15,AR15*R15),IF(C15=\"CP-9\",IF('Concrete Plant (CP-9)'!$I$15>0,'Concrete Plant (CP-9)'!$I$15,AR15*R15),IF(C15=\"CP-10\",IF('Concrete Plant (CP-10)'!$I$15>0,'Concrete Plant (CP-10)'!$I$15,AR15*R15))))))))))))","v":""},"","",{"$f":"IF(F15=\"\",\"\",IF(B15=\"no\",'Emission Factors'!$P$33,'Emission Factors'!$P$34))","v":""},"","","",{"$f":"IF(F15=\"\",\"\",IF(B15=\"no\",'Emission Factors'!$R$33,'Emission Factors'!$R$34))","v":""},"","",""]
[{"$f":"IF('Facility Information'!$C$21>7,\"CP-8\",\"\")","v":""},"no",null,null,null,null,null,null,null,null,0.5,null,null,null,null,null,null,"",null,"",null,0,"",{"$f":"IF(F16=\"\",\"\",IF(B16=\"no\",'Emission Factors'!$D$33,'Emission Factors'!$D$34))","v":""},"","","",{"$f":"IF(F16=\"\",\"\",IF(B16=\"no\",'Emission Factors'!$F$33,'Emission Factors'!$F$34))","v":""},"","","",{"$f":"IF(F16=\"\",\"\",IF(B16=\"no\",'Emission Factors'!$H$33,'Emission Factors'!$H$34))","v":""},{"$f":"IF(F16=\"\",\"\",IF(C16=\"CP-1\",IF('Concrete Plant (CP-1)'!$I$12>0,'Concrete Plant (CP-1)'!$I$12,AF16*R16*K16),IF(C16=\"CP-2\",IF('Concrete Plant (CP-2)'!$I$12>0,'Concrete Plant (CP-2)'!$I$12,AF16*R16*K16),IF(C16=\"CP-3\",IF('Concrete Plant (CP-3)'!$I$12>0,'Concrete Plant (CP-3)'!$I$12,AF16*R16*K16),IF(C16=\"CP-4\",IF('Concrete Plant (CP-4)'!$I$12>0,'Concrete Plant (CP-4)'!$I$12,AF16*R16*K16),IF(C16=\"CP-5\",IF('Concrete Plant (CP-5)'!$I$12>0,'Concrete Plant (CP-5)'!$I$12,AF16*R16*K16),IF(C16=\"CP-6\",IF('Concrete Plant (CP-6)'!$I$12>0,'Concrete Plant (CP-6)'!$I$12,AF16*R16*K16),IF(C16=\"CP-7\",IF('Concrete Plant (CP-7)'!$I$12>0,'Concrete Plant (CP-7)'!$I$12,AF16*R16*K16),IF(C16=\"CP-8\",IF('Concrete Plant (CP-8)'!$I$12>0,'Concrete Plant (CP-8)'!$I$12,AF16*R16*K16),IF(C16=\"CP-9\",IF('Concrete Plant (CP-9)'!$I$12>0,'Concrete Plant (CP-9)'!$I$12,AF16*R16*K16),IF(C16=\"CP-10\",IF('Concrete Plant (CP-10)'!$I$12>0,'Concrete Plant (CP-10)'!$I$12,AF16*R16*K16))))))))))))","v":""},"","",{"$f":"IF(F16=\"\",\"\",IF(B16=\"no\",'Emission Factors'!$J$33,'Emission Factors'!$J$34))","v":""},{"$f":"IF(F16=\"\",\"\",IF(C16=\"CP-1\",IF('Concrete Plant (CP-1)'!$I$13>0,'Concrete Plant (CP-1)'!$I$13,AJ16*R16),IF(C16=\"CP-2\",IF('Concrete Plant (CP-2)'!$I$13>0,'Concrete Plant (CP-2)'!$I$13,AJ16*R16),IF(C16=\"CP-3\",IF('Concrete Plant (CP-3)'!$I$13>0,'Concrete Plant (CP-3)'!$I$13,AJ16*R16),IF(C16=\"CP-4\",IF('Concrete Plant (CP-4)'!$I$13>0,'Concrete Plant (CP-4)'!$I$13,AJ16*R16),IF(C16=\"CP-5\",IF('Concrete Plant (CP-5)'!$I$13>0,'Concrete Plant (CP-5)'!$I$13,AJ16*R16),IF(C16=\"CP-6\",IF('Concrete Plant (CP-6)'!$I$13>0,'Concrete Plant (CP-6)'!$I$13,AJ16*R16),IF(C16=\"CP-7\",IF('Concrete Plant (CP-7)'!$I$13>0,'Concrete Plant (CP-7)'!$I$13,AJ16*R16),IF(C16=\"CP-8\",IF('Concrete Plant (CP-8)'!$I$13>0,'Concrete Plant (CP-8)'!$I$13,AJ16*R16),IF(C16=\"CP-9\",IF('Concrete Plant (CP-9)'!$I$13>0,'Concrete Plant (CP-9)'!$I$13,AJ16*R16),IF(C16=\"CP-10\",IF('Concrete Plant (CP-10)'!$I$13>0,'Concrete Plant (CP-10)'!$I$13,AJ16*R16))))))))))))","v":""},"","",{"$f":"IF(F16=\"\",\"\",IF(B16=\"no\",'Emission Factors'!$L$33,'Emission Factors'!$L$34))","v":""},{"$f":"IF(F16=\"\",\"\",IF(C16=\"CP-1\",IF('Concrete Plant (CP-1)'!$I$14>0,'Concrete Plant (CP-1)'!$I$14,AN16*R16),IF(C16=\"CP-2\",IF('Concrete Plant (CP-2)'!$I$14>0,'Concrete Plant (CP-2)'!$I$14,AN16*R16),IF(C16=\"CP-3\",IF('Concrete Plant (CP-3)'!$I$14>0,'Concrete Plant (CP-3)'!$I$14,AN16*R16),IF(C16=\"CP-4\",IF('Concrete Plant (CP-4)'!$I$14>0,'Concrete Plant (CP-4)'!$I$14,AN16*R16),IF(C16=\"CP-5\",IF('Concrete Plant (CP-5)'!$I$14>0,'Concrete Plant (CP-5)'!$I$14,AN16*R16),IF(C16=\"CP-6\",IF('Concrete Plant (CP-6)'!$I$14>0,'Concrete Plant (CP-6)'!$I$14,AN16*R16),IF(C16=\"CP-7\",IF('Concrete Plant (CP-7)'!$I$14>0,'Concrete Plant (CP-7)'!$I$14,AN16*R16),IF(C16=\"CP-8\",IF('Concrete Plant (CP-8)'!$I$14>0,'Concrete Plant (CP-8)'!$I$14,AN16*R16),IF(C16=\"CP-9\",IF('Concrete Plant (CP-9)'!$I$14>0,'Concrete Plant (CP-9)'!$I$14,AN16*R16),IF(C16=\"CP-10\",IF('Concrete Plant (CP-10)'!$I$14>0,'Concrete Plant (CP-10)'!$I$14,AN16*R16))))))))))))","v":""},"","",{"$f":"IF(F16=\"\",\"\",IF(B16=\"no\",'Emission Factors'!$N$33,'Emission Factors'!$N$34))","v":""},{"$f":"IF(F16=\"\",\"\",IF(C16=\"CP-1\",IF('Concrete Plant (CP-1)'!$I$15>0,'Concrete Plant (CP-1)'!$I$15,AR16*R16),IF(C16=\"CP-2\",IF('Concrete Plant (CP-2)'!$I$15>0,'Concrete Plant (CP-2)'!$I$15,AR16*R16),IF(C16=\"CP-3\",IF('Concrete Plant (CP-3)'!$I$15>0,'Concrete Plant (CP-3)'!$I$15,AR16*R16),IF(C16=\"CP-4\",IF('Concrete Plant (CP-4)'!$I$15>0,'Concrete Plant (CP-4)'!$I$15,AR16*R16),IF(C16=\"CP-5\",IF('Concrete Plant (CP-5)'!$I$15>0,'Concrete Plant (CP-5)'!$I$15,AR16*R16),IF(C16=\"CP-6\",IF('Concrete Plant (CP-6)'!$I$15>0,'Concrete Plant (CP-6)'!$I$15,AR16*R16),IF(C16=\"CP-7\",IF('Concrete Plant (CP-7)'!$I$15>0,'Concrete Plant (CP-7)'!$I$15,AR16*R16),IF(C16=\"CP-8\",IF('Concrete Plant (CP-8)'!$I$15>0,'Concrete Plant (CP-8)'!$I$15,AR16*R16),IF(C16=\"CP-9\",IF('Concrete Plant (CP-9)'!$I$15>0,'Concrete Plant (CP-9)'!$I$15,AR16*R16),IF(C16=\"CP-10\",IF('Concrete Plant (CP-10)'!$I$15>0,'Concrete Plant (CP-10)'!$I$15,AR16*R16))))))))))))","v":""},"","",{"$f":"IF(F16=\"\",\"\",IF(B16=\"no\",'Emission Factors'!$P$33,'Emission Factors'!$P$34))","v":""},"","","",{"$f":"IF(F16=\"\",\"\",IF(B16=\"no\",'Emission Factors'!$R$33,'Emission Factors'!$R$34))","v":""},"","",""]
[{"$f":"IF('Facility Information'!$C$21>8,\"CP-9\",\"\")","v":""},"no",null,null,null,null,null,null,null,null,{"$f":"IF(J17=\"\",0.5,J17)","v":0.5},null,null,null,null,null,null,"",null,"",null,0,"",{"$f":"IF(F17=\"\",\"\",IF(B17=\"no\",'Emission Factors'!$D$33,'Emission Factors'!$D$34))","v":""},"","","",{"$f":"IF(F17=\"\",\"\",IF(B17=\"no\",'Emission Factors'!$F$33,'Emission Factors'!$F$34))","v":""},"","","",{"$f":"IF(F17=\"\",\"\",IF(B17=\"no\",'Emission Factors'!$H$33,'Emission Factors'!$H$34))","v":""},{"$f":"IF(F17=\"\",\"\",IF(C17=\"CP-1\",IF('Concrete Plant (CP-1)'!$I$12>0,'Concrete Plant (CP-1)'!$I$12,AF17*R17*K17),IF(C17=\"CP-2\",IF('Concrete Plant (CP-2)'!$I$12>0,'Concrete Plant (CP-2)'!$I$12,AF17*R17*K17),IF(C17=\"CP-3\",IF('Concrete Plant (CP-3)'!$I$12>0,'Concrete Plant (CP-3)'!$I$12,AF17*R17*K17),IF(C17=\"CP-4\",IF('Concrete Plant (CP-4)'!$I$12>0,'Concrete Plant (CP-4)'!$I$12,AF17*R17*K17),IF(C17=\"CP-5\",IF('Concrete Plant (CP-5)'!$I$12>0,'Concrete Plant (CP-5)'!$I$12,AF17*R17*K17),IF(C17=\"CP-6\",IF('Concrete Plant (CP-6)'!$I$12>0,'Concrete Plant (CP-6)'!$I$12,AF17*R17*K17),IF(C17=\"CP-7\",IF('Concrete Plant (CP-7)'!$I$12>0,'Concrete Plant (CP-7)'!$I$12,AF17*R17*K17),IF(C17=\"CP-8\",IF('Concrete Plant (CP-8)'!$I$12>0,'Concrete Plant (CP-8)'!$I$12,AF17*R17*K17),IF(C17=\"CP-9\",IF('Concrete Plant (CP-9)'!$I$12>0,'Concrete Plant (CP-9)'!$I$12,AF17*R17*K17),IF(C17=\"CP-10\",IF('Concrete Plant (CP-10)'!$I$12>0,'Concrete Plant (CP-10)'!$I$12,AF17*R17*K17))))))))))))","v":""},"","",{"$f":"IF(F17=\"\",\"\",IF(B17=\"no\",'Emission Factors'!$J$33,'Emission Factors'!$J$34))","v":""},{"$f":"IF(F17=\"\",\"\",IF(C17=\"CP-1\",IF('Concrete Plant (CP-1)'!$I$13>0,'Concrete Plant (CP-1)'!$I$13,AJ17*R17),IF(C17=\"CP-2\",IF('Concrete Plant (CP-2)'!$I$13>0,'Concrete Plant (CP-2)'!$I$13,AJ17*R17),IF(C17=\"CP-3\",IF('Concrete Plant (CP-3)'!$I$13>0,'Concrete Plant (CP-3)'!$I$13,AJ17*R17),IF(C17=\"CP-4\",IF('Concrete Plant (CP-4)'!$I$13>0,'Concrete Plant (CP-4)'!$I$13,AJ17*R17),IF(C17=\"CP-5\",IF('Concrete Plant (CP-5)'!$I$13>0,'Concrete Plant (CP-5)'!$I$13,AJ17*R17),IF(C17=\"CP-6\",IF('Concrete Plant (CP-6)'!$I$13>0,'Concrete Plant (CP-6)'!$I$13,AJ17*R17),IF(C17=\"CP-7\",IF('Concrete Plant (CP-7)'!$I$13>0,'Concrete Plant (CP-7)'!$I$13,AJ17*R17),IF(C17=\"CP-8\",IF('Concrete Plant (CP-8)'!$I$13>0,'Concrete Plant (CP-8)'!$I$13,AJ17*R17),IF(C17=\"CP-9\",IF('Concrete Plant (CP-9)'!$I$13>0,'Concrete Plant (CP-9)'!$I$13,AJ17*R17),IF(C17=\"CP-10\",IF('Concrete Plant (CP-10)'!$I$13>0,'Concrete Plant (CP-10)'!$I$13,AJ17*R17))))))))))))","v":""},"","",{"$f":"IF(F17=\"\",\"\",IF(B17=\"no\",'Emission Factors'!$L$33,'Emission Factors'!$L$34))","v":""},{"$f":"IF(F17=\"\",\"\",IF(C17=\"CP-1\",IF('Concrete Plant (CP-1)'!$I$14>0,'Concrete Plant (CP-1)'!$I$14,AN17*R17),IF(C17=\"CP-2\",IF('Concrete Plant (CP-2)'!$I$14>0,'Concrete Plant (CP-2)'!$I$14,AN17*R17),IF(C17=\"CP-3\",IF('Concrete Plant (CP-3)'!$I$14>0,'Concrete Plant (CP-3)'!$I$14,AN17*R17),IF(C17=\"CP-4\",IF('Concrete Plant (CP-4)'!$I$14>0,'Concrete Plant (CP-4)'!$I$14,AN17*R17),IF(C17=\"CP-5\",IF('Concrete Plant (CP-5)'!$I$14>0,'Concrete Plant (CP-5)'!$I$14,AN17*R17),IF(C17=\"CP-6\",IF('Concrete Plant (CP-6)'!$I$14>0,'Concrete Plant (CP-6)'!$I$14,AN17*R17),IF(C17=\"CP-7\",IF('Concrete Plant (CP-7)'!$I$14>0,'Concrete Plant (CP-7)'!$I$14,AN17*R17),IF(C17=\"CP-8\",IF('Concrete Plant (CP-8)'!$I$14>0,'Concrete Plant (CP-8)'!$I$14,AN17*R17),IF(C17=\"CP-9\",IF('Concrete Plant (CP-9)'!$I$14>0,'Concrete Plant (CP-9)'!$I$14,AN17*R17),IF(C17=\"CP-10\",IF('Concrete Plant (CP-10)'!$I$14>0,'Concrete Plant (CP-10)'!$I$14,AN17*R17))))))))))))","v":""},"","",{"$f":"IF(F17=\"\",\"\",IF(B17=\"no\",'Emission Factors'!$N$33,'Emission Factors'!$N$34))","v":""},{"$f":"IF(F17=\"\",\"\",IF(C17=\"CP-1\",IF('Concrete Plant (CP-1)'!$I$15>0,'Concrete Plant (CP-1)'!$I$15,AR17*R17),IF(C17=\"CP-2\",IF('Concrete Plant (CP-2)'!$I$15>0,'Concrete Plant (CP-2)'!$I$15,AR17*R17),IF(C17=\"CP-3\",IF('Concrete Plant (CP-3)'!$I$15>0,'Concrete Plant (CP-3)'!$I$15,AR17*R17),IF(C17=\"CP-4\",IF('Concrete Plant (CP-4)'!$I$15>0,'Concrete Plant (CP-4)'!$I$15,AR17*R17),IF(C17=\"CP-5\",IF('Concrete Plant (CP-5)'!$I$15>0,'Concrete Plant (CP-5)'!$I$15,AR17*R17),IF(C17=\"CP-6\",IF('Concrete Plant (CP-6)'!$I$15>0,'Concrete Plant (CP-6)'!$I$15,AR17*R17),IF(C17=\"CP-7\",IF('Concrete Plant (CP-7)'!$I$15>0,'Concrete Plant (CP-7)'!$I$15,AR17*R17),IF(C17=\"CP-8\",IF('Concrete Plant (CP-8)'!$I$15>0,'Concrete Plant (CP-8)'!$I$15,AR17*R17),IF(C17=\"CP-9\",IF('Concrete Plant (CP-9)'!$I$15>0,'Concrete Plant (CP-9)'!$I$15,AR17*R17),IF(C17=\"CP-10\",IF('Concrete Plant (CP-10)'!$I$15>0,'Concrete Plant (CP-10)'!$I$15,AR17*R17))))))))))))","v":""},"","",{"$f":"IF(F17=\"\",\"\",IF(B17=\"no\",'Emission Factors'!$P$33,'Emission Factors'!$P$34))","v":""},"","","",{"$f":"IF(F17=\"\",\"\",IF(B17=\"no\",'Emission Factors'!$R$33,'Emission Factors'!$R$34))","v":""},"","",""]
[{"$f":"IF('Facility Information'!$C$21>9,\"CP-10\",\"\")","v":""},"no",null,null,null,null,null,null,null,null,0.5,null,null,null,null,null,null,"",null,"",null,0,"",{"$f":"IF(F18=\"\",\"\",IF(B18=\"no\",'Emission Factors'!$D$33,'Emission Factors'!$D$34))","v":""},"","","",{"$f":"IF(F18=\"\",\"\",IF(B18=\"no\",'Emission Factors'!$F$33,'Emission Factors'!$F$34))","v":""},"","","",{"$f":"IF(F18=\"\",\"\",IF(B18=\"no\",'Emission Factors'!$H$33,'Emission Factors'!$H$34))","v":""},{"$f":"IF(F18=\"\",\"\",IF(C18=\"CP-1\",IF('Concrete Plant (CP-1)'!$I$12>0,'Concrete Plant (CP-1)'!$I$12,AF18*R18*K18),IF(C18=\"CP-2\",IF('Concrete Plant (CP-2)'!$I$12>0,'Concrete Plant (CP-2)'!$I$12,AF18*R18*K18),IF(C18=\"CP-3\",IF('Concrete Plant (CP-3)'!$I$12>0,'Concrete Plant (CP-3)'!$I$12,AF18*R18*K18),IF(C18=\"CP-4\",IF('Concrete Plant (CP-4)'!$I$12>0,'Concrete Plant (CP-4)'!$I$12,AF18*R18*K18),IF(C18=\"CP-5\",IF('Concrete Plant (CP-5)'!$I$12>0,'Concrete Plant (CP-5)'!$I$12,AF18*R18*K18),IF(C18=\"CP-6\",IF('Concrete Plant (CP-6)'!$I$12>0,'Concrete Plant (CP-6)'!$I$12,AF18*R18*K18),IF(C18=\"CP-7\",IF('Concrete Plant (CP-7)'!$I$12>0,'Concrete Plant (CP-7)'!$I$12,AF18*R18*K18),IF(C18=\"CP-8\",IF('Concrete Plant (CP-8)'!$I$12>0,'Concrete Plant (CP-8)'!$I$12,AF18*R18*K18),IF(C18=\"CP-9\",IF('Concrete Plant (CP-9)'!$I$12>0,'Concrete Plant (CP-9)'!$I$12,AF18*R18*K18),IF(C18=\"CP-10\",IF('Concrete Plant (CP-10)'!$I$12>0,'Concrete Plant (CP-10)'!$I$12,AF18*R18*K18))))))))))))","v":""},"","",{"$f":"IF(F18=\"\",\"\",IF(B18=\"no\",'Emission Factors'!$J$33,'Emission Factors'!$J$34))","v":""},{"$f":"IF(F18=\"\",\"\",IF(C18=\"CP-1\",IF('Concrete Plant (CP-1)'!$I$13>0,'Concrete Plant (CP-1)'!$I$13,AJ18*R18),IF(C18=\"CP-2\",IF('Concrete Plant (CP-2)'!$I$13>0,'Concrete Plant (CP-2)'!$I$13,AJ18*R18),IF(C18=\"CP-3\",IF('Concrete Plant (CP-3)'!$I$13>0,'Concrete Plant (CP-3)'!$I$13,AJ18*R18),IF(C18=\"CP-4\",IF('Concrete Plant (CP-4)'!$I$13>0,'Concrete Plant (CP-4)'!$I$13,AJ18*R18),IF(C18=\"CP-5\",IF('Concrete Plant (CP-5)'!$I$13>0,'Concrete Plant (CP-5)'!$I$13,AJ18*R18),IF(C18=\"CP-6\",IF('Concrete Plant (CP-6)'!$I$13>0,'Concrete Plant (CP-6)'!$I$13,AJ18*R18),IF(C18=\"CP-7\",IF('Concrete Plant (CP-7)'!$I$13>0,'Concrete Plant (CP-7)'!$I$13,AJ18*R18),IF(C18=\"CP-8\",IF('Concrete Plant (CP-8)'!$I$13>0,'Concrete Plant (CP-8)'!$I$13,AJ18*R18),IF(C18=\"CP-9\",IF('Concrete Plant (CP-9)'!$I$13>0,'Concrete Plant (CP-9)'!$I$13,AJ18*R18),IF(C18=\"CP-10\",IF('Concrete Plant (CP-10)'!$I$13>0,'Concrete Plant (CP-10)'!$I$13,AJ18*R18))))))))))))","v":""},"","",{"$f":"IF(F18=\"\",\"\",IF(B18=\"no\",'Emission Factors'!$L$33,'Emission Factors'!$L$34))","v":""},{"$f":"IF(F18=\"\",\"\",IF(C18=\"CP-1\",IF('Concrete Plant (CP-1)'!$I$14>0,'Concrete Plant (CP-1)'!$I$14,AN18*R18),IF(C18=\"CP-2\",IF('Concrete Plant (CP-2)'!$I$14>0,'Concrete Plant (CP-2)'!$I$14,AN18*R18),IF(C18=\"CP-3\",IF('Concrete Plant (CP-3)'!$I$14>0,'Concrete Plant (CP-3)'!$I$14,AN18*R18),IF(C18=\"CP-4\",IF('Concrete Plant (CP-4)'!$I$14>0,'Concrete Plant (CP-4)'!$I$14,AN18*R18),IF(C18=\"CP-5\",IF('Concrete Plant (CP-5)'!$I$14>0,'Concrete Plant (CP-5)'!$I$14,AN18*R18),IF(C18=\"CP-6\",IF('Concrete Plant (CP-6)'!$I$14>0,'Concrete Plant (CP-6)'!$I$14,AN18*R18),IF(C18=\"CP-7\",IF('Concrete Plant (CP-7)'!$I$14>0,'Concrete Plant (CP-7)'!$I$14,AN18*R18),IF(C18=\"CP-8\",IF('Concrete Plant (CP-8)'!$I$14>0,'Concrete Plant (CP-8)'!$I$14,AN18*R18),IF(C18=\"CP-9\",IF('Concrete Plant (CP-9)'!$I$14>0,'Concrete Plant (CP-9)'!$I$14,AN18*R18),IF(C18=\"CP-10\",IF('Concrete Plant (CP-10)'!$I$14>0,'Concrete Plant (CP-10)'!$I$14,AN18*R18))))))))))))","v":""},"","",{"$f":"IF(F18=\"\",\"\",IF(B18=\"no\",'Emission Factors'!$N$33,'Emission Factors'!$N$34))","v":""},{"$f":"IF(F18=\"\",\"\",IF(C18=\"CP-1\",IF('Concrete Plant (CP-1)'!$I$15>0,'Concrete Plant (CP-1)'!$I$15,AR18*R18),IF(C18=\"CP-2\",IF('Concrete Plant (CP-2)'!$I$15>0,'Concrete Plant (CP-2)'!$I$15,AR18*R18),IF(C18=\"CP-3\",IF('Concrete Plant (CP-3)'!$I$15>0,'Concrete Plant (CP-3)'!$I$15,AR18*R18),IF(C18=\"CP-4\",IF('Concrete Plant (CP-4)'!$I$15>0,'Concrete Plant (CP-4)'!$I$15,AR18*R18),IF(C18=\"CP-5\",IF('Concrete Plant (CP-5)'!$I$15>0,'Concrete Plant (CP-5)'!$I$15,AR18*R18),IF(C18=\"CP-6\",IF('Concrete Plant (CP-6)'!$I$15>0,'Concrete Plant (CP-6)'!$I$15,AR18*R18),IF(C18=\"CP-7\",IF('Concrete Plant (CP-7)'!$I$15>0,'Concrete Plant (CP-7)'!$I$15,AR18*R18),IF(C18=\"CP-8\",IF('Concrete Plant (CP-8)'!$I$15>0,'Concrete Plant (CP-8)'!$I$15,AR18*R18),IF(C18=\"CP-9\",IF('Concrete Plant (CP-9)'!$I$15>0,'Concrete Plant (CP-9)'!$I$15,AR18*R18),IF(C18=\"CP-10\",IF('Concrete Plant (CP-10)'!$I$15>0,'Concrete Plant (CP-10)'!$I$15,AR18*R18))))))))))))","v":""},"","",{"$f":"IF(F18=\"\",\"\",IF(B18=\"no\",'Emission Factors'!$P$33,'Emission Factors'!$P$34))","v":""},"","","",{"$f":"IF(F18=\"\",\"\",IF(B18=\"no\",'Emission Factors'!$R$33,'Emission Factors'!$R$34))","v":""},"","",""]
[null,"no",null,null,null,null,null,null,null,null,0.5,null,null,null,null,null,null,"",null,"",null,0,"",{"$f":"IF(F19=\"\",\"\",IF(B19=\"no\",'Emission Factors'!$D$33,'Emission Factors'!$D$34))","v":""},"","","",{"$f":"IF(F19=\"\",\"\",IF(B19=\"no\",'Emission Factors'!$F$33,'Emission Factors'!$F$34))","v":""},"","","",{"$f":"IF(F19=\"\",\"\",IF(B19=\"no\",'Emission Factors'!$H$33,'Emission Factors'!$H$34))","v":""},{"$f":"IF(F19=\"\",\"\",IF(C19=\"CP-1\",IF('Concrete Plant (CP-1)'!$I$12>0,'Concrete Plant (CP-1)'!$I$12,AF19*R19*K19),IF(C19=\"CP-2\",IF('Concrete Plant (CP-2)'!$I$12>0,'Concrete Plant (CP-2)'!$I$12,AF19*R19*K19),IF(C19=\"CP-3\",IF('Concrete Plant (CP-3)'!$I$12>0,'Concrete Plant (CP-3)'!$I$12,AF19*R19*K19),IF(C19=\"CP-4\",IF('Concrete Plant (CP-4)'!$I$12>0,'Concrete Plant (CP-4)'!$I$12,AF19*R19*K19),IF(C19=\"CP-5\",IF('Concrete Plant (CP-5)'!$I$12>0,'Concrete Plant (CP-5)'!$I$12,AF19*R19*K19),IF(C19=\"CP-6\",IF('Concrete Plant (CP-6)'!$I$12>0,'Concrete Plant (CP-6)'!$I$12,AF19*R19*K19),IF(C19=\"CP-7\",IF('Concrete Plant (CP-7)'!$I$12>0,'Concrete Plant (CP-7)'!$I$12,AF19*R19*K19),IF(C19=\"CP-8\",IF('Concrete Plant (CP-8)'!$I$12>0,'Concrete Plant (CP-8)'!$I$12,AF19*R19*K19),IF(C19=\"CP-9\",IF('Concrete Plant (CP-9)'!$I$12>0,'Concrete Plant (CP-9)'!$I$12,AF19*R19*K19),IF(C19=\"CP-10\",IF('Concrete Plant (CP-10)'!$I$12>0,'Concrete Plant (CP-10)'!$I$12,AF19*R19*K19))))))))))))","v":""},"","",{"$f":"IF(F19=\"\",\"\",IF(B19=\"no\",'Emission Factors'!$J$33,'Emission Factors'!$J$34))","v":""},{"$f":"IF(F19=\"\",\"\",IF(C19=\"CP-1\",IF('Concrete Plant (CP-1)'!$I$13>0,'Concrete Plant (CP-1)'!$I$13,AJ19*R19),IF(C19=\"CP-2\",IF('Concrete Plant (CP-2)'!$I$13>0,'Concrete Plant (CP-2)'!$I$13,AJ19*R19),IF(C19=\"CP-3\",IF('Concrete Plant (CP-3)'!$I$13>0,'Concrete Plant (CP-3)'!$I$13,AJ19*R19),IF(C19=\"CP-4\",IF('Concrete Plant (CP-4)'!$I$13>0,'Concrete Plant (CP-4)'!$I$13,AJ19*R19),IF(C19=\"CP-5\",IF('Concrete Plant (CP-5)'!$I$13>0,'Concrete Plant (CP-5)'!$I$13,AJ19*R19),IF(C19=\"CP-6\",IF('Concrete Plant (CP-6)'!$I$13>0,'Concrete Plant (CP-6)'!$I$13,AJ19*R19),IF(C19=\"CP-7\",IF('Concrete Plant (CP-7)'!$I$13>0,'Concrete Plant (CP-7)'!$I$13,AJ19*R19),IF(C19=\"CP-8\",IF('Concrete Plant (CP-8)'!$I$13>0,'Concrete Plant (CP-8)'!$I$13,AJ19*R19),IF(C19=\"CP-9\",IF('Concrete Plant (CP-9)'!$I$13>0,'Concrete Plant (CP-9)'!$I$13,AJ19*R19),IF(C19=\"CP-10\",IF('Concrete Plant (CP-10)'!$I$13>0,'Concrete Plant (CP-10)'!$I$13,AJ19*R19))))))))))))","v":""},"","",{"$f":"IF(F19=\"\",\"\",IF(B19=\"no\",'Emission Factors'!$L$33,'Emission Factors'!$L$34))","v":""},{"$f":"IF(F19=\"\",\"\",IF(C19=\"CP-1\",IF('Concrete Plant (CP-1)'!$I$14>0,'Concrete Plant (CP-1)'!$I$14,AN19*R19),IF(C19=\"CP-2\",IF('Concrete Plant (CP-2)'!$I$14>0,'Concrete Plant (CP-2)'!$I$14,AN19*R19),IF(C19=\"CP-3\",IF('Concrete Plant (CP-3)'!$I$14>0,'Concrete Plant (CP-3)'!$I$14,AN19*R19),IF(C19=\"CP-4\",IF('Concrete Plant (CP-4)'!$I$14>0,'Concrete Plant (CP-4)'!$I$14,AN19*R19),IF(C19=\"CP-5\",IF('Concrete Plant (CP-5)'!$I$14>0,'Concrete Plant (CP-5)'!$I$14,AN19*R19),IF(C19=\"CP-6\",IF('Concrete Plant (CP-6)'!$I$14>0,'Concrete Plant (CP-6)'!$I$14,AN19*R19),IF(C19=\"CP-7\",IF('Concrete Plant (CP-7)'!$I$14>0,'Concrete Plant (CP-7)'!$I$14,AN19*R19),IF(C19=\"CP-8\",IF('Concrete Plant (CP-8)'!$I$14>0,'Concrete Plant (CP-8)'!$I$14,AN19*R19),IF(C19=\"CP-9\",IF('Concrete Plant (CP-9)'!$I$14>0,'Concrete Plant (CP-9)'!$I$14,AN19*R19),IF(C19=\"CP-10\",IF('Concrete Plant (CP-10)'!$I$14>0,'Concrete Plant (CP-10)'!$I$14,AN19*R19))))))))))))","v":""},"","",{"$f":"IF(F19=\"\",\"\",IF(B19=\"no\",'Emission Factors'!$N$33,'Emission Factors'!$N$34))","v":""},{"$f":"IF(F19=\"\",\"\",IF(C19=\"CP-1\",IF('Concrete Plant (CP-1)'!$I$15>0,'Concrete Plant (CP-1)'!$I$15,AR19*R19),IF(C19=\"CP-2\",IF('Concrete Plant (CP-2)'!$I$15>0,'Concrete Plant (CP-2)'!$I$15,AR19*R19),IF(C19=\"CP-3\",IF('Concrete Plant (CP-3)'!$I$15>0,'Concrete Plant (CP-3)'!$I$15,AR19*R19),IF(C19=\"CP-4\",IF('Concrete Plant (CP-4)'!$I$15>0,'Concrete Plant (CP-4)'!$I$15,AR19*R19),IF(C19=\"CP-5\",IF('Concrete Plant (CP-5)'!$I$15>0,'Concrete Plant (CP-5)'!$I$15,AR19*R19),IF(C19=\"CP-6\",IF('Concrete Plant (CP-6)'!$I$15>0,'Concrete Plant (CP-6)'!$I$15,AR19*R19),IF(C19=\"CP-7\",IF('Concrete Plant (CP-7)'!$I$15>0,'Concrete Plant (CP-7)'!$I$15,AR19*R19),IF(C19=\"CP-8\",IF('Concrete Plant (CP-8)'!$I$15>0,'Concrete Plant (CP-8)'!$I$15,AR19*R19),IF(C19=\"CP-9\",IF('Concrete Plant (CP-9)'!$I$15>0,'Concrete Plant (CP-9)'!$I$15,AR19*R19),IF(C19=\"CP-10\",IF('Concrete Plant (CP-10)'!$I$15>0,'Concrete Plant (CP-10)'!$I$15,AR19*R19))))))))))))","v":""},"","",{"$f":"IF(F19=\"\",\"\",IF(B19=\"no\",'Emission Factors'!$P$33,'Emission Factors'!$P$34))","v":""},"","","",{"$f":"IF(F19=\"\",\"\",IF(B19=\"no\",'Emission Factors'!$R$33,'Emission Factors'!$R$34))","v":""},"","",""]
[null,"no",null,null,null,null,null,null,null,null,0.5,null,null,null,null,null,null,"",null,"",null,0,"",{"$f":"IF(F20=\"\",\"\",IF(B20=\"no\",'Emission Factors'!$D$33,'Emission Factors'!$D$34))","v":""},"","","",{"$f":"IF(F20=\"\",\"\",IF(B20=\"no\",'Emission Factors'!$F$33,'Emission Factors'!$F$34))","v":""},"","","",{"$f":"IF(F20=\"\",\"\",IF(B20=\"no\",'Emission Factors'!$H$33,'Emission Factors'!$H$34))","v":""},{"$f":"IF(F20=\"\",\"\",IF(C20=\"CP-1\",IF('Concrete Plant (CP-1)'!$I$12>0,'Concrete Plant (CP-1)'!$I$12,AF20*R20*K20),IF(C20=\"CP-2\",IF('Concrete Plant (CP-2)'!$I$12>0,'Concrete Plant (CP-2)'!$I$12,AF20*R20*K20),IF(C20=\"CP-3\",IF('Concrete Plant (CP-3)'!$I$12>0,'Concrete Plant (CP-3)'!$I$12,AF20*R20*K20),IF(C20=\"CP-4\",IF('Concrete Plant (CP-4)'!$I$12>0,'Concrete Plant (CP-4)'!$I$12,AF20*R20*K20),IF(C20=\"CP-5\",IF('Concrete Plant (CP-5)'!$I$12>0,'Concrete Plant (CP-5)'!$I$12,AF20*R20*K20),IF(C20=\"CP-6\",IF('Concrete Plant (CP-6)'!$I$12>0,'Concrete Plant (CP-6)'!$I$12,AF20*R20*K20),IF(C20=\"CP-7\",IF('Concrete Plant (CP-7)'!$I$12>0,'Concrete Plant (CP-7)'!$I$12,AF20*R20*K20),IF(C20=\"CP-8\",IF('Concrete Plant (CP-8)'!$I$12>0,'Concrete Plant (CP-8)'!$I$12,AF20*R20*K20),IF(C20=\"CP-9\",IF('Concrete Plant (CP-9)'!$I$12>0,'Concrete Plant (CP-9)'!$I$12,AF20*R20*K20),IF(C20=\"CP-10\",IF('Concrete Plant (CP-10)'!$I$12>0,'Concrete Plant (CP-10)'!$I$12,AF20*R20*K20))))))))))))","v":""},"","",{"$f":"IF(F20=\"\",\"\",IF(B20=\"no\",'Emission Factors'!$J$33,'Emission Factors'!$J$34))","v":""},{"$f":"IF(F20=\"\",\"\",IF(C20=\"CP-1\",IF('Concrete Plant (CP-1)'!$I$13>0,'Concrete Plant (CP-1)'!$I$13,AJ20*R20),IF(C20=\"CP-2\",IF('Concrete Plant (CP-2)'!$I$13>0,'Concrete Plant (CP-2)'!$I$13,AJ20*R20),IF(C20=\"CP-3\",IF('Concrete Plant (CP-3)'!$I$13>0,'Concrete Plant (CP-3)'!$I$13,AJ20*R20),IF(C20=\"CP-4\",IF('Concrete Plant (CP-4)'!$I$13>0,'Concrete Plant (CP-4)'!$I$13,AJ20*R20),IF(C20=\"CP-5\",IF('Concrete Plant (CP-5)'!$I$13>0,'Concrete Plant (CP-5)'!$I$13,AJ20*R20),IF(C20=\"CP-6\",IF('Concrete Plant (CP-6)'!$I$13>0,'Concrete Plant (CP-6)'!$I$13,AJ20*R20),IF(C20=\"CP-7\",IF('Concrete Plant (CP-7)'!$I$13>0,'Concrete Plant (CP-7)'!$I$13,AJ20*R20),IF(C20=\"CP-8\",IF('Concrete Plant (CP-8)'!$I$13>0,'Concrete Plant (CP-8)'!$I$13,AJ20*R20),IF(C20=\"CP-9\",IF('Concrete Plant (CP-9)'!$I$13>0,'Concrete Plant (CP-9)'!$I$13,AJ20*R20),IF(C20=\"CP-10\",IF('Concrete Plant (CP-10)'!$I$13>0,'Concrete Plant (CP-10)'!$I$13,AJ20*R20))))))))))))","v":""},"","",{"$f":"IF(F20=\"\",\"\",IF(B20=\"no\",'Emission Factors'!$L$33,'Emission Factors'!$L$34))","v":""},{"$f":"IF(F20=\"\",\"\",IF(C20=\"CP-1\",IF('Concrete Plant (CP-1)'!$I$14>0,'Concrete Plant (CP-1)'!$I$14,AN20*R20),IF(C20=\"CP-2\",IF('Concrete Plant (CP-2)'!$I$14>0,'Concrete Plant (CP-2)'!$I$14,AN20*R20),IF(C20=\"CP-3\",IF('Concrete Plant (CP-3)'!$I$14>0,'Concrete Plant (CP-3)'!$I$14,AN20*R20),IF(C20=\"CP-4\",IF('Concrete Plant (CP-4)'!$I$14>0,'Concrete Plant (CP-4)'!$I$14,AN20*R20),IF(C20=\"CP-5\",IF('Concrete Plant (CP-5)'!$I$14>0,'Concrete Plant (CP-5)'!$I$14,AN20*R20),IF(C20=\"CP-6\",IF('Concrete Plant (CP-6)'!$I$14>0,'Concrete Plant (CP-6)'!$I$14,AN20*R20),IF(C20=\"CP-7\",IF('Concrete Plant (CP-7)'!$I$14>0,'Concrete Plant (CP-7)'!$I$14,AN20*R20),IF(C20=\"CP-8\",IF('Concrete Plant (CP-8)'!$I$14>0,'Concrete Plant (CP-8)'!$I$14,AN20*R20),IF(C20=\"CP-9\",IF('Concrete Plant (CP-9)'!$I$14>0,'Concrete Plant (CP-9)'!$I$14,AN20*R20),IF(C20=\"CP-10\",IF('Concrete Plant (CP-10)'!$I$14>0,'Concrete Plant (CP-10)'!$I$14,AN20*R20))))))))))))","v":""},"","",{"$f":"IF(F20=\"\",\"\",IF(B20=\"no\",'Emission Factors'!$N$33,'Emission Factors'!$N$34))","v":""},{"$f":"IF(F20=\"\",\"\",IF(C20=\"CP-1\",IF('Concrete Plant (CP-1)'!$I$15>0,'Concrete Plant (CP-1)'!$I$15,AR20*R20),IF(C20=\"CP-2\",IF('Concrete Plant (CP-2)'!$I$15>0,'Concrete Plant (CP-2)'!$I$15,AR20*R20),IF(C20=\"CP-3\",IF('Concrete Plant (CP-3)'!$I$15>0,'Concrete Plant (CP-3)'!$I$15,AR20*R20),IF(C20=\"CP-4\",IF('Concrete Plant (CP-4)'!$I$15>0,'Concrete Plant (CP-4)'!$I$15,AR20*R20),IF(C20=\"CP-5\",IF('Concrete Plant (CP-5)'!$I$15>0,'Concrete Plant (CP-5)'!$I$15,AR20*R20),IF(C20=\"CP-6\",IF('Concrete Plant (CP-6)'!$I$15>0,'Concrete Plant (CP-6)'!$I$15,AR20*R20),IF(C20=\"CP-7\",IF('Concrete Plant (CP-7)'!$I$15>0,'Concrete Plant (CP-7)'!$I$15,AR20*R20),IF(C20=\"CP-8\",IF('Concrete Plant (CP-8)'!$I$15>0,'Concrete Plant (CP-8)'!$I$15,AR20*R20),IF(C20=\"CP-9\",IF('Concrete Plant (CP-9)'!$I$15>0,'Concrete Plant (CP-9)'!$I$15,AR20*R20),IF(C20=\"CP-10\",IF('Concrete Plant (CP-10)'!$I$15>0,'Concrete Plant (CP-10)'!$I$15,AR20*R20))))))))))))","v":""},"","",{"$f":"IF(F20=\"\",\"\",IF(B20=\"no\",'Emission Factors'!$P$33,'Emission Factors'!$P$34))","v":""},"","","",{"$f":"IF(F20=\"\",\"\",IF(B20=\"no\",'Emission Factors'!$R$33,'Emission Factors'!$R$34))","v":""},"","",""]
[null,"no",null,null,null,null,null,null,null,null,0.5,null,null,null,null,null,null,"",null,"",null,0,"",{"$f":"IF(F21=\"\",\"\",IF(B21=\"no\",'Emission Factors'!$D$33,'Emission Factors'!$D$34))","v":""},"","","",{"$f":"IF(F21=\"\",\"\",IF(B21=\"no\",'Emission Factors'!$F$33,'Emission Factors'!$F$34))","v":""},"","","",{"$f":"IF(F21=\"\",\"\",IF(B21=\"no\",'Emission Factors'!$H$33,'Emission Factors'!$H$34))","v":""},{"$f":"IF(F21=\"\",\"\",IF(C21=\"CP-1\",IF('Concrete Plant (CP-1)'!$I$12>0,'Concrete Plant (CP-1)'!$I$12,AF21*R21*K21),IF(C21=\"CP-2\",IF('Concrete Plant (CP-2)'!$I$12>0,'Concrete Plant (CP-2)'!$I$12,AF21*R21*K21),IF(C21=\"CP-3\",IF('Concrete Plant (CP-3)'!$I$12>0,'Concrete Plant (CP-3)'!$I$12,AF21*R21*K21),IF(C21=\"CP-4\",IF('Concrete Plant (CP-4)'!$I$12>0,'Concrete Plant (CP-4)'!$I$12,AF21*R21*K21),IF(C21=\"CP-5\",IF('Concrete Plant (CP-5)'!$I$12>0,'Concrete Plant (CP-5)'!$I$12,AF21*R21*K21),IF(C21=\"CP-6\",IF('Concrete Plant (CP-6)'!$I$12>0,'Concrete Plant (CP-6)'!$I$12,AF21*R21*K21),IF(C21=\"CP-7\",IF('Concrete Plant (CP-7)'!$I$12>0,'Concrete Plant (CP-7)'!$I$12,AF21*R21*K21),IF(C21=\"CP-8\",IF('Concrete Plant (CP-8)'!$I$12>0,'Concrete Plant (CP-8)'!$I$12,AF21*R21*K21),IF(C21=\"CP-9\",IF('Concrete Plant (CP-9)'!$I$12>0,'Concrete Plant (CP-9)'!$I$12,AF21*R21*K21),IF(C21=\"CP-10\",IF('Concrete Plant (CP-10)'!$I$12>0,'Concrete Plant (CP-10)'!$I$12,AF21*R21*K21))))))))))))","v":""},"","",{"$f":"IF(F21=\"\",\"\",IF(B21=\"no\",'Emission Factors'!$J$33,'Emission Factors'!$J$34))","v":""},{"$f":"IF(F21=\"\",\"\",IF(C21=\"CP-1\",IF('Concrete Plant (CP-1)'!$I$13>0,'Concrete Plant (CP-1)'!$I$13,AJ21*R21),IF(C21=\"CP-2\",IF('Concrete Plant (CP-2)'!$I$13>0,'Concrete Plant (CP-2)'!$I$13,AJ21*R21),IF(C21=\"CP-3\",IF('Concrete Plant (CP-3)'!$I$13>0,'Concrete Plant (CP-3)'!$I$13,AJ21*R21),IF(C21=\"CP-4\",IF('Concrete Plant (CP-4)'!$I$13>0,'Concrete Plant (CP-4)'!$I$13,AJ21*R21),IF(C21=\"CP-5\",IF('Concrete Plant (CP-5)'!$I$13>0,'Concrete Plant (CP-5)'!$I$13,AJ21*R21),IF(C21=\"CP-6\",IF('Concrete Plant (CP-6)'!$I$13>0,'Concrete Plant (CP-6)'!$I$13,AJ21*R21),IF(C21=\"CP-7\",IF('Concrete Plant (CP-7)'!$I$13>0,'Concrete Plant (CP-7)'!$I$13,AJ21*R21),IF(C21=\"CP-8\",IF('Concrete Plant (CP-8)'!$I$13>0,'Concrete Plant (CP-8)'!$I$13,AJ21*R21),IF(C21=\"CP-9\",IF('Concrete Plant (CP-9)'!$I$13>0,'Concrete Plant (CP-9)'!$I$13,AJ21*R21),IF(C21=\"CP-10\",IF('Concrete Plant (CP-10)'!$I$13>0,'Concrete Plant (CP-10)'!$I$13,AJ21*R21))))))))))))","v":""},"","",{"$f":"IF(F21=\"\",\"\",IF(B21=\"no\",'Emission Factors'!$L$33,'Emission Factors'!$L$34))","v":""},{"$f":"IF(F21=\"\",\"\",IF(C21=\"CP-1\",IF('Concrete Plant (CP-1)'!$I$14>0,'Concrete Plant (CP-1)'!$I$14,AN21*R21),IF(C21=\"CP-2\",IF('Concrete Plant (CP-2)'!$I$14>0,'Concrete Plant (CP-2)'!$I$14,AN21*R21),IF(C21=\"CP-3\",IF('Concrete Plant (CP-3)'!$I$14>0,'Concrete Plant (CP-3)'!$I$14,AN21*R21),IF(C21=\"CP-4\",IF('Concrete Plant (CP-4)'!$I$14>0,'Concrete Plant (CP-4)'!$I$14,AN21*R21),IF(C21=\"CP-5\",IF('Concrete Plant (CP-5)'!$I$14>0,'Concrete Plant (CP-5)'!$I$14,AN21*R21),IF(C21=\"CP-6\",IF('Concrete Plant (CP-6)'!$I$14>0,'Concrete Plant (CP-6)'!$I$14,AN21*R21),IF(C21=\"CP-7\",IF('Concrete Plant (CP-7)'!$I$14>0,'Concrete Plant (CP-7)'!$I$14,AN21*R21),IF(C21=\"CP-8\",IF('Concrete Plant (CP-8)'!$I$14>0,'Concrete Plant (CP-8)'!$I$14,AN21*R21),IF(C21=\"CP-9\",IF('Concrete Plant (CP-9)'!$I$14>0,'Concrete Plant (CP-9)'!$I$14,AN21*R21),IF(C21=\"CP-10\",IF('Concrete Plant (CP-10)'!$I$14>0,'Concrete Plant (CP-10)'!$I$14,AN21*R21))))))))))))","v":""},"","",{"$f":"IF(F21=\"\",\"\",IF(B21=\"no\",'Emission Factors'!$N$33,'Emission Factors'!$N$34))","v":""},{"$f":"IF(F21=\"\",\"\",IF(C21=\"CP-1\",IF('Concrete Plant (CP-1)'!$I$15>0,'Concrete Plant (CP-1)'!$I$15,AR21*R21),IF(C21=\"CP-2\",IF('Concrete Plant (CP-2)'!$I$15>0,'Concrete Plant (CP-2)'!$I$15,AR21*R21),IF(C21=\"CP-3\",IF('Concrete Plant (CP-3)'!$I$15>0,'Concrete Plant (CP-3)'!$I$15,AR21*R21),IF(C21=\"CP-4\",IF('Concrete Plant (CP-4)'!$I$15>0,'Concrete Plant (CP-4)'!$I$15,AR21*R21),IF(C21=\"CP-5\",IF('Concrete Plant (CP-5)'!$I$15>0,'Concrete Plant (CP-5)'!$I$15,AR21*R21),IF(C21=\"CP-6\",IF('Concrete Plant (CP-6)'!$I$15>0,'Concrete Plant (CP-6)'!$I$15,AR21*R21),IF(C21=\"CP-7\",IF('Concrete Plant (CP-7)'!$I$15>0,'Concrete Plant (CP-7)'!$I$15,AR21*R21),IF(C21=\"CP-8\",IF('Concrete Plant (CP-8)'!$I$15>0,'Concrete Plant (CP-8)'!$I$15,AR21*R21),IF(C21=\"CP-9\",IF('Concrete Plant (CP-9)'!$I$15>0,'Concrete Plant (CP-9)'!$I$15,AR21*R21),IF(C21=\"CP-10\",IF('Concrete Plant (CP-10)'!$I$15>0,'Concrete Plant (CP-10)'!$I$15,AR21*R21))))))))))))","v":""},"","",{"$f":"IF(F21=\"\",\"\",IF(B21=\"no\",'Emission Factors'!$P$33,'Emission Factors'!$P$34))","v":""},"","","",{"$f":"IF(F21=\"\",\"\",IF(B21=\"no\",'Emission Factors'!$R$33,'Emission Factors'!$R$34))","v":""},"","",""]
[null,"no",null,null,null,null,null,null,null,null,0.5,null,null,null,null,null,null,"",null,"",null,0,"",{"$f":"IF(F22=\"\",\"\",IF(B22=\"no\",'Emission Factors'!$D$33,'Emission Factors'!$D$34))","v":""},"","","",{"$f":"IF(F22=\"\",\"\",IF(B22=\"no\",'Emission Factors'!$F$33,'Emission Factors'!$F$34))","v":""},"","","",{"$f":"IF(F22=\"\",\"\",IF(B22=\"no\",'Emission Factors'!$H$33,'Emission Factors'!$H$34))","v":""},{"$f":"IF(F22=\"\",\"\",IF(C22=\"CP-1\",IF('Concrete Plant (CP-1)'!$I$12>0,'Concrete Plant (CP-1)'!$I$12,AF22*R22*K22),IF(C22=\"CP-2\",IF('Concrete Plant (CP-2)'!$I$12>0,'Concrete Plant (CP-2)'!$I$12,AF22*R22*K22),IF(C22=\"CP-3\",IF('Concrete Plant (CP-3)'!$I$12>0,'Concrete Plant (CP-3)'!$I$12,AF22*R22*K22),IF(C22=\"CP-4\",IF('Concrete Plant (CP-4)'!$I$12>0,'Concrete Plant (CP-4)'!$I$12,AF22*R22*K22),IF(C22=\"CP-5\",IF('Concrete Plant (CP-5)'!$I$12>0,'Concrete Plant (CP-5)'!$I$12,AF22*R22*K22),IF(C22=\"CP-6\",IF('Concrete Plant (CP-6)'!$I$12>0,'Concrete Plant (CP-6)'!$I$12,AF22*R22*K22),IF(C22=\"CP-7\",IF('Concrete Plant (CP-7)'!$I$12>0,'Concrete Plant (CP-7)'!$I$12,AF22*R22*K22),IF(C22=\"CP-8\",IF('Concrete Plant (CP-8)'!$I$12>0,'Concrete Plant (CP-8)'!$I$12,AF22*R22*K22),IF(C22=\"CP-9\",IF('Concrete Plant (CP-9)'!$I$12>0,'Concrete Plant (CP-9)'!$I$12,AF22*R22*K22),IF(C22=\"CP-10\",IF('Concrete Plant (CP-10)'!$I$12>0,'Concrete Plant (CP-10)'!$I$12,AF22*R22*K22))))))))))))","v":""},"","",{"$f":"IF(F22=\"\",\"\",IF(B22=\"no\",'Emission Factors'!$J$33,'Emission Factors'!$J$34))","v":""},{"$f":"IF(F22=\"\",\"\",IF(C22=\"CP-1\",IF('Concrete Plant (CP-1)'!$I$13>0,'Concrete Plant (CP-1)'!$I$13,AJ22*R22),IF(C22=\"CP-2\",IF('Concrete Plant (CP-2)'!$I$13>0,'Concrete Plant (CP-2)'!$I$13,AJ22*R22),IF(C22=\"CP-3\",IF('Concrete Plant (CP-3)'!$I$13>0,'Concrete Plant (CP-3)'!$I$13,AJ22*R22),IF(C22=\"CP-4\",IF('Concrete Plant (CP-4)'!$I$13>0,'Concrete Plant (CP-4)'!$I$13,AJ22*R22),IF(C22=\"CP-5\",IF('Concrete Plant (CP-5)'!$I$13>0,'Concrete Plant (CP-5)'!$I$13,AJ22*R22),IF(C22=\"CP-6\",IF('Concrete Plant (CP-6)'!$I$13>0,'Concrete Plant (CP-6)'!$I$13,AJ22*R22),IF(C22=\"CP-7\",IF('Concrete Plant (CP-7)'!$I$13>0,'Concrete Plant (CP-7)'!$I$13,AJ22*R22),IF(C22=\"CP-8\",IF('Concrete Plant (CP-8)'!$I$13>0,'Concrete Plant (CP-8)'!$I$13,AJ22*R22),IF(C22=\"CP-9\",IF('Concrete Plant (CP-9)'!$I$13>0,'Concrete Plant (CP-9)'!$I$13,AJ22*R22),IF(C22=\"CP-10\",IF('Concrete Plant (CP-10)'!$I$13>0,'Concrete Plant (CP-10)'!$I$13,AJ22*R22))))))))))))","v":""},"","",{"$f":"IF(F22=\"\",\"\",IF(B22=\"no\",'Emission Factors'!$L$33,'Emission Factors'!$L$34))","v":""},{"$f":"IF(F22=\"\",\"\",IF(C22=\"CP-1\",IF('Concrete Plant (CP-1)'!$I$14>0,'Concrete Plant (CP-1)'!$I$14,AN22*R22),IF(C22=\"CP-2\",IF('Concrete Plant (CP-2)'!$I$14>0,'Concrete Plant (CP-2)'!$I$14,AN22*R22),IF(C22=\"CP-3\",IF('Concrete Plant (CP-3)'!$I$14>0,'Concrete Plant (CP-3)'!$I$14,AN22*R22),IF(C22=\"CP-4\",IF('Concrete Plant (CP-4)'!$I$14>0,'Concrete Plant (CP-4)'!$I$14,AN22*R22),IF(C22=\"CP-5\",IF('Concrete Plant (CP-5)'!$I$14>0,'Concrete Plant (CP-5)'!$I$14,AN22*R22),IF(C22=\"CP-6\",IF('Concrete Plant (CP-6)'!$I$14>0,'Concrete Plant (CP-6)'!$I$14,AN22*R22),IF(C22=\"CP-7\",IF('Concrete Plant (CP-7)'!$I$14>0,'Concrete Plant (CP-7)'!$I$14,AN22*R22),IF(C22=\"CP-8\",IF('Concrete Plant (CP-8)'!$I$14>0,'Concrete Plant (CP-8)'!$I$14,AN22*R22),IF(C22=\"CP-9\",IF('Concrete Plant (CP-9)'!$I$14>0,'Concrete Plant (CP-9)'!$I$14,AN22*R22),IF(C22=\"CP-10\",IF('Concrete Plant (CP-10)'!$I$14>0,'Concrete Plant (CP-10)'!$I$14,AN22*R22))))))))))))","v":""},"","",{"$f":"IF(F22=\"\",\"\",IF(B22=\"no\",'Emission Factors'!$N$33,'Emission Factors'!$N$34))","v":""},{"$f":"IF(F22=\"\",\"\",IF(C22=\"CP-1\",IF('Concrete Plant (CP-1)'!$I$15>0,'Concrete Plant (CP-1)'!$I$15,AR22*R22),IF(C22=\"CP-2\",IF('Concrete Plant (CP-2)'!$I$15>0,'Concrete Plant (CP-2)'!$I$15,AR22*R22),IF(C22=\"CP-3\",IF('Concrete Plant (CP-3)'!$I$15>0,'Concrete Plant (CP-3)'!$I$15,AR22*R22),IF(C22=\"CP-4\",IF('Concrete Plant (CP-4)'!$I$15>0,'Concrete Plant (CP-4)'!$I$15,AR22*R22),IF(C22=\"CP-5\",IF('Concrete Plant (CP-5)'!$I$15>0,'Concrete Plant (CP-5)'!$I$15,AR22*R22),IF(C22=\"CP-6\",IF('Concrete Plant (CP-6)'!$I$15>0,'Concrete Plant (CP-6)'!$I$15,AR22*R22),IF(C22=\"CP-7\",IF('Concrete Plant (CP-7)'!$I$15>0,'Concrete Plant (CP-7)'!$I$15,AR22*R22),IF(C22=\"CP-8\",IF('Concrete Plant (CP-8)'!$I$15>0,'Concrete Plant (CP-8)'!$I$15,AR22*R22),IF(C22=\"CP-9\",IF('Concrete Plant (CP-9)'!$I$15>0,'Concrete Plant (CP-9)'!$I$15,AR22*R22),IF(C22=\"CP-10\",IF('Concrete Plant (CP-10)'!$I$15>0,'Concrete Plant (CP-10)'!$I$15,AR22*R22))))))))))))","v":""},"","",{"$f":"IF(F22=\"\",\"\",IF(B22=\"no\",'Emission Factors'!$P$33,'Emission Factors'!$P$34))","v":""},"","","",{"$f":"IF(F22=\"\",\"\",IF(B22=\"no\",'Emission Factors'!$R$33,'Emission Factors'!$R$34))","v":""},"","",""]
[null,{"$f":"IF(F23=\"Diesel Generator> 600 bhp\",\"yes\",\"no\")","v":"no"},null,null,null,null,null,null,null,null,0.5,null,null,null,null,null,null,{"$f":"IF(Q23=\"\",\"\",Q23*0.14)","v":""},null,{"$f":"IF(S23=\"\",\"\",S23*0.14)","v":""},null,0,"",{"$f":"IF(F23=\"\",\"\",IF(B23=\"no\",'Emission Factors'!$D$33,'Emission Factors'!$D$34))","v":""},"","","",{"$f":"IF(F23=\"\",\"\",IF(B23=\"no\",'Emission Factors'!$F$33,'Emission Factors'!$F$34))","v":""},"","","",{"$f":"IF(F23=\"\",\"\",IF(B23=\"no\",'Emission Factors'!$H$33,'Emission Factors'!$H$34))","v":""},{"$f":"IF(F23=\"\",\"\",IF(C23=\"CP-1\",IF('Concrete Plant (CP-1)'!$I$12>0,'Concrete Plant (CP-1)'!$I$12,AF23*R23*K23),IF(C23=\"CP-2\",IF('Concrete Plant (CP-2)'!$I$12>0,'Concrete Plant (CP-2)'!$I$12,AF23*R23*K23),IF(C23=\"CP-3\",IF('Concrete Plant (CP-3)'!$I$12>0,'Concrete Plant (CP-3)'!$I$12,AF23*R23*K23),IF(C23=\"CP-4\",IF('Concrete Plant (CP-4)'!$I$12>0,'Concrete Plant (CP-4)'!$I$12,AF23*R23*K23),IF(C23=\"CP-5\",IF('Concrete Plant (CP-5)'!$I$12>0,'Concrete Plant (CP-5)'!$I$12,AF23*R23*K23),IF(C23=\"CP-6\",IF('Concrete Plant (CP-6)'!$I$12>0,'Concrete Plant (CP-6)'!$I$12,AF23*R23*K23),IF(C23=\"CP-7\",IF('Concrete Plant (CP-7)'!$I$12>0,'Concrete Plant (CP-7)'!$I$12,AF23*R23*K23),IF(C23=\"CP-8\",IF('Concrete Plant (CP-8)'!$I$12>0,'Concrete Plant (CP-8)'!$I$12,AF23*R23*K23),IF(C23=\"CP-9\",IF('Concrete Plant (CP-9)'!$I$12>0,'Concrete Plant (CP-9)'!$I$12,AF23*R23*K23),IF(C23=\"CP-10\",IF('Concrete Plant (CP-10)'!$I$12>0,'Concrete Plant (CP-10)'!$I$12,AF23*R23*K23))))))))))))","v":""},"","",{"$f":"IF(F23=\"\",\"\",IF(B23=\"no\",'Emission Factors'!$J$33,'Emission Factors'!$J$34))","v":""},{"$f":"IF(F23=\"\",\"\",IF(C23=\"CP-1\",IF('Concrete Plant (CP-1)'!$I$13>0,'Concrete Plant (CP-1)'!$I$13,AJ23*R23),IF(C23=\"CP-2\",IF('Concrete Plant (CP-2)'!$I$13>0,'Concrete Plant (CP-2)'!$I$13,AJ23*R23),IF(C23=\"CP-3\",IF('Concrete Plant (CP-3)'!$I$13>0,'Concrete Plant (CP-3)'!$I$13,AJ23*R23),IF(C23=\"CP-4\",IF('Concrete Plant (CP-4)'!$I$13>0,'Concrete Plant (CP-4)'!$I$13,AJ23*R23),IF(C23=\"CP-5\",IF('Concrete Plant (CP-5)'!$I$13>0,'Concrete Plant (CP-5)'!$I$13,AJ23*R23),IF(C23=\"CP-6\",IF('Concrete Plant (CP-6)'!$I$13>0,'Concrete Plant (CP-6)'!$I$13,AJ23*R23),IF(C23=\"CP-7\",IF('Concrete Plant (CP-7)'!$I$13>0,'Concrete Plant (CP-7)'!$I$13,AJ23*R23),IF(C23=\"CP-8\",IF('Concrete Plant (CP-8)'!$I$13>0,'Concrete Plant (CP-8)'!$I$13,AJ23*R23),IF(C23=\"CP-9\",IF('Concrete Plant (CP-9)'!$I$13>0,'Concrete Plant (CP-9)'!$I$13,AJ23*R23),IF(C23=\"CP-10\",IF('Concrete Plant (CP-10)'!$I$13>0,'Concrete Plant (CP-10)'!$I$13,AJ23*R23))))))))))))","v":""},"","",{"$f":"IF(F23=\"\",\"\",IF(B23=\"no\",'Emission Factors'!$L$33,'Emission Factors'!$L$34))","v":""},{"$f":"IF(F23=\"\",\"\",IF(C23=\"CP-1\",IF('Concrete Plant (CP-1)'!$I$14>0,'Concrete Plant (CP-1)'!$I$14,AN23*R23),IF(C23=\"CP-2\",IF('Concrete Plant (CP-2)'!$I$14>0,'Concrete Plant (CP-2)'!$I$14,AN23*R23),IF(C23=\"CP-3\",IF('Concrete Plant (CP-3)'!$I$14>0,'Concrete Plant (CP-3)'!$I$14,AN23*R23),IF(C23=\"CP-4\",IF('Concrete Plant (CP-4)'!$I$14>0,'Concrete Plant (CP-4)'!$I$14,AN23*R23),IF(C23=\"CP-5\",IF('Concrete Plant (CP-5)'!$I$14>0,'Concrete Plant (CP-5)'!$I$14,AN23*R23),IF(C23=\"CP-6\",IF('Concrete Plant (CP-6)'!$I$14>0,'Concrete Plant (CP-6)'!$I$14,AN23*R23),IF(C23=\"CP-7\",IF('Concrete Plant (CP-7)'!$I$14>0,'Concrete Plant (CP-7)'!$I$14,AN23*R23),IF(C23=\"CP-8\",IF('Concrete Plant (CP-8)'!$I$14>0,'Concrete Plant (CP-8)'!$I$14,AN23*R23),IF(C23=\"CP-9\",IF('Concrete Plant (CP-9)'!$I$14>0,'Concrete Plant (CP-9)'!$I$14,AN23*R23),IF(C23=\"CP-10\",IF('Concrete Plant (CP-10)'!$I$14>0,'Concrete Plant (CP-10)'!$I$14,AN23*R23))))))))))))","v":""},"","",{"$f":"IF(F23=\"\",\"\",IF(B23=\"no\",'Emission Factors'!$N$33,'Emission Factors'!$N$34))","v":""},{"$f":"IF(F23=\"\",\"\",IF(C23=\"CP-1\",IF('Concrete Plant (CP-1)'!$I$15>0,'Concrete Plant (CP-1)'!$I$15,AR23*R23),IF(C23=\"CP-2\",IF('Concrete Plant (CP-2)'!$I$15>0,'Concrete Plant (CP-2)'!$I$15,AR23*R23),IF(C23=\"CP-3\",IF('Concrete Plant (CP-3)'!$I$15>0,'Concrete Plant (CP-3)'!$I$15,AR23*R23),IF(C23=\"CP-4\",IF('Concrete Plant (CP-4)'!$I$15>0,'Concrete Plant (CP-4)'!$I$15,AR23*R23),IF(C23=\"CP-5\",IF('Concrete Plant (CP-5)'!$I$15>0,'Concrete Plant (CP-5)'!$I$15,AR23*R23),IF(C23=\"CP-6\",IF('Concrete Plant (CP-6)'!$I$15>0,'Concrete Plant (CP-6)'!$I$15,AR23*R23),IF(C23=\"CP-7\",IF('Concrete Plant (CP-7)'!$I$15>0,'Concrete Plant (CP-7)'!$I$15,AR23*R23),IF(C23=\"CP-8\",IF('Concrete Plant (CP-8)'!$I$15>0,'Concrete Plant (CP-8)'!$I$15,AR23*R23),IF(C23=\"CP-9\",IF('Concrete Plant (CP-9)'!$I$15>0,'Concrete Plant (CP-9)'!$I$15,AR23*R23),IF(C23=\"CP-10\",IF('Concrete Plant (CP-10)'!$I$15>0,'Concrete Plant (CP-10)'!$I$15,AR23*R23))))))))))))","v":""},"","",{"$f":"IF(F23=\"\",\"\",IF(B23=\"no\",'Emission Factors'!$P$33,'Emission Factors'!$P$34))","v":""},"","","",{"$f":"IF(F23=\"\",\"\",IF(B23=\"no\",'Emission Factors'!$R$33,'Emission Factors'!$R$34))","v":""},"","",""]
[null,{"$f":"IF(F24=\"Diesel Generator> 600 bhp\",\"yes\",\"no\")","v":"no"},null,null,null,null,null,null,null,null,0.5,null,null,null,null,null,null,{"$f":"IF(Q24=\"\",\"\",Q24*0.14)","v":""},null,{"$f":"IF(S24=\"\",\"\",S24*0.14)","v":""},null,0,"",{"$f":"IF(F24=\"\",\"\",IF(B24=\"no\",'Emission Factors'!$D$33,'Emission Factors'!$D$34))","v":""},"","","",{"$f":"IF(F24=\"\",\"\",IF(B24=\"no\",'Emission Factors'!$F$33,'Emission Factors'!$F$34))","v":""},"","","",{"$f":"IF(F24=\"\",\"\",IF(B24=\"no\",'Emission Factors'!$H$33,'Emission Factors'!$H$34))","v":""},{"$f":"IF(F24=\"\",\"\",IF(C24=\"CP-1\",IF('Concrete Plant (CP-1)'!$I$12>0,'Concrete Plant (CP-1)'!$I$12,AF24*R24*K24),IF(C24=\"CP-2\",IF('Concrete Plant (CP-2)'!$I$12>0,'Concrete Plant (CP-2)'!$I$12,AF24*R24*K24),IF(C24=\"CP-3\",IF('Concrete Plant (CP-3)'!$I$12>0,'Concrete Plant (CP-3)'!$I$12,AF24*R24*K24),IF(C24=\"CP-4\",IF('Concrete Plant (CP-4)'!$I$12>0,'Concrete Plant (CP-4)'!$I$12,AF24*R24*K24),IF(C24=\"CP-5\",IF('Concrete Plant (CP-5)'!$I$12>0,'Concrete Plant (CP-5)'!$I$12,AF24*R24*K24),IF(C24=\"CP-6\",IF('Concrete Plant (CP-6)'!$I$12>0,'Concrete Plant (CP-6)'!$I$12,AF24*R24*K24),IF(C24=\"CP-7\",IF('Concrete Plant (CP-7)'!$I$12>0,'Concrete Plant (CP-7)'!$I$12,AF24*R24*K24),IF(C24=\"CP-8\",IF('Concrete Plant (CP-8)'!$I$12>0,'Concrete Plant (CP-8)'!$I$12,AF24*R24*K24),IF(C24=\"CP-9\",IF('Concrete Plant (CP-9)'!$I$12>0,'Concrete Plant (CP-9)'!$I$12,AF24*R24*K24),IF(C24=\"CP-10\",IF('Concrete Plant (CP-10)'!$I$12>0,'Concrete Plant (CP-10)'!$I$12,AF24*R24*K24))))))))))))","v":""},"","",{"$f":"IF(F24=\"\",\"\",IF(B24=\"no\",'Emission Factors'!$J$33,'Emission Factors'!$J$34))","v":""},{"$f":"IF(F24=\"\",\"\",IF(C24=\"CP-1\",IF('Concrete Plant (CP-1)'!$I$13>0,'Concrete Plant (CP-1)'!$I$13,AJ24*R24),IF(C24=\"CP-2\",IF('Concrete Plant (CP-2)'!$I$13>0,'Concrete Plant (CP-2)'!$I$13,AJ24*R24),IF(C24=\"CP-3\",IF('Concrete Plant (CP-3)'!$I$13>0,'Concrete Plant (CP-3)'!$I$13,AJ24*R24),IF(C24=\"CP-4\",IF('Concrete Plant (CP-4)'!$I$13>0,'Concrete Plant (CP-4)'!$I$13,AJ24*R24),IF(C24=\"CP-5\",IF('Concrete Plant (CP-5)'!$I$13>0,'Concrete Plant (CP-5)'!$I$13,AJ24*R24),IF(C24=\"CP-6\",IF('Concrete Plant (CP-6)'!$I$13>0,'Concrete Plant (CP-6)'!$I$13,AJ24*R24),IF(C24=\"CP-7\",IF('Concrete Plant (CP-7)'!$I$13>0,'Concrete Plant (CP-7)'!$I$13,AJ24*R24),IF(C24=\"CP-8\",IF('Concrete Plant (CP-8)'!$I$13>0,'Concrete Plant (CP-8)'!$I$13,AJ24*R24),IF(C24=\"CP-9\",IF('Concrete Plant (CP-9)'!$I$13>0,'Concrete Plant (CP-9)'!$I$13,AJ24*R24),IF(C24=\"CP-10\",IF('Concrete Plant (CP-10)'!$I$13>0,'Concrete Plant (CP-10)'!$I$13,AJ24*R24))))))))))))","v":""},"","",{"$f":"IF(F24=\"\",\"\",IF(B24=\"no\",'Emission Factors'!$L$33,'Emission Factors'!$L$34))","v":""},{"$f":"IF(F24=\"\",\"\",IF(C24=\"CP-1\",IF('Concrete Plant (CP-1)'!$I$14>0,'Concrete Plant (CP-1)'!$I$14,AN24*R24),IF(C24=\"CP-2\",IF('Concrete Plant (CP-2)'!$I$14>0,'Concrete Plant (CP-2)'!$I$14,AN24*R24),IF(C24=\"CP-3\",IF('Concrete Plant (CP-3)'!$I$14>0,'Concrete Plant (CP-3)'!$I$14,AN24*R24),IF(C24=\"CP-4\",IF('Concrete Plant (CP-4)'!$I$14>0,'Concrete Plant (CP-4)'!$I$14,AN24*R24),IF(C24=\"CP-5\",IF('Concrete Plant (CP-5)'!$I$14>0,'Concrete Plant (CP-5)'!$I$14,AN24*R24),IF(C24=\"CP-6\",IF('Concrete Plant (CP-6)'!$I$14>0,'Concrete Plant (CP-6)'!$I$14,AN24*R24),IF(C24=\"CP-7\",IF('Concrete Plant (CP-7)'!$I$14>0,'Concrete Plant (CP-7)'!$I$14,AN24*R24),IF(C24=\"CP-8\",IF('Concrete Plant (CP-8)'!$I$14>0,'Concrete Plant (CP-8)'!$I$14,AN24*R24),IF(C24=\"CP-9\",IF('Concrete Plant (CP-9)'!$I$14>0,'Concrete Plant (CP-9)'!$I$14,AN24*R24),IF(C24=\"CP-10\",IF('Concrete Plant (CP-10)'!$I$14>0,'Concrete Plant (CP-10)'!$I$14,AN24*R24))))))))))))","v":""},"","",{"$f":"IF(F24=\"\",\"\",IF(B24=\"no\",'Emission Factors'!$N$33,'Emission Factors'!$N$34))","v":""},{"$f":"IF(F24=\"\",\"\",IF(C24=\"CP-1\",IF('Concrete Plant (CP-1)'!$I$15>0,'Concrete Plant (CP-1)'!$I$15,AR24*R24),IF(C24=\"CP-2\",IF('Concrete Plant (CP-2)'!$I$15>0,'Concrete Plant (CP-2)'!$I$15,AR24*R24),IF(C24=\"CP-3\",IF('Concrete Plant (CP-3)'!$I$15>0,'Concrete Plant (CP-3)'!$I$15,AR24*R24),IF(C24=\"CP-4\",IF('Concrete Plant (CP-4)'!$I$15>0,'Concrete Plant (CP-4)'!$I$15,AR24*R24),IF(C24=\"CP-5\",IF('Concrete Plant (CP-5)'!$I$15>0,'Concrete Plant (CP-5)'!$I$15,AR24*R24),IF(C24=\"CP-6\",IF('Concrete Plant (CP-6)'!$I$15>0,'Concrete Plant (CP-6)'!$I$15,AR24*R24),IF(C24=\"CP-7\",IF('Concrete Plant (CP-7)'!$I$15>0,'Concrete Plant (CP-7)'!$I$15,AR24*R24),IF(C24=\"CP-8\",IF('Concrete Plant (CP-8)'!$I$15>0,'Concrete Plant (CP-8)'!$I$15,AR24*R24),IF(C24=\"CP-9\",IF('Concrete Plant (CP-9)'!$I$15>0,'Concrete Plant (CP-9)'!$I$15,AR24*R24),IF(C24=\"CP-10\",IF('Concrete Plant (CP-10)'!$I$15>0,'Concrete Plant (CP-10)'!$I$15,AR24*R24))))))))))))","v":""},"","",{"$f":"IF(F24=\"\",\"\",IF(B24=\"no\",'Emission Factors'!$P$33,'Emission Factors'!$P$34))","v":""},"","","",{"$f":"IF(F24=\"\",\"\",IF(B24=\"no\",'Emission Factors'!$R$33,'Emission Factors'!$R$34))","v":""},"","",""]
[null,{"$f":"IF(F25=\"Diesel Generator> 600 bhp\",\"yes\",\"no\")","v":"no"},null,null,null,null,null,null,null,null,0.5,null,null,null,null,null,null,{"$f":"IF(Q25=\"\",\"\",Q25*0.14)","v":""},null,{"$f":"IF(S25=\"\",\"\",S25*0.14)","v":""},null,0,"",{"$f":"IF(F25=\"\",\"\",IF(B25=\"no\",'Emission Factors'!$D$33,'Emission Factors'!$D$34))","v":""},"","","",{"$f":"IF(F25=\"\",\"\",IF(B25=\"no\",'Emission Factors'!$F$33,'Emission Factors'!$F$34))","v":""},"","","",{"$f":"IF(F25=\"\",\"\",IF(B25=\"no\",'Emission Factors'!$H$33,'Emission Factors'!$H$34))","v":""},{"$f":"IF(F25=\"\",\"\",IF(C25=\"CP-1\",IF('Concrete Plant (CP-1)'!$I$12>0,'Concrete Plant (CP-1)'!$I$12,AF25*R25*K25),IF(C25=\"CP-2\",IF('Concrete Plant (CP-2)'!$I$12>0,'Concrete Plant (CP-2)'!$I$12,AF25*R25*K25),IF(C25=\"CP-3\",IF('Concrete Plant (CP-3)'!$I$12>0,'Concrete Plant (CP-3)'!$I$12,AF25*R25*K25),IF(C25=\"CP-4\",IF('Concrete Plant (CP-4)'!$I$12>0,'Concrete Plant (CP-4)'!$I$12,AF25*R25*K25),IF(C25=\"CP-5\",IF('Concrete Plant (CP-5)'!$I$12>0,'Concrete Plant (CP-5)'!$I$12,AF25*R25*K25),IF(C25=\"CP-6\",IF('Concrete Plant (CP-6)'!$I$12>0,'Concrete Plant (CP-6)'!$I$12,AF25*R25*K25),IF(C25=\"CP-7\",IF('Concrete Plant (CP-7)'!$I$12>0,'Concrete Plant (CP-7)'!$I$12,AF25*R25*K25),IF(C25=\"CP-8\",IF('Concrete Plant (CP-8)'!$I$12>0,'Concrete Plant (CP-8)'!$I$12,AF25*R25*K25),IF(C25=\"CP-9\",IF('Concrete Plant (CP-9)'!$I$12>0,'Concrete Plant (CP-9)'!$I$12,AF25*R25*K25),IF(C25=\"CP-10\",IF('Concrete Plant (CP-10)'!$I$12>0,'Concrete Plant (CP-10)'!$I$12,AF25*R25*K25))))))))))))","v":""},"","",{"$f":"IF(F25=\"\",\"\",IF(B25=\"no\",'Emission Factors'!$J$33,'Emission Factors'!$J$34))","v":""},{"$f":"IF(F25=\"\",\"\",IF(C25=\"CP-1\",IF('Concrete Plant (CP-1)'!$I$13>0,'Concrete Plant (CP-1)'!$I$13,AJ25*R25),IF(C25=\"CP-2\",IF('Concrete Plant (CP-2)'!$I$13>0,'Concrete Plant (CP-2)'!$I$13,AJ25*R25),IF(C25=\"CP-3\",IF('Concrete Plant (CP-3)'!$I$13>0,'Concrete Plant (CP-3)'!$I$13,AJ25*R25),IF(C25=\"CP-4\",IF('Concrete Plant (CP-4)'!$I$13>0,'Concrete Plant (CP-4)'!$I$13,AJ25*R25),IF(C25=\"CP-5\",IF('Concrete Plant (CP-5)'!$I$13>0,'Concrete Plant (CP-5)'!$I$13,AJ25*R25),IF(C25=\"CP-6\",IF('Concrete Plant (CP-6)'!$I$13>0,'Concrete Plant (CP-6)'!$I$13,AJ25*R25),IF(C25=\"CP-7\",IF('Concrete Plant (CP-7)'!$I$13>0,'Concrete Plant (CP-7)'!$I$13,AJ25*R25),IF(C25=\"CP-8\",IF('Concrete Plant (CP-8)'!$I$13>0,'Concrete Plant (CP-8)'!$I$13,AJ25*R25),IF(C25=\"CP-9\",IF('Concrete Plant (CP-9)'!$I$13>0,'Concrete Plant (CP-9)'!$I$13,AJ25*R25),IF(C25=\"CP-10\",IF('Concrete Plant (CP-10)'!$I$13>0,'Concrete Plant (CP-10)'!$I$13,AJ25*R25))))))))))))","v":""},"","",{"$f":"IF(F25=\"\",\"\",IF(B25=\"no\",'Emission Factors'!$L$33,'Emission Factors'!$L$34))","v":""},{"$f":"IF(F25=\"\",\"\",IF(C25=\"CP-1\",IF('Concrete Plant (CP-1)'!$I$14>0,'Concrete Plant (CP-1)'!$I$14,AN25*R25),IF(C25=\"CP-2\",IF('Concrete Plant (CP-2)'!$I$14>0,'Concrete Plant (CP-2)'!$I$14,AN25*R25),IF(C25=\"CP-3\",IF('Concrete Plant (CP-3)'!$I$14>0,'Concrete Plant (CP-3)'!$I$14,AN25*R25),IF(C25=\"CP-4\",IF('Concrete Plant (CP-4)'!$I$14>0,'Concrete Plant (CP-4)'!$I$14,AN25*R25),IF(C25=\"CP-5\",IF('Concrete Plant (CP-5)'!$I$14>0,'Concrete Plant (CP-5)'!$I$14,AN25*R25),IF(C25=\"CP-6\",IF('Concrete Plant (CP-6)'!$I$14>0,'Concrete Plant (CP-6)'!$I$14,AN25*R25),IF(C25=\"CP-7\",IF('Concrete Plant (CP-7)'!$I$14>0,'Concrete Plant (CP-7)'!$I$14,AN25*R25),IF(C25=\"CP-8\",IF('Concrete Plant (CP-8)'!$I$14>0,'Concrete Plant (CP-8)'!$I$14,AN25*R25),IF(C25=\"CP-9\",IF('Concrete Plant (CP-9)'!$I$14>0,'Concrete Plant (CP-9)'!$I$14,AN25*R25),IF(C25=\"CP-10\",IF('Concrete Plant (CP-10)'!$I$14>0,'Concrete Plant (CP-10)'!$I$14,AN25*R25))))))))))))","v":""},"","",{"$f":"IF(F25=\"\",\"\",IF(B25=\"no\",'Emission Factors'!$N$33,'Emission Factors'!$N$34))","v":""},{"$f":"IF(F25=\"\",\"\",IF(C25=\"CP-1\",IF('Concrete Plant (CP-1)'!$I$15>0,'Concrete Plant (CP-1)'!$I$15,AR25*R25),IF(C25=\"CP-2\",IF('Concrete Plant (CP-2)'!$I$15>0,'Concrete Plant (CP-2)'!$I$15,AR25*R25),IF(C25=\"CP-3\",IF('Concrete Plant (CP-3)'!$I$15>0,'Concrete Plant (CP-3)'!$I$15,AR25*R25),IF(C25=\"CP-4\",IF('Concrete Plant (CP-4)'!$I$15>0,'Concrete Plant (CP-4)'!$I$15,AR25*R25),IF(C25=\"CP-5\",IF('Concrete Plant (CP-5)'!$I$15>0,'Concrete Plant (CP-5)'!$I$15,AR25*R25),IF(C25=\"CP-6\",IF('Concrete Plant (CP-6)'!$I$15>0,'Concrete Plant (CP-6)'!$I$15,AR25*R25),IF(C25=\"CP-7\",IF('Concrete Plant (CP-7)'!$I$15>0,'Concrete Plant (CP-7)'!$I$15,AR25*R25),IF(C25=\"CP-8\",IF('Concrete Plant (CP-8)'!$I$15>0,'Concrete Plant (CP-8)'!$I$15,AR25*R25),IF(C25=\"CP-9\",IF('Concrete Plant (CP-9)'!$I$15>0,'Concrete Plant (CP-9)'!$I$15,AR25*R25),IF(C25=\"CP-10\",IF('Concrete Plant (CP-10)'!$I$15>0,'Concrete Plant (CP-10)'!$I$15,AR25*R25))))))))))))","v":""},"","",{"$f":"IF(F25=\"\",\"\",IF(B25=\"no\",'Emission Factors'!$P$33,'Emission Factors'!$P$34))","v":""},"","","",{"$f":"IF(F25=\"\",\"\",IF(B25=\"no\",'Emission Factors'!$R$33,'Emission Factors'!$R$34))","v":""},"","",""]
[null,{"$f":"IF(F26=\"Diesel Generator> 600 bhp\",\"yes\",\"no\")","v":"no"},null,null,null,null,null,null,null,null,0.5,null,null,null,null,null,null,{"$f":"IF(Q26=\"\",\"\",Q26*0.14)","v":""},null,{"$f":"IF(S26=\"\",\"\",S26*0.14)","v":""},null,0,"",{"$f":"IF(F26=\"\",\"\",IF(B26=\"no\",'Emission Factors'!$D$33,'Emission Factors'!$D$34))","v":""},"","","",{"$f":"IF(F26=\"\",\"\",IF(B26=\"no\",'Emission Factors'!$F$33,'Emission Factors'!$F$34))","v":""},"","","",{"$f":"IF(F26=\"\",\"\",IF(B26=\"no\",'Emission Factors'!$H$33,'Emission Factors'!$H$34))","v":""},{"$f":"IF(F26=\"\",\"\",IF(C26=\"CP-1\",IF('Concrete Plant (CP-1)'!$I$12>0,'Concrete Plant (CP-1)'!$I$12,AF26*R26*K26),IF(C26=\"CP-2\",IF('Concrete Plant (CP-2)'!$I$12>0,'Concrete Plant (CP-2)'!$I$12,AF26*R26*K26),IF(C26=\"CP-3\",IF('Concrete Plant (CP-3)'!$I$12>0,'Concrete Plant (CP-3)'!$I$12,AF26*R26*K26),IF(C26=\"CP-4\",IF('Concrete Plant (CP-4)'!$I$12>0,'Concrete Plant (CP-4)'!$I$12,AF26*R26*K26),IF(C26=\"CP-5\",IF('Concrete Plant (CP-5)'!$I$12>0,'Concrete Plant (CP-5)'!$I$12,AF26*R26*K26),IF(C26=\"CP-6\",IF('Concrete Plant (CP-6)'!$I$12>0,'Concrete Plant (CP-6)'!$I$12,AF26*R26*K26),IF(C26=\"CP-7\",IF('Concrete Plant (CP-7)'!$I$12>0,'Concrete Plant (CP-7)'!$I$12,AF26*R26*K26),IF(C26=\"CP-8\",IF('Concrete Plant (CP-8)'!$I$12>0,'Concrete Plant (CP-8)'!$I$12,AF26*R26*K26),IF(C26=\"CP-9\",IF('Concrete Plant (CP-9)'!$I$12>0,'Concrete Plant (CP-9)'!$I$12,AF26*R26*K26),IF(C26=\"CP-10\",IF('Concrete Plant (CP-10)'!$I$12>0,'Concrete Plant (CP-10)'!$I$12,AF26*R26*K26))))))))))))","v":""},"","",{"$f":"IF(F26=\"\",\"\",IF(B26=\"no\",'Emission Factors'!$J$33,'Emission Factors'!$J$34))","v":""},{"$f":"IF(F26=\"\",\"\",IF(C26=\"CP-1\",IF('Concrete Plant (CP-1)'!$I$13>0,'Concrete Plant (CP-1)'!$I$13,AJ26*R26),IF(C26=\"CP-2\",IF('Concrete Plant (CP-2)'!$I$13>0,'Concrete Plant (CP-2)'!$I$13,AJ26*R26),IF(C26=\"CP-3\",IF('Concrete Plant (CP-3)'!$I$13>0,'Concrete Plant (CP-3)'!$I$13,AJ26*R26),IF(C26=\"CP-4\",IF('Concrete Plant (CP-4)'!$I$13>0,'Concrete Plant (CP-4)'!$I$13,AJ26*R26),IF(C26=\"CP-5\",IF('Concrete Plant (CP-5)'!$I$13>0,'Concrete Plant (CP-5)'!$I$13,AJ26*R26),IF(C26=\"CP-6\",IF('Concrete Plant (CP-6)'!$I$13>0,'Concrete Plant (CP-6)'!$I$13,AJ26*R26),IF(C26=\"CP-7\",IF('Concrete Plant (CP-7)'!$I$13>0,'Concrete Plant (CP-7)'!$I$13,AJ26*R26),IF(C26=\"CP-8\",IF('Concrete Plant (CP-8)'!$I$13>0,'Concrete Plant (CP-8)'!$I$13,AJ26*R26),IF(C26=\"CP-9\",IF('Concrete Plant (CP-9)'!$I$13>0,'Concrete Plant (CP-9)'!$I$13,AJ26*R26),IF(C26=\"CP-10\",IF('Concrete Plant (CP-10)'!$I$13>0,'Concrete Plant (CP-10)'!$I$13,AJ26*R26))))))))))))","v":""},"","",{"$f":"IF(F26=\"\",\"\",IF(B26=\"no\",'Emission Factors'!$L$33,'Emission Factors'!$L$34))","v":""},{"$f":"IF(F26=\"\",\"\",IF(C26=\"CP-1\",IF('Concrete Plant (CP-1)'!$I$14>0,'Concrete Plant (CP-1)'!$I$14,AN26*R26),IF(C26=\"CP-2\",IF('Concrete Plant (CP-2)'!$I$14>0,'Concrete Plant (CP-2)'!$I$14,AN26*R26),IF(C26=\"CP-3\",IF('Concrete Plant (CP-3)'!$I$14>0,'Concrete Plant (CP-3)'!$I$14,AN26*R26),IF(C26=\"CP-4\",IF('Concrete Plant (CP-4)'!$I$14>0,'Concrete Plant (CP-4)'!$I$14,AN26*R26),IF(C26=\"CP-5\",IF('Concrete Plant (CP-5)'!$I$14>0,'Concrete Plant (CP-5)'!$I$14,AN26*R26),IF(C26=\"CP-6\",IF('Concrete Plant (CP-6)'!$I$14>0,'Concrete Plant (CP-6)'!$I$14,AN26*R26),IF(C26=\"CP-7\",IF('Concrete Plant (CP-7)'!$I$14>0,'Concrete Plant (CP-7)'!$I$14,AN26*R26),IF(C26=\"CP-8\",IF('Concrete Plant (CP-8)'!$I$14>0,'Concrete Plant (CP-8)'!$I$14,AN26*R26),IF(C26=\"CP-9\",IF('Concrete Plant (CP-9)'!$I$14>0,'Concrete Plant (CP-9)'!$I$14,AN26*R26),IF(C26=\"CP-10\",IF('Concrete Plant (CP-10)'!$I$14>0,'Concrete Plant (CP-10)'!$I$14,AN26*R26))))))))))))","v":""},"","",{"$f":"IF(F26=\"\",\"\",IF(B26=\"no\",'Emission Factors'!$N$33,'Emission Factors'!$N$34))","v":""},{"$f":"IF(F26=\"\",\"\",IF(C26=\"CP-1\",IF('Concrete Plant (CP-1)'!$I$15>0,'Concrete Plant (CP-1)'!$I$15,AR26*R26),IF(C26=\"CP-2\",IF('Concrete Plant (CP-2)'!$I$15>0,'Concrete Plant (CP-2)'!$I$15,AR26*R26),IF(C26=\"CP-3\",IF('Concrete Plant (CP-3)'!$I$15>0,'Concrete Plant (CP-3)'!$I$15,AR26*R26),IF(C26=\"CP-4\",IF('Concrete Plant (CP-4)'!$I$15>0,'Concrete Plant (CP-4)'!$I$15,AR26*R26),IF(C26=\"CP-5\",IF('Concrete Plant (CP-5)'!$I$15>0,'Concrete Plant (CP-5)'!$I$15,AR26*R26),IF(C26=\"CP-6\",IF('Concrete Plant (CP-6)'!$I$15>0,'Concrete Plant (CP-6)'!$I$15,AR26*R26),IF(C26=\"CP-7\",IF('Concrete Plant (CP-7)'!$I$15>0,'Concrete Plant (CP-7)'!$I$15,AR26*R26),IF(C26=\"CP-8\",IF('Concrete Plant (CP-8)'!$I$15>0,'Concrete Plant (CP-8)'!$I$15,AR26*R26),IF(C26=\"CP-9\",IF('Concrete Plant (CP-9)'!$I$15>0,'Concrete Plant (CP-9)'!$I$15,AR26*R26),IF(C26=\"CP-10\",IF('Concrete Plant (CP-10)'!$I$15>0,'Concrete Plant (CP-10)'!$I$15,AR26*R26))))))))))))","v":""},"","",{"$f":"IF(F26=\"\",\"\",IF(B26=\"no\",'Emission Factors'!$P$33,'Emission Factors'!$P$34))","v":""},"","","",{"$f":"IF(F26=\"\",\"\",IF(B26=\"no\",'Emission Factors'!$R$33,'Emission Factors'!$R$34))","v":""},"","",""]
[null,{"$f":"IF(F27=\"Diesel Generator> 600 bhp\",\"yes\",\"no\")","v":"no"},null,null,null,null,null,null,null,null,0.5,null,null,null,null,null,null,{"$f":"IF(Q27=\"\",\"\",Q27*0.14)","v":""},null,{"$f":"IF(S27=\"\",\"\",S27*0.14)","v":""},null,0,"",{"$f":"IF(F27=\"\",\"\",IF(B27=\"no\",'Emission Factors'!$D$33,'Emission Factors'!$D$34))","v":""},"","","",{"$f":"IF(F27=\"\",\"\",IF(B27=\"no\",'Emission Factors'!$F$33,'Emission Factors'!$F$34))","v":""},"","","",{"$f":"IF(F27=\"\",\"\",IF(B27=\"no\",'Emission Factors'!$H$33,'Emission Factors'!$H$34))","v":""},{"$f":"IF(F27=\"\",\"\",IF(C27=\"CP-1\",IF('Concrete Plant (CP-1)'!$I$12>0,'Concrete Plant (CP-1)'!$I$12,AF27*R27*K27),IF(C27=\"CP-2\",IF('Concrete Plant (CP-2)'!$I$12>0,'Concrete Plant (CP-2)'!$I$12,AF27*R27*K27),IF(C27=\"CP-3\",IF('Concrete Plant (CP-3)'!$I$12>0,'Concrete Plant (CP-3)'!$I$12,AF27*R27*K27),IF(C27=\"CP-4\",IF('Concrete Plant (CP-4)'!$I$12>0,'Concrete Plant (CP-4)'!$I$12,AF27*R27*K27),IF(C27=\"CP-5\",IF('Concrete Plant (CP-5)'!$I$12>0,'Concrete Plant (CP-5)'!$I$12,AF27*R27*K27),IF(C27=\"CP-6\",IF('Concrete Plant (CP-6)'!$I$12>0,'Concrete Plant (CP-6)'!$I$12,AF27*R27*K27),IF(C27=\"CP-7\",IF('Concrete Plant (CP-7)'!$I$12>0,'Concrete Plant (CP-7)'!$I$12,AF27*R27*K27),IF(C27=\"CP-8\",IF('Concrete Plant (CP-8)'!$I$12>0,'Concrete Plant (CP-8)'!$I$12,AF27*R27*K27),IF(C27=\"CP-9\",IF('Concrete Plant (CP-9)'!$I$12>0,'Concrete Plant (CP-9)'!$I$12,AF27*R27*K27),IF(C27=\"CP-10\",IF('Concrete Plant (CP-10)'!$I$12>0,'Concrete Plant (CP-10)'!$I$12,AF27*R27*K27))))))))))))","v":""},"","",{"$f":"IF(F27=\"\",\"\",IF(B27=\"no\",'Emission Factors'!$J$33,'Emission Factors'!$J$34))","v":""},{"$f":"IF(F27=\"\",\"\",IF(C27=\"CP-1\",IF('Concrete Plant (CP-1)'!$I$13>0,'Concrete Plant (CP-1)'!$I$13,AJ27*R27),IF(C27=\"CP-2\",IF('Concrete Plant (CP-2)'!$I$13>0,'Concrete Plant (CP-2)'!$I$13,AJ27*R27),IF(C27=\"CP-3\",IF('Concrete Plant (CP-3)'!$I$13>0,'Concrete Plant (CP-3)'!$I$13,AJ27*R27),IF(C27=\"CP-4\",IF('Concrete Plant (CP-4)'!$I$13>0,'Concrete Plant (CP-4)'!$I$13,AJ27*R27),IF(C27=\"CP-5\",IF('Concrete Plant (CP-5)'!$I$13>0,'Concrete Plant (CP-5)'!$I$13,AJ27*R27),IF(C27=\"CP-6\",IF('Concrete Plant (CP-6)'!$I$13>0,'Concrete Plant (CP-6)'!$I$13,AJ27*R27),IF(C27=\"CP-7\",IF('Concrete Plant (CP-7)'!$I$13>0,'Concrete Plant (CP-7)'!$I$13,AJ27*R27),IF(C27=\"CP-8\",IF('Concrete Plant (CP-8)'!$I$13>0,'Concrete Plant (CP-8)'!$I$13,AJ27*R27),IF(C27=\"CP-9\",IF('Concrete Plant (CP-9)'!$I$13>0,'Concrete Plant (CP-9)'!$I$13,AJ27*R27),IF(C27=\"CP-10\",IF('Concrete Plant (CP-10)'!$I$13>0,'Concrete Plant (CP-10)'!$I$13,AJ27*R27))))))))))))","v":""},"","",{"$f":"IF(F27=\"\",\"\",IF(B27=\"no\",'Emission Factors'!$L$33,'Emission Factors'!$L$34))","v":""},{"$f":"IF(F27=\"\",\"\",IF(C27=\"CP-1\",IF('Concrete Plant (CP-1)'!$I$14>0,'Concrete Plant (CP-1)'!$I$14,AN27*R27),IF(C27=\"CP-2\",IF('Concrete Plant (CP-2)'!$I$14>0,'Concrete Plant (CP-2)'!$I$14,AN27*R27),IF(C27=\"CP-3\",IF('Concrete Plant (CP-3)'!$I$14>0,'Concrete Plant (CP-3)'!$I$14,AN27*R27),IF(C27=\"CP-4\",IF('Concrete Plant (CP-4)'!$I$14>0,'Concrete Plant (CP-4)'!$I$14,AN27*R27),IF(C27=\"CP-5\",IF('Concrete Plant (CP-5)'!$I$14>0,'Concrete Plant (CP-5)'!$I$14,AN27*R27),IF(C27=\"CP-6\",IF('Concrete Plant (CP-6)'!$I$14>0,'Concrete Plant (CP-6)'!$I$14,AN27*R27),IF(C27=\"CP-7\",IF('Concrete Plant (CP-7)'!$I$14>0,'Concrete Plant (CP-7)'!$I$14,AN27*R27),IF(C27=\"CP-8\",IF('Concrete Plant (CP-8)'!$I$14>0,'Concrete Plant (CP-8)'!$I$14,AN27*R27),IF(C27=\"CP-9\",IF('Concrete Plant (CP-9)'!$I$14>0,'Concrete Plant (CP-9)'!$I$14,AN27*R27),IF(C27=\"CP-10\",IF('Concrete Plant (CP-10)'!$I$14>0,'Concrete Plant (CP-10)'!$I$14,AN27*R27))))))))))))","v":""},"","",{"$f":"IF(F27=\"\",\"\",IF(B27=\"no\",'Emission Factors'!$N$33,'Emission Factors'!$N$34))","v":""},{"$f":"IF(F27=\"\",\"\",IF(C27=\"CP-1\",IF('Concrete Plant (CP-1)'!$I$15>0,'Concrete Plant (CP-1)'!$I$15,AR27*R27),IF(C27=\"CP-2\",IF('Concrete Plant (CP-2)'!$I$15>0,'Concrete Plant (CP-2)'!$I$15,AR27*R27),IF(C27=\"CP-3\",IF('Concrete Plant (CP-3)'!$I$15>0,'Concrete Plant (CP-3)'!$I$15,AR27*R27),IF(C27=\"CP-4\",IF('Concrete Plant (CP-4)'!$I$15>0,'Concrete Plant (CP-4)'!$I$15,AR27*R27),IF(C27=\"CP-5\",IF('Concrete Plant (CP-5)'!$I$15>0,'Concrete Plant (CP-5)'!$I$15,AR27*R27),IF(C27=\"CP-6\",IF('Concrete Plant (CP-6)'!$I$15>0,'Concrete Plant (CP-6)'!$I$15,AR27*R27),IF(C27=\"CP-7\",IF('Concrete Plant (CP-7)'!$I$15>0,'Concrete Plant (CP-7)'!$I$15,AR27*R27),IF(C27=\"CP-8\",IF('Concrete Plant (CP-8)'!$I$15>0,'Concrete Plant (CP-8)'!$I$15,AR27*R27),IF(C27=\"CP-9\",IF('Concrete Plant (CP-9)'!$I$15>0,'Concrete Plant (CP-9)'!$I$15,AR27*R27),IF(C27=\"CP-10\",IF('Concrete Plant (CP-10)'!$I$15>0,'Concrete Plant (CP-10)'!$I$15,AR27*R27))))))))))))","v":""},"",null,{"$f":"IF(F27=\"\",\"\",IF(B27=\"no\",'Emission Factors'!$P$33,'Emission Factors'!$P$34))","v":""},"","","",{"$f":"IF(F27=\"\",\"\",IF(B27=\"no\",'Emission Factors'!$R$33,'Emission Factors'!$R$34))","v":""},"","",""]
[null,{"$f":"IF(F28=\"Diesel Generator> 600 bhp\",\"yes\",\"no\")","v":"no"},null,null,null,null,null,null,null,null,0.5,null,null,null,null,null,null,{"$f":"IF(Q28=\"\",\"\",Q28*0.14)","v":""},null,{"$f":"IF(S28=\"\",\"\",S28*0.14)","v":""},null,{"$f":"IF(B28=\"no\",H28*Q28*0.14,\"\")","v":0},{"$f":"IF(B28=\"yes\",H28*Q28*0.14,\"\")","v":""},{"$f":"IF(F28=\"\",\"\",IF(B28=\"no\",'Emission Factors'!$D$33,'Emission Factors'!$D$34))","v":""},{"$f":"IF(F28=\"\",\"\",X28*R28)","v":""},{"$f":"IF(F28=\"\",\"\",IF(I28>0,I28*0.14*X28/2000,IF(H28>0,X28*R28*H28/2000,Y28*8760/2000)))","v":""},{"$f":"IF(F28=\"\",\"\",T28*X28/2000)","v":""},{"$f":"IF(F28=\"\",\"\",IF(B28=\"no\",'Emission Factors'!$F$33,'Emission Factors'!$F$34))","v":""},{"$f":"IF(F28=\"\",\"\",AB28*R28)","v":""},{"$f":"IF(F28=\"\",\"\",IF(I28>0,I28*0.14*AB28/2000,IF(H28>0,AB28*R28*H28/2000,AC28*8760/2000)))","v":""},{"$f":"IF(F28=\"\",\"\",T28*AB28/2000)","v":""},{"$f":"IF(F28=\"\",\"\",IF(B28=\"no\",'Emission Factors'!$H$33,'Emission Factors'!$H$34))","v":""},{"$f":"IF(F28=\"\",\"\",IF(C28=\"CP-1\",IF('Concrete Plant (CP-1)'!$I$12>0,'Concrete Plant (CP-1)'!$I$12,AF28*R28*K28),IF(C28=\"CP-2\",IF('Concrete Plant (CP-2)'!$I$12>0,'Concrete Plant (CP-2)'!$I$12,AF28*R28*K28),IF(C28=\"CP-3\",IF('Concrete Plant (CP-3)'!$I$12>0,'Concrete Plant (CP-3)'!$I$12,AF28*R28*K28),IF(C28=\"CP-4\",IF('Concrete Plant (CP-4)'!$I$12>0,'Concrete Plant (CP-4)'!$I$12,AF28*R28*K28),IF(C28=\"CP-5\",IF('Concrete Plant (CP-5)'!$I$12>0,'Concrete Plant (CP-5)'!$I$12,AF28*R28*K28),IF(C28=\"CP-6\",IF('Concrete Plant (CP-6)'!$I$12>0,'Concrete Plant (CP-6)'!$I$12,AF28*R28*K28),IF(C28=\"CP-7\",IF('Concrete Plant (CP-7)'!$I$12>0,'Concrete Plant (CP-7)'!$I$12,AF28*R28*K28),IF(C28=\"CP-8\",IF('Concrete Plant (CP-8)'!$I$12>0,'Concrete Plant (CP-8)'!$I$12,AF28*R28*K28),IF(C28=\"CP-9\",IF('Concrete Plant (CP-9)'!$I$12>0,'Concrete Plant (CP-9)'!$I$12,AF28*R28*K28),IF(C28=\"CP-10\",IF('Concrete Plant (CP-10)'!$I$12>0,'Concrete Plant (CP-10)'!$I$12,AF28*R28*K28))))))))))))","v":""},"","",{"$f":"IF(F28=\"\",\"\",IF(B28=\"no\",'Emission Factors'!$J$33,'Emission Factors'!$J$34))","v":""},{"$f":"IF(F28=\"\",\"\",IF(C28=\"CP-1\",IF('Concrete Plant (CP-1)'!$I$13>0,'Concrete Plant (CP-1)'!$I$13,AJ28*R28),IF(C28=\"CP-2\",IF('Concrete Plant (CP-2)'!$I$13>0,'Concrete Plant (CP-2)'!$I$13,AJ28*R28),IF(C28=\"CP-3\",IF('Concrete Plant (CP-3)'!$I$13>0,'Concrete Plant (CP-3)'!$I$13,AJ28*R28),IF(C28=\"CP-4\",IF('Concrete Plant (CP-4)'!$I$13>0,'Concrete Plant (CP-4)'!$I$13,AJ28*R28),IF(C28=\"CP-5\",IF('Concrete Plant (CP-5)'!$I$13>0,'Concrete Plant (CP-5)'!$I$13,AJ28*R28),IF(C28=\"CP-6\",IF('Concrete Plant (CP-6)'!$I$13>0,'Concrete Plant (CP-6)'!$I$13,AJ28*R28),IF(C28=\"CP-7\",IF('Concrete Plant (CP-7)'!$I$13>0,'Concrete Plant (CP-7)'!$I$13,AJ28*R28),IF(C28=\"CP-8\",IF('Concrete Plant (CP-8)'!$I$13>0,'Concrete Plant (CP-8)'!$I$13,AJ28*R28),IF(C28=\"CP-9\",IF('Concrete Plant (CP-9)'!$I$13>0,'Concrete Plant (CP-9)'!$I$13,AJ28*R28),IF(C28=\"CP-10\",IF('Concrete Plant (CP-10)'!$I$13>0,'Concrete Plant (CP-10)'!$I$13,AJ28*R28))))))))))))","v":""},{"$f":"IF(F28=\"\",\"\",IF(I28>0,I28*0.14*AJ28/2000,IF(H28>0,AJ28*R28*H28/2000,AK28*8760/2000)))","v":""},{"$f":"IF(F28=\"\",\"\",T28*AJ28/2000)","v":""},{"$f":"IF(F28=\"\",\"\",IF(B28=\"no\",'Emission Factors'!$L$33,'Emission Factors'!$L$34))","v":""},{"$f":"IF(F28=\"\",\"\",IF(C28=\"CP-1\",IF('Concrete Plant (CP-1)'!$I$14>0,'Concrete Plant (CP-1)'!$I$14,AN28*R28),IF(C28=\"CP-2\",IF('Concrete Plant (CP-2)'!$I$14>0,'Concrete Plant (CP-2)'!$I$14,AN28*R28),IF(C28=\"CP-3\",IF('Concrete Plant (CP-3)'!$I$14>0,'Concrete Plant (CP-3)'!$I$14,AN28*R28),IF(C28=\"CP-4\",IF('Concrete Plant (CP-4)'!$I$14>0,'Concrete Plant (CP-4)'!$I$14,AN28*R28),IF(C28=\"CP-5\",IF('Concrete Plant (CP-5)'!$I$14>0,'Concrete Plant (CP-5)'!$I$14,AN28*R28),IF(C28=\"CP-6\",IF('Concrete Plant (CP-6)'!$I$14>0,'Concrete Plant (CP-6)'!$I$14,AN28*R28),IF(C28=\"CP-7\",IF('Concrete Plant (CP-7)'!$I$14>0,'Concrete Plant (CP-7)'!$I$14,AN28*R28),IF(C28=\"CP-8\",IF('Concrete Plant (CP-8)'!$I$14>0,'Concrete Plant (CP-8)'!$I$14,AN28*R28),IF(C28=\"CP-9\",IF('Concrete Plant (CP-9)'!$I$14>0,'Concrete Plant (CP-9)'!$I$14,AN28*R28),IF(C28=\"CP-10\",IF('Concrete Plant (CP-10)'!$I$14>0,'Concrete Plant (CP-10)'!$I$14,AN28*R28))))))))))))","v":""},{"$f":"IF(F28=\"\",\"\",IF(I28>0,I28*0.14*AN28/2000,IF(H28>0,AN28*R28*H28/2000,AO28*8760/2000)))","v":""},{"$f":"IF(F28=\"\",\"\",T28*AN28/2000)","v":""},{"$f":"IF(F28=\"\",\"\",IF(B28=\"no\",'Emission Factors'!$N$33,'Emission Factors'!$N$34))","v":""},{"$f":"IF(F28=\"\",\"\",IF(C28=\"CP-1\",IF('Concrete Plant (CP-1)'!$I$15>0,'Concrete Plant (CP-1)'!$I$15,AR28*R28),IF(C28=\"CP-2\",IF('Concrete Plant (CP-2)'!$I$15>0,'Concrete Plant (CP-2)'!$I$15,AR28*R28),IF(C28=\"CP-3\",IF('Concrete Plant (CP-3)'!$I$15>0,'Concrete Plant (CP-3)'!$I$15,AR28*R28),IF(C28=\"CP-4\",IF('Concrete Plant (CP-4)'!$I$15>0,'Concrete Plant (CP-4)'!$I$15,AR28*R28),IF(C28=\"CP-5\",IF('Concrete Plant (CP-5)'!$I$15>0,'Concrete Plant (CP-5)'!$I$15,AR28*R28),IF(C28=\"CP-6\",IF('Concrete Plant (CP-6)'!$I$15>0,'Concrete Plant (CP-6)'!$I$15,AR28*R28),IF(C28=\"CP-7\",IF('Concrete Plant (CP-7)'!$I$15>0,'Concrete Plant (CP-7)'!$I$15,AR28*R28),IF(C28=\"CP-8\",IF('Concrete Plant (CP-8)'!$I$15>0,'Concrete Plant (CP-8)'!$I$15,AR28*R28),IF(C28=\"CP-9\",IF('Concrete Plant (CP-9)'!$I$15>0,'Concrete Plant (CP-9)'!$I$15,AR28*R28),IF(C28=\"CP-10\",IF('Concrete Plant (CP-10)'!$I$15>0,'Concrete Plant (CP-10)'!$I$15,AR28*R28))))))))))))","v":""},{"$f":"IF(F28=\"\",\"\",IF(I28>0,I28*0.14*AR28/2000,IF(H28>0,AR28*R28*H28/2000,AS28*8760/2000)))","v":""},{"$f":"IF(F28=\"\",\"\",T28*AR28/2000)","v":""},{"$f":"IF(F28=\"\",\"\",IF(B28=\"no\",'Emission Factors'!$P$33,'Emission Factors'!$P$34))","v":""},{"$f":"IF(F28=\"\",\"\",AV28*R28)","v":""},{"$f":"IF(F28=\"\",\"\",IF(I28>0,I28*0.14*AV28/2000,IF(H28>0,AV28*R28*H28/2000,AW28*8760/2000)))","v":""},{"$f":"IF(F28=\"\",\"\",T28*AV28/2000)","v":""},{"$f":"IF(F28=\"\",\"\",IF(B28=\"no\",'Emission Factors'!$R$33,'Emission Factors'!$R$34))","v":""},{"$f":"IF(F28=\"\",\"\",AZ28*R28)","v":""},{"$f":"IF(F28=\"\",\"\",IF(I28>0,I28*0.14*AZ28/2000,IF(H28>0,AZ28*R28*H28/2000,BA28*8760/2000)))","v":""},{"$f":"IF(F28=\"\",\"\",T28*AZ28/2000)","v":""}]
[null,"no",null,null,null,null,null,null,null,null,0.5,null,null,null,null,null,null,"",null,"",null,0,"",{"$f":"IF(F29=\"\",\"\",IF(B29=\"no\",'Emission Factors'!$D$33,'Emission Factors'!$D$34))","v":""},{"$f":"IF(F29=\"\",\"\",X29*R29)","v":""},{"$f":"IF(F29=\"\",\"\",IF(I29>0,I29*0.14*X29/2000,IF(H29>0,X29*R29*H29/2000,Y29*8760/2000)))","v":""},{"$f":"IF(F29=\"\",\"\",T29*X29/2000)","v":""},{"$f":"IF(F29=\"\",\"\",IF(B29=\"no\",'Emission Factors'!$F$33,'Emission Factors'!$F$34))","v":""},{"$f":"IF(F29=\"\",\"\",AB29*R29)","v":""},{"$f":"IF(F29=\"\",\"\",IF(I29>0,I29*0.14*AB29/2000,IF(H29>0,AB29*R29*H29/2000,AC29*8760/2000)))","v":""},{"$f":"IF(F29=\"\",\"\",T29*AB29/2000)","v":""},{"$f":"IF(F29=\"\",\"\",IF(B29=\"no\",'Emission Factors'!$H$33,'Emission Factors'!$H$34))","v":""},{"$f":"IF(F29=\"\",\"\",IF(C29=\"CP-1\",IF('Concrete Plant (CP-1)'!$I$12>0,'Concrete Plant (CP-1)'!$I$12,AF29*R29*K29),IF(C29=\"CP-2\",IF('Concrete Plant (CP-2)'!$I$12>0,'Concrete Plant (CP-2)'!$I$12,AF29*R29*K29),IF(C29=\"CP-3\",IF('Concrete Plant (CP-3)'!$I$12>0,'Concrete Plant (CP-3)'!$I$12,AF29*R29*K29),IF(C29=\"CP-4\",IF('Concrete Plant (CP-4)'!$I$12>0,'Concrete Plant (CP-4)'!$I$12,AF29*R29*K29),IF(C29=\"CP-5\",IF('Concrete Plant (CP-5)'!$I$12>0,'Concrete Plant (CP-5)'!$I$12,AF29*R29*K29),IF(C29=\"CP-6\",IF('Concrete Plant (CP-6)'!$I$12>0,'Concrete Plant (CP-6)'!$I$12,AF29*R29*K29),IF(C29=\"CP-7\",IF('Concrete Plant (CP-7)'!$I$12>0,'Concrete Plant (CP-7)'!$I$12,AF29*R29*K29),IF(C29=\"CP-8\",IF('Concrete Plant (CP-8)'!$I$12>0,'Concrete Plant (CP-8)'!$I$12,AF29*R29*K29),IF(C29=\"CP-9\",IF('Concrete Plant (CP-9)'!$I$12>0,'Concrete Plant (CP-9)'!$I$12,AF29*R29*K29),IF(C29=\"CP-10\",IF('Concrete Plant (CP-10)'!$I$12>0,'Concrete Plant (CP-10)'!$I$12,AF29*R29*K29))))))))))))","v":""},"","",{"$f":"IF(F29=\"\",\"\",IF(B29=\"no\",'Emission Factors'!$J$33,'Emission Factors'!$J$34))","v":""},{"$f":"IF(F29=\"\",\"\",IF(C29=\"CP-1\",IF('Concrete Plant (CP-1)'!$I$13>0,'Concrete Plant (CP-1)'!$I$13,AJ29*R29),IF(C29=\"CP-2\",IF('Concrete Plant (CP-2)'!$I$13>0,'Concrete Plant (CP-2)'!$I$13,AJ29*R29),IF(C29=\"CP-3\",IF('Concrete Plant (CP-3)'!$I$13>0,'Concrete Plant (CP-3)'!$I$13,AJ29*R29),IF(C29=\"CP-4\",IF('Concrete Plant (CP-4)'!$I$13>0,'Concrete Plant (CP-4)'!$I$13,AJ29*R29),IF(C29=\"CP-5\",IF('Concrete Plant (CP-5)'!$I$13>0,'Concrete Plant (CP-5)'!$I$13,AJ29*R29),IF(C29=\"CP-6\",IF('Concrete Plant (CP-6)'!$I$13>0,'Concrete Plant (CP-6)'!$I$13,AJ29*R29),IF(C29=\"CP-7\",IF('Concrete Plant (CP-7)'!$I$13>0,'Concrete Plant (CP-7)'!$I$13,AJ29*R29),IF(C29=\"CP-8\",IF('Concrete Plant (CP-8)'!$I$13>0,'Concrete Plant (CP-8)'!$I$13,AJ29*R29),IF(C29=\"CP-9\",IF('Concrete Plant (CP-9)'!$I$13>0,'Concrete Plant (CP-9)'!$I$13,AJ29*R29),IF(C29=\"CP-10\",IF('Concrete Plant (CP-10)'!$I$13>0,'Concrete Plant (CP-10)'!$I$13,AJ29*R29))))))))))))","v":""},{"$f":"IF(F29=\"\",\"\",IF(I29>0,I29*0.14*AJ29/2000,IF(H29>0,AJ29*R29*H29/2000,AK29*8760/2000)))","v":""},{"$f":"IF(F29=\"\",\"\",T29*AJ29/2000)","v":""},{"$f":"IF(F29=\"\",\"\",IF(B29=\"no\",'Emission Factors'!$L$33,'Emission Factors'!$L$34))","v":""},{"$f":"IF(F29=\"\",\"\",IF(C29=\"CP-1\",IF('Concrete Plant (CP-1)'!$I$14>0,'Concrete Plant (CP-1)'!$I$14,AN29*R29),IF(C29=\"CP-2\",IF('Concrete Plant (CP-2)'!$I$14>0,'Concrete Plant (CP-2)'!$I$14,AN29*R29),IF(C29=\"CP-3\",IF('Concrete Plant (CP-3)'!$I$14>0,'Concrete Plant (CP-3)'!$I$14,AN29*R29),IF(C29=\"CP-4\",IF('Concrete Plant (CP-4)'!$I$14>0,'Concrete Plant (CP-4)'!$I$14,AN29*R29),IF(C29=\"CP-5\",IF('Concrete Plant (CP-5)'!$I$14>0,'Concrete Plant (CP-5)'!$I$14,AN29*R29),IF(C29=\"CP-6\",IF('Concrete Plant (CP-6)'!$I$14>0,'Concrete Plant (CP-6)'!$I$14,AN29*R29),IF(C29=\"CP-7\",IF('Concrete Plant (CP-7)'!$I$14>0,'Concrete Plant (CP-7)'!$I$14,AN29*R29),IF(C29=\"CP-8\",IF('Concrete Plant (CP-8)'!$I$14>0,'Concrete Plant (CP-8)'!$I$14,AN29*R29),IF(C29=\"CP-9\",IF('Concrete Plant (CP-9)'!$I$14>0,'Concrete Plant (CP-9)'!$I$14,AN29*R29),IF(C29=\"CP-10\",IF('Concrete Plant (CP-10)'!$I$14>0,'Concrete Plant (CP-10)'!$I$14,AN29*R29))))))))))))","v":""},{"$f":"IF(F29=\"\",\"\",IF(I29>0,I29*0.14*AN29/2000,IF(H29>0,AN29*R29*H29/2000,AO29*8760/2000)))","v":""},{"$f":"IF(F29=\"\",\"\",T29*AN29/2000)","v":""},{"$f":"IF(F29=\"\",\"\",IF(B29=\"no\",'Emission Factors'!$N$33,'Emission Factors'!$N$34))","v":""},{"$f":"IF(F29=\"\",\"\",IF(C29=\"CP-1\",IF('Concrete Plant (CP-1)'!$I$15>0,'Concrete Plant (CP-1)'!$I$15,AR29*R29),IF(C29=\"CP-2\",IF('Concrete Plant (CP-2)'!$I$15>0,'Concrete Plant (CP-2)'!$I$15,AR29*R29),IF(C29=\"CP-3\",IF('Concrete Plant (CP-3)'!$I$15>0,'Concrete Plant (CP-3)'!$I$15,AR29*R29),IF(C29=\"CP-4\",IF('Concrete Plant (CP-4)'!$I$15>0,'Concrete Plant (CP-4)'!$I$15,AR29*R29),IF(C29=\"CP-5\",IF('Concrete Plant (CP-5)'!$I$15>0,'Concrete Plant (CP-5)'!$I$15,AR29*R29),IF(C29=\"CP-6\",IF('Concrete Plant (CP-6)'!$I$15>0,'Concrete Plant (CP-6)'!$I$15,AR29*R29),IF(C29=\"CP-7\",IF('Concrete Plant (CP-7)'!$I$15>0,'Concrete Plant (CP-7)'!$I$15,AR29*R29),IF(C29=\"CP-8\",IF('Concrete Plant (CP-8)'!$I$15>0,'Concrete Plant (CP-8)'!$I$15,AR29*R29),IF(C29=\"CP-9\",IF('Concrete Plant (CP-9)'!$I$15>0,'Concrete Plant (CP-9)'!$I$15,AR29*R29),IF(C29=\"CP-10\",IF('Concrete Plant (CP-10)'!$I$15>0,'Concrete Plant (CP-10)'!$I$15,AR29*R29))))))))))))","v":""},{"$f":"IF(F29=\"\",\"\",IF(I29>0,I29*0.14*AR29/2000,IF(H29>0,AR29*R29*H29/2000,AS29*8760/2000)))","v":""},{"$f":"IF(F29=\"\",\"\",T29*AR29/2000)","v":""},{"$f":"IF(F29=\"\",\"\",IF(B29=\"no\",'Emission Factors'!$P$33,'Emission Factors'!$P$34))","v":""},{"$f":"IF(F29=\"\",\"\",AV29*R29)","v":""},{"$f":"IF(F29=\"\",\"\",IF(I29>0,I29*0.14*AV29/2000,IF(H29>0,AV29*R29*H29/2000,AW29*8760/2000)))","v":""},{"$f":"IF(F29=\"\",\"\",T29*AV29/2000)","v":""},{"$f":"IF(F29=\"\",\"\",IF(B29=\"no\",'Emission Factors'!$R$33,'Emission Factors'!$R$34))","v":""},{"$f":"IF(F29=\"\",\"\",AZ29*R29)","v":""},{"$f":"IF(F29=\"\",\"\",IF(I29>0,I29*0.14*AZ29/2000,IF(H29>0,AZ29*R29*H29/2000,BA29*8760/2000)))","v":""},{"$f":"IF(F29=\"\",\"\",T29*AZ29/2000)","v":""}]
[null,"no",null,null,null,null,null,null,null,null,0.5,null,null,null,null,null,null,"",null,"",null,0,"",{"$f":"IF(F30=\"\",\"\",IF(B30=\"no\",'Emission Factors'!$D$33,'Emission Factors'!$D$34))","v":""},"","","",{"$f":"IF(F30=\"\",\"\",IF(B30=\"no\",'Emission Factors'!$F$33,'Emission Factors'!$F$34))","v":""},"","","",{"$f":"IF(F30=\"\",\"\",IF(B30=\"no\",'Emission Factors'!$H$33,'Emission Factors'!$H$34))","v":""},{"$f":"IF(F30=\"\",\"\",IF(C30=\"CP-1\",IF('Concrete Plant (CP-1)'!$I$12>0,'Concrete Plant (CP-1)'!$I$12,AF30*R30*K30),IF(C30=\"CP-2\",IF('Concrete Plant (CP-2)'!$I$12>0,'Concrete Plant (CP-2)'!$I$12,AF30*R30*K30),IF(C30=\"CP-3\",IF('Concrete Plant (CP-3)'!$I$12>0,'Concrete Plant (CP-3)'!$I$12,AF30*R30*K30),IF(C30=\"CP-4\",IF('Concrete Plant (CP-4)'!$I$12>0,'Concrete Plant (CP-4)'!$I$12,AF30*R30*K30),IF(C30=\"CP-5\",IF('Concrete Plant (CP-5)'!$I$12>0,'Concrete Plant (CP-5)'!$I$12,AF30*R30*K30),IF(C30=\"CP-6\",IF('Concrete Plant (CP-6)'!$I$12>0,'Concrete Plant (CP-6)'!$I$12,AF30*R30*K30),IF(C30=\"CP-7\",IF('Concrete Plant (CP-7)'!$I$12>0,'Concrete Plant (CP-7)'!$I$12,AF30*R30*K30),IF(C30=\"CP-8\",IF('Concrete Plant (CP-8)'!$I$12>0,'Concrete Plant (CP-8)'!$I$12,AF30*R30*K30),IF(C30=\"CP-9\",IF('Concrete Plant (CP-9)'!$I$12>0,'Concrete Plant (CP-9)'!$I$12,AF30*R30*K30),IF(C30=\"CP-10\",IF('Concrete Plant (CP-10)'!$I$12>0,'Concrete Plant (CP-10)'!$I$12,AF30*R30*K30))))))))))))","v":""},"","",{"$f":"IF(F30=\"\",\"\",IF(B30=\"no\",'Emission Factors'!$J$33,'Emission Factors'!$J$34))","v":""},{"$f":"IF(F30=\"\",\"\",IF(C30=\"CP-1\",IF('Concrete Plant (CP-1)'!$I$13>0,'Concrete Plant (CP-1)'!$I$13,AJ30*R30),IF(C30=\"CP-2\",IF('Concrete Plant (CP-2)'!$I$13>0,'Concrete Plant (CP-2)'!$I$13,AJ30*R30),IF(C30=\"CP-3\",IF('Concrete Plant (CP-3)'!$I$13>0,'Concrete Plant (CP-3)'!$I$13,AJ30*R30),IF(C30=\"CP-4\",IF('Concrete Plant (CP-4)'!$I$13>0,'Concrete Plant (CP-4)'!$I$13,AJ30*R30),IF(C30=\"CP-5\",IF('Concrete Plant (CP-5)'!$I$13>0,'Concrete Plant (CP-5)'!$I$13,AJ30*R30),IF(C30=\"CP-6\",IF('Concrete Plant (CP-6)'!$I$13>0,'Concrete Plant (CP-6)'!$I$13,AJ30*R30),IF(C30=\"CP-7\",IF('Concrete Plant (CP-7)'!$I$13>0,'Concrete Plant (CP-7)'!$I$13,AJ30*R30),IF(C30=\"CP-8\",IF('Concrete Plant (CP-8)'!$I$13>0,'Concrete Plant (CP-8)'!$I$13,AJ30*R30),IF(C30=\"CP-9\",IF('Concrete Plant (CP-9)'!$I$13>0,'Concrete Plant (CP-9)'!$I$13,AJ30*R30),IF(C30=\"CP-10\",IF('Concrete Plant (CP-10)'!$I$13>0,'Concrete Plant (CP-10)'!$I$13,AJ30*R30))))))))))))","v":""},"","",{"$f":"IF(F30=\"\",\"\",IF(B30=\"no\",'Emission Factors'!$L$33,'Emission Factors'!$L$34))","v":""},{"$f":"IF(F30=\"\",\"\",IF(C30=\"CP-1\",IF('Concrete Plant (CP-1)'!$I$14>0,'Concrete Plant (CP-1)'!$I$14,AN30*R30),IF(C30=\"CP-2\",IF('Concrete Plant (CP-2)'!$I$14>0,'Concrete Plant (CP-2)'!$I$14,AN30*R30),IF(C30=\"CP-3\",IF('Concrete Plant (CP-3)'!$I$14>0,'Concrete Plant (CP-3)'!$I$14,AN30*R30),IF(C30=\"CP-4\",IF('Concrete Plant (CP-4)'!$I$14>0,'Concrete Plant (CP-4)'!$I$14,AN30*R30),IF(C30=\"CP-5\",IF('Concrete Plant (CP-5)'!$I$14>0,'Concrete Plant (CP-5)'!$I$14,AN30*R30),IF(C30=\"CP-6\",IF('Concrete Plant (CP-6)'!$I$14>0,'Concrete Plant (CP-6)'!$I$14,AN30*R30),IF(C30=\"CP-7\",IF('Concrete Plant (CP-7)'!$I$14>0,'Concrete Plant (CP-7)'!$I$14,AN30*R30),IF(C30=\"CP-8\",IF('Concrete Plant (CP-8)'!$I$14>0,'Concrete Plant (CP-8)'!$I$14,AN30*R30),IF(C30=\"CP-9\",IF('Concrete Plant (CP-9)'!$I$14>0,'Concrete Plant (CP-9)'!$I$14,AN30*R30),IF(C30=\"CP-10\",IF('Concrete Plant (CP-10)'!$I$14>0,'Concrete Plant (CP-10)'!$I$14,AN30*R30))))))))))))","v":""},"","",{"$f":"IF(F30=\"\",\"\",IF(B30=\"no\",'Emission Factors'!$N$33,'Emission Factors'!$N$34))","v":""},{"$f":"IF(F30=\"\",\"\",IF(C30=\"CP-1\",IF('Concrete Plant (CP-1)'!$I$15>0,'Concrete Plant (CP-1)'!$I$15,AR30*R30),IF(C30=\"CP-2\",IF('Concrete Plant (CP-2)'!$I$15>0,'Concrete Plant (CP-2)'!$I$15,AR30*R30),IF(C30=\"CP-3\",IF('Concrete Plant (CP-3)'!$I$15>0,'Concrete Plant (CP-3)'!$I$15,AR30*R30),IF(C30=\"CP-4\",IF('Concrete Plant (CP-4)'!$I$15>0,'Concrete Plant (CP-4)'!$I$15,AR30*R30),IF(C30=\"CP-5\",IF('Concrete Plant (CP-5)'!$I$15>0,'Concrete Plant (CP-5)'!$I$15,AR30*R30),IF(C30=\"CP-6\",IF('Concrete Plant (CP-6)'!$I$15>0,'Concrete Plant (CP-6)'!$I$15,AR30*R30),IF(C30=\"CP-7\",IF('Concrete Plant (CP-7)'!$I$15>0,'Concrete Plant (CP-7)'!$I$15,AR30*R30),IF(C30=\"CP-8\",IF('Concrete Plant (CP-8)'!$I$15>0,'Concrete Plant (CP-8)'!$I$15,AR30*R30),IF(C30=\"CP-9\",IF('Concrete Plant (CP-9)'!$I$15>0,'Concrete Plant (CP-9)'!$I$15,AR30*R30),IF(C30=\"CP-10\",IF('Concrete Plant (CP-10)'!$I$15>0,'Concrete Plant (CP-10)'!$I$15,AR30*R30))))))))))))","v":""},"","",{"$f":"IF(F30=\"\",\"\",IF(B30=\"no\",'Emission Factors'!$P$33,'Emission Factors'!$P$34))","v":""},"","","",{"$f":"IF(F30=\"\",\"\",IF(B30=\"no\",'Emission Factors'!$R$33,'Emission Factors'!$R$34))","v":""},"","",""]
[null,"no",null,null,null,null,null,null,null,null,0.5,null,null,null,null,null,null,"",null,"",null,0,"",{"$f":"IF(F31=\"\",\"\",IF(B31=\"no\",'Emission Factors'!$D$33,'Emission Factors'!$D$34))","v":""},"","","",{"$f":"IF(F31=\"\",\"\",IF(B31=\"no\",'Emission Factors'!$F$33,'Emission Factors'!$F$34))","v":""},"","","",{"$f":"IF(F31=\"\",\"\",IF(B31=\"no\",'Emission Factors'!$H$33,'Emission Factors'!$H$34))","v":""},{"$f":"IF(F31=\"\",\"\",IF(C31=\"CP-1\",IF('Concrete Plant (CP-1)'!$I$12>0,'Concrete Plant (CP-1)'!$I$12,AF31*R31*K31),IF(C31=\"CP-2\",IF('Concrete Plant (CP-2)'!$I$12>0,'Concrete Plant (CP-2)'!$I$12,AF31*R31*K31),IF(C31=\"CP-3\",IF('Concrete Plant (CP-3)'!$I$12>0,'Concrete Plant (CP-3)'!$I$12,AF31*R31*K31),IF(C31=\"CP-4\",IF('Concrete Plant (CP-4)'!$I$12>0,'Concrete Plant (CP-4)'!$I$12,AF31*R31*K31),IF(C31=\"CP-5\",IF('Concrete Plant (CP-5)'!$I$12>0,'Concrete Plant (CP-5)'!$I$12,AF31*R31*K31),IF(C31=\"CP-6\",IF('Concrete Plant (CP-6)'!$I$12>0,'Concrete Plant (CP-6)'!$I$12,AF31*R31*K31),IF(C31=\"CP-7\",IF('Concrete Plant (CP-7)'!$I$12>0,'Concrete Plant (CP-7)'!$I$12,AF31*R31*K31),IF(C31=\"CP-8\",IF('Concrete Plant (CP-8)'!$I$12>0,'Concrete Plant (CP-8)'!$I$12,AF31*R31*K31),IF(C31=\"CP-9\",IF('Concrete Plant (CP-9)'!$I$12>0,'Concrete Plant (CP-9)'!$I$12,AF31*R31*K31),IF(C31=\"CP-10\",IF('Concrete Plant (CP-10)'!$I$12>0,'Concrete Plant (CP-10)'!$I$12,AF31*R31*K31))))))))))))","v":""},"","",{"$f":"IF(F31=\"\",\"\",IF(B31=\"no\",'Emission Factors'!$J$33,'Emission Factors'!$J$34))","v":""},{"$f":"IF(F31=\"\",\"\",IF(C31=\"CP-1\",IF('Concrete Plant (CP-1)'!$I$13>0,'Concrete Plant (CP-1)'!$I$13,AJ31*R31),IF(C31=\"CP-2\",IF('Concrete Plant (CP-2)'!$I$13>0,'Concrete Plant (CP-2)'!$I$13,AJ31*R31),IF(C31=\"CP-3\",IF('Concrete Plant (CP-3)'!$I$13>0,'Concrete Plant (CP-3)'!$I$13,AJ31*R31),IF(C31=\"CP-4\",IF('Concrete Plant (CP-4)'!$I$13>0,'Concrete Plant (CP-4)'!$I$13,AJ31*R31),IF(C31=\"CP-5\",IF('Concrete Plant (CP-5)'!$I$13>0,'Concrete Plant (CP-5)'!$I$13,AJ31*R31),IF(C31=\"CP-6\",IF('Concrete Plant (CP-6)'!$I$13>0,'Concrete Plant (CP-6)'!$I$13,AJ31*R31),IF(C31=\"CP-7\",IF('Concrete Plant (CP-7)'!$I$13>0,'Concrete Plant (CP-7)'!$I$13,AJ31*R31),IF(C31=\"CP-8\",IF('Concrete Plant (CP-8)'!$I$13>0,'Concrete Plant (CP-8)'!$I$13,AJ31*R31),IF(C31=\"CP-9\",IF('Concrete Plant (CP-9)'!$I$13>0,'Concrete Plant (CP-9)'!$I$13,AJ31*R31),IF(C31=\"CP-10\",IF('Concrete Plant (CP-10)'!$I$13>0,'Concrete Plant (CP-10)'!$I$13,AJ31*R31))))))))))))","v":""},"","",{"$f":"IF(F31=\"\",\"\",IF(B31=\"no\",'Emission Factors'!$L$33,'Emission Factors'!$L$34))","v":""},{"$f":"IF(F31=\"\",\"\",IF(C31=\"CP-1\",IF('Concrete Plant (CP-1)'!$I$14>0,'Concrete Plant (CP-1)'!$I$14,AN31*R31),IF(C31=\"CP-2\",IF('Concrete Plant (CP-2)'!$I$14>0,'Concrete Plant (CP-2)'!$I$14,AN31*R31),IF(C31=\"CP-3\",IF('Concrete Plant (CP-3)'!$I$14>0,'Concrete Plant (CP-3)'!$I$14,AN31*R31),IF(C31=\"CP-4\",IF('Concrete Plant (CP-4)'!$I$14>0,'Concrete Plant (CP-4)'!$I$14,AN31*R31),IF(C31=\"CP-5\",IF('Concrete Plant (CP-5)'!$I$14>0,'Concrete Plant (CP-5)'!$I$14,AN31*R31),IF(C31=\"CP-6\",IF('Concrete Plant (CP-6)'!$I$14>0,'Concrete Plant (CP-6)'!$I$14,AN31*R31),IF(C31=\"CP-7\",IF('Concrete Plant (CP-7)'!$I$14>0,'Concrete Plant (CP-7)'!$I$14,AN31*R31),IF(C31=\"CP-8\",IF('Concrete Plant (CP-8)'!$I$14>0,'Concrete Plant (CP-8)'!$I$14,AN31*R31),IF(C31=\"CP-9\",IF('Concrete Plant (CP-9)'!$I$14>0,'Concrete Plant (CP-9)'!$I$14,AN31*R31),IF(C31=\"CP-10\",IF('Concrete Plant (CP-10)'!$I$14>0,'Concrete Plant (CP-10)'!$I$14,AN31*R31))))))))))))","v":""},"","",{"$f":"IF(F31=\"\",\"\",IF(B31=\"no\",'Emission Factors'!$N$33,'Emission Factors'!$N$34))","v":""},{"$f":"IF(F31=\"\",\"\",IF(C31=\"CP-1\",IF('Concrete Plant (CP-1)'!$I$15>0,'Concrete Plant (CP-1)'!$I$15,AR31*R31),IF(C31=\"CP-2\",IF('Concrete Plant (CP-2)'!$I$15>0,'Concrete Plant (CP-2)'!$I$15,AR31*R31),IF(C31=\"CP-3\",IF('Concrete Plant (CP-3)'!$I$15>0,'Concrete Plant (CP-3)'!$I$15,AR31*R31),IF(C31=\"CP-4\",IF('Concrete Plant (CP-4)'!$I$15>0,'Concrete Plant (CP-4)'!$I$15,AR31*R31),IF(C31=\"CP-5\",IF('Concrete Plant (CP-5)'!$I$15>0,'Concrete Plant (CP-5)'!$I$15,AR31*R31),IF(C31=\"CP-6\",IF('Concrete Plant (CP-6)'!$I$15>0,'Concrete Plant (CP-6)'!$I$15,AR31*R31),IF(C31=\"CP-7\",IF('Concrete Plant (CP-7)'!$I$15>0,'Concrete Plant (CP-7)'!$I$15,AR31*R31),IF(C31=\"CP-8\",IF('Concrete Plant (CP-8)'!$I$15>0,'Concrete Plant (CP-8)'!$I$15,AR31*R31),IF(C31=\"CP-9\",IF('Concrete Plant (CP-9)'!$I$15>0,'Concrete Plant (CP-9)'!$I$15,AR31*R31),IF(C31=\"CP-10\",IF('Concrete Plant (CP-10)'!$I$15>0,'Concrete Plant (CP-10)'!$I$15,AR31*R31))))))))))))","v":""},"","",{"$f":"IF(F31=\"\",\"\",IF(B31=\"no\",'Emission Factors'!$P$33,'Emission Factors'!$P$34))","v":""},"","","",{"$f":"IF(F31=\"\",\"\",IF(B31=\"no\",'Emission Factors'!$R$33,'Emission Factors'!$R$34))","v":""},"","",""]
[null,"no",null,null,null,null,null,null,null,null,0.5,null,null,null,null,null,null,"",null,"",null,0,"",{"$f":"IF(F32=\"\",\"\",IF(B32=\"no\",'Emission Factors'!$D$33,'Emission Factors'!$D$34))","v":""},"","","",{"$f":"IF(F32=\"\",\"\",IF(B32=\"no\",'Emission Factors'!$F$33,'Emission Factors'!$F$34))","v":""},"","","",{"$f":"IF(F32=\"\",\"\",IF(B32=\"no\",'Emission Factors'!$H$33,'Emission Factors'!$H$34))","v":""},{"$f":"IF(F32=\"\",\"\",IF(C32=\"CP-1\",IF('Concrete Plant (CP-1)'!$I$12>0,'Concrete Plant (CP-1)'!$I$12,AF32*R32*K32),IF(C32=\"CP-2\",IF('Concrete Plant (CP-2)'!$I$12>0,'Concrete Plant (CP-2)'!$I$12,AF32*R32*K32),IF(C32=\"CP-3\",IF('Concrete Plant (CP-3)'!$I$12>0,'Concrete Plant (CP-3)'!$I$12,AF32*R32*K32),IF(C32=\"CP-4\",IF('Concrete Plant (CP-4)'!$I$12>0,'Concrete Plant (CP-4)'!$I$12,AF32*R32*K32),IF(C32=\"CP-5\",IF('Concrete Plant (CP-5)'!$I$12>0,'Concrete Plant (CP-5)'!$I$12,AF32*R32*K32),IF(C32=\"CP-6\",IF('Concrete Plant (CP-6)'!$I$12>0,'Concrete Plant (CP-6)'!$I$12,AF32*R32*K32),IF(C32=\"CP-7\",IF('Concrete Plant (CP-7)'!$I$12>0,'Concrete Plant (CP-7)'!$I$12,AF32*R32*K32),IF(C32=\"CP-8\",IF('Concrete Plant (CP-8)'!$I$12>0,'Concrete Plant (CP-8)'!$I$12,AF32*R32*K32),IF(C32=\"CP-9\",IF('Concrete Plant (CP-9)'!$I$12>0,'Concrete Plant (CP-9)'!$I$12,AF32*R32*K32),IF(C32=\"CP-10\",IF('Concrete Plant (CP-10)'!$I$12>0,'Concrete Plant (CP-10)'!$I$12,AF32*R32*K32))))))))))))","v":""},"","",{"$f":"IF(F32=\"\",\"\",IF(B32=\"no\",'Emission Factors'!$J$33,'Emission Factors'!$J$34))","v":""},{"$f":"IF(F32=\"\",\"\",IF(C32=\"CP-1\",IF('Concrete Plant (CP-1)'!$I$13>0,'Concrete Plant (CP-1)'!$I$13,AJ32*R32),IF(C32=\"CP-2\",IF('Concrete Plant (CP-2)'!$I$13>0,'Concrete Plant (CP-2)'!$I$13,AJ32*R32),IF(C32=\"CP-3\",IF('Concrete Plant (CP-3)'!$I$13>0,'Concrete Plant (CP-3)'!$I$13,AJ32*R32),IF(C32=\"CP-4\",IF('Concrete Plant (CP-4)'!$I$13>0,'Concrete Plant (CP-4)'!$I$13,AJ32*R32),IF(C32=\"CP-5\",IF('Concrete Plant (CP-5)'!$I$13>0,'Concrete Plant (CP-5)'!$I$13,AJ32*R32),IF(C32=\"CP-6\",IF('Concrete Plant (CP-6)'!$I$13>0,'Concrete Plant (CP-6)'!$I$13,AJ32*R32),IF(C32=\"CP-7\",IF('Concrete Plant (CP-7)'!$I$13>0,'Concrete Plant (CP-7)'!$I$13,AJ32*R32),IF(C32=\"CP-8\",IF('Concrete Plant (CP-8)'!$I$13>0,'Concrete Plant (CP-8)'!$I$13,AJ32*R32),IF(C32=\"CP-9\",IF('Concrete Plant (CP-9)'!$I$13>0,'Concrete Plant (CP-9)'!$I$13,AJ32*R32),IF(C32=\"CP-10\",IF('Concrete Plant (CP-10)'!$I$13>0,'Concrete Plant (CP-10)'!$I$13,AJ32*R32))))))))))))","v":""},"","",{"$f":"IF(F32=\"\",\"\",IF(B32=\"no\",'Emission Factors'!$L$33,'Emission Factors'!$L$34))","v":""},{"$f":"IF(F32=\"\",\"\",IF(C32=\"CP-1\",IF('Concrete Plant (CP-1)'!$I$14>0,'Concrete Plant (CP-1)'!$I$14,AN32*R32),IF(C32=\"CP-2\",IF('Concrete Plant (CP-2)'!$I$14>0,'Concrete Plant (CP-2)'!$I$14,AN32*R32),IF(C32=\"CP-3\",IF('Concrete Plant (CP-3)'!$I$14>0,'Concrete Plant (CP-3)'!$I$14,AN32*R32),IF(C32=\"CP-4\",IF('Concrete Plant (CP-4)'!$I$14>0,'Concrete Plant (CP-4)'!$I$14,AN32*R32),IF(C32=\"CP-5\",IF('Concrete Plant (CP-5)'!$I$14>0,'Concrete Plant (CP-5)'!$I$14,AN32*R32),IF(C32=\"CP-6\",IF('Concrete Plant (CP-6)'!$I$14>0,'Concrete Plant (CP-6)'!$I$14,AN32*R32),IF(C32=\"CP-7\",IF('Concrete Plant (CP-7)'!$I$14>0,'Concrete Plant (CP-7)'!$I$14,AN32*R32),IF(C32=\"CP-8\",IF('Concrete Plant (CP-8)'!$I$14>0,'Concrete Plant (CP-8)'!$I$14,AN32*R32),IF(C32=\"CP-9\",IF('Concrete Plant (CP-9)'!$I$14>0,'Concrete Plant (CP-9)'!$I$14,AN32*R32),IF(C32=\"CP-10\",IF('Concrete Plant (CP-10)'!$I$14>0,'Concrete Plant (CP-10)'!$I$14,AN32*R32))))))))))))","v":""},"","",{"$f":"IF(F32=\"\",\"\",IF(B32=\"no\",'Emission Factors'!$N$33,'Emission Factors'!$N$34))","v":""},{"$f":"IF(F32=\"\",\"\",IF(C32=\"CP-1\",IF('Concrete Plant (CP-1)'!$I$15>0,'Concrete Plant (CP-1)'!$I$15,AR32*R32),IF(C32=\"CP-2\",IF('Concrete Plant (CP-2)'!$I$15>0,'Concrete Plant (CP-2)'!$I$15,AR32*R32),IF(C32=\"CP-3\",IF('Concrete Plant (CP-3)'!$I$15>0,'Concrete Plant (CP-3)'!$I$15,AR32*R32),IF(C32=\"CP-4\",IF('Concrete Plant (CP-4)'!$I$15>0,'Concrete Plant (CP-4)'!$I$15,AR32*R32),IF(C32=\"CP-5\",IF('Concrete Plant (CP-5)'!$I$15>0,'Concrete Plant (CP-5)'!$I$15,AR32*R32),IF(C32=\"CP-6\",IF('Concrete Plant (CP-6)'!$I$15>0,'Concrete Plant (CP-6)'!$I$15,AR32*R32),IF(C32=\"CP-7\",IF('Concrete Plant (CP-7)'!$I$15>0,'Concrete Plant (CP-7)'!$I$15,AR32*R32),IF(C32=\"CP-8\",IF('Concrete Plant (CP-8)'!$I$15>0,'Concrete Plant (CP-8)'!$I$15,AR32*R32),IF(C32=\"CP-9\",IF('Concrete Plant (CP-9)'!$I$15>0,'Concrete Plant (CP-9)'!$I$15,AR32*R32),IF(C32=\"CP-10\",IF('Concrete Plant (CP-10)'!$I$15>0,'Concrete Plant (CP-10)'!$I$15,AR32*R32))))))))))))","v":""},"","",{"$f":"IF(F32=\"\",\"\",IF(B32=\"no\",'Emission Factors'!$P$33,'Emission Factors'!$P$34))","v":""},"","","",{"$f":"IF(F32=\"\",\"\",IF(B32=\"no\",'Emission Factors'!$R$33,'Emission Factors'!$R$34))","v":""},"","",""]
[null,"no",null,null,null,null,null,null,null,null,0.5,null,null,null,null,null,null,"",null,"",null,0,"",{"$f":"IF(F33=\"\",\"\",IF(B33=\"no\",'Emission Factors'!$D$33,'Emission Factors'!$D$34))","v":""},"","","",{"$f":"IF(F33=\"\",\"\",IF(B33=\"no\",'Emission Factors'!$F$33,'Emission Factors'!$F$34))","v":""},"","","",{"$f":"IF(F33=\"\",\"\",IF(B33=\"no\",'Emission Factors'!$H$33,'Emission Factors'!$H$34))","v":""},{"$f":"IF(F33=\"\",\"\",IF(C33=\"CP-1\",IF('Concrete Plant (CP-1)'!$I$12>0,'Concrete Plant (CP-1)'!$I$12,AF33*R33*K33),IF(C33=\"CP-2\",IF('Concrete Plant (CP-2)'!$I$12>0,'Concrete Plant (CP-2)'!$I$12,AF33*R33*K33),IF(C33=\"CP-3\",IF('Concrete Plant (CP-3)'!$I$12>0,'Concrete Plant (CP-3)'!$I$12,AF33*R33*K33),IF(C33=\"CP-4\",IF('Concrete Plant (CP-4)'!$I$12>0,'Concrete Plant (CP-4)'!$I$12,AF33*R33*K33),IF(C33=\"CP-5\",IF('Concrete Plant (CP-5)'!$I$12>0,'Concrete Plant (CP-5)'!$I$12,AF33*R33*K33),IF(C33=\"CP-6\",IF('Concrete Plant (CP-6)'!$I$12>0,'Concrete Plant (CP-6)'!$I$12,AF33*R33*K33),IF(C33=\"CP-7\",IF('Concrete Plant (CP-7)'!$I$12>0,'Concrete Plant (CP-7)'!$I$12,AF33*R33*K33),IF(C33=\"CP-8\",IF('Concrete Plant (CP-8)'!$I$12>0,'Concrete Plant (CP-8)'!$I$12,AF33*R33*K33),IF(C33=\"CP-9\",IF('Concrete Plant (CP-9)'!$I$12>0,'Concrete Plant (CP-9)'!$I$12,AF33*R33*K33),IF(C33=\"CP-10\",IF('Concrete Plant (CP-10)'!$I$12>0,'Concrete Plant (CP-10)'!$I$12,AF33*R33*K33))))))))))))","v":""},"","",{"$f":"IF(F33=\"\",\"\",IF(B33=\"no\",'Emission Factors'!$J$33,'Emission Factors'!$J$34))","v":""},{"$f":"IF(F33=\"\",\"\",IF(C33=\"CP-1\",IF('Concrete Plant (CP-1)'!$I$13>0,'Concrete Plant (CP-1)'!$I$13,AJ33*R33),IF(C33=\"CP-2\",IF('Concrete Plant (CP-2)'!$I$13>0,'Concrete Plant (CP-2)'!$I$13,AJ33*R33),IF(C33=\"CP-3\",IF('Concrete Plant (CP-3)'!$I$13>0,'Concrete Plant (CP-3)'!$I$13,AJ33*R33),IF(C33=\"CP-4\",IF('Concrete Plant (CP-4)'!$I$13>0,'Concrete Plant (CP-4)'!$I$13,AJ33*R33),IF(C33=\"CP-5\",IF('Concrete Plant (CP-5)'!$I$13>0,'Concrete Plant (CP-5)'!$I$13,AJ33*R33),IF(C33=\"CP-6\",IF('Concrete Plant (CP-6)'!$I$13>0,'Concrete Plant (CP-6)'!$I$13,AJ33*R33),IF(C33=\"CP-7\",IF('Concrete Plant (CP-7)'!$I$13>0,'Concrete Plant (CP-7)'!$I$13,AJ33*R33),IF(C33=\"CP-8\",IF('Concrete Plant (CP-8)'!$I$13>0,'Concrete Plant (CP-8)'!$I$13,AJ33*R33),IF(C33=\"CP-9\",IF('Concrete Plant (CP-9)'!$I$13>0,'Concrete Plant (CP-9)'!$I$13,AJ33*R33),IF(C33=\"CP-10\",IF('Concrete Plant (CP-10)'!$I$13>0,'Concrete Plant (CP-10)'!$I$13,AJ33*R33))))))))))))","v":""},"","",{"$f":"IF(F33=\"\",\"\",IF(B33=\"no\",'Emission Factors'!$L$33,'Emission Factors'!$L$34))","v":""},{"$f":"IF(F33=\"\",\"\",IF(C33=\"CP-1\",IF('Concrete Plant (CP-1)'!$I$14>0,'Concrete Plant (CP-1)'!$I$14,AN33*R33),IF(C33=\"CP-2\",IF('Concrete Plant (CP-2)'!$I$14>0,'Concrete Plant (CP-2)'!$I$14,AN33*R33),IF(C33=\"CP-3\",IF('Concrete Plant (CP-3)'!$I$14>0,'Concrete Plant (CP-3)'!$I$14,AN33*R33),IF(C33=\"CP-4\",IF('Concrete Plant (CP-4)'!$I$14>0,'Concrete Plant (CP-4)'!$I$14,AN33*R33),IF(C33=\"CP-5\",IF('Concrete Plant (CP-5)'!$I$14>0,'Concrete Plant (CP-5)'!$I$14,AN33*R33),IF(C33=\"CP-6\",IF('Concrete Plant (CP-6)'!$I$14>0,'Concrete Plant (CP-6)'!$I$14,AN33*R33),IF(C33=\"CP-7\",IF('Concrete Plant (CP-7)'!$I$14>0,'Concrete Plant (CP-7)'!$I$14,AN33*R33),IF(C33=\"CP-8\",IF('Concrete Plant (CP-8)'!$I$14>0,'Concrete Plant (CP-8)'!$I$14,AN33*R33),IF(C33=\"CP-9\",IF('Concrete Plant (CP-9)'!$I$14>0,'Concrete Plant (CP-9)'!$I$14,AN33*R33),IF(C33=\"CP-10\",IF('Concrete Plant (CP-10)'!$I$14>0,'Concrete Plant (CP-10)'!$I$14,AN33*R33))))))))))))","v":""},"","",{"$f":"IF(F33=\"\",\"\",IF(B33=\"no\",'Emission Factors'!$N$33,'Emission Factors'!$N$34))","v":""},{"$f":"IF(F33=\"\",\"\",IF(C33=\"CP-1\",IF('Concrete Plant (CP-1)'!$I$15>0,'Concrete Plant (CP-1)'!$I$15,AR33*R33),IF(C33=\"CP-2\",IF('Concrete Plant (CP-2)'!$I$15>0,'Concrete Plant (CP-2)'!$I$15,AR33*R33),IF(C33=\"CP-3\",IF('Concrete Plant (CP-3)'!$I$15>0,'Concrete Plant (CP-3)'!$I$15,AR33*R33),IF(C33=\"CP-4\",IF('Concrete Plant (CP-4)'!$I$15>0,'Concrete Plant (CP-4)'!$I$15,AR33*R33),IF(C33=\"CP-5\",IF('Concrete Plant (CP-5)'!$I$15>0,'Concrete Plant (CP-5)'!$I$15,AR33*R33),IF(C33=\"CP-6\",IF('Concrete Plant (CP-6)'!$I$15>0,'Concrete Plant (CP-6)'!$I$15,AR33*R33),IF(C33=\"CP-7\",IF('Concrete Plant (CP-7)'!$I$15>0,'Concrete Plant (CP-7)'!$I$15,AR33*R33),IF(C33=\"CP-8\",IF('Concrete Plant (CP-8)'!$I$15>0,'Concrete Plant (CP-8)'!$I$15,AR33*R33),IF(C33=\"CP-9\",IF('Concrete Plant (CP-9)'!$I$15>0,'Concrete Plant (CP-9)'!$I$15,AR33*R33),IF(C33=\"CP-10\",IF('Concrete Plant (CP-10)'!$I$15>0,'Concrete Plant (CP-10)'!$I$15,AR33*R33))))))))))))","v":""},"","",{"$f":"IF(F33=\"\",\"\",IF(B33=\"no\",'Emission Factors'!$P$33,'Emission Factors'!$P$34))","v":""},"","","",{"$f":"IF(F33=\"\",\"\",IF(B33=\"no\",'Emission Factors'!$R$33,'Emission Factors'!$R$34))","v":""},"","",""]
[null,"no",null,null,null,null,null,null,null,null,0.5,null,null,null,null,null,null,"",null,"",null,0,"",{"$f":"IF(F34=\"\",\"\",IF(B34=\"no\",'Emission Factors'!$D$33,'Emission Factors'!$D$34))","v":""},"","","",{"$f":"IF(F34=\"\",\"\",IF(B34=\"no\",'Emission Factors'!$F$33,'Emission Factors'!$F$34))","v":""},"","","",{"$f":"IF(F34=\"\",\"\",IF(B34=\"no\",'Emission Factors'!$H$33,'Emission Factors'!$H$34))","v":""},{"$f":"IF(F34=\"\",\"\",IF(C34=\"CP-1\",IF('Concrete Plant (CP-1)'!$I$12>0,'Concrete Plant (CP-1)'!$I$12,AF34*R34*K34),IF(C34=\"CP-2\",IF('Concrete Plant (CP-2)'!$I$12>0,'Concrete Plant (CP-2)'!$I$12,AF34*R34*K34),IF(C34=\"CP-3\",IF('Concrete Plant (CP-3)'!$I$12>0,'Concrete Plant (CP-3)'!$I$12,AF34*R34*K34),IF(C34=\"CP-4\",IF('Concrete Plant (CP-4)'!$I$12>0,'Concrete Plant (CP-4)'!$I$12,AF34*R34*K34),IF(C34=\"CP-5\",IF('Concrete Plant (CP-5)'!$I$12>0,'Concrete Plant (CP-5)'!$I$12,AF34*R34*K34),IF(C34=\"CP-6\",IF('Concrete Plant (CP-6)'!$I$12>0,'Concrete Plant (CP-6)'!$I$12,AF34*R34*K34),IF(C34=\"CP-7\",IF('Concrete Plant (CP-7)'!$I$12>0,'Concrete Plant (CP-7)'!$I$12,AF34*R34*K34),IF(C34=\"CP-8\",IF('Concrete Plant (CP-8)'!$I$12>0,'Concrete Plant (CP-8)'!$I$12,AF34*R34*K34),IF(C34=\"CP-9\",IF('Concrete Plant (CP-9)'!$I$12>0,'Concrete Plant (CP-9)'!$I$12,AF34*R34*K34),IF(C34=\"CP-10\",IF('Concrete Plant (CP-10)'!$I$12>0,'Concrete Plant (CP-10)'!$I$12,AF34*R34*K34))))))))))))","v":""},"","",{"$f":"IF(F34=\"\",\"\",IF(B34=\"no\",'Emission Factors'!$J$33,'Emission Factors'!$J$34))","v":""},{"$f":"IF(F34=\"\",\"\",IF(C34=\"CP-1\",IF('Concrete Plant (CP-1)'!$I$13>0,'Concrete Plant (CP-1)'!$I$13,AJ34*R34),IF(C34=\"CP-2\",IF('Concrete Plant (CP-2)'!$I$13>0,'Concrete Plant (CP-2)'!$I$13,AJ34*R34),IF(C34=\"CP-3\",IF('Concrete Plant (CP-3)'!$I$13>0,'Concrete Plant (CP-3)'!$I$13,AJ34*R34),IF(C34=\"CP-4\",IF('Concrete Plant (CP-4)'!$I$13>0,'Concrete Plant (CP-4)'!$I$13,AJ34*R34),IF(C34=\"CP-5\",IF('Concrete Plant (CP-5)'!$I$13>0,'Concrete Plant (CP-5)'!$I$13,AJ34*R34),IF(C34=\"CP-6\",IF('Concrete Plant (CP-6)'!$I$13>0,'Concrete Plant (CP-6)'!$I$13,AJ34*R34),IF(C34=\"CP-7\",IF('Concrete Plant (CP-7)'!$I$13>0,'Concrete Plant (CP-7)'!$I$13,AJ34*R34),IF(C34=\"CP-8\",IF('Concrete Plant (CP-8)'!$I$13>0,'Concrete Plant (CP-8)'!$I$13,AJ34*R34),IF(C34=\"CP-9\",IF('Concrete Plant (CP-9)'!$I$13>0,'Concrete Plant (CP-9)'!$I$13,AJ34*R34),IF(C34=\"CP-10\",IF('Concrete Plant (CP-10)'!$I$13>0,'Concrete Plant (CP-10)'!$I$13,AJ34*R34))))))))))))","v":""},"","",{"$f":"IF(F34=\"\",\"\",IF(B34=\"no\",'Emission Factors'!$L$33,'Emission Factors'!$L$34))","v":""},{"$f":"IF(F34=\"\",\"\",IF(C34=\"CP-1\",IF('Concrete Plant (CP-1)'!$I$14>0,'Concrete Plant (CP-1)'!$I$14,AN34*R34),IF(C34=\"CP-2\",IF('Concrete Plant (CP-2)'!$I$14>0,'Concrete Plant (CP-2)'!$I$14,AN34*R34),IF(C34=\"CP-3\",IF('Concrete Plant (CP-3)'!$I$14>0,'Concrete Plant (CP-3)'!$I$14,AN34*R34),IF(C34=\"CP-4\",IF('Concrete Plant (CP-4)'!$I$14>0,'Concrete Plant (CP-4)'!$I$14,AN34*R34),IF(C34=\"CP-5\",IF('Concrete Plant (CP-5)'!$I$14>0,'Concrete Plant (CP-5)'!$I$14,AN34*R34),IF(C34=\"CP-6\",IF('Concrete Plant (CP-6)'!$I$14>0,'Concrete Plant (CP-6)'!$I$14,AN34*R34),IF(C34=\"CP-7\",IF('Concrete Plant (CP-7)'!$I$14>0,'Concrete Plant (CP-7)'!$I$14,AN34*R34),IF(C34=\"CP-8\",IF('Concrete Plant (CP-8)'!$I$14>0,'Concrete Plant (CP-8)'!$I$14,AN34*R34),IF(C34=\"CP-9\",IF('Concrete Plant (CP-9)'!$I$14>0,'Concrete Plant (CP-9)'!$I$14,AN34*R34),IF(C34=\"CP-10\",IF('Concrete Plant (CP-10)'!$I$14>0,'Concrete Plant (CP-10)'!$I$14,AN34*R34))))))))))))","v":""},"","",{"$f":"IF(F34=\"\",\"\",IF(B34=\"no\",'Emission Factors'!$N$33,'Emission Factors'!$N$34))","v":""},{"$f":"IF(F34=\"\",\"\",IF(C34=\"CP-1\",IF('Concrete Plant (CP-1)'!$I$15>0,'Concrete Plant (CP-1)'!$I$15,AR34*R34),IF(C34=\"CP-2\",IF('Concrete Plant (CP-2)'!$I$15>0,'Concrete Plant (CP-2)'!$I$15,AR34*R34),IF(C34=\"CP-3\",IF('Concrete Plant (CP-3)'!$I$15>0,'Concrete Plant (CP-3)'!$I$15,AR34*R34),IF(C34=\"CP-4\",IF('Concrete Plant (CP-4)'!$I$15>0,'Concrete Plant (CP-4)'!$I$15,AR34*R34),IF(C34=\"CP-5\",IF('Concrete Plant (CP-5)'!$I$15>0,'Concrete Plant (CP-5)'!$I$15,AR34*R34),IF(C34=\"CP-6\",IF('Concrete Plant (CP-6)'!$I$15>0,'Concrete Plant (CP-6)'!$I$15,AR34*R34),IF(C34=\"CP-7\",IF('Concrete Plant (CP-7)'!$I$15>0,'Concrete Plant (CP-7)'!$I$15,AR34*R34),IF(C34=\"CP-8\",IF('Concrete Plant (CP-8)'!$I$15>0,'Concrete Plant (CP-8)'!$I$15,AR34*R34),IF(C34=\"CP-9\",IF('Concrete Plant (CP-9)'!$I$15>0,'Concrete Plant (CP-9)'!$I$15,AR34*R34),IF(C34=\"CP-10\",IF('Concrete Plant (CP-10)'!$I$15>0,'Concrete Plant (CP-10)'!$I$15,AR34*R34))))))))))))","v":""},"","",{"$f":"IF(F34=\"\",\"\",IF(B34=\"no\",'Emission Factors'!$P$33,'Emission Factors'!$P$34))","v":""},"","","",{"$f":"IF(F34=\"\",\"\",IF(B34=\"no\",'Emission Factors'!$R$33,'Emission Factors'!$R$34))","v":""},"","",""]
[null,"no",null,null,null,null,null,null,null,null,0.5,null,null,null,null,null,null,"",null,"",null,0,"",{"$f":"IF(F35=\"\",\"\",IF(B35=\"no\",'Emission Factors'!$D$33,'Emission Factors'!$D$34))","v":""},"","","",{"$f":"IF(F35=\"\",\"\",IF(B35=\"no\",'Emission Factors'!$F$33,'Emission Factors'!$F$34))","v":""},"","","",{"$f":"IF(F35=\"\",\"\",IF(B35=\"no\",'Emission Factors'!$H$33,'Emission Factors'!$H$34))","v":""},{"$f":"IF(F35=\"\",\"\",IF(C35=\"CP-1\",IF('Concrete Plant (CP-1)'!$I$12>0,'Concrete Plant (CP-1)'!$I$12,AF35*R35*K35),IF(C35=\"CP-2\",IF('Concrete Plant (CP-2)'!$I$12>0,'Concrete Plant (CP-2)'!$I$12,AF35*R35*K35),IF(C35=\"CP-3\",IF('Concrete Plant (CP-3)'!$I$12>0,'Concrete Plant (CP-3)'!$I$12,AF35*R35*K35),IF(C35=\"CP-4\",IF('Concrete Plant (CP-4)'!$I$12>0,'Concrete Plant (CP-4)'!$I$12,AF35*R35*K35),IF(C35=\"CP-5\",IF('Concrete Plant (CP-5)'!$I$12>0,'Concrete Plant (CP-5)'!$I$12,AF35*R35*K35),IF(C35=\"CP-6\",IF('Concrete Plant (CP-6)'!$I$12>0,'Concrete Plant (CP-6)'!$I$12,AF35*R35*K35),IF(C35=\"CP-7\",IF('Concrete Plant (CP-7)'!$I$12>0,'Concrete Plant (CP-7)'!$I$12,AF35*R35*K35),IF(C35=\"CP-8\",IF('Concrete Plant (CP-8)'!$I$12>0,'Concrete Plant (CP-8)'!$I$12,AF35*R35*K35),IF(C35=\"CP-9\",IF('Concrete Plant (CP-9)'!$I$12>0,'Concrete Plant (CP-9)'!$I$12,AF35*R35*K35),IF(C35=\"CP-10\",IF('Concrete Plant (CP-10)'!$I$12>0,'Concrete Plant (CP-10)'!$I$12,AF35*R35*K35))))))))))))","v":""},"","",{"$f":"IF(F35=\"\",\"\",IF(B35=\"no\",'Emission Factors'!$J$33,'Emission Factors'!$J$34))","v":""},{"$f":"IF(F35=\"\",\"\",IF(C35=\"CP-1\",IF('Concrete Plant (CP-1)'!$I$13>0,'Concrete Plant (CP-1)'!$I$13,AJ35*R35),IF(C35=\"CP-2\",IF('Concrete Plant (CP-2)'!$I$13>0,'Concrete Plant (CP-2)'!$I$13,AJ35*R35),IF(C35=\"CP-3\",IF('Concrete Plant (CP-3)'!$I$13>0,'Concrete Plant (CP-3)'!$I$13,AJ35*R35),IF(C35=\"CP-4\",IF('Concrete Plant (CP-4)'!$I$13>0,'Concrete Plant (CP-4)'!$I$13,AJ35*R35),IF(C35=\"CP-5\",IF('Concrete Plant (CP-5)'!$I$13>0,'Concrete Plant (CP-5)'!$I$13,AJ35*R35),IF(C35=\"CP-6\",IF('Concrete Plant (CP-6)'!$I$13>0,'Concrete Plant (CP-6)'!$I$13,AJ35*R35),IF(C35=\"CP-7\",IF('Concrete Plant (CP-7)'!$I$13>0,'Concrete Plant (CP-7)'!$I$13,AJ35*R35),IF(C35=\"CP-8\",IF('Concrete Plant (CP-8)'!$I$13>0,'Concrete Plant (CP-8)'!$I$13,AJ35*R35),IF(C35=\"CP-9\",IF('Concrete Plant (CP-9)'!$I$13>0,'Concrete Plant (CP-9)'!$I$13,AJ35*R35),IF(C35=\"CP-10\",IF('Concrete Plant (CP-10)'!$I$13>0,'Concrete Plant (CP-10)'!$I$13,AJ35*R35))))))))))))","v":""},"","",{"$f":"IF(F35=\"\",\"\",IF(B35=\"no\",'Emission Factors'!$L$33,'Emission Factors'!$L$34))","v":""},{"$f":"IF(F35=\"\",\"\",IF(C35=\"CP-1\",IF('Concrete Plant (CP-1)'!$I$14>0,'Concrete Plant (CP-1)'!$I$14,AN35*R35),IF(C35=\"CP-2\",IF('Concrete Plant (CP-2)'!$I$14>0,'Concrete Plant (CP-2)'!$I$14,AN35*R35),IF(C35=\"CP-3\",IF('Concrete Plant (CP-3)'!$I$14>0,'Concrete Plant (CP-3)'!$I$14,AN35*R35),IF(C35=\"CP-4\",IF('Concrete Plant (CP-4)'!$I$14>0,'Concrete Plant (CP-4)'!$I$14,AN35*R35),IF(C35=\"CP-5\",IF('Concrete Plant (CP-5)'!$I$14>0,'Concrete Plant (CP-5)'!$I$14,AN35*R35),IF(C35=\"CP-6\",IF('Concrete Plant (CP-6)'!$I$14>0,'Concrete Plant (CP-6)'!$I$14,AN35*R35),IF(C35=\"CP-7\",IF('Concrete Plant (CP-7)'!$I$14>0,'Concrete Plant (CP-7)'!$I$14,AN35*R35),IF(C35=\"CP-8\",IF('Concrete Plant (CP-8)'!$I$14>0,'Concrete Plant (CP-8)'!$I$14,AN35*R35),IF(C35=\"CP-9\",IF('Concrete Plant (CP-9)'!$I$14>0,'Concrete Plant (CP-9)'!$I$14,AN35*R35),IF(C35=\"CP-10\",IF('Concrete Plant (CP-10)'!$I$14>0,'Concrete Plant (CP-10)'!$I$14,AN35*R35))))))))))))","v":""},"","",{"$f":"IF(F35=\"\",\"\",IF(B35=\"no\",'Emission Factors'!$N$33,'Emission Factors'!$N$34))","v":""},{"$f":"IF(F35=\"\",\"\",IF(C35=\"CP-1\",IF('Concrete Plant (CP-1)'!$I$15>0,'Concrete Plant (CP-1)'!$I$15,AR35*R35),IF(C35=\"CP-2\",IF('Concrete Plant (CP-2)'!$I$15>0,'Concrete Plant (CP-2)'!$I$15,AR35*R35),IF(C35=\"CP-3\",IF('Concrete Plant (CP-3)'!$I$15>0,'Concrete Plant (CP-3)'!$I$15,AR35*R35),IF(C35=\"CP-4\",IF('Concrete Plant (CP-4)'!$I$15>0,'Concrete Plant (CP-4)'!$I$15,AR35*R35),IF(C35=\"CP-5\",IF('Concrete Plant (CP-5)'!$I$15>0,'Concrete Plant (CP-5)'!$I$15,AR35*R35),IF(C35=\"CP-6\",IF('Concrete Plant (CP-6)'!$I$15>0,'Concrete Plant (CP-6)'!$I$15,AR35*R35),IF(C35=\"CP-7\",IF('Concrete Plant (CP-7)'!$I$15>0,'Concrete Plant (CP-7)'!$I$15,AR35*R35),IF(C35=\"CP-8\",IF('Concrete Plant (CP-8)'!$I$15>0,'Concrete Plant (CP-8)'!$I$15,AR35*R35),IF(C35=\"CP-9\",IF('Concrete Plant (CP-9)'!$I$15>0,'Concrete Plant (CP-9)'!$I$15,AR35*R35),IF(C35=\"CP-10\",IF('Concrete Plant (CP-10)'!$I$15>0,'Concrete Plant (CP-10)'!$I$15,AR35*R35))))))))))))","v":""},"","",{"$f":"IF(F35=\"\",\"\",IF(B35=\"no\",'Emission Factors'!$P$33,'Emission Factors'!$P$34))","v":""},"","","",{"$f":"IF(F35=\"\",\"\",IF(B35=\"no\",'Emission Factors'!$R$33,'Emission Factors'!$R$34))","v":""},"","",""]
[null,"no",null,null,null,null,null,null,null,null,0.5,null,null,null,null,null,null,"",null,"",null,0,"",{"$f":"IF(F36=\"\",\"\",IF(B36=\"no\",'Emission Factors'!$D$33,'Emission Factors'!$D$34))","v":""},"","","",{"$f":"IF(F36=\"\",\"\",IF(B36=\"no\",'Emission Factors'!$F$33,'Emission Factors'!$F$34))","v":""},"","","",{"$f":"IF(F36=\"\",\"\",IF(B36=\"no\",'Emission Factors'!$H$33,'Emission Factors'!$H$34))","v":""},{"$f":"IF(F36=\"\",\"\",IF(C36=\"CP-1\",IF('Concrete Plant (CP-1)'!$I$12>0,'Concrete Plant (CP-1)'!$I$12,AF36*R36*K36),IF(C36=\"CP-2\",IF('Concrete Plant (CP-2)'!$I$12>0,'Concrete Plant (CP-2)'!$I$12,AF36*R36*K36),IF(C36=\"CP-3\",IF('Concrete Plant (CP-3)'!$I$12>0,'Concrete Plant (CP-3)'!$I$12,AF36*R36*K36),IF(C36=\"CP-4\",IF('Concrete Plant (CP-4)'!$I$12>0,'Concrete Plant (CP-4)'!$I$12,AF36*R36*K36),IF(C36=\"CP-5\",IF('Concrete Plant (CP-5)'!$I$12>0,'Concrete Plant (CP-5)'!$I$12,AF36*R36*K36),IF(C36=\"CP-6\",IF('Concrete Plant (CP-6)'!$I$12>0,'Concrete Plant (CP-6)'!$I$12,AF36*R36*K36),IF(C36=\"CP-7\",IF('Concrete Plant (CP-7)'!$I$12>0,'Concrete Plant (CP-7)'!$I$12,AF36*R36*K36),IF(C36=\"CP-8\",IF('Concrete Plant (CP-8)'!$I$12>0,'Concrete Plant (CP-8)'!$I$12,AF36*R36*K36),IF(C36=\"CP-9\",IF('Concrete Plant (CP-9)'!$I$12>0,'Concrete Plant (CP-9)'!$I$12,AF36*R36*K36),IF(C36=\"CP-10\",IF('Concrete Plant (CP-10)'!$I$12>0,'Concrete Plant (CP-10)'!$I$12,AF36*R36*K36))))))))))))","v":""},"","",{"$f":"IF(F36=\"\",\"\",IF(B36=\"no\",'Emission Factors'!$J$33,'Emission Factors'!$J$34))","v":""},{"$f":"IF(F36=\"\",\"\",IF(C36=\"CP-1\",IF('Concrete Plant (CP-1)'!$I$13>0,'Concrete Plant (CP-1)'!$I$13,AJ36*R36),IF(C36=\"CP-2\",IF('Concrete Plant (CP-2)'!$I$13>0,'Concrete Plant (CP-2)'!$I$13,AJ36*R36),IF(C36=\"CP-3\",IF('Concrete Plant (CP-3)'!$I$13>0,'Concrete Plant (CP-3)'!$I$13,AJ36*R36),IF(C36=\"CP-4\",IF('Concrete Plant (CP-4)'!$I$13>0,'Concrete Plant (CP-4)'!$I$13,AJ36*R36),IF(C36=\"CP-5\",IF('Concrete Plant (CP-5)'!$I$13>0,'Concrete Plant (CP-5)'!$I$13,AJ36*R36),IF(C36=\"CP-6\",IF('Concrete Plant (CP-6)'!$I$13>0,'Concrete Plant (CP-6)'!$I$13,AJ36*R36),IF(C36=\"CP-7\",IF('Concrete Plant (CP-7)'!$I$13>0,'Concrete Plant (CP-7)'!$I$13,AJ36*R36),IF(C36=\"CP-8\",IF('Concrete Plant (CP-8)'!$I$13>0,'Concrete Plant (CP-8)'!$I$13,AJ36*R36),IF(C36=\"CP-9\",IF('Concrete Plant (CP-9)'!$I$13>0,'Concrete Plant (CP-9)'!$I$13,AJ36*R36),IF(C36=\"CP-10\",IF('Concrete Plant (CP-10)'!$I$13>0,'Concrete Plant (CP-10)'!$I$13,AJ36*R36))))))))))))","v":""},"","",{"$f":"IF(F36=\"\",\"\",IF(B36=\"no\",'Emission Factors'!$L$33,'Emission Factors'!$L$34))","v":""},{"$f":"IF(F36=\"\",\"\",IF(C36=\"CP-1\",IF('Concrete Plant (CP-1)'!$I$14>0,'Concrete Plant (CP-1)'!$I$14,AN36*R36),IF(C36=\"CP-2\",IF('Concrete Plant (CP-2)'!$I$14>0,'Concrete Plant (CP-2)'!$I$14,AN36*R36),IF(C36=\"CP-3\",IF('Concrete Plant (CP-3)'!$I$14>0,'Concrete Plant (CP-3)'!$I$14,AN36*R36),IF(C36=\"CP-4\",IF('Concrete Plant (CP-4)'!$I$14>0,'Concrete Plant (CP-4)'!$I$14,AN36*R36),IF(C36=\"CP-5\",IF('Concrete Plant (CP-5)'!$I$14>0,'Concrete Plant (CP-5)'!$I$14,AN36*R36),IF(C36=\"CP-6\",IF('Concrete Plant (CP-6)'!$I$14>0,'Concrete Plant (CP-6)'!$I$14,AN36*R36),IF(C36=\"CP-7\",IF('Concrete Plant (CP-7)'!$I$14>0,'Concrete Plant (CP-7)'!$I$14,AN36*R36),IF(C36=\"CP-8\",IF('Concrete Plant (CP-8)'!$I$14>0,'Concrete Plant (CP-8)'!$I$14,AN36*R36),IF(C36=\"CP-9\",IF('Concrete Plant (CP-9)'!$I$14>0,'Concrete Plant (CP-9)'!$I$14,AN36*R36),IF(C36=\"CP-10\",IF('Concrete Plant (CP-10)'!$I$14>0,'Concrete Plant (CP-10)'!$I$14,AN36*R36))))))))))))","v":""},"","",{"$f":"IF(F36=\"\",\"\",IF(B36=\"no\",'Emission Factors'!$N$33,'Emission Factors'!$N$34))","v":""},{"$f":"IF(F36=\"\",\"\",IF(C36=\"CP-1\",IF('Concrete Plant (CP-1)'!$I$15>0,'Concrete Plant (CP-1)'!$I$15,AR36*R36),IF(C36=\"CP-2\",IF('Concrete Plant (CP-2)'!$I$15>0,'Concrete Plant (CP-2)'!$I$15,AR36*R36),IF(C36=\"CP-3\",IF('Concrete Plant (CP-3)'!$I$15>0,'Concrete Plant (CP-3)'!$I$15,AR36*R36),IF(C36=\"CP-4\",IF('Concrete Plant (CP-4)'!$I$15>0,'Concrete Plant (CP-4)'!$I$15,AR36*R36),IF(C36=\"CP-5\",IF('Concrete Plant (CP-5)'!$I$15>0,'Concrete Plant (CP-5)'!$I$15,AR36*R36),IF(C36=\"CP-6\",IF('Concrete Plant (CP-6)'!$I$15>0,'Concrete Plant (CP-6)'!$I$15,AR36*R36),IF(C36=\"CP-7\",IF('Concrete Plant (CP-7)'!$I$15>0,'Concrete Plant (CP-7)'!$I$15,AR36*R36),IF(C36=\"CP-8\",IF('Concrete Plant (CP-8)'!$I$15>0,'Concrete Plant (CP-8)'!$I$15,AR36*R36),IF(C36=\"CP-9\",IF('Concrete Plant (CP-9)'!$I$15>0,'Concrete Plant (CP-9)'!$I$15,AR36*R36),IF(C36=\"CP-10\",IF('Concrete Plant (CP-10)'!$I$15>0,'Concrete Plant (CP-10)'!$I$15,AR36*R36))))))))))))","v":""},"","",{"$f":"IF(F36=\"\",\"\",IF(B36=\"no\",'Emission Factors'!$P$33,'Emission Factors'!$P$34))","v":""},"","","",{"$f":"IF(F36=\"\",\"\",IF(B36=\"no\",'Emission Factors'!$R$33,'Emission Factors'!$R$34))","v":""},"","",""]
[null,"no",null,null,null,null,null,null,null,null,0.5,null,null,null,null,null,null,"",null,"",null,0,"",{"$f":"IF(F37=\"\",\"\",IF(B37=\"no\",'Emission Factors'!$D$33,'Emission Factors'!$D$34))","v":""},"","","",{"$f":"IF(F37=\"\",\"\",IF(B37=\"no\",'Emission Factors'!$F$33,'Emission Factors'!$F$34))","v":""},"","","",{"$f":"IF(F37=\"\",\"\",IF(B37=\"no\",'Emission Factors'!$H$33,'Emission Factors'!$H$34))","v":""},{"$f":"IF(F37=\"\",\"\",IF(C37=\"CP-1\",IF('Concrete Plant (CP-1)'!$I$12>0,'Concrete Plant (CP-1)'!$I$12,AF37*R37*K37),IF(C37=\"CP-2\",IF('Concrete Plant (CP-2)'!$I$12>0,'Concrete Plant (CP-2)'!$I$12,AF37*R37*K37),IF(C37=\"CP-3\",IF('Concrete Plant (CP-3)'!$I$12>0,'Concrete Plant (CP-3)'!$I$12,AF37*R37*K37),IF(C37=\"CP-4\",IF('Concrete Plant (CP-4)'!$I$12>0,'Concrete Plant (CP-4)'!$I$12,AF37*R37*K37),IF(C37=\"CP-5\",IF('Concrete Plant (CP-5)'!$I$12>0,'Concrete Plant (CP-5)'!$I$12,AF37*R37*K37),IF(C37=\"CP-6\",IF('Concrete Plant (CP-6)'!$I$12>0,'Concrete Plant (CP-6)'!$I$12,AF37*R37*K37),IF(C37=\"CP-7\",IF('Concrete Plant (CP-7)'!$I$12>0,'Concrete Plant (CP-7)'!$I$12,AF37*R37*K37),IF(C37=\"CP-8\",IF('Concrete Plant (CP-8)'!$I$12>0,'Concrete Plant (CP-8)'!$I$12,AF37*R37*K37),IF(C37=\"CP-9\",IF('Concrete Plant (CP-9)'!$I$12>0,'Concrete Plant (CP-9)'!$I$12,AF37*R37*K37),IF(C37=\"CP-10\",IF('Concrete Plant (CP-10)'!$I$12>0,'Concrete Plant (CP-10)'!$I$12,AF37*R37*K37))))))))))))","v":""},"","",{"$f":"IF(F37=\"\",\"\",IF(B37=\"no\",'Emission Factors'!$J$33,'Emission Factors'!$J$34))","v":""},{"$f":"IF(F37=\"\",\"\",IF(C37=\"CP-1\",IF('Concrete Plant (CP-1)'!$I$13>0,'Concrete Plant (CP-1)'!$I$13,AJ37*R37),IF(C37=\"CP-2\",IF('Concrete Plant (CP-2)'!$I$13>0,'Concrete Plant (CP-2)'!$I$13,AJ37*R37),IF(C37=\"CP-3\",IF('Concrete Plant (CP-3)'!$I$13>0,'Concrete Plant (CP-3)'!$I$13,AJ37*R37),IF(C37=\"CP-4\",IF('Concrete Plant (CP-4)'!$I$13>0,'Concrete Plant (CP-4)'!$I$13,AJ37*R37),IF(C37=\"CP-5\",IF('Concrete Plant (CP-5)'!$I$13>0,'Concrete Plant (CP-5)'!$I$13,AJ37*R37),IF(C37=\"CP-6\",IF('Concrete Plant (CP-6)'!$I$13>0,'Concrete Plant (CP-6)'!$I$13,AJ37*R37),IF(C37=\"CP-7\",IF('Concrete Plant (CP-7)'!$I$13>0,'Concrete Plant (CP-7)'!$I$13,AJ37*R37),IF(C37=\"CP-8\",IF('Concrete Plant (CP-8)'!$I$13>0,'Concrete Plant (CP-8)'!$I$13,AJ37*R37),IF(C37=\"CP-9\",IF('Concrete Plant (CP-9)'!$I$13>0,'Concrete Plant (CP-9)'!$I$13,AJ37*R37),IF(C37=\"CP-10\",IF('Concrete Plant (CP-10)'!$I$13>0,'Concrete Plant (CP-10)'!$I$13,AJ37*R37))))))))))))","v":""},"","",{"$f":"IF(F37=\"\",\"\",IF(B37=\"no\",'Emission Factors'!$L$33,'Emission Factors'!$L$34))","v":""},{"$f":"IF(F37=\"\",\"\",IF(C37=\"CP-1\",IF('Concrete Plant (CP-1)'!$I$14>0,'Concrete Plant (CP-1)'!$I$14,AN37*R37),IF(C37=\"CP-2\",IF('Concrete Plant (CP-2)'!$I$14>0,'Concrete Plant (CP-2)'!$I$14,AN37*R37),IF(C37=\"CP-3\",IF('Concrete Plant (CP-3)'!$I$14>0,'Concrete Plant (CP-3)'!$I$14,AN37*R37),IF(C37=\"CP-4\",IF('Concrete Plant (CP-4)'!$I$14>0,'Concrete Plant (CP-4)'!$I$14,AN37*R37),IF(C37=\"CP-5\",IF('Concrete Plant (CP-5)'!$I$14>0,'Concrete Plant (CP-5)'!$I$14,AN37*R37),IF(C37=\"CP-6\",IF('Concrete Plant (CP-6)'!$I$14>0,'Concrete Plant (CP-6)'!$I$14,AN37*R37),IF(C37=\"CP-7\",IF('Concrete Plant (CP-7)'!$I$14>0,'Concrete Plant (CP-7)'!$I$14,AN37*R37),IF(C37=\"CP-8\",IF('Concrete Plant (CP-8)'!$I$14>0,'Concrete Plant (CP-8)'!$I$14,AN37*R37),IF(C37=\"CP-9\",IF('Concrete Plant (CP-9)'!$I$14>0,'Concrete Plant (CP-9)'!$I$14,AN37*R37),IF(C37=\"CP-10\",IF('Concrete Plant (CP-10)'!$I$14>0,'Concrete Plant (CP-10)'!$I$14,AN37*R37))))))))))))","v":""},"","",{"$f":"IF(F37=\"\",\"\",IF(B37=\"no\",'Emission Factors'!$N$33,'Emission Factors'!$N$34))","v":""},{"$f":"IF(F37=\"\",\"\",IF(C37=\"CP-1\",IF('Concrete Plant (CP-1)'!$I$15>0,'Concrete Plant (CP-1)'!$I$15,AR37*R37),IF(C37=\"CP-2\",IF('Concrete Plant (CP-2)'!$I$15>0,'Concrete Plant (CP-2)'!$I$15,AR37*R37),IF(C37=\"CP-3\",IF('Concrete Plant (CP-3)'!$I$15>0,'Concrete Plant (CP-3)'!$I$15,AR37*R37),IF(C37=\"CP-4\",IF('Concrete Plant (CP-4)'!$I$15>0,'Concrete Plant (CP-4)'!$I$15,AR37*R37),IF(C37=\"CP-5\",IF('Concrete Plant (CP-5)'!$I$15>0,'Concrete Plant (CP-5)'!$I$15,AR37*R37),IF(C37=\"CP-6\",IF('Concrete Plant (CP-6)'!$I$15>0,'Concrete Plant (CP-6)'!$I$15,AR37*R37),IF(C37=\"CP-7\",IF('Concrete Plant (CP-7)'!$I$15>0,'Concrete Plant (CP-7)'!$I$15,AR37*R37),IF(C37=\"CP-8\",IF('Concrete Plant (CP-8)'!$I$15>0,'Concrete Plant (CP-8)'!$I$15,AR37*R37),IF(C37=\"CP-9\",IF('Concrete Plant (CP-9)'!$I$15>0,'Concrete Plant (CP-9)'!$I$15,AR37*R37),IF(C37=\"CP-10\",IF('Concrete Plant (CP-10)'!$I$15>0,'Concrete Plant (CP-10)'!$I$15,AR37*R37))))))))))))","v":""},"","",{"$f":"IF(F37=\"\",\"\",IF(B37=\"no\",'Emission Factors'!$P$33,'Emission Factors'!$P$34))","v":""},"","","",{"$f":"IF(F37=\"\",\"\",IF(B37=\"no\",'Emission Factors'!$R$33,'Emission Factors'!$R$34))","v":""},"","",""]
[null,"no",null,null,null,null,null,null,null,null,{"$f":"IF(J38=\"\",0.5,J38)","v":0.5},null,null,null,null,null,null,"",null,"",null,0,"",{"$f":"IF(F38=\"\",\"\",IF(B38=\"no\",'Emission Factors'!$D$33,'Emission Factors'!$D$34))","v":""},"","","",{"$f":"IF(F38=\"\",\"\",IF(B38=\"no\",'Emission Factors'!$F$33,'Emission Factors'!$F$34))","v":""},"","","",{"$f":"IF(F38=\"\",\"\",IF(B38=\"no\",'Emission Factors'!$H$33,'Emission Factors'!$H$34))","v":""},{"$f":"IF(F38=\"\",\"\",IF(C38=\"CP-1\",IF('Concrete Plant (CP-1)'!$I$12>0,'Concrete Plant (CP-1)'!$I$12,AF38*R38*K38),IF(C38=\"CP-2\",IF('Concrete Plant (CP-2)'!$I$12>0,'Concrete Plant (CP-2)'!$I$12,AF38*R38*K38),IF(C38=\"CP-3\",IF('Concrete Plant (CP-3)'!$I$12>0,'Concrete Plant (CP-3)'!$I$12,AF38*R38*K38),IF(C38=\"CP-4\",IF('Concrete Plant (CP-4)'!$I$12>0,'Concrete Plant (CP-4)'!$I$12,AF38*R38*K38),IF(C38=\"CP-5\",IF('Concrete Plant (CP-5)'!$I$12>0,'Concrete Plant (CP-5)'!$I$12,AF38*R38*K38),IF(C38=\"CP-6\",IF('Concrete Plant (CP-6)'!$I$12>0,'Concrete Plant (CP-6)'!$I$12,AF38*R38*K38),IF(C38=\"CP-7\",IF('Concrete Plant (CP-7)'!$I$12>0,'Concrete Plant (CP-7)'!$I$12,AF38*R38*K38),IF(C38=\"CP-8\",IF('Concrete Plant (CP-8)'!$I$12>0,'Concrete Plant (CP-8)'!$I$12,AF38*R38*K38),IF(C38=\"CP-9\",IF('Concrete Plant (CP-9)'!$I$12>0,'Concrete Plant (CP-9)'!$I$12,AF38*R38*K38),IF(C38=\"CP-10\",IF('Concrete Plant (CP-10)'!$I$12>0,'Concrete Plant (CP-10)'!$I$12,AF38*R38*K38))))))))))))","v":""},"","",{"$f":"IF(F38=\"\",\"\",IF(B38=\"no\",'Emission Factors'!$J$33,'Emission Factors'!$J$34))","v":""},{"$f":"IF(F38=\"\",\"\",IF(C38=\"CP-1\",IF('Concrete Plant (CP-1)'!$I$13>0,'Concrete Plant (CP-1)'!$I$13,AJ38*R38),IF(C38=\"CP-2\",IF('Concrete Plant (CP-2)'!$I$13>0,'Concrete Plant (CP-2)'!$I$13,AJ38*R38),IF(C38=\"CP-3\",IF('Concrete Plant (CP-3)'!$I$13>0,'Concrete Plant (CP-3)'!$I$13,AJ38*R38),IF(C38=\"CP-4\",IF('Concrete Plant (CP-4)'!$I$13>0,'Concrete Plant (CP-4)'!$I$13,AJ38*R38),IF(C38=\"CP-5\",IF('Concrete Plant (CP-5)'!$I$13>0,'Concrete Plant (CP-5)'!$I$13,AJ38*R38),IF(C38=\"CP-6\",IF('Concrete Plant (CP-6)'!$I$13>0,'Concrete Plant (CP-6)'!$I$13,AJ38*R38),IF(C38=\"CP-7\",IF('Concrete Plant (CP-7)'!$I$13>0,'Concrete Plant (CP-7)'!$I$13,AJ38*R38),IF(C38=\"CP-8\",IF('Concrete Plant (CP-8)'!$I$13>0,'Concrete Plant (CP-8)'!$I$13,AJ38*R38),IF(C38=\"CP-9\",IF('Concrete Plant (CP-9)'!$I$13>0,'Concrete Plant (CP-9)'!$I$13,AJ38*R38),IF(C38=\"CP-10\",IF('Concrete Plant (CP-10)'!$I$13>0,'Concrete Plant (CP-10)'!$I$13,AJ38*R38))))))))))))","v":""},"","",{"$f":"IF(F38=\"\",\"\",IF(B38=\"no\",'Emission Factors'!$L$33,'Emission Factors'!$L$34))","v":""},{"$f":"IF(F38=\"\",\"\",IF(C38=\"CP-1\",IF('Concrete Plant (CP-1)'!$I$14>0,'Concrete Plant (CP-1)'!$I$14,AN38*R38),IF(C38=\"CP-2\",IF('Concrete Plant (CP-2)'!$I$14>0,'Concrete Plant (CP-2)'!$I$14,AN38*R38),IF(C38=\"CP-3\",IF('Concrete Plant (CP-3)'!$I$14>0,'Concrete Plant (CP-3)'!$I$14,AN38*R38),IF(C38=\"CP-4\",IF('Concrete Plant (CP-4)'!$I$14>0,'Concrete Plant (CP-4)'!$I$14,AN38*R38),IF(C38=\"CP-5\",IF('Concrete Plant (CP-5)'!$I$14>0,'Concrete Plant (CP-5)'!$I$14,AN38*R38),IF(C38=\"CP-6\",IF('Concrete Plant (CP-6)'!$I$14>0,'Concrete Plant (CP-6)'!$I$14,AN38*R38),IF(C38=\"CP-7\",IF('Concrete Plant (CP-7)'!$I$14>0,'Concrete Plant (CP-7)'!$I$14,AN38*R38),IF(C38=\"CP-8\",IF('Concrete Plant (CP-8)'!$I$14>0,'Concrete Plant (CP-8)'!$I$14,AN38*R38),IF(C38=\"CP-9\",IF('Concrete Plant (CP-9)'!$I$14>0,'Concrete Plant (CP-9)'!$I$14,AN38*R38),IF(C38=\"CP-10\",IF('Concrete Plant (CP-10)'!$I$14>0,'Concrete Plant (CP-10)'!$I$14,AN38*R38))))))))))))","v":""},"","",{"$f":"IF(F38=\"\",\"\",IF(B38=\"no\",'Emission Factors'!$N$33,'Emission Factors'!$N$34))","v":""},{"$f":"IF(F38=\"\",\"\",IF(C38=\"CP-1\",IF('Concrete Plant (CP-1)'!$I$15>0,'Concrete Plant (CP-1)'!$I$15,AR38*R38),IF(C38=\"CP-2\",IF('Concrete Plant (CP-2)'!$I$15>0,'Concrete Plant (CP-2)'!$I$15,AR38*R38),IF(C38=\"CP-3\",IF('Concrete Plant (CP-3)'!$I$15>0,'Concrete Plant (CP-3)'!$I$15,AR38*R38),IF(C38=\"CP-4\",IF('Concrete Plant (CP-4)'!$I$15>0,'Concrete Plant (CP-4)'!$I$15,AR38*R38),IF(C38=\"CP-5\",IF('Concrete Plant (CP-5)'!$I$15>0,'Concrete Plant (CP-5)'!$I$15,AR38*R38),IF(C38=\"CP-6\",IF('Concrete Plant (CP-6)'!$I$15>0,'Concrete Plant (CP-6)'!$I$15,AR38*R38),IF(C38=\"CP-7\",IF('Concrete Plant (CP-7)'!$I$15>0,'Concrete Plant (CP-7)'!$I$15,AR38*R38),IF(C38=\"CP-8\",IF('Concrete Plant (CP-8)'!$I$15>0,'Concrete Plant (CP-8)'!$I$15,AR38*R38),IF(C38=\"CP-9\",IF('Concrete Plant (CP-9)'!$I$15>0,'Concrete Plant (CP-9)'!$I$15,AR38*R38),IF(C38=\"CP-10\",IF('Concrete Plant (CP-10)'!$I$15>0,'Concrete Plant (CP-10)'!$I$15,AR38*R38))))))))))))","v":""},"","",{"$f":"IF(F38=\"\",\"\",IF(B38=\"no\",'Emission Factors'!$P$33,'Emission Factors'!$P$34))","v":""},"","","",{"$f":"IF(F38=\"\",\"\",IF(B38=\"no\",'Emission Factors'!$R$33,'Emission Factors'!$R$34))","v":""},"","",""]
[null,"no",null,null,null,null,null,null,null,null,0.5,null,null,null,null,null,null,"",null,"",null,0,"",{"$f":"IF(F39=\"\",\"\",IF(B39=\"no\",'Emission Factors'!$D$33,'Emission Factors'!$D$34))","v":""},"","","",{"$f":"IF(F39=\"\",\"\",IF(B39=\"no\",'Emission Factors'!$F$33,'Emission Factors'!$F$34))","v":""},"","","",{"$f":"IF(F39=\"\",\"\",IF(B39=\"no\",'Emission Factors'!$H$33,'Emission Factors'!$H$34))","v":""},{"$f":"IF(F39=\"\",\"\",IF(C39=\"CP-1\",IF('Concrete Plant (CP-1)'!$I$12>0,'Concrete Plant (CP-1)'!$I$12,AF39*R39*K39),IF(C39=\"CP-2\",IF('Concrete Plant (CP-2)'!$I$12>0,'Concrete Plant (CP-2)'!$I$12,AF39*R39*K39),IF(C39=\"CP-3\",IF('Concrete Plant (CP-3)'!$I$12>0,'Concrete Plant (CP-3)'!$I$12,AF39*R39*K39),IF(C39=\"CP-4\",IF('Concrete Plant (CP-4)'!$I$12>0,'Concrete Plant (CP-4)'!$I$12,AF39*R39*K39),IF(C39=\"CP-5\",IF('Concrete Plant (CP-5)'!$I$12>0,'Concrete Plant (CP-5)'!$I$12,AF39*R39*K39),IF(C39=\"CP-6\",IF('Concrete Plant (CP-6)'!$I$12>0,'Concrete Plant (CP-6)'!$I$12,AF39*R39*K39),IF(C39=\"CP-7\",IF('Concrete Plant (CP-7)'!$I$12>0,'Concrete Plant (CP-7)'!$I$12,AF39*R39*K39),IF(C39=\"CP-8\",IF('Concrete Plant (CP-8)'!$I$12>0,'Concrete Plant (CP-8)'!$I$12,AF39*R39*K39),IF(C39=\"CP-9\",IF('Concrete Plant (CP-9)'!$I$12>0,'Concrete Plant (CP-9)'!$I$12,AF39*R39*K39),IF(C39=\"CP-10\",IF('Concrete Plant (CP-10)'!$I$12>0,'Concrete Plant (CP-10)'!$I$12,AF39*R39*K39))))))))))))","v":""},"","",{"$f":"IF(F39=\"\",\"\",IF(B39=\"no\",'Emission Factors'!$J$33,'Emission Factors'!$J$34))","v":""},{"$f":"IF(F39=\"\",\"\",IF(C39=\"CP-1\",IF('Concrete Plant (CP-1)'!$I$13>0,'Concrete Plant (CP-1)'!$I$13,AJ39*R39),IF(C39=\"CP-2\",IF('Concrete Plant (CP-2)'!$I$13>0,'Concrete Plant (CP-2)'!$I$13,AJ39*R39),IF(C39=\"CP-3\",IF('Concrete Plant (CP-3)'!$I$13>0,'Concrete Plant (CP-3)'!$I$13,AJ39*R39),IF(C39=\"CP-4\",IF('Concrete Plant (CP-4)'!$I$13>0,'Concrete Plant (CP-4)'!$I$13,AJ39*R39),IF(C39=\"CP-5\",IF('Concrete Plant (CP-5)'!$I$13>0,'Concrete Plant (CP-5)'!$I$13,AJ39*R39),IF(C39=\"CP-6\",IF('Concrete Plant (CP-6)'!$I$13>0,'Concrete Plant (CP-6)'!$I$13,AJ39*R39),IF(C39=\"CP-7\",IF('Concrete Plant (CP-7)'!$I$13>0,'Concrete Plant (CP-7)'!$I$13,AJ39*R39),IF(C39=\"CP-8\",IF('Concrete Plant (CP-8)'!$I$13>0,'Concrete Plant (CP-8)'!$I$13,AJ39*R39),IF(C39=\"CP-9\",IF('Concrete Plant (CP-9)'!$I$13>0,'Concrete Plant (CP-9)'!$I$13,AJ39*R39),IF(C39=\"CP-10\",IF('Concrete Plant (CP-10)'!$I$13>0,'Concrete Plant (CP-10)'!$I$13,AJ39*R39))))))))))))","v":""},"","",{"$f":"IF(F39=\"\",\"\",IF(B39=\"no\",'Emission Factors'!$L$33,'Emission Factors'!$L$34))","v":""},{"$f":"IF(F39=\"\",\"\",IF(C39=\"CP-1\",IF('Concrete Plant (CP-1)'!$I$14>0,'Concrete Plant (CP-1)'!$I$14,AN39*R39),IF(C39=\"CP-2\",IF('Concrete Plant (CP-2)'!$I$14>0,'Concrete Plant (CP-2)'!$I$14,AN39*R39),IF(C39=\"CP-3\",IF('Concrete Plant (CP-3)'!$I$14>0,'Concrete Plant (CP-3)'!$I$14,AN39*R39),IF(C39=\"CP-4\",IF('Concrete Plant (CP-4)'!$I$14>0,'Concrete Plant (CP-4)'!$I$14,AN39*R39),IF(C39=\"CP-5\",IF('Concrete Plant (CP-5)'!$I$14>0,'Concrete Plant (CP-5)'!$I$14,AN39*R39),IF(C39=\"CP-6\",IF('Concrete Plant (CP-6)'!$I$14>0,'Concrete Plant (CP-6)'!$I$14,AN39*R39),IF(C39=\"CP-7\",IF('Concrete Plant (CP-7)'!$I$14>0,'Concrete Plant (CP-7)'!$I$14,AN39*R39),IF(C39=\"CP-8\",IF('Concrete Plant (CP-8)'!$I$14>0,'Concrete Plant (CP-8)'!$I$14,AN39*R39),IF(C39=\"CP-9\",IF('Concrete Plant (CP-9)'!$I$14>0,'Concrete Plant (CP-9)'!$I$14,AN39*R39),IF(C39=\"CP-10\",IF('Concrete Plant (CP-10)'!$I$14>0,'Concrete Plant (CP-10)'!$I$14,AN39*R39))))))))))))","v":""},"","",{"$f":"IF(F39=\"\",\"\",IF(B39=\"no\",'Emission Factors'!$N$33,'Emission Factors'!$N$34))","v":""},{"$f":"IF(F39=\"\",\"\",IF(C39=\"CP-1\",IF('Concrete Plant (CP-1)'!$I$15>0,'Concrete Plant (CP-1)'!$I$15,AR39*R39),IF(C39=\"CP-2\",IF('Concrete Plant (CP-2)'!$I$15>0,'Concrete Plant (CP-2)'!$I$15,AR39*R39),IF(C39=\"CP-3\",IF('Concrete Plant (CP-3)'!$I$15>0,'Concrete Plant (CP-3)'!$I$15,AR39*R39),IF(C39=\"CP-4\",IF('Concrete Plant (CP-4)'!$I$15>0,'Concrete Plant (CP-4)'!$I$15,AR39*R39),IF(C39=\"CP-5\",IF('Concrete Plant (CP-5)'!$I$15>0,'Concrete Plant (CP-5)'!$I$15,AR39*R39),IF(C39=\"CP-6\",IF('Concrete Plant (CP-6)'!$I$15>0,'Concrete Plant (CP-6)'!$I$15,AR39*R39),IF(C39=\"CP-7\",IF('Concrete Plant (CP-7)'!$I$15>0,'Concrete Plant (CP-7)'!$I$15,AR39*R39),IF(C39=\"CP-8\",IF('Concrete Plant (CP-8)'!$I$15>0,'Concrete Plant (CP-8)'!$I$15,AR39*R39),IF(C39=\"CP-9\",IF('Concrete Plant (CP-9)'!$I$15>0,'Concrete Plant (CP-9)'!$I$15,AR39*R39),IF(C39=\"CP-10\",IF('Concrete Plant (CP-10)'!$I$15>0,'Concrete Plant (CP-10)'!$I$15,AR39*R39))))))))))))","v":""},"","",{"$f":"IF(F39=\"\",\"\",IF(B39=\"no\",'Emission Factors'!$P$33,'Emission Factors'!$P$34))","v":""},"","","",{"$f":"IF(F39=\"\",\"\",IF(B39=\"no\",'Emission Factors'!$R$33,'Emission Factors'!$R$34))","v":""},"","",""]
[null,"no",null,null,null,null,null,null,null,null,0.5,null,null,null,null,null,null,"",null,"",null,0,"",{"$f":"IF(F40=\"\",\"\",IF(B40=\"no\",'Emission Factors'!$D$33,'Emission Factors'!$D$34))","v":""},"","","",{"$f":"IF(F40=\"\",\"\",IF(B40=\"no\",'Emission Factors'!$F$33,'Emission Factors'!$F$34))","v":""},"","","",{"$f":"IF(F40=\"\",\"\",IF(B40=\"no\",'Emission Factors'!$H$33,'Emission Factors'!$H$34))","v":""},{"$f":"IF(F40=\"\",\"\",IF(C40=\"CP-1\",IF('Concrete Plant (CP-1)'!$I$12>0,'Concrete Plant (CP-1)'!$I$12,AF40*R40*K40),IF(C40=\"CP-2\",IF('Concrete Plant (CP-2)'!$I$12>0,'Concrete Plant (CP-2)'!$I$12,AF40*R40*K40),IF(C40=\"CP-3\",IF('Concrete Plant (CP-3)'!$I$12>0,'Concrete Plant (CP-3)'!$I$12,AF40*R40*K40),IF(C40=\"CP-4\",IF('Concrete Plant (CP-4)'!$I$12>0,'Concrete Plant (CP-4)'!$I$12,AF40*R40*K40),IF(C40=\"CP-5\",IF('Concrete Plant (CP-5)'!$I$12>0,'Concrete Plant (CP-5)'!$I$12,AF40*R40*K40),IF(C40=\"CP-6\",IF('Concrete Plant (CP-6)'!$I$12>0,'Concrete Plant (CP-6)'!$I$12,AF40*R40*K40),IF(C40=\"CP-7\",IF('Concrete Plant (CP-7)'!$I$12>0,'Concrete Plant (CP-7)'!$I$12,AF40*R40*K40),IF(C40=\"CP-8\",IF('Concrete Plant (CP-8)'!$I$12>0,'Concrete Plant (CP-8)'!$I$12,AF40*R40*K40),IF(C40=\"CP-9\",IF('Concrete Plant (CP-9)'!$I$12>0,'Concrete Plant (CP-9)'!$I$12,AF40*R40*K40),IF(C40=\"CP-10\",IF('Concrete Plant (CP-10)'!$I$12>0,'Concrete Plant (CP-10)'!$I$12,AF40*R40*K40))))))))))))","v":""},"","",{"$f":"IF(F40=\"\",\"\",IF(B40=\"no\",'Emission Factors'!$J$33,'Emission Factors'!$J$34))","v":""},{"$f":"IF(F40=\"\",\"\",IF(C40=\"CP-1\",IF('Concrete Plant (CP-1)'!$I$13>0,'Concrete Plant (CP-1)'!$I$13,AJ40*R40),IF(C40=\"CP-2\",IF('Concrete Plant (CP-2)'!$I$13>0,'Concrete Plant (CP-2)'!$I$13,AJ40*R40),IF(C40=\"CP-3\",IF('Concrete Plant (CP-3)'!$I$13>0,'Concrete Plant (CP-3)'!$I$13,AJ40*R40),IF(C40=\"CP-4\",IF('Concrete Plant (CP-4)'!$I$13>0,'Concrete Plant (CP-4)'!$I$13,AJ40*R40),IF(C40=\"CP-5\",IF('Concrete Plant (CP-5)'!$I$13>0,'Concrete Plant (CP-5)'!$I$13,AJ40*R40),IF(C40=\"CP-6\",IF('Concrete Plant (CP-6)'!$I$13>0,'Concrete Plant (CP-6)'!$I$13,AJ40*R40),IF(C40=\"CP-7\",IF('Concrete Plant (CP-7)'!$I$13>0,'Concrete Plant (CP-7)'!$I$13,AJ40*R40),IF(C40=\"CP-8\",IF('Concrete Plant (CP-8)'!$I$13>0,'Concrete Plant (CP-8)'!$I$13,AJ40*R40),IF(C40=\"CP-9\",IF('Concrete Plant (CP-9)'!$I$13>0,'Concrete Plant (CP-9)'!$I$13,AJ40*R40),IF(C40=\"CP-10\",IF('Concrete Plant (CP-10)'!$I$13>0,'Concrete Plant (CP-10)'!$I$13,AJ40*R40))))))))))))","v":""},"","",{"$f":"IF(F40=\"\",\"\",IF(B40=\"no\",'Emission Factors'!$L$33,'Emission Factors'!$L$34))","v":""},{"$f":"IF(F40=\"\",\"\",IF(C40=\"CP-1\",IF('Concrete Plant (CP-1)'!$I$14>0,'Concrete Plant (CP-1)'!$I$14,AN40*R40),IF(C40=\"CP-2\",IF('Concrete Plant (CP-2)'!$I$14>0,'Concrete Plant (CP-2)'!$I$14,AN40*R40),IF(C40=\"CP-3\",IF('Concrete Plant (CP-3)'!$I$14>0,'Concrete Plant (CP-3)'!$I$14,AN40*R40),IF(C40=\"CP-4\",IF('Concrete Plant (CP-4)'!$I$14>0,'Concrete Plant (CP-4)'!$I$14,AN40*R40),IF(C40=\"CP-5\",IF('Concrete Plant (CP-5)'!$I$14>0,'Concrete Plant (CP-5)'!$I$14,AN40*R40),IF(C40=\"CP-6\",IF('Concrete Plant (CP-6)'!$I$14>0,'Concrete Plant (CP-6)'!$I$14,AN40*R40),IF(C40=\"CP-7\",IF('Concrete Plant (CP-7)'!$I$14>0,'Concrete Plant (CP-7)'!$I$14,AN40*R40),IF(C40=\"CP-8\",IF('Concrete Plant (CP-8)'!$I$14>0,'Concrete Plant (CP-8)'!$I$14,AN40*R40),IF(C40=\"CP-9\",IF('Concrete Plant (CP-9)'!$I$14>0,'Concrete Plant (CP-9)'!$I$14,AN40*R40),IF(C40=\"CP-10\",IF('Concrete Plant (CP-10)'!$I$14>0,'Concrete Plant (CP-10)'!$I$14,AN40*R40))))))))))))","v":""},"","",{"$f":"IF(F40=\"\",\"\",IF(B40=\"no\",'Emission Factors'!$N$33,'Emission Factors'!$N$34))","v":""},{"$f":"IF(F40=\"\",\"\",IF(C40=\"CP-1\",IF('Concrete Plant (CP-1)'!$I$15>0,'Concrete Plant (CP-1)'!$I$15,AR40*R40),IF(C40=\"CP-2\",IF('Concrete Plant (CP-2)'!$I$15>0,'Concrete Plant (CP-2)'!$I$15,AR40*R40),IF(C40=\"CP-3\",IF('Concrete Plant (CP-3)'!$I$15>0,'Concrete Plant (CP-3)'!$I$15,AR40*R40),IF(C40=\"CP-4\",IF('Concrete Plant (CP-4)'!$I$15>0,'Concrete Plant (CP-4)'!$I$15,AR40*R40),IF(C40=\"CP-5\",IF('Concrete Plant (CP-5)'!$I$15>0,'Concrete Plant (CP-5)'!$I$15,AR40*R40),IF(C40=\"CP-6\",IF('Concrete Plant (CP-6)'!$I$15>0,'Concrete Plant (CP-6)'!$I$15,AR40*R40),IF(C40=\"CP-7\",IF('Concrete Plant (CP-7)'!$I$15>0,'Concrete Plant (CP-7)'!$I$15,AR40*R40),IF(C40=\"CP-8\",IF('Concrete Plant (CP-8)'!$I$15>0,'Concrete Plant (CP-8)'!$I$15,AR40*R40),IF(C40=\"CP-9\",IF('Concrete Plant (CP-9)'!$I$15>0,'Concrete Plant (CP-9)'!$I$15,AR40*R40),IF(C40=\"CP-10\",IF('Concrete Plant (CP-10)'!$I$15>0,'Concrete Plant (CP-10)'!$I$15,AR40*R40))))))))))))","v":""},"","",{"$f":"IF(F40=\"\",\"\",IF(B40=\"no\",'Emission Factors'!$P$33,'Emission Factors'!$P$34))","v":""},"","","",{"$f":"IF(F40=\"\",\"\",IF(B40=\"no\",'Emission Factors'!$R$33,'Emission Factors'!$R$34))","v":""},"","",""]
[null,"no",null,null,null,null,null,null,null,null,0.5,null,null,null,null,null,null,"",null,"",null,0,"",{"$f":"IF(F41=\"\",\"\",IF(B41=\"no\",'Emission Factors'!$D$33,'Emission Factors'!$D$34))","v":""},"","","",{"$f":"IF(F41=\"\",\"\",IF(B41=\"no\",'Emission Factors'!$F$33,'Emission Factors'!$F$34))","v":""},"","","",{"$f":"IF(F41=\"\",\"\",IF(B41=\"no\",'Emission Factors'!$H$33,'Emission Factors'!$H$34))","v":""},{"$f":"IF(F41=\"\",\"\",IF(C41=\"CP-1\",IF('Concrete Plant (CP-1)'!$I$12>0,'Concrete Plant (CP-1)'!$I$12,AF41*R41*K41),IF(C41=\"CP-2\",IF('Concrete Plant (CP-2)'!$I$12>0,'Concrete Plant (CP-2)'!$I$12,AF41*R41*K41),IF(C41=\"CP-3\",IF('Concrete Plant (CP-3)'!$I$12>0,'Concrete Plant (CP-3)'!$I$12,AF41*R41*K41),IF(C41=\"CP-4\",IF('Concrete Plant (CP-4)'!$I$12>0,'Concrete Plant (CP-4)'!$I$12,AF41*R41*K41),IF(C41=\"CP-5\",IF('Concrete Plant (CP-5)'!$I$12>0,'Concrete Plant (CP-5)'!$I$12,AF41*R41*K41),IF(C41=\"CP-6\",IF('Concrete Plant (CP-6)'!$I$12>0,'Concrete Plant (CP-6)'!$I$12,AF41*R41*K41),IF(C41=\"CP-7\",IF('Concrete Plant (CP-7)'!$I$12>0,'Concrete Plant (CP-7)'!$I$12,AF41*R41*K41),IF(C41=\"CP-8\",IF('Concrete Plant (CP-8)'!$I$12>0,'Concrete Plant (CP-8)'!$I$12,AF41*R41*K41),IF(C41=\"CP-9\",IF('Concrete Plant (CP-9)'!$I$12>0,'Concrete Plant (CP-9)'!$I$12,AF41*R41*K41),IF(C41=\"CP-10\",IF('Concrete Plant (CP-10)'!$I$12>0,'Concrete Plant (CP-10)'!$I$12,AF41*R41*K41))))))))))))","v":""},"","",{"$f":"IF(F41=\"\",\"\",IF(B41=\"no\",'Emission Factors'!$J$33,'Emission Factors'!$J$34))","v":""},{"$f":"IF(F41=\"\",\"\",IF(C41=\"CP-1\",IF('Concrete Plant (CP-1)'!$I$13>0,'Concrete Plant (CP-1)'!$I$13,AJ41*R41),IF(C41=\"CP-2\",IF('Concrete Plant (CP-2)'!$I$13>0,'Concrete Plant (CP-2)'!$I$13,AJ41*R41),IF(C41=\"CP-3\",IF('Concrete Plant (CP-3)'!$I$13>0,'Concrete Plant (CP-3)'!$I$13,AJ41*R41),IF(C41=\"CP-4\",IF('Concrete Plant (CP-4)'!$I$13>0,'Concrete Plant (CP-4)'!$I$13,AJ41*R41),IF(C41=\"CP-5\",IF('Concrete Plant (CP-5)'!$I$13>0,'Concrete Plant (CP-5)'!$I$13,AJ41*R41),IF(C41=\"CP-6\",IF('Concrete Plant (CP-6)'!$I$13>0,'Concrete Plant (CP-6)'!$I$13,AJ41*R41),IF(C41=\"CP-7\",IF('Concrete Plant (CP-7)'!$I$13>0,'Concrete Plant (CP-7)'!$I$13,AJ41*R41),IF(C41=\"CP-8\",IF('Concrete Plant (CP-8)'!$I$13>0,'Concrete Plant (CP-8)'!$I$13,AJ41*R41),IF(C41=\"CP-9\",IF('Concrete Plant (CP-9)'!$I$13>0,'Concrete Plant (CP-9)'!$I$13,AJ41*R41),IF(C41=\"CP-10\",IF('Concrete Plant (CP-10)'!$I$13>0,'Concrete Plant (CP-10)'!$I$13,AJ41*R41))))))))))))","v":""},"","",{"$f":"IF(F41=\"\",\"\",IF(B41=\"no\",'Emission Factors'!$L$33,'Emission Factors'!$L$34))","v":""},{"$f":"IF(F41=\"\",\"\",IF(C41=\"CP-1\",IF('Concrete Plant (CP-1)'!$I$14>0,'Concrete Plant (CP-1)'!$I$14,AN41*R41),IF(C41=\"CP-2\",IF('Concrete Plant (CP-2)'!$I$14>0,'Concrete Plant (CP-2)'!$I$14,AN41*R41),IF(C41=\"CP-3\",IF('Concrete Plant (CP-3)'!$I$14>0,'Concrete Plant (CP-3)'!$I$14,AN41*R41),IF(C41=\"CP-4\",IF('Concrete Plant (CP-4)'!$I$14>0,'Concrete Plant (CP-4)'!$I$14,AN41*R41),IF(C41=\"CP-5\",IF('Concrete Plant (CP-5)'!$I$14>0,'Concrete Plant (CP-5)'!$I$14,AN41*R41),IF(C41=\"CP-6\",IF('Concrete Plant (CP-6)'!$I$14>0,'Concrete Plant (CP-6)'!$I$14,AN41*R41),IF(C41=\"CP-7\",IF('Concrete Plant (CP-7)'!$I$14>0,'Concrete Plant (CP-7)'!$I$14,AN41*R41),IF(C41=\"CP-8\",IF('Concrete Plant (CP-8)'!$I$14>0,'Concrete Plant (CP-8)'!$I$14,AN41*R41),IF(C41=\"CP-9\",IF('Concrete Plant (CP-9)'!$I$14>0,'Concrete Plant (CP-9)'!$I$14,AN41*R41),IF(C41=\"CP-10\",IF('Concrete Plant (CP-10)'!$I$14>0,'Concrete Plant (CP-10)'!$I$14,AN41*R41))))))))))))","v":""},"","",{"$f":"IF(F41=\"\",\"\",IF(B41=\"no\",'Emission Factors'!$N$33,'Emission Factors'!$N$34))","v":""},{"$f":"IF(F41=\"\",\"\",IF(C41=\"CP-1\",IF('Concrete Plant (CP-1)'!$I$15>0,'Concrete Plant (CP-1)'!$I$15,AR41*R41),IF(C41=\"CP-2\",IF('Concrete Plant (CP-2)'!$I$15>0,'Concrete Plant (CP-2)'!$I$15,AR41*R41),IF(C41=\"CP-3\",IF('Concrete Plant (CP-3)'!$I$15>0,'Concrete Plant (CP-3)'!$I$15,AR41*R41),IF(C41=\"CP-4\",IF('Concrete Plant (CP-4)'!$I$15>0,'Concrete Plant (CP-4)'!$I$15,AR41*R41),IF(C41=\"CP-5\",IF('Concrete Plant (CP-5)'!$I$15>0,'Concrete Plant (CP-5)'!$I$15,AR41*R41),IF(C41=\"CP-6\",IF('Concrete Plant (CP-6)'!$I$15>0,'Concrete Plant (CP-6)'!$I$15,AR41*R41),IF(C41=\"CP-7\",IF('Concrete Plant (CP-7)'!$I$15>0,'Concrete Plant (CP-7)'!$I$15,AR41*R41),IF(C41=\"CP-8\",IF('Concrete Plant (CP-8)'!$I$15>0,'Concrete Plant (CP-8)'!$I$15,AR41*R41),IF(C41=\"CP-9\",IF('Concrete Plant (CP-9)'!$I$15>0,'Concrete Plant (CP-9)'!$I$15,AR41*R41),IF(C41=\"CP-10\",IF('Concrete Plant (CP-10)'!$I$15>0,'Concrete Plant (CP-10)'!$I$15,AR41*R41))))))))))))","v":""},"","",{"$f":"IF(F41=\"\",\"\",IF(B41=\"no\",'Emission Factors'!$P$33,'Emission Factors'!$P$34))","v":""},"","","",{"$f":"IF(F41=\"\",\"\",IF(B41=\"no\",'Emission Factors'!$R$33,'Emission Factors'!$R$34))","v":""},"","",""]
[null,"no",null,null,null,null,null,null,null,null,0.5,null,null,null,null,null,null,"",null,"",null,0,"",{"$f":"IF(F42=\"\",\"\",IF(B42=\"no\",'Emission Factors'!$D$33,'Emission Factors'!$D$34))","v":""},"","","",{"$f":"IF(F42=\"\",\"\",IF(B42=\"no\",'Emission Factors'!$F$33,'Emission Factors'!$F$34))","v":""},"","","",{"$f":"IF(F42=\"\",\"\",IF(B42=\"no\",'Emission Factors'!$H$33,'Emission Factors'!$H$34))","v":""},{"$f":"IF(F42=\"\",\"\",IF(C42=\"CP-1\",IF('Concrete Plant (CP-1)'!$I$12>0,'Concrete Plant (CP-1)'!$I$12,AF42*R42*K42),IF(C42=\"CP-2\",IF('Concrete Plant (CP-2)'!$I$12>0,'Concrete Plant (CP-2)'!$I$12,AF42*R42*K42),IF(C42=\"CP-3\",IF('Concrete Plant (CP-3)'!$I$12>0,'Concrete Plant (CP-3)'!$I$12,AF42*R42*K42),IF(C42=\"CP-4\",IF('Concrete Plant (CP-4)'!$I$12>0,'Concrete Plant (CP-4)'!$I$12,AF42*R42*K42),IF(C42=\"CP-5\",IF('Concrete Plant (CP-5)'!$I$12>0,'Concrete Plant (CP-5)'!$I$12,AF42*R42*K42),IF(C42=\"CP-6\",IF('Concrete Plant (CP-6)'!$I$12>0,'Concrete Plant (CP-6)'!$I$12,AF42*R42*K42),IF(C42=\"CP-7\",IF('Concrete Plant (CP-7)'!$I$12>0,'Concrete Plant (CP-7)'!$I$12,AF42*R42*K42),IF(C42=\"CP-8\",IF('Concrete Plant (CP-8)'!$I$12>0,'Concrete Plant (CP-8)'!$I$12,AF42*R42*K42),IF(C42=\"CP-9\",IF('Concrete Plant (CP-9)'!$I$12>0,'Concrete Plant (CP-9)'!$I$12,AF42*R42*K42),IF(C42=\"CP-10\",IF('Concrete Plant (CP-10)'!$I$12>0,'Concrete Plant (CP-10)'!$I$12,AF42*R42*K42))))))))))))","v":""},"","",{"$f":"IF(F42=\"\",\"\",IF(B42=\"no\",'Emission Factors'!$J$33,'Emission Factors'!$J$34))","v":""},{"$f":"IF(F42=\"\",\"\",IF(C42=\"CP-1\",IF('Concrete Plant (CP-1)'!$I$13>0,'Concrete Plant (CP-1)'!$I$13,AJ42*R42),IF(C42=\"CP-2\",IF('Concrete Plant (CP-2)'!$I$13>0,'Concrete Plant (CP-2)'!$I$13,AJ42*R42),IF(C42=\"CP-3\",IF('Concrete Plant (CP-3)'!$I$13>0,'Concrete Plant (CP-3)'!$I$13,AJ42*R42),IF(C42=\"CP-4\",IF('Concrete Plant (CP-4)'!$I$13>0,'Concrete Plant (CP-4)'!$I$13,AJ42*R42),IF(C42=\"CP-5\",IF('Concrete Plant (CP-5)'!$I$13>0,'Concrete Plant (CP-5)'!$I$13,AJ42*R42),IF(C42=\"CP-6\",IF('Concrete Plant (CP-6)'!$I$13>0,'Concrete Plant (CP-6)'!$I$13,AJ42*R42),IF(C42=\"CP-7\",IF('Concrete Plant (CP-7)'!$I$13>0,'Concrete Plant (CP-7)'!$I$13,AJ42*R42),IF(C42=\"CP-8\",IF('Concrete Plant (CP-8)'!$I$13>0,'Concrete Plant (CP-8)'!$I$13,AJ42*R42),IF(C42=\"CP-9\",IF('Concrete Plant (CP-9)'!$I$13>0,'Concrete Plant (CP-9)'!$I$13,AJ42*R42),IF(C42=\"CP-10\",IF('Concrete Plant (CP-10)'!$I$13>0,'Concrete Plant (CP-10)'!$I$13,AJ42*R42))))))))))))","v":""},"","",{"$f":"IF(F42=\"\",\"\",IF(B42=\"no\",'Emission Factors'!$L$33,'Emission Factors'!$L$34))","v":""},{"$f":"IF(F42=\"\",\"\",IF(C42=\"CP-1\",IF('Concrete Plant (CP-1)'!$I$14>0,'Concrete Plant (CP-1)'!$I$14,AN42*R42),IF(C42=\"CP-2\",IF('Concrete Plant (CP-2)'!$I$14>0,'Concrete Plant (CP-2)'!$I$14,AN42*R42),IF(C42=\"CP-3\",IF('Concrete Plant (CP-3)'!$I$14>0,'Concrete Plant (CP-3)'!$I$14,AN42*R42),IF(C42=\"CP-4\",IF('Concrete Plant (CP-4)'!$I$14>0,'Concrete Plant (CP-4)'!$I$14,AN42*R42),IF(C42=\"CP-5\",IF('Concrete Plant (CP-5)'!$I$14>0,'Concrete Plant (CP-5)'!$I$14,AN42*R42),IF(C42=\"CP-6\",IF('Concrete Plant (CP-6)'!$I$14>0,'Concrete Plant (CP-6)'!$I$14,AN42*R42),IF(C42=\"CP-7\",IF('Concrete Plant (CP-7)'!$I$14>0,'Concrete Plant (CP-7)'!$I$14,AN42*R42),IF(C42=\"CP-8\",IF('Concrete Plant (CP-8)'!$I$14>0,'Concrete Plant (CP-8)'!$I$14,AN42*R42),IF(C42=\"CP-9\",IF('Concrete Plant (CP-9)'!$I$14>0,'Concrete Plant (CP-9)'!$I$14,AN42*R42),IF(C42=\"CP-10\",IF('Concrete Plant (CP-10)'!$I$14>0,'Concrete Plant (CP-10)'!$I$14,AN42*R42))))))))))))","v":""},"","",{"$f":"IF(F42=\"\",\"\",IF(B42=\"no\",'Emission Factors'!$N$33,'Emission Factors'!$N$34))","v":""},{"$f":"IF(F42=\"\",\"\",IF(C42=\"CP-1\",IF('Concrete Plant (CP-1)'!$I$15>0,'Concrete Plant (CP-1)'!$I$15,AR42*R42),IF(C42=\"CP-2\",IF('Concrete Plant (CP-2)'!$I$15>0,'Concrete Plant (CP-2)'!$I$15,AR42*R42),IF(C42=\"CP-3\",IF('Concrete Plant (CP-3)'!$I$15>0,'Concrete Plant (CP-3)'!$I$15,AR42*R42),IF(C42=\"CP-4\",IF('Concrete Plant (CP-4)'!$I$15>0,'Concrete Plant (CP-4)'!$I$15,AR42*R42),IF(C42=\"CP-5\",IF('Concrete Plant (CP-5)'!$I$15>0,'Concrete Plant (CP-5)'!$I$15,AR42*R42),IF(C42=\"CP-6\",IF('Concrete Plant (CP-6)'!$I$15>0,'Concrete Plant (CP-6)'!$I$15,AR42*R42),IF(C42=\"CP-7\",IF('Concrete Plant (CP-7)'!$I$15>0,'Concrete Plant (CP-7)'!$I$15,AR42*R42),IF(C42=\"CP-8\",IF('Concrete Plant (CP-8)'!$I$15>0,'Concrete Plant (CP-8)'!$I$15,AR42*R42),IF(C42=\"CP-9\",IF('Concrete Plant (CP-9)'!$I$15>0,'Concrete Plant (CP-9)'!$I$15,AR42*R42),IF(C42=\"CP-10\",IF('Concrete Plant (CP-10)'!$I$15>0,'Concrete Plant (CP-10)'!$I$15,AR42*R42))))))))))))","v":""},"","",{"$f":"IF(F42=\"\",\"\",IF(B42=\"no\",'Emission Factors'!$P$33,'Emission Factors'!$P$34))","v":""},"","","",{"$f":"IF(F42=\"\",\"\",IF(B42=\"no\",'Emission Factors'!$R$33,'Emission Factors'!$R$34))","v":""},"","",""]
[null,"no",null,null,null,null,null,null,null,null,0.5,null,null,null,null,null,null,"",null,"",null,0,"",{"$f":"IF(F43=\"\",\"\",IF(B43=\"no\",'Emission Factors'!$D$33,'Emission Factors'!$D$34))","v":""},"","","",{"$f":"IF(F43=\"\",\"\",IF(B43=\"no\",'Emission Factors'!$F$33,'Emission Factors'!$F$34))","v":""},"","","",{"$f":"IF(F43=\"\",\"\",IF(B43=\"no\",'Emission Factors'!$H$33,'Emission Factors'!$H$34))","v":""},{"$f":"IF(F43=\"\",\"\",IF(C43=\"CP-1\",IF('Concrete Plant (CP-1)'!$I$12>0,'Concrete Plant (CP-1)'!$I$12,AF43*R43*K43),IF(C43=\"CP-2\",IF('Concrete Plant (CP-2)'!$I$12>0,'Concrete Plant (CP-2)'!$I$12,AF43*R43*K43),IF(C43=\"CP-3\",IF('Concrete Plant (CP-3)'!$I$12>0,'Concrete Plant (CP-3)'!$I$12,AF43*R43*K43),IF(C43=\"CP-4\",IF('Concrete Plant (CP-4)'!$I$12>0,'Concrete Plant (CP-4)'!$I$12,AF43*R43*K43),IF(C43=\"CP-5\",IF('Concrete Plant (CP-5)'!$I$12>0,'Concrete Plant (CP-5)'!$I$12,AF43*R43*K43),IF(C43=\"CP-6\",IF('Concrete Plant (CP-6)'!$I$12>0,'Concrete Plant (CP-6)'!$I$12,AF43*R43*K43),IF(C43=\"CP-7\",IF('Concrete Plant (CP-7)'!$I$12>0,'Concrete Plant (CP-7)'!$I$12,AF43*R43*K43),IF(C43=\"CP-8\",IF('Concrete Plant (CP-8)'!$I$12>0,'Concrete Plant (CP-8)'!$I$12,AF43*R43*K43),IF(C43=\"CP-9\",IF('Concrete Plant (CP-9)'!$I$12>0,'Concrete Plant (CP-9)'!$I$12,AF43*R43*K43),IF(C43=\"CP-10\",IF('Concrete Plant (CP-10)'!$I$12>0,'Concrete Plant (CP-10)'!$I$12,AF43*R43*K43))))))))))))","v":""},"","",{"$f":"IF(F43=\"\",\"\",IF(B43=\"no\",'Emission Factors'!$J$33,'Emission Factors'!$J$34))","v":""},{"$f":"IF(F43=\"\",\"\",IF(C43=\"CP-1\",IF('Concrete Plant (CP-1)'!$I$13>0,'Concrete Plant (CP-1)'!$I$13,AJ43*R43),IF(C43=\"CP-2\",IF('Concrete Plant (CP-2)'!$I$13>0,'Concrete Plant (CP-2)'!$I$13,AJ43*R43),IF(C43=\"CP-3\",IF('Concrete Plant (CP-3)'!$I$13>0,'Concrete Plant (CP-3)'!$I$13,AJ43*R43),IF(C43=\"CP-4\",IF('Concrete Plant (CP-4)'!$I$13>0,'Concrete Plant (CP-4)'!$I$13,AJ43*R43),IF(C43=\"CP-5\",IF('Concrete Plant (CP-5)'!$I$13>0,'Concrete Plant (CP-5)'!$I$13,AJ43*R43),IF(C43=\"CP-6\",IF('Concrete Plant (CP-6)'!$I$13>0,'Concrete Plant (CP-6)'!$I$13,AJ43*R43),IF(C43=\"CP-7\",IF('Concrete Plant (CP-7)'!$I$13>0,'Concrete Plant (CP-7)'!$I$13,AJ43*R43),IF(C43=\"CP-8\",IF('Concrete Plant (CP-8)'!$I$13>0,'Concrete Plant (CP-8)'!$I$13,AJ43*R43),IF(C43=\"CP-9\",IF('Concrete Plant (CP-9)'!$I$13>0,'Concrete Plant (CP-9)'!$I$13,AJ43*R43),IF(C43=\"CP-10\",IF('Concrete Plant (CP-10)'!$I$13>0,'Concrete Plant (CP-10)'!$I$13,AJ43*R43))))))))))))","v":""},"","",{"$f":"IF(F43=\"\",\"\",IF(B43=\"no\",'Emission Factors'!$L$33,'Emission Factors'!$L$34))","v":""},{"$f":"IF(F43=\"\",\"\",IF(C43=\"CP-1\",IF('Concrete Plant (CP-1)'!$I$14>0,'Concrete Plant (CP-1)'!$I$14,AN43*R43),IF(C43=\"CP-2\",IF('Concrete Plant (CP-2)'!$I$14>0,'Concrete Plant (CP-2)'!$I$14,AN43*R43),IF(C43=\"CP-3\",IF('Concrete Plant (CP-3)'!$I$14>0,'Concrete Plant (CP-3)'!$I$14,AN43*R43),IF(C43=\"CP-4\",IF('Concrete Plant (CP-4)'!$I$14>0,'Concrete Plant (CP-4)'!$I$14,AN43*R43),IF(C43=\"CP-5\",IF('Concrete Plant (CP-5)'!$I$14>0,'Concrete Plant (CP-5)'!$I$14,AN43*R43),IF(C43=\"CP-6\",IF('Concrete Plant (CP-6)'!$I$14>0,'Concrete Plant (CP-6)'!$I$14,AN43*R43),IF(C43=\"CP-7\",IF('Concrete Plant (CP-7)'!$I$14>0,'Concrete Plant (CP-7)'!$I$14,AN43*R43),IF(C43=\"CP-8\",IF('Concrete Plant (CP-8)'!$I$14>0,'Concrete Plant (CP-8)'!$I$14,AN43*R43),IF(C43=\"CP-9\",IF('Concrete Plant (CP-9)'!$I$14>0,'Concrete Plant (CP-9)'!$I$14,AN43*R43),IF(C43=\"CP-10\",IF('Concrete Plant (CP-10)'!$I$14>0,'Concrete Plant (CP-10)'!$I$14,AN43*R43))))))))))))","v":""},"","",{"$f":"IF(F43=\"\",\"\",IF(B43=\"no\",'Emission Factors'!$N$33,'Emission Factors'!$N$34))","v":""},{"$f":"IF(F43=\"\",\"\",IF(C43=\"CP-1\",IF('Concrete Plant (CP-1)'!$I$15>0,'Concrete Plant (CP-1)'!$I$15,AR43*R43),IF(C43=\"CP-2\",IF('Concrete Plant (CP-2)'!$I$15>0,'Concrete Plant (CP-2)'!$I$15,AR43*R43),IF(C43=\"CP-3\",IF('Concrete Plant (CP-3)'!$I$15>0,'Concrete Plant (CP-3)'!$I$15,AR43*R43),IF(C43=\"CP-4\",IF('Concrete Plant (CP-4)'!$I$15>0,'Concrete Plant (CP-4)'!$I$15,AR43*R43),IF(C43=\"CP-5\",IF('Concrete Plant (CP-5)'!$I$15>0,'Concrete Plant (CP-5)'!$I$15,AR43*R43),IF(C43=\"CP-6\",IF('Concrete Plant (CP-6)'!$I$15>0,'Concrete Plant (CP-6)'!$I$15,AR43*R43),IF(C43=\"CP-7\",IF('Concrete Plant (CP-7)'!$I$15>0,'Concrete Plant (CP-7)'!$I$15,AR43*R43),IF(C43=\"CP-8\",IF('Concrete Plant (CP-8)'!$I$15>0,'Concrete Plant (CP-8)'!$I$15,AR43*R43),IF(C43=\"CP-9\",IF('Concrete Plant (CP-9)'!$I$15>0,'Concrete Plant (CP-9)'!$I$15,AR43*R43),IF(C43=\"CP-10\",IF('Concrete Plant (CP-10)'!$I$15>0,'Concrete Plant (CP-10)'!$I$15,AR43*R43))))))))))))","v":""},"","",{"$f":"IF(F43=\"\",\"\",IF(B43=\"no\",'Emission Factors'!$P$33,'Emission Factors'!$P$34))","v":""},"","","",{"$f":"IF(F43=\"\",\"\",IF(B43=\"no\",'Emission Factors'!$R$33,'Emission Factors'!$R$34))","v":""},"","",""]
[null,{"$f":"IF(F44=\"Diesel Generator> 600 bhp\",\"yes\",\"no\")","v":"no"},null,null,null,null,null,null,null,null,0.5,null,null,null,null,null,null,{"$f":"IF(Q44=\"\",\"\",Q44*0.14)","v":""},null,{"$f":"IF(S44=\"\",\"\",S44*0.14)","v":""},null,0,"",{"$f":"IF(F44=\"\",\"\",IF(B44=\"no\",'Emission Factors'!$D$33,'Emission Factors'!$D$34))","v":""},"","","",{"$f":"IF(F44=\"\",\"\",IF(B44=\"no\",'Emission Factors'!$F$33,'Emission Factors'!$F$34))","v":""},"","","",{"$f":"IF(F44=\"\",\"\",IF(B44=\"no\",'Emission Factors'!$H$33,'Emission Factors'!$H$34))","v":""},{"$f":"IF(F44=\"\",\"\",IF(C44=\"CP-1\",IF('Concrete Plant (CP-1)'!$I$12>0,'Concrete Plant (CP-1)'!$I$12,AF44*R44*K44),IF(C44=\"CP-2\",IF('Concrete Plant (CP-2)'!$I$12>0,'Concrete Plant (CP-2)'!$I$12,AF44*R44*K44),IF(C44=\"CP-3\",IF('Concrete Plant (CP-3)'!$I$12>0,'Concrete Plant (CP-3)'!$I$12,AF44*R44*K44),IF(C44=\"CP-4\",IF('Concrete Plant (CP-4)'!$I$12>0,'Concrete Plant (CP-4)'!$I$12,AF44*R44*K44),IF(C44=\"CP-5\",IF('Concrete Plant (CP-5)'!$I$12>0,'Concrete Plant (CP-5)'!$I$12,AF44*R44*K44),IF(C44=\"CP-6\",IF('Concrete Plant (CP-6)'!$I$12>0,'Concrete Plant (CP-6)'!$I$12,AF44*R44*K44),IF(C44=\"CP-7\",IF('Concrete Plant (CP-7)'!$I$12>0,'Concrete Plant (CP-7)'!$I$12,AF44*R44*K44),IF(C44=\"CP-8\",IF('Concrete Plant (CP-8)'!$I$12>0,'Concrete Plant (CP-8)'!$I$12,AF44*R44*K44),IF(C44=\"CP-9\",IF('Concrete Plant (CP-9)'!$I$12>0,'Concrete Plant (CP-9)'!$I$12,AF44*R44*K44),IF(C44=\"CP-10\",IF('Concrete Plant (CP-10)'!$I$12>0,'Concrete Plant (CP-10)'!$I$12,AF44*R44*K44))))))))))))","v":""},"","",{"$f":"IF(F44=\"\",\"\",IF(B44=\"no\",'Emission Factors'!$J$33,'Emission Factors'!$J$34))","v":""},{"$f":"IF(F44=\"\",\"\",IF(C44=\"CP-1\",IF('Concrete Plant (CP-1)'!$I$13>0,'Concrete Plant (CP-1)'!$I$13,AJ44*R44),IF(C44=\"CP-2\",IF('Concrete Plant (CP-2)'!$I$13>0,'Concrete Plant (CP-2)'!$I$13,AJ44*R44),IF(C44=\"CP-3\",IF('Concrete Plant (CP-3)'!$I$13>0,'Concrete Plant (CP-3)'!$I$13,AJ44*R44),IF(C44=\"CP-4\",IF('Concrete Plant (CP-4)'!$I$13>0,'Concrete Plant (CP-4)'!$I$13,AJ44*R44),IF(C44=\"CP-5\",IF('Concrete Plant (CP-5)'!$I$13>0,'Concrete Plant (CP-5)'!$I$13,AJ44*R44),IF(C44=\"CP-6\",IF('Concrete Plant (CP-6)'!$I$13>0,'Concrete Plant (CP-6)'!$I$13,AJ44*R44),IF(C44=\"CP-7\",IF('Concrete Plant (CP-7)'!$I$13>0,'Concrete Plant (CP-7)'!$I$13,AJ44*R44),IF(C44=\"CP-8\",IF('Concrete Plant (CP-8)'!$I$13>0,'Concrete Plant (CP-8)'!$I$13,AJ44*R44),IF(C44=\"CP-9\",IF('Concrete Plant (CP-9)'!$I$13>0,'Concrete Plant (CP-9)'!$I$13,AJ44*R44),IF(C44=\"CP-10\",IF('Concrete Plant (CP-10)'!$I$13>0,'Concrete Plant (CP-10)'!$I$13,AJ44*R44))))))))))))","v":""},"","",{"$f":"IF(F44=\"\",\"\",IF(B44=\"no\",'Emission Factors'!$L$33,'Emission Factors'!$L$34))","v":""},{"$f":"IF(F44=\"\",\"\",IF(C44=\"CP-1\",IF('Concrete Plant (CP-1)'!$I$14>0,'Concrete Plant (CP-1)'!$I$14,AN44*R44),IF(C44=\"CP-2\",IF('Concrete Plant (CP-2)'!$I$14>0,'Concrete Plant (CP-2)'!$I$14,AN44*R44),IF(C44=\"CP-3\",IF('Concrete Plant (CP-3)'!$I$14>0,'Concrete Plant (CP-3)'!$I$14,AN44*R44),IF(C44=\"CP-4\",IF('Concrete Plant (CP-4)'!$I$14>0,'Concrete Plant (CP-4)'!$I$14,AN44*R44),IF(C44=\"CP-5\",IF('Concrete Plant (CP-5)'!$I$14>0,'Concrete Plant (CP-5)'!$I$14,AN44*R44),IF(C44=\"CP-6\",IF('Concrete Plant (CP-6)'!$I$14>0,'Concrete Plant (CP-6)'!$I$14,AN44*R44),IF(C44=\"CP-7\",IF('Concrete Plant (CP-7)'!$I$14>0,'Concrete Plant (CP-7)'!$I$14,AN44*R44),IF(C44=\"CP-8\",IF('Concrete Plant (CP-8)'!$I$14>0,'Concrete Plant (CP-8)'!$I$14,AN44*R44),IF(C44=\"CP-9\",IF('Concrete Plant (CP-9)'!$I$14>0,'Concrete Plant (CP-9)'!$I$14,AN44*R44),IF(C44=\"CP-10\",IF('Concrete Plant (CP-10)'!$I$14>0,'Concrete Plant (CP-10)'!$I$14,AN44*R44))))))))))))","v":""},"","",{"$f":"IF(F44=\"\",\"\",IF(B44=\"no\",'Emission Factors'!$N$33,'Emission Factors'!$N$34))","v":""},{"$f":"IF(F44=\"\",\"\",IF(C44=\"CP-1\",IF('Concrete Plant (CP-1)'!$I$15>0,'Concrete Plant (CP-1)'!$I$15,AR44*R44),IF(C44=\"CP-2\",IF('Concrete Plant (CP-2)'!$I$15>0,'Concrete Plant (CP-2)'!$I$15,AR44*R44),IF(C44=\"CP-3\",IF('Concrete Plant (CP-3)'!$I$15>0,'Concrete Plant (CP-3)'!$I$15,AR44*R44),IF(C44=\"CP-4\",IF('Concrete Plant (CP-4)'!$I$15>0,'Concrete Plant (CP-4)'!$I$15,AR44*R44),IF(C44=\"CP-5\",IF('Concrete Plant (CP-5)'!$I$15>0,'Concrete Plant (CP-5)'!$I$15,AR44*R44),IF(C44=\"CP-6\",IF('Concrete Plant (CP-6)'!$I$15>0,'Concrete Plant (CP-6)'!$I$15,AR44*R44),IF(C44=\"CP-7\",IF('Concrete Plant (CP-7)'!$I$15>0,'Concrete Plant (CP-7)'!$I$15,AR44*R44),IF(C44=\"CP-8\",IF('Concrete Plant (CP-8)'!$I$15>0,'Concrete Plant (CP-8)'!$I$15,AR44*R44),IF(C44=\"CP-9\",IF('Concrete Plant (CP-9)'!$I$15>0,'Concrete Plant (CP-9)'!$I$15,AR44*R44),IF(C44=\"CP-10\",IF('Concrete Plant (CP-10)'!$I$15>0,'Concrete Plant (CP-10)'!$I$15,AR44*R44))))))))))))","v":""},"","",{"$f":"IF(F44=\"\",\"\",IF(B44=\"no\",'Emission Factors'!$P$33,'Emission Factors'!$P$34))","v":""},"","","",{"$f":"IF(F44=\"\",\"\",IF(B44=\"no\",'Emission Factors'!$R$33,'Emission Factors'!$R$34))","v":""},"","",""]
[null,{"$f":"IF(F45=\"Diesel Generator> 600 bhp\",\"yes\",\"no\")","v":"no"},null,null,null,null,null,null,null,null,0.5,null,null,null,null,null,null,{"$f":"IF(Q45=\"\",\"\",Q45*0.14)","v":""},null,{"$f":"IF(S45=\"\",\"\",S45*0.14)","v":""},null,0,"",{"$f":"IF(F45=\"\",\"\",IF(B45=\"no\",'Emission Factors'!$D$33,'Emission Factors'!$D$34))","v":""},"","","",{"$f":"IF(F45=\"\",\"\",IF(B45=\"no\",'Emission Factors'!$F$33,'Emission Factors'!$F$34))","v":""},"","","",{"$f":"IF(F45=\"\",\"\",IF(B45=\"no\",'Emission Factors'!$H$33,'Emission Factors'!$H$34))","v":""},{"$f":"IF(F45=\"\",\"\",IF(C45=\"CP-1\",IF('Concrete Plant (CP-1)'!$I$12>0,'Concrete Plant (CP-1)'!$I$12,AF45*R45*K45),IF(C45=\"CP-2\",IF('Concrete Plant (CP-2)'!$I$12>0,'Concrete Plant (CP-2)'!$I$12,AF45*R45*K45),IF(C45=\"CP-3\",IF('Concrete Plant (CP-3)'!$I$12>0,'Concrete Plant (CP-3)'!$I$12,AF45*R45*K45),IF(C45=\"CP-4\",IF('Concrete Plant (CP-4)'!$I$12>0,'Concrete Plant (CP-4)'!$I$12,AF45*R45*K45),IF(C45=\"CP-5\",IF('Concrete Plant (CP-5)'!$I$12>0,'Concrete Plant (CP-5)'!$I$12,AF45*R45*K45),IF(C45=\"CP-6\",IF('Concrete Plant (CP-6)'!$I$12>0,'Concrete Plant (CP-6)'!$I$12,AF45*R45*K45),IF(C45=\"CP-7\",IF('Concrete Plant (CP-7)'!$I$12>0,'Concrete Plant (CP-7)'!$I$12,AF45*R45*K45),IF(C45=\"CP-8\",IF('Concrete Plant (CP-8)'!$I$12>0,'Concrete Plant (CP-8)'!$I$12,AF45*R45*K45),IF(C45=\"CP-9\",IF('Concrete Plant (CP-9)'!$I$12>0,'Concrete Plant (CP-9)'!$I$12,AF45*R45*K45),IF(C45=\"CP-10\",IF('Concrete Plant (CP-10)'!$I$12>0,'Concrete Plant (CP-10)'!$I$12,AF45*R45*K45))))))))))))","v":""},"","",{"$f":"IF(F45=\"\",\"\",IF(B45=\"no\",'Emission Factors'!$J$33,'Emission Factors'!$J$34))","v":""},{"$f":"IF(F45=\"\",\"\",IF(C45=\"CP-1\",IF('Concrete Plant (CP-1)'!$I$13>0,'Concrete Plant (CP-1)'!$I$13,AJ45*R45),IF(C45=\"CP-2\",IF('Concrete Plant (CP-2)'!$I$13>0,'Concrete Plant (CP-2)'!$I$13,AJ45*R45),IF(C45=\"CP-3\",IF('Concrete Plant (CP-3)'!$I$13>0,'Concrete Plant (CP-3)'!$I$13,AJ45*R45),IF(C45=\"CP-4\",IF('Concrete Plant (CP-4)'!$I$13>0,'Concrete Plant (CP-4)'!$I$13,AJ45*R45),IF(C45=\"CP-5\",IF('Concrete Plant (CP-5)'!$I$13>0,'Concrete Plant (CP-5)'!$I$13,AJ45*R45),IF(C45=\"CP-6\",IF('Concrete Plant (CP-6)'!$I$13>0,'Concrete Plant (CP-6)'!$I$13,AJ45*R45),IF(C45=\"CP-7\",IF('Concrete Plant (CP-7)'!$I$13>0,'Concrete Plant (CP-7)'!$I$13,AJ45*R45),IF(C45=\"CP-8\",IF('Concrete Plant (CP-8)'!$I$13>0,'Concrete Plant (CP-8)'!$I$13,AJ45*R45),IF(C45=\"CP-9\",IF('Concrete Plant (CP-9)'!$I$13>0,'Concrete Plant (CP-9)'!$I$13,AJ45*R45),IF(C45=\"CP-10\",IF('Concrete Plant (CP-10)'!$I$13>0,'Concrete Plant (CP-10)'!$I$13,AJ45*R45))))))))))))","v":""},"","",{"$f":"IF(F45=\"\",\"\",IF(B45=\"no\",'Emission Factors'!$L$33,'Emission Factors'!$L$34))","v":""},{"$f":"IF(F45=\"\",\"\",IF(C45=\"CP-1\",IF('Concrete Plant (CP-1)'!$I$14>0,'Concrete Plant (CP-1)'!$I$14,AN45*R45),IF(C45=\"CP-2\",IF('Concrete Plant (CP-2)'!$I$14>0,'Concrete Plant (CP-2)'!$I$14,AN45*R45),IF(C45=\"CP-3\",IF('Concrete Plant (CP-3)'!$I$14>0,'Concrete Plant (CP-3)'!$I$14,AN45*R45),IF(C45=\"CP-4\",IF('Concrete Plant (CP-4)'!$I$14>0,'Concrete Plant (CP-4)'!$I$14,AN45*R45),IF(C45=\"CP-5\",IF('Concrete Plant (CP-5)'!$I$14>0,'Concrete Plant (CP-5)'!$I$14,AN45*R45),IF(C45=\"CP-6\",IF('Concrete Plant (CP-6)'!$I$14>0,'Concrete Plant (CP-6)'!$I$14,AN45*R45),IF(C45=\"CP-7\",IF('Concrete Plant (CP-7)'!$I$14>0,'Concrete Plant (CP-7)'!$I$14,AN45*R45),IF(C45=\"CP-8\",IF('Concrete Plant (CP-8)'!$I$14>0,'Concrete Plant (CP-8)'!$I$14,AN45*R45),IF(C45=\"CP-9\",IF('Concrete Plant (CP-9)'!$I$14>0,'Concrete Plant (CP-9)'!$I$14,AN45*R45),IF(C45=\"CP-10\",IF('Concrete Plant (CP-10)'!$I$14>0,'Concrete Plant (CP-10)'!$I$14,AN45*R45))))))))))))","v":""},"","",{"$f":"IF(F45=\"\",\"\",IF(B45=\"no\",'Emission Factors'!$N$33,'Emission Factors'!$N$34))","v":""},{"$f":"IF(F45=\"\",\"\",IF(C45=\"CP-1\",IF('Concrete Plant (CP-1)'!$I$15>0,'Concrete Plant (CP-1)'!$I$15,AR45*R45),IF(C45=\"CP-2\",IF('Concrete Plant (CP-2)'!$I$15>0,'Concrete Plant (CP-2)'!$I$15,AR45*R45),IF(C45=\"CP-3\",IF('Concrete Plant (CP-3)'!$I$15>0,'Concrete Plant (CP-3)'!$I$15,AR45*R45),IF(C45=\"CP-4\",IF('Concrete Plant (CP-4)'!$I$15>0,'Concrete Plant (CP-4)'!$I$15,AR45*R45),IF(C45=\"CP-5\",IF('Concrete Plant (CP-5)'!$I$15>0,'Concrete Plant (CP-5)'!$I$15,AR45*R45),IF(C45=\"CP-6\",IF('Concrete Plant (CP-6)'!$I$15>0,'Concrete Plant (CP-6)'!$I$15,AR45*R45),IF(C45=\"CP-7\",IF('Concrete Plant (CP-7)'!$I$15>0,'Concrete Plant (CP-7)'!$I$15,AR45*R45),IF(C45=\"CP-8\",IF('Concrete Plant (CP-8)'!$I$15>0,'Concrete Plant (CP-8)'!$I$15,AR45*R45),IF(C45=\"CP-9\",IF('Concrete Plant (CP-9)'!$I$15>0,'Concrete Plant (CP-9)'!$I$15,AR45*R45),IF(C45=\"CP-10\",IF('Concrete Plant (CP-10)'!$I$15>0,'Concrete Plant (CP-10)'!$I$15,AR45*R45))))))))))))","v":""},"","",{"$f":"IF(F45=\"\",\"\",IF(B45=\"no\",'Emission Factors'!$P$33,'Emission Factors'!$P$34))","v":""},"","","",{"$f":"IF(F45=\"\",\"\",IF(B45=\"no\",'Emission Factors'!$R$33,'Emission Factors'!$R$34))","v":""},"","",""]
[null,{"$f":"IF(F46=\"Diesel Generator> 600 bhp\",\"yes\",\"no\")","v":"no"},null,null,null,null,null,null,null,null,0.5,null,null,null,null,null,null,{"$f":"IF(Q46=\"\",\"\",Q46*0.14)","v":""},null,{"$f":"IF(S46=\"\",\"\",S46*0.14)","v":""},null,0,"",{"$f":"IF(F46=\"\",\"\",IF(B46=\"no\",'Emission Factors'!$D$33,'Emission Factors'!$D$34))","v":""},"","","",{"$f":"IF(F46=\"\",\"\",IF(B46=\"no\",'Emission Factors'!$F$33,'Emission Factors'!$F$34))","v":""},"","","",{"$f":"IF(F46=\"\",\"\",IF(B46=\"no\",'Emission Factors'!$H$33,'Emission Factors'!$H$34))","v":""},{"$f":"IF(F46=\"\",\"\",IF(C46=\"CP-1\",IF('Concrete Plant (CP-1)'!$I$12>0,'Concrete Plant (CP-1)'!$I$12,AF46*R46*K46),IF(C46=\"CP-2\",IF('Concrete Plant (CP-2)'!$I$12>0,'Concrete Plant (CP-2)'!$I$12,AF46*R46*K46),IF(C46=\"CP-3\",IF('Concrete Plant (CP-3)'!$I$12>0,'Concrete Plant (CP-3)'!$I$12,AF46*R46*K46),IF(C46=\"CP-4\",IF('Concrete Plant (CP-4)'!$I$12>0,'Concrete Plant (CP-4)'!$I$12,AF46*R46*K46),IF(C46=\"CP-5\",IF('Concrete Plant (CP-5)'!$I$12>0,'Concrete Plant (CP-5)'!$I$12,AF46*R46*K46),IF(C46=\"CP-6\",IF('Concrete Plant (CP-6)'!$I$12>0,'Concrete Plant (CP-6)'!$I$12,AF46*R46*K46),IF(C46=\"CP-7\",IF('Concrete Plant (CP-7)'!$I$12>0,'Concrete Plant (CP-7)'!$I$12,AF46*R46*K46),IF(C46=\"CP-8\",IF('Concrete Plant (CP-8)'!$I$12>0,'Concrete Plant (CP-8)'!$I$12,AF46*R46*K46),IF(C46=\"CP-9\",IF('Concrete Plant (CP-9)'!$I$12>0,'Concrete Plant (CP-9)'!$I$12,AF46*R46*K46),IF(C46=\"CP-10\",IF('Concrete Plant (CP-10)'!$I$12>0,'Concrete Plant (CP-10)'!$I$12,AF46*R46*K46))))))))))))","v":""},"","",{"$f":"IF(F46=\"\",\"\",IF(B46=\"no\",'Emission Factors'!$J$33,'Emission Factors'!$J$34))","v":""},{"$f":"IF(F46=\"\",\"\",IF(C46=\"CP-1\",IF('Concrete Plant (CP-1)'!$I$13>0,'Concrete Plant (CP-1)'!$I$13,AJ46*R46),IF(C46=\"CP-2\",IF('Concrete Plant (CP-2)'!$I$13>0,'Concrete Plant (CP-2)'!$I$13,AJ46*R46),IF(C46=\"CP-3\",IF('Concrete Plant (CP-3)'!$I$13>0,'Concrete Plant (CP-3)'!$I$13,AJ46*R46),IF(C46=\"CP-4\",IF('Concrete Plant (CP-4)'!$I$13>0,'Concrete Plant (CP-4)'!$I$13,AJ46*R46),IF(C46=\"CP-5\",IF('Concrete Plant (CP-5)'!$I$13>0,'Concrete Plant (CP-5)'!$I$13,AJ46*R46),IF(C46=\"CP-6\",IF('Concrete Plant (CP-6)'!$I$13>0,'Concrete Plant (CP-6)'!$I$13,AJ46*R46),IF(C46=\"CP-7\",IF('Concrete Plant (CP-7)'!$I$13>0,'Concrete Plant (CP-7)'!$I$13,AJ46*R46),IF(C46=\"CP-8\",IF('Concrete Plant (CP-8)'!$I$13>0,'Concrete Plant (CP-8)'!$I$13,AJ46*R46),IF(C46=\"CP-9\",IF('Concrete Plant (CP-9)'!$I$13>0,'Concrete Plant (CP-9)'!$I$13,AJ46*R46),IF(C46=\"CP-10\",IF('Concrete Plant (CP-10)'!$I$13>0,'Concrete Plant (CP-10)'!$I$13,AJ46*R46))))))))))))","v":""},"","",{"$f":"IF(F46=\"\",\"\",IF(B46=\"no\",'Emission Factors'!$L$33,'Emission Factors'!$L$34))","v":""},{"$f":"IF(F46=\"\",\"\",IF(C46=\"CP-1\",IF('Concrete Plant (CP-1)'!$I$14>0,'Concrete Plant (CP-1)'!$I$14,AN46*R46),IF(C46=\"CP-2\",IF('Concrete Plant (CP-2)'!$I$14>0,'Concrete Plant (CP-2)'!$I$14,AN46*R46),IF(C46=\"CP-3\",IF('Concrete Plant (CP-3)'!$I$14>0,'Concrete Plant (CP-3)'!$I$14,AN46*R46),IF(C46=\"CP-4\",IF('Concrete Plant (CP-4)'!$I$14>0,'Concrete Plant (CP-4)'!$I$14,AN46*R46),IF(C46=\"CP-5\",IF('Concrete Plant (CP-5)'!$I$14>0,'Concrete Plant (CP-5)'!$I$14,AN46*R46),IF(C46=\"CP-6\",IF('Concrete Plant (CP-6)'!$I$14>0,'Concrete Plant (CP-6)'!$I$14,AN46*R46),IF(C46=\"CP-7\",IF('Concrete Plant (CP-7)'!$I$14>0,'Concrete Plant (CP-7)'!$I$14,AN46*R46),IF(C46=\"CP-8\",IF('Concrete Plant (CP-8)'!$I$14>0,'Concrete Plant (CP-8)'!$I$14,AN46*R46),IF(C46=\"CP-9\",IF('Concrete Plant (CP-9)'!$I$14>0,'Concrete Plant (CP-9)'!$I$14,AN46*R46),IF(C46=\"CP-10\",IF('Concrete Plant (CP-10)'!$I$14>0,'Concrete Plant (CP-10)'!$I$14,AN46*R46))))))))))))","v":""},"","",{"$f":"IF(F46=\"\",\"\",IF(B46=\"no\",'Emission Factors'!$N$33,'Emission Factors'!$N$34))","v":""},{"$f":"IF(F46=\"\",\"\",IF(C46=\"CP-1\",IF('Concrete Plant (CP-1)'!$I$15>0,'Concrete Plant (CP-1)'!$I$15,AR46*R46),IF(C46=\"CP-2\",IF('Concrete Plant (CP-2)'!$I$15>0,'Concrete Plant (CP-2)'!$I$15,AR46*R46),IF(C46=\"CP-3\",IF('Concrete Plant (CP-3)'!$I$15>0,'Concrete Plant (CP-3)'!$I$15,AR46*R46),IF(C46=\"CP-4\",IF('Concrete Plant (CP-4)'!$I$15>0,'Concrete Plant (CP-4)'!$I$15,AR46*R46),IF(C46=\"CP-5\",IF('Concrete Plant (CP-5)'!$I$15>0,'Concrete Plant (CP-5)'!$I$15,AR46*R46),IF(C46=\"CP-6\",IF('Concrete Plant (CP-6)'!$I$15>0,'Concrete Plant (CP-6)'!$I$15,AR46*R46),IF(C46=\"CP-7\",IF('Concrete Plant (CP-7)'!$I$15>0,'Concrete Plant (CP-7)'!$I$15,AR46*R46),IF(C46=\"CP-8\",IF('Concrete Plant (CP-8)'!$I$15>0,'Concrete Plant (CP-8)'!$I$15,AR46*R46),IF(C46=\"CP-9\",IF('Concrete Plant (CP-9)'!$I$15>0,'Concrete Plant (CP-9)'!$I$15,AR46*R46),IF(C46=\"CP-10\",IF('Concrete Plant (CP-10)'!$I$15>0,'Concrete Plant (CP-10)'!$I$15,AR46*R46))))))))))))","v":""},"","",{"$f":"IF(F46=\"\",\"\",IF(B46=\"no\",'Emission Factors'!$P$33,'Emission Factors'!$P$34))","v":""},"","","",{"$f":"IF(F46=\"\",\"\",IF(B46=\"no\",'Emission Factors'!$R$33,'Emission Factors'!$R$34))","v":""},"","",""]
[null,{"$f":"IF(F47=\"Diesel Generator> 600 bhp\",\"yes\",\"no\")","v":"no"},null,null,null,null,null,null,null,null,0.5,null,null,null,null,null,null,{"$f":"IF(Q47=\"\",\"\",Q47*0.14)","v":""},null,{"$f":"IF(S47=\"\",\"\",S47*0.14)","v":""},null,0,"",{"$f":"IF(F47=\"\",\"\",IF(B47=\"no\",'Emission Factors'!$D$33,'Emission Factors'!$D$34))","v":""},"","","",{"$f":"IF(F47=\"\",\"\",IF(B47=\"no\",'Emission Factors'!$F$33,'Emission Factors'!$F$34))","v":""},"","","",{"$f":"IF(F47=\"\",\"\",IF(B47=\"no\",'Emission Factors'!$H$33,'Emission Factors'!$H$34))","v":""},{"$f":"IF(F47=\"\",\"\",IF(C47=\"CP-1\",IF('Concrete Plant (CP-1)'!$I$12>0,'Concrete Plant (CP-1)'!$I$12,AF47*R47*K47),IF(C47=\"CP-2\",IF('Concrete Plant (CP-2)'!$I$12>0,'Concrete Plant (CP-2)'!$I$12,AF47*R47*K47),IF(C47=\"CP-3\",IF('Concrete Plant (CP-3)'!$I$12>0,'Concrete Plant (CP-3)'!$I$12,AF47*R47*K47),IF(C47=\"CP-4\",IF('Concrete Plant (CP-4)'!$I$12>0,'Concrete Plant (CP-4)'!$I$12,AF47*R47*K47),IF(C47=\"CP-5\",IF('Concrete Plant (CP-5)'!$I$12>0,'Concrete Plant (CP-5)'!$I$12,AF47*R47*K47),IF(C47=\"CP-6\",IF('Concrete Plant (CP-6)'!$I$12>0,'Concrete Plant (CP-6)'!$I$12,AF47*R47*K47),IF(C47=\"CP-7\",IF('Concrete Plant (CP-7)'!$I$12>0,'Concrete Plant (CP-7)'!$I$12,AF47*R47*K47),IF(C47=\"CP-8\",IF('Concrete Plant (CP-8)'!$I$12>0,'Concrete Plant (CP-8)'!$I$12,AF47*R47*K47),IF(C47=\"CP-9\",IF('Concrete Plant (CP-9)'!$I$12>0,'Concrete Plant (CP-9)'!$I$12,AF47*R47*K47),IF(C47=\"CP-10\",IF('Concrete Plant (CP-10)'!$I$12>0,'Concrete Plant (CP-10)'!$I$12,AF47*R47*K47))))))))))))","v":""},"","",{"$f":"IF(F47=\"\",\"\",IF(B47=\"no\",'Emission Factors'!$J$33,'Emission Factors'!$J$34))","v":""},{"$f":"IF(F47=\"\",\"\",IF(C47=\"CP-1\",IF('Concrete Plant (CP-1)'!$I$13>0,'Concrete Plant (CP-1)'!$I$13,AJ47*R47),IF(C47=\"CP-2\",IF('Concrete Plant (CP-2)'!$I$13>0,'Concrete Plant (CP-2)'!$I$13,AJ47*R47),IF(C47=\"CP-3\",IF('Concrete Plant (CP-3)'!$I$13>0,'Concrete Plant (CP-3)'!$I$13,AJ47*R47),IF(C47=\"CP-4\",IF('Concrete Plant (CP-4)'!$I$13>0,'Concrete Plant (CP-4)'!$I$13,AJ47*R47),IF(C47=\"CP-5\",IF('Concrete Plant (CP-5)'!$I$13>0,'Concrete Plant (CP-5)'!$I$13,AJ47*R47),IF(C47=\"CP-6\",IF('Concrete Plant (CP-6)'!$I$13>0,'Concrete Plant (CP-6)'!$I$13,AJ47*R47),IF(C47=\"CP-7\",IF('Concrete Plant (CP-7)'!$I$13>0,'Concrete Plant (CP-7)'!$I$13,AJ47*R47),IF(C47=\"CP-8\",IF('Concrete Plant (CP-8)'!$I$13>0,'Concrete Plant (CP-8)'!$I$13,AJ47*R47),IF(C47=\"CP-9\",IF('Concrete Plant (CP-9)'!$I$13>0,'Concrete Plant (CP-9)'!$I$13,AJ47*R47),IF(C47=\"CP-10\",IF('Concrete Plant (CP-10)'!$I$13>0,'Concrete Plant (CP-10)'!$I$13,AJ47*R47))))))))))))","v":""},"","",{"$f":"IF(F47=\"\",\"\",IF(B47=\"no\",'Emission Factors'!$L$33,'Emission Factors'!$L$34))","v":""},{"$f":"IF(F47=\"\",\"\",IF(C47=\"CP-1\",IF('Concrete Plant (CP-1)'!$I$14>0,'Concrete Plant (CP-1)'!$I$14,AN47*R47),IF(C47=\"CP-2\",IF('Concrete Plant (CP-2)'!$I$14>0,'Concrete Plant (CP-2)'!$I$14,AN47*R47),IF(C47=\"CP-3\",IF('Concrete Plant (CP-3)'!$I$14>0,'Concrete Plant (CP-3)'!$I$14,AN47*R47),IF(C47=\"CP-4\",IF('Concrete Plant (CP-4)'!$I$14>0,'Concrete Plant (CP-4)'!$I$14,AN47*R47),IF(C47=\"CP-5\",IF('Concrete Plant (CP-5)'!$I$14>0,'Concrete Plant (CP-5)'!$I$14,AN47*R47),IF(C47=\"CP-6\",IF('Concrete Plant (CP-6)'!$I$14>0,'Concrete Plant (CP-6)'!$I$14,AN47*R47),IF(C47=\"CP-7\",IF('Concrete Plant (CP-7)'!$I$14>0,'Concrete Plant (CP-7)'!$I$14,AN47*R47),IF(C47=\"CP-8\",IF('Concrete Plant (CP-8)'!$I$14>0,'Concrete Plant (CP-8)'!$I$14,AN47*R47),IF(C47=\"CP-9\",IF('Concrete Plant (CP-9)'!$I$14>0,'Concrete Plant (CP-9)'!$I$14,AN47*R47),IF(C47=\"CP-10\",IF('Concrete Plant (CP-10)'!$I$14>0,'Concrete Plant (CP-10)'!$I$14,AN47*R47))))))))))))","v":""},"","",{"$f":"IF(F47=\"\",\"\",IF(B47=\"no\",'Emission Factors'!$N$33,'Emission Factors'!$N$34))","v":""},{"$f":"IF(F47=\"\",\"\",IF(C47=\"CP-1\",IF('Concrete Plant (CP-1)'!$I$15>0,'Concrete Plant (CP-1)'!$I$15,AR47*R47),IF(C47=\"CP-2\",IF('Concrete Plant (CP-2)'!$I$15>0,'Concrete Plant (CP-2)'!$I$15,AR47*R47),IF(C47=\"CP-3\",IF('Concrete Plant (CP-3)'!$I$15>0,'Concrete Plant (CP-3)'!$I$15,AR47*R47),IF(C47=\"CP-4\",IF('Concrete Plant (CP-4)'!$I$15>0,'Concrete Plant (CP-4)'!$I$15,AR47*R47),IF(C47=\"CP-5\",IF('Concrete Plant (CP-5)'!$I$15>0,'Concrete Plant (CP-5)'!$I$15,AR47*R47),IF(C47=\"CP-6\",IF('Concrete Plant (CP-6)'!$I$15>0,'Concrete Plant (CP-6)'!$I$15,AR47*R47),IF(C47=\"CP-7\",IF('Concrete Plant (CP-7)'!$I$15>0,'Concrete Plant (CP-7)'!$I$15,AR47*R47),IF(C47=\"CP-8\",IF('Concrete Plant (CP-8)'!$I$15>0,'Concrete Plant (CP-8)'!$I$15,AR47*R47),IF(C47=\"CP-9\",IF('Concrete Plant (CP-9)'!$I$15>0,'Concrete Plant (CP-9)'!$I$15,AR47*R47),IF(C47=\"CP-10\",IF('Concrete Plant (CP-10)'!$I$15>0,'Concrete Plant (CP-10)'!$I$15,AR47*R47))))))))))))","v":""},"","",{"$f":"IF(F47=\"\",\"\",IF(B47=\"no\",'Emission Factors'!$P$33,'Emission Factors'!$P$34))","v":""},"","","",{"$f":"IF(F47=\"\",\"\",IF(B47=\"no\",'Emission Factors'!$R$33,'Emission Factors'!$R$34))","v":""},"","",""]
[null,{"$f":"IF(F48=\"Diesel Generator> 600 bhp\",\"yes\",\"no\")","v":"no"},null,null,null,null,null,null,null,null,0.5,null,null,null,null,null,null,{"$f":"IF(Q48=\"\",\"\",Q48*0.14)","v":""},null,{"$f":"IF(S48=\"\",\"\",S48*0.14)","v":""},null,0,"",{"$f":"IF(F48=\"\",\"\",IF(B48=\"no\",'Emission Factors'!$D$33,'Emission Factors'!$D$34))","v":""},"","","",{"$f":"IF(F48=\"\",\"\",IF(B48=\"no\",'Emission Factors'!$F$33,'Emission Factors'!$F$34))","v":""},"","","",{"$f":"IF(F48=\"\",\"\",IF(B48=\"no\",'Emission Factors'!$H$33,'Emission Factors'!$H$34))","v":""},{"$f":"IF(F48=\"\",\"\",IF(C48=\"CP-1\",IF('Concrete Plant (CP-1)'!$I$12>0,'Concrete Plant (CP-1)'!$I$12,AF48*R48*K48),IF(C48=\"CP-2\",IF('Concrete Plant (CP-2)'!$I$12>0,'Concrete Plant (CP-2)'!$I$12,AF48*R48*K48),IF(C48=\"CP-3\",IF('Concrete Plant (CP-3)'!$I$12>0,'Concrete Plant (CP-3)'!$I$12,AF48*R48*K48),IF(C48=\"CP-4\",IF('Concrete Plant (CP-4)'!$I$12>0,'Concrete Plant (CP-4)'!$I$12,AF48*R48*K48),IF(C48=\"CP-5\",IF('Concrete Plant (CP-5)'!$I$12>0,'Concrete Plant (CP-5)'!$I$12,AF48*R48*K48),IF(C48=\"CP-6\",IF('Concrete Plant (CP-6)'!$I$12>0,'Concrete Plant (CP-6)'!$I$12,AF48*R48*K48),IF(C48=\"CP-7\",IF('Concrete Plant (CP-7)'!$I$12>0,'Concrete Plant (CP-7)'!$I$12,AF48*R48*K48),IF(C48=\"CP-8\",IF('Concrete Plant (CP-8)'!$I$12>0,'Concrete Plant (CP-8)'!$I$12,AF48*R48*K48),IF(C48=\"CP-9\",IF('Concrete Plant (CP-9)'!$I$12>0,'Concrete Plant (CP-9)'!$I$12,AF48*R48*K48),IF(C48=\"CP-10\",IF('Concrete Plant (CP-10)'!$I$12>0,'Concrete Plant (CP-10)'!$I$12,AF48*R48*K48))))))))))))","v":""},"","",{"$f":"IF(F48=\"\",\"\",IF(B48=\"no\",'Emission Factors'!$J$33,'Emission Factors'!$J$34))","v":""},{"$f":"IF(F48=\"\",\"\",IF(C48=\"CP-1\",IF('Concrete Plant (CP-1)'!$I$13>0,'Concrete Plant (CP-1)'!$I$13,AJ48*R48),IF(C48=\"CP-2\",IF('Concrete Plant (CP-2)'!$I$13>0,'Concrete Plant (CP-2)'!$I$13,AJ48*R48),IF(C48=\"CP-3\",IF('Concrete Plant (CP-3)'!$I$13>0,'Concrete Plant (CP-3)'!$I$13,AJ48*R48),IF(C48=\"CP-4\",IF('Concrete Plant (CP-4)'!$I$13>0,'Concrete Plant (CP-4)'!$I$13,AJ48*R48),IF(C48=\"CP-5\",IF('Concrete Plant (CP-5)'!$I$13>0,'Concrete Plant (CP-5)'!$I$13,AJ48*R48),IF(C48=\"CP-6\",IF('Concrete Plant (CP-6)'!$I$13>0,'Concrete Plant (CP-6)'!$I$13,AJ48*R48),IF(C48=\"CP-7\",IF('Concrete Plant (CP-7)'!$I$13>0,'Concrete Plant (CP-7)'!$I$13,AJ48*R48),IF(C48=\"CP-8\",IF('Concrete Plant (CP-8)'!$I$13>0,'Concrete Plant (CP-8)'!$I$13,AJ48*R48),IF(C48=\"CP-9\",IF('Concrete Plant (CP-9)'!$I$13>0,'Concrete Plant (CP-9)'!$I$13,AJ48*R48),IF(C48=\"CP-10\",IF('Concrete Plant (CP-10)'!$I$13>0,'Concrete Plant (CP-10)'!$I$13,AJ48*R48))))))))))))","v":""},"","",{"$f":"IF(F48=\"\",\"\",IF(B48=\"no\",'Emission Factors'!$L$33,'Emission Factors'!$L$34))","v":""},{"$f":"IF(F48=\"\",\"\",IF(C48=\"CP-1\",IF('Concrete Plant (CP-1)'!$I$14>0,'Concrete Plant (CP-1)'!$I$14,AN48*R48),IF(C48=\"CP-2\",IF('Concrete Plant (CP-2)'!$I$14>0,'Concrete Plant (CP-2)'!$I$14,AN48*R48),IF(C48=\"CP-3\",IF('Concrete Plant (CP-3)'!$I$14>0,'Concrete Plant (CP-3)'!$I$14,AN48*R48),IF(C48=\"CP-4\",IF('Concrete Plant (CP-4)'!$I$14>0,'Concrete Plant (CP-4)'!$I$14,AN48*R48),IF(C48=\"CP-5\",IF('Concrete Plant (CP-5)'!$I$14>0,'Concrete Plant (CP-5)'!$I$14,AN48*R48),IF(C48=\"CP-6\",IF('Concrete Plant (CP-6)'!$I$14>0,'Concrete Plant (CP-6)'!$I$14,AN48*R48),IF(C48=\"CP-7\",IF('Concrete Plant (CP-7)'!$I$14>0,'Concrete Plant (CP-7)'!$I$14,AN48*R48),IF(C48=\"CP-8\",IF('Concrete Plant (CP-8)'!$I$14>0,'Concrete Plant (CP-8)'!$I$14,AN48*R48),IF(C48=\"CP-9\",IF('Concrete Plant (CP-9)'!$I$14>0,'Concrete Plant (CP-9)'!$I$14,AN48*R48),IF(C48=\"CP-10\",IF('Concrete Plant (CP-10)'!$I$14>0,'Concrete Plant (CP-10)'!$I$14,AN48*R48))))))))))))","v":""},"","",{"$f":"IF(F48=\"\",\"\",IF(B48=\"no\",'Emission Factors'!$N$33,'Emission Factors'!$N$34))","v":""},{"$f":"IF(F48=\"\",\"\",IF(C48=\"CP-1\",IF('Concrete Plant (CP-1)'!$I$15>0,'Concrete Plant (CP-1)'!$I$15,AR48*R48),IF(C48=\"CP-2\",IF('Concrete Plant (CP-2)'!$I$15>0,'Concrete Plant (CP-2)'!$I$15,AR48*R48),IF(C48=\"CP-3\",IF('Concrete Plant (CP-3)'!$I$15>0,'Concrete Plant (CP-3)'!$I$15,AR48*R48),IF(C48=\"CP-4\",IF('Concrete Plant (CP-4)'!$I$15>0,'Concrete Plant (CP-4)'!$I$15,AR48*R48),IF(C48=\"CP-5\",IF('Concrete Plant (CP-5)'!$I$15>0,'Concrete Plant (CP-5)'!$I$15,AR48*R48),IF(C48=\"CP-6\",IF('Concrete Plant (CP-6)'!$I$15>0,'Concrete Plant (CP-6)'!$I$15,AR48*R48),IF(C48=\"CP-7\",IF('Concrete Plant (CP-7)'!$I$15>0,'Concrete Plant (CP-7)'!$I$15,AR48*R48),IF(C48=\"CP-8\",IF('Concrete Plant (CP-8)'!$I$15>0,'Concrete Plant (CP-8)'!$I$15,AR48*R48),IF(C48=\"CP-9\",IF('Concrete Plant (CP-9)'!$I$15>0,'Concrete Plant (CP-9)'!$I$15,AR48*R48),IF(C48=\"CP-10\",IF('Concrete Plant (CP-10)'!$I$15>0,'Concrete Plant (CP-10)'!$I$15,AR48*R48))))))))))))","v":""},"",null,{"$f":"IF(F48=\"\",\"\",IF(B48=\"no\",'Emission Factors'!$P$33,'Emission Factors'!$P$34))","v":""},"","","",{"$f":"IF(F48=\"\",\"\",IF(B48=\"no\",'Emission Factors'!$R$33,'Emission Factors'!$R$34))","v":""},"","",""]
[null,null,null,null,null,null,null,null,null,null,null,null,null,null,null,"Total Combined for all Generators ≤ 600 BHP:",{"$f":"SUM(IF($B$7=\"no\",Q7),IF($B$8=\"no\",Q8),IF($B$9=\"no\",Q9),IF($B$10=\"no\",Q10),IF($B$11=\"no\",Q11),IF($B$12=\"no\",Q12),IF($B$13=\"no\",Q13),IF($B$14=\"no\",Q14),IF($B$15=\"no\",Q15),IF($B$16=\"no\",Q16),IF($B$17=\"no\",Q17),IF($B$18=\"no\",Q18),IF($B$19=\"no\",Q19),IF($B$20=\"no\",Q20),IF($B$21=\"no\",Q21),IF($B$22=\"no\",Q22),IF($B$23=\"no\",Q23),IF($B$24=\"no\",Q24),IF($B$25=\"no\",Q25),IF($B$26=\"no\",Q26),IF($B$27=\"no\",Q27),IF($B$28=\"no\",Q28),IF($B$29=\"no\",Q29),IF($B$30=\"no\",Q30),IF($B$31=\"no\",Q31),IF($B$32=\"no\",Q32),IF($B$33=\"no\",Q33),IF($B$34=\"no\",Q34),IF($B$35=\"no\",Q35),IF($B$36=\"no\",Q36),IF($B$37=\"no\",Q37),IF($B$38=\"no\",Q38),IF($B$39=\"no\",Q39),IF($B$40=\"no\",Q40),IF($B$41=\"no\",Q41),IF($B$42=\"no\",Q42),IF($B$43=\"no\",Q43),IF($B$44=\"no\",Q44),IF($B$45=\"no\",Q45),IF($B$46=\"no\",Q46),IF($B$47=\"no\",Q47),IF($B$48=\"no\",Q48))","v":0},{"$f":"SUM(IF($B$7=\"no\",R7),IF($B$8=\"no\",R8),IF($B$9=\"no\",R9),IF($B$10=\"no\",R10),IF($B$11=\"no\",R11),IF($B$12=\"no\",R12),IF($B$13=\"no\",R13),IF($B$14=\"no\",R14),IF($B$15=\"no\",R15),IF($B$16=\"no\",R16),IF($B$17=\"no\",R17),IF($B$18=\"no\",R18),IF($B$19=\"no\",R19),IF($B$20=\"no\",R20),IF($B$21=\"no\",R21),IF($B$22=\"no\",R22),IF($B$23=\"no\",R23),IF($B$24=\"no\",R24),IF($B$25=\"no\",R25),IF($B$26=\"no\",R26),IF($B$27=\"no\",R27),IF($B$28=\"no\",R28),IF($B$29=\"no\",R29),IF($B$30=\"no\",R30),IF($B$31=\"no\",R31),IF($B$32=\"no\",R32),IF($B$33=\"no\",R33),IF($B$34=\"no\",R34),IF($B$35=\"no\",R35),IF($B$36=\"no\",R36),IF($B$37=\"no\",R37),IF($B$38=\"no\",R38),IF($B$39=\"no\",R39),IF($B$40=\"no\",R40),IF($B$41=\"no\",R41),IF($B$42=\"no\",R42),IF($B$43=\"no\",R43),IF($B$44=\"no\",R44),IF($B$45=\"no\",R45),IF($B$46=\"no\",R46),IF($B$47=\"no\",R47),IF($B$48=\"no\",R48))","v":0},{"$f":"SUM(IF($B$7=\"no\",S7),IF($B$8=\"no\",S8),IF($B$9=\"no\",S9),IF($B$10=\"no\",S10),IF($B$11=\"no\",S11),IF($B$12=\"no\",S12),IF($B$13=\"no\",S13),IF($B$14=\"no\",S14),IF($B$15=\"no\",S15),IF($B$16=\"no\",S16),IF($B$17=\"no\",S17),IF($B$18=\"no\",S18),IF($B$19=\"no\",S19),IF($B$20=\"no\",S20),IF($B$21=\"no\",S21),IF($B$22=\"no\",S22),IF($B$23=\"no\",S23),IF($B$24=\"no\",S24),IF($B$25=\"no\",S25),IF($B$26=\"no\",S26),IF($B$27=\"no\",S27),IF($B$28=\"no\",S28),IF($B$29=\"no\",S29),IF($B$30=\"no\",S30),IF($B$31=\"no\",S31),IF($B$32=\"no\",S32),IF($B$33=\"no\",S33),IF($B$34=\"no\",S34),IF($B$35=\"no\",S35),IF($B$36=\"no\",S36),IF($B$37=\"no\",S37),IF($B$38=\"no\",S38),IF($B$39=\"no\",S39),IF($B$40=\"no\",S40),IF($B$41=\"no\",S41),IF($B$42=\"no\",S42),IF($B$43=\"no\",S43),IF($B$44=\"no\",S44),IF($B$45=\"no\",S45),IF($B$46=\"no\",S46),IF($B$47=\"no\",S47),IF($B$48=\"no\",S48))","v":0},{"$f":"SUM(IF($B$7=\"no\",T7),IF($B$8=\"no\",T8),IF($B$9=\"no\",T9),IF($B$10=\"no\",T10),IF($B$11=\"no\",T11),IF($B$12=\"no\",T12),IF($B$13=\"no\",T13),IF($B$14=\"no\",T14),IF($B$15=\"no\",T15),IF($B$16=\"no\",T16),IF($B$17=\"no\",T17),IF($B$18=\"no\",T18),IF($B$19=\"no\",T19),IF($B$20=\"no\",T20),IF($B$21=\"no\",T21),IF($B$22=\"no\",T22),IF($B$23=\"no\",T23),IF($B$24=\"no\",T24),IF($B$25=\"no\",T25),IF($B$26=\"no\",T26),IF($B$27=\"no\",T27),IF($B$28=\"no\",T28),IF($B$29=\"no\",T29),IF($B$30=\"no\",T30),IF($B$31=\"no\",T31),IF($B$32=\"no\",T32),IF($B$33=\"no\",T33),IF($B$34=\"no\",T34),IF($B$35=\"no\",T35),IF($B$36=\"no\",T36),IF($B$37=\"no\",T37),IF($B$38=\"no\",T38),IF($B$39=\"no\",T39),IF($B$40=\"no\",T40),IF($B$41=\"no\",T41),IF($B$42=\"no\",T42),IF($B$43=\"no\",T43),IF($B$44=\"no\",T44),IF($B$45=\"no\",T45),IF($B$46=\"no\",T46),IF($B$47=\"no\",T47),IF($B$48=\"no\",T48))","v":0}]
["CP-1",{"$f":"MAX(IF($C$7:$C$48=\"CP-1\",$I$7:$I$48))","v":0},null,null,null,null,null,null,null,null,null,null,null,null,null,"Total Combined for all Generators > 600 BHP:",{"$f":"SUM(IF($B$7=\"yes\",Q7),IF($B$8=\"yes\",Q8),IF($B$9=\"yes\",Q9),IF($B$10=\"yes\",Q10),IF($B$11=\"yes\",Q11),IF($B$12=\"yes\",Q12),IF($B$13=\"yes\",Q13),IF($B$14=\"yes\",Q14),IF($B$15=\"yes\",Q15),IF($B$16=\"yes\",Q16),IF($B$17=\"yes\",Q17),IF($B$18=\"yes\",Q18),IF($B$19=\"yes\",Q19),IF($B$20=\"yes\",Q20),IF($B$21=\"yes\",Q21),IF($B$22=\"yes\",Q22),IF($B$23=\"yes\",Q23),IF($B$24=\"yes\",Q24),IF($B$25=\"yes\",Q25),IF($B$26=\"yes\",Q26),IF($B$27=\"yes\",Q27),IF($B$28=\"yes\",Q28),IF($B$29=\"yes\",Q29),IF($B$30=\"yes\",Q30),IF($B$31=\"yes\",Q31),IF($B$32=\"yes\",Q32),IF($B$33=\"yes\",Q33),IF($B$34=\"yes\",Q34),IF($B$35=\"yes\",Q35),IF($B$36=\"yes\",Q36),IF($B$37=\"yes\",Q37),IF($B$38=\"yes\",Q38),IF($B$39=\"yes\",Q39),IF($B$40=\"yes\",Q40),IF($B$41=\"yes\",Q41),IF($B$42=\"yes\",Q42),IF($B$43=\"yes\",Q43),IF($B$44=\"yes\",Q44),IF($B$45=\"yes\",Q45),IF($B$46=\"yes\",Q46),IF($B$47=\"yes\",Q47),IF($B$48=\"yes\",Q48))","v":0},{"$f":"SUM(IF($B$7=\"yes\",R7),IF($B$8=\"yes\",R8),IF($B$9=\"yes\",R9),IF($B$10=\"yes\",R10),IF($B$11=\"yes\",R11),IF($B$12=\"yes\",R12),IF($B$13=\"yes\",R13),IF($B$14=\"yes\",R14),IF($B$15=\"yes\",R15),IF($B$16=\"yes\",R16),IF($B$17=\"yes\",R17),IF($B$18=\"yes\",R18),IF($B$19=\"yes\",R19),IF($B$20=\"yes\",R20),IF($B$21=\"yes\",R21),IF($B$22=\"yes\",R22),IF($B$23=\"yes\",R23),IF($B$24=\"yes\",R24),IF($B$25=\"yes\",R25),IF($B$26=\"yes\",R26),IF($B$27=\"yes\",R27),IF($B$28=\"yes\",R28),IF($B$29=\"yes\",R29),IF($B$30=\"yes\",R30),IF($B$31=\"yes\",R31),IF($B$32=\"yes\",R32),IF($B$33=\"yes\",R33),IF($B$34=\"yes\",R34),IF($B$35=\"yes\",R35),IF($B$36=\"yes\",R36),IF($B$37=\"yes\",R37),IF($B$38=\"yes\",R38),IF($B$39=\"yes\",R39),IF($B$40=\"yes\",R40),IF($B$41=\"yes\",R41),IF($B$42=\"yes\",R42),IF($B$43=\"yes\",R43),IF($B$44=\"yes\",R44),IF($B$45=\"yes\",R45),IF($B$46=\"yes\",R46),IF($B$47=\"yes\",R47),IF($B$48=\"yes\",R48))","v":0},{"$f":"SUM(IF($B$7=\"yes\",S7),IF($B$8=\"yes\",S8),IF($B$9=\"yes\",S9),IF($B$10=\"yes\",S10),IF($B$11=\"yes\",S11),IF($B$12=\"yes\",S12),IF($B$13=\"yes\",S13),IF($B$14=\"yes\",S14),IF($B$15=\"yes\",S15),IF($B$16=\"yes\",S16),IF($B$17=\"yes\",S17),IF($B$18=\"yes\",S18),IF($B$19=\"yes\",S19),IF($B$20=\"yes\",S20),IF($B$21=\"yes\",S21),IF($B$22=\"yes\",S22),IF($B$23=\"yes\",S23),IF($B$24=\"yes\",S24),IF($B$25=\"yes\",S25),IF($B$26=\"yes\",S26),IF($B$27=\"yes\",S27),IF($B$28=\"yes\",S28),IF($B$29=\"yes\",S29),IF($B$30=\"yes\",S30),IF($B$31=\"yes\",S31),IF($B$32=\"yes\",S32),IF($B$33=\"yes\",S33),IF($B$34=\"yes\",S34),IF($B$35=\"yes\",S35),IF($B$36=\"yes\",S36),IF($B$37=\"yes\",S37),IF($B$38=\"yes\",S38),IF($B$39=\"yes\",S39),IF($B$40=\"yes\",S40),IF($B$41=\"yes\",S41),IF($B$42=\"yes\",S42),IF($B$43=\"yes\",S43),IF($B$44=\"yes\",S44),IF($B$45=\"yes\",S45),IF($B$46=\"yes\",S46),IF($B$47=\"yes\",S47),IF($B$48=\"yes\",S48))","v":0},{"$f":"SUM(IF($B$7=\"yes\",T7),IF($B$8=\"yes\",T8),IF($B$9=\"yes\",T9),IF($B$10=\"yes\",T10),IF($B$11=\"yes\",T11),IF($B$12=\"yes\",T12),IF($B$13=\"yes\",T13),IF($B$14=\"yes\",T14),IF($B$15=\"yes\",T15),IF($B$16=\"yes\",T16),IF($B$17=\"yes\",T17),IF($B$18=\"yes\",T18),IF($B$19=\"yes\",T19),IF($B$20=\"yes\",T20),IF($B$21=\"yes\",T21),IF($B$22=\"yes\",T22),IF($B$23=\"yes\",T23),IF($B$24=\"yes\",T24),IF($B$25=\"yes\",T25),IF($B$26=\"yes\",T26),IF($B$27=\"yes\",T27),IF($B$28=\"yes\",T28),IF($B$29=\"yes\",T29),IF($B$30=\"yes\",T30),IF($B$31=\"yes\",T31),IF($B$32=\"yes\",T32),IF($B$33=\"yes\",T33),IF($B$34=\"yes\",T34),IF($B$35=\"yes\",T35),IF($B$36=\"yes\",T36),IF($B$37=\"yes\",T37),IF($B$38=\"yes\",T38),IF($B$39=\"yes\",T39),IF($B$40=\"yes\",T40),IF($B$41=\"yes\",T41),IF($B$42=\"yes\",T42),IF($B$43=\"yes\",T43),IF($B$44=\"yes\",T44),IF($B$45=\"yes\",T45),IF($B$46=\"yes\",T46),IF($B$47=\"yes\",T47),IF($B$48=\"yes\",T48))","v":0}]
["CP-2",{"$f":"MAX(IF($C$7:$C$48=\"CP-2\",$I$7:$I$48))","v":0},null,null,null,null,null,null,null,null,null,null,null,null,null,null,null,null,null,null,null,null,null,null,null,"PM2.5","PM2.5","PM10","PM10","SO2","SO2","NOx","NOx","VOC","VOC","CO","CO","Formaldehyde","Formaldehyde","Benzene","Benzene"]
["CP-3",{"$f":"MAX(IF($C$7:$C$48=\"CP-3\",$I$7:$I$48))","v":0},null,null,null,null,null,null,null,null,null,null,null,null,null,null,null,null,null,null,null,null,null,null,null,"Potential tpy","Actual tpy","Actual tpy","Potential tpy","Potential tpy","Actual tpy","Actual tpy","Potential tpy","Potential tpy","Actual tpy","Actual tpy","Potential tpy","Potential tpy","Actual tpy","Actual tpy","Potential tpy"]
["CP-4",{"$f":"MAX(IF($C$7:$C$48=\"CP-4\",$I$7:$I$48))","v":0},null,null,null,null,null,null,null,null,null,null,null,null,null,null,null,null,null,null,null,null,null,"CP-1",null,{"$f":"IF(B50=\"\",SUMIF($C$7:$C$48,\"CP-1\",$Z$7:$Z$48),MAX(IF(C7:C48=\"CP-1\",Z7:Z48)))","v":0},{"$f":"SUMIF($C$7:$C$48,\"CP-1\",$AA$7:$AA$48)","v":0},{"$f":"SUMIF($C$7:$C$48,\"CP-1\",$AE$7:$AE$48)","v":0},{"$f":"IF(B50=\"\",SUMIF($C$7:$C$48,\"CP-1\",$AD$7:$AD$48),MAX(IF($C$7:$C$48=\"CP-1\",$AD$7:$AD$48)))","v":0},{"$f":"IF(B50=\"\",SUMIF($C$7:$C$48,\"CP-1\",$AH$7:$AH$48),MAX(IF($C$7:$C$48=\"CP-1\",$AH$7:$AH$48)))","v":0},{"$f":"SUMIF($C$7:$C$48,\"CP-1\",$AI$7:$AI$48)","v":0},{"$f":"SUMIF($C$7:$C$48,\"CP-1\",$AM$7:$AM$48)","v":0},{"$f":"IF(B50=\"\",SUMIF($C$7:$C$48,\"CP-1\",$AL$7:$AL$48),MAX(IF($C$7:$C$48=\"CP-1\",$AL$7:$AL$48)))","v":0},{"$f":"IF(B50=\"\",SUMIF($C$7:$C$48,\"CP-1\",$AP$7:$AP$48),MAX(IF($C$7:$C$48=\"CP-1\",$AP$7:$AP$48)))","v":0},{"$f":"SUMIF($C$7:$C$48,\"CP-1\",$AQ$7:$AQ$48)","v":0},{"$f":"SUMIF($C$7:$C$48,\"CP-1\",$AU$7:$AU$48)","v":0},{"$f":"IF(B50=\"\",SUMIF($C$7:$C$48,\"CP-1\",$AT$7:$AT$48),MAX(IF($C$7:$C$48=\"CP-1\",$AT$7:$AT$48)))","v":0},{"$f":"IF(B50=\"\",SUMIF($C$7:$C$48,\"CP-1\",$AX$7:$AX$48),MAX(IF($C$7:$C$48=\"CP-1\",$AX$7:$AX$48)))","v":0},{"$f":"SUMIF($C$7:$C$48,\"CP-1\",$AY$7:$AY$48)","v":0},{"$f":"SUMIF($C$7:$C$48,\"CP-1\",$BC$7:$BC$48)","v":0},{"$f":"IF(B50=\"\",SUMIF($C$7:$C$48,\"CP-1\",$BB$7:$BB$48),MAX(IF($C$7:$C$48=\"CP-1\",$BB$7:$BB$48)))","v":0}]
["CP-5",{"$f":"MAX(IF($C$7:$C$48=\"CP-5\",$I$7:$I$48))","v":0},null,null,null,null,null,null,null,null,null,null,null,null,null,null,null,null,null,null,null,null,null,"CP-2",null,{"$f":"IF(B51=\"\",SUMIF($C$7:$C$48,\"CP-2\",$Z$7:$Z$48),MAX(IF($C$7:$C$48=\"CP-2\",$Z$7:$Z$48)))","v":0},{"$f":"SUMIF($C$7:$C$48,\"CP-2\",$AA$7:$AA$48)","v":0},{"$f":"SUMIF($C$7:$C$48,\"CP-2\",$AE$7:$AE$48)","v":0},{"$f":"IF(B51=\"\",SUMIF($C$7:$C$48,\"CP-2\",$AD$7:$AD$48),MAX(IF($C$7:$C$48=\"CP-2\",$AD$7:$AD$48)))","v":0},{"$f":"IF(B51=\"\",SUMIF($C$7:$C$48,\"CP-2\",$AH$7:$AH$48),MAX(IF($C$7:$C$48=\"CP-2\",$AH$7:$AH$48)))","v":0},{"$f":"SUMIF($C$7:$C$48,\"CP-2\",$AI$7:$AI$48)","v":0},{"$f":"SUMIF($C$7:$C$48,\"CP-2\",$AM$7:$AM$48)","v":0},{"$f":"IF(B51=\"\",SUMIF($C$7:$C$48,\"CP-2\",$AL$7:$AL$48),MAX(IF($C$7:$C$48=\"CP-2\",$AL$7:$AL$48)))","v":0},{"$f":"IF(B51=\"\",SUMIF($C$7:$C$48,\"CP-2\",$AP$7:$AP$48),MAX(IF($C$7:$C$48=\"CP-2\",$AP$7:$AP$48)))","v":0},{"$f":"SUMIF($C$7:$C$48,\"CP-2\",$AQ$7:$AQ$48)","v":0},{"$f":"SUMIF($C$7:$C$48,\"CP-2\",$AU$7:$AU$48)","v":0},{"$f":"IF(B51=\"\",SUMIF($C$7:$C$48,\"CP-2\",$AT$7:$AT$48),MAX(IF($C$7:$C$48=\"CP-2\",$AT$7:$AT$48)))","v":0},{"$f":"IF(B51=\"\",SUMIF($C$7:$C$48,\"CP-2\",$AX$7:$AX$48),MAX(IF($C$7:$C$48=\"CP-2\",$AX$7:$AX$48)))","v":0},{"$f":"SUMIF($C$7:$C$48,\"CP-2\",$AY$7:$AY$48)","v":0},{"$f":"SUMIF($C$7:$C$48,\"CP-2\",$BC$7:$BC$48)","v":0},{"$f":"IF(B51=\"\",SUMIF($C$7:$C$48,\"CP-2\",$BB$7:$BB$48),MAX(IF($C$7:$C$48=\"CP-2\",$BB$7:$BB$48)))","v":0}]
["CP-6",{"$f":"MAX(IF($C$7:$C$48=\"CP-6\",$I$7:$I$48))","v":0},null,null,null,null,null,null,null,null,null,null,null,null,null,null,null,null,null,null,null,null,null,"CP-3",null,{"$f":"IF(B52=\"\",SUMIF($C$7:$C$48,\"CP-3\",$Z$7:$Z$48),MAX(IF($C$7:$C$48=\"CP-3\",$Z$7:$Z$48)))","v":0},{"$f":"SUMIF($C$7:$C$48,\"CP-3\",$AA$7:$AA$48)","v":0},{"$f":"SUMIF($C$7:$C$48,\"CP-3\",$AE$7:$AE$48)","v":0},{"$f":"IF(B52=\"\",SUMIF($C$7:$C$48,\"CP-3\",$AD$7:$AD$48),MAX(IF($C$7:$C$48=\"CP-3\",$AD$7:$AD$48)))","v":0},{"$f":"IF(B52=\"\",SUMIF($C$7:$C$48,\"CP-3\",$AH$7:$AH$48),MAX(IF($C$7:$C$48=\"CP-3\",$AH$7:$AH$48)))","v":0},{"$f":"SUMIF($C$7:$C$48,\"CP-3\",$AI$7:$AI$48)","v":0},{"$f":"SUMIF($C$7:$C$48,\"CP-3\",$AM$7:$AM$48)","v":0},{"$f":"IF(B52=\"\",SUMIF($C$7:$C$48,\"CP-3\",$AL$7:$AL$48),MAX(IF($C$7:$C$48=\"CP-3\",$AL$7:$AL$48)))","v":0},{"$f":"IF(B52=\"\",SUMIF($C$7:$C$48,\"CP-3\",$AP$7:$AP$48),MAX(IF($C$7:$C$48=\"CP-3\",$AP$7:$AP$48)))","v":0},{"$f":"SUMIF($C$7:$C$48,\"CP-3\",$AQ$7:$AQ$48)","v":0},{"$f":"SUMIF($C$7:$C$48,\"CP-3\",$AU$7:$AU$48)","v":0},{"$f":"IF(B52=\"\",SUMIF($C$7:$C$48,\"CP-3\",$AT$7:$AT$48),MAX(IF($C$7:$C$48=\"CP-3\",$AT$7:$AT$48)))","v":0},{"$f":"IF(B52=\"\",SUMIF($C$7:$C$48,\"CP-3\",$AX$7:$AX$48),MAX(IF($C$7:$C$48=\"CP-3\",$AX$7:$AX$48)))","v":0},{"$f":"SUMIF($C$7:$C$48,\"CP-3\",$AY$7:$AY$48)","v":0},{"$f":"SUMIF($C$7:$C$48,\"CP-3\",$BC$7:$BC$48)","v":0},{"$f":"IF(B52=\"\",SUMIF($C$7:$C$48,\"CP-3\",$BB$7:$BB$48),MAX(IF($C$7:$C$48=\"CP-3\",$BB$7:$BB$48)))","v":0}]
["CP-7",{"$f":"MAX(IF($C$7:$C$48=\"CP-7\",$I$7:$I$48))","v":0},null,null,null,null,null,null,null,null,null,null,null,null,null,null,null,null,null,null,null,null,null,"CP-4",null,{"$f":"IF(B53=\"\",SUMIF($C$7:$C$48,\"CP-4\",$Z$7:$Z$48),MAX(IF($C$7:$C$48=\"CP-4\",$Z$7:$Z$48)))","v":0},{"$f":"SUMIF($C$7:$C$48,\"CP-4\",$AA$7:$AA$48)","v":0},{"$f":"SUMIF($C$7:$C$48,\"CP-4\",$AE$7:$AE$48)","v":0},{"$f":"IF(B53=\"\",SUMIF($C$7:$C$48,\"CP-4\",$AD$7:$AD$48),MAX(IF($C$7:$C$48=\"CP-4\",$AD$7:$AD$48)))","v":0},{"$f":"IF(B53=\"\",SUMIF($C$7:$C$48,\"CP-4\",$AH$7:$AH$48),MAX(IF($C$7:$C$48=\"CP-4\",$AH$7:$AH$48)))","v":0},{"$f":"SUMIF($C$7:$C$48,\"CP-4\",$AI$7:$AI$48)","v":0},{"$f":"SUMIF($C$7:$C$48,\"CP-4\",$AM$7:$AM$48)","v":0},{"$f":"IF(B53=\"\",SUMIF($C$7:$C$48,\"CP-4\",$AL$7:$AL$48),MAX(IF($C$7:$C$48=\"CP-4\",$AL$7:$AL$48)))","v":0},{"$f":"IF(B53=\"\",SUMIF($C$7:$C$48,\"CP-4\",$AP$7:$AP$48),MAX(IF($C$7:$C$48=\"CP-4\",$AP$7:$AP$48)))","v":0},{"$f":"SUMIF($C$7:$C$48,\"CP-4\",$AQ$7:$AQ$48)","v":0},{"$f":"SUMIF($C$7:$C$48,\"CP-4\",$AU$7:$AU$48)","v":0},{"$f":"IF(B53=\"\",SUMIF($C$7:$C$48,\"CP-4\",$AT$7:$AT$48),MAX(IF($C$7:$C$48=\"CP-4\",$AT$7:$AT$48)))","v":0},{"$f":"IF(B53=\"\",SUMIF($C$7:$C$48,\"CP-4\",$AX$7:$AX$48),MAX(IF($C$7:$C$48=\"CP-4\",$AX$7:$AX$48)))","v":0},{"$f":"SUMIF($C$7:$C$48,\"CP-4\",$AY$7:$AY$48)","v":0},{"$f":"SUMIF($C$7:$C$48,\"CP-4\",$BC$7:$BC$48)","v":0},{"$f":"IF(B53=\"\",SUMIF($C$7:$C$48,\"CP-4\",$BB$7:$BB$48),MAX(IF($C$7:$C$48=\"CP-4\",$BB$7:$BB$48)))","v":0}]
["CP-8",{"$f":"MAX(IF($C$7:$C$48=\"CP-8\",$I$7:$I$48))","v":0},null,null,null,null,null,null,null,null,null,null,null,null,null,null,null,null,null,null,null,null,null,"CP-5",null,{"$f":"IF(B54=\"\",SUMIF($C$7:$C$48,\"CP-5\",$Z$7:$Z$48),MAX(IF($C$7:$C$48=\"CP-5\",$Z$7:$Z$48)))","v":0},{"$f":"SUMIF($C$7:$C$48,\"CP-5\",$AA$7:$AA$48)","v":0},{"$f":"SUMIF($C$7:$C$48,\"CP-5\",$AE$7:$AE$48)","v":0},{"$f":"IF(B54=\"\",SUMIF($C$7:$C$48,\"CP-5\",$AD$7:$AD$48),MAX(IF($C$7:$C$48=\"CP-5\",$AD$7:$AD$48)))","v":0},{"$f":"IF(B54=\"\",SUMIF($C$7:$C$48,\"CP-5\",$AH$7:$AH$48),MAX(IF($C$7:$C$48=\"CP-5\",$AH$7:$AH$48)))","v":0},{"$f":"SUMIF($C$7:$C$48,\"CP-5\",$AI$7:$AI$48)","v":0},{"$f":"SUMIF($C$7:$C$48,\"CP-5\",$AM$7:$AM$48)","v":0},{"$f":"IF(B54=\"\",SUMIF($C$7:$C$48,\"CP-5\",$AL$7:$AL$48),MAX(IF($C$7:$C$48=\"CP-5\",$AL$7:$AL$48)))","v":0},{"$f":"IF(B54=\"\",SUMIF($C$7:$C$48,\"CP-5\",$AP$7:$AP$48),MAX(IF($C$7:$C$48=\"CP-5\",$AP$7:$AP$48)))","v":0},{"$f":"SUMIF($C$7:$C$48,\"CP-5\",$AQ$7:$AQ$48)","v":0},{"$f":"SUMIF($C$7:$C$48,\"CP-5\",$AU$7:$AU$48)","v":0},{"$f":"IF(B54=\"\",SUMIF($C$7:$C$48,\"CP-5\",$AT$7:$AT$48),MAX(IF($C$7:$C$48=\"CP-5\",$AT$7:$AT$48)))","v":0},{"$f":"IF(B54=\"\",SUMIF($C$7:$C$48,\"CP-5\",$AX$7:$AX$48),MAX(IF($C$7:$C$48=\"CP-5\",$AX$7:$AX$48)))","v":0},{"$f":"SUMIF($C$7:$C$48,\"CP-5\",$AY$7:$AY$48)","v":0},{"$f":"SUMIF($C$7:$C$48,\"CP-5\",$BC$7:$BC$48)","v":0},{"$f":"IF(B54=\"\",SUMIF($C$7:$C$48,\"CP-5\",$BB$7:$BB$48),MAX(IF($C$7:$C$48=\"CP-5\",$BB$7:$BB$48)))","v":0}]
["CP-9",{"$f":"MAX(IF($C$7:$C$48=\"CP-9\",$I$7:$I$48))","v":0},null,null,null,null,null,null,null,null,null,null,null,null,null,null,null,null,null,null,null,null,null,"CP-6",null,{"$f":"IF(B55=\"\",SUMIF($C$7:$C$48,\"CP-6\",$Z$7:$Z$48),MAX(IF($C$7:$C$48=\"CP-6\",$Z$7:$Z$48)))","v":0},{"$f":"SUMIF($C$7:$C$48,\"CP-6\",$AA$7:$AA$48)","v":0},{"$f":"SUMIF($C$7:$C$48,\"CP-6\",$AE$7:$AE$48)","v":0},{"$f":"IF(B55=\"\",SUMIF($C$7:$C$48,\"CP-6\",$AD$7:$AD$48),MAX(IF($C$7:$C$48=\"CP-6\",$AD$7:$AD$48)))","v":0},{"$f":"IF(B55=\"\",SUMIF($C$7:$C$48,\"CP-6\",$AH$7:$AH$48),MAX(IF($C$7:$C$48=\"CP-6\",$AH$7:$AH$48)))","v":0},{"$f":"SUMIF($C$7:$C$48,\"CP-6\",$AI$7:$AI$48)","v":0},{"$f":"SUMIF($C$7:$C$48,\"CP-6\",$AM$7:$AM$48)","v":0},{"$f":"IF(B55=\"\",SUMIF($C$7:$C$48,\"CP-6\",$AL$7:$AL$48),MAX(IF($C$7:$C$48=\"CP-6\",$AL$7:$AL$48)))","v":0},{"$f":"IF(B55=\"\",SUMIF($C$7:$C$48,\"CP-6\",$AP$7:$AP$48),MAX(IF($C$7:$C$48=\"CP-6\",$AP$7:$AP$48)))","v":0},{"$f":"SUMIF($C$7:$C$48,\"CP-6\",$AQ$7:$AQ$48)","v":0},{"$f":"SUMIF($C$7:$C$48,\"CP-6\",$AU$7:$AU$48)","v":0},{"$f":"IF(B55=\"\",SUMIF($C$7:$C$48,\"CP-6\",$AT$7:$AT$48),MAX(IF($C$7:$C$48=\"CP-6\",$AT$7:$AT$48)))","v":0},{"$f":"IF(B55=\"\",SUMIF($C$7:$C$48,\"CP-6\",$AX$7:$AX$48),MAX(IF($C$7:$C$48=\"CP-6\",$AX$7:$AX$48)))","v":0},{"$f":"SUMIF($C$7:$C$48,\"CP-6\",$AY$7:$AY$48)","v":0},{"$f":"SUMIF($C$7:$C$48,\"CP-6\",$BC$7:$BC$48)","v":0},{"$f":"IF(B55=\"\",SUMIF($C$7:$C$48,\"CP-6\",$BB$7:$BB$48),MAX(IF($C$7:$C$48=\"CP-6\",$BB$7:$BB$48)))","v":0}]
["CP-10",{"$f":"MAX(IF($C$7:$C$48=\"CP-10\",$I$7:$I$48))","v":0},null,null,null,null,null,null,null,null,null,null,null,null,null,null,null,null,null,null,null,null,null,"CP-7",null,{"$f":"IF(B56=\"\",SUMIF($C$7:$C$48,\"CP-7\",$Z$7:$Z$48),MAX(IF($C$7:$C$48=\"CP-7\",$Z$7:$Z$48)))","v":0},{"$f":"SUMIF($C$7:$C$48,\"CP-7\",$AA$7:$AA$48)","v":0},{"$f":"SUMIF($C$7:$C$48,\"CP-7\",$AE$7:$AE$48)","v":0},{"$f":"IF(B56=\"\",SUMIF($C$7:$C$48,\"CP-7\",$AD$7:$AD$48),MAX(IF($C$7:$C$48=\"CP-7\",$AD$7:$AD$48)))","v":0},{"$f":"IF(B56=\"\",SUMIF($C$7:$C$48,\"CP-7\",$AH$7:$AH$48),MAX(IF($C$7:$C$48=\"CP-7\",$AH$7:$AH$48)))","v":0},{"$f":"SUMIF($C$7:$C$48,\"CP-7\",$AI$7:$AI$48)","v":0},{"$f":"SUMIF($C$7:$C$48,\"CP-7\",$AM$7:$AM$48)","v":0},{"$f":"IF(B56=\"\",SUMIF($C$7:$C$48,\"CP-7\",$AL$7:$AL$48),MAX(IF($C$7:$C$48=\"CP-7\",$AL$7:$AL$48)))","v":0},{"$f":"IF(B56=\"\",SUMIF($C$7:$C$48,\"CP-7\",$AP$7:$AP$48),MAX(IF($C$7:$C$48=\"CP-7\",$AP$7:$AP$48)))","v":0},{"$f":"SUMIF($C$7:$C$48,\"CP-7\",$AQ$7:$AQ$48)","v":0},{"$f":"SUMIF($C$7:$C$48,\"CP-7\",$AU$7:$AU$48)","v":0},{"$f":"IF(B56=\"\",SUMIF($C$7:$C$48,\"CP-7\",$AT$7:$AT$48),MAX(IF($C$7:$C$48=\"CP-7\",$AT$7:$AT$48)))","v":0},{"$f":"IF(B56=\"\",SUMIF($C$7:$C$48,\"CP-7\",$AX$7:$AX$48),MAX(IF($C$7:$C$48=\"CP-7\",$AX$7:$AX$48)))","v":0},{"$f":"SUMIF($C$7:$C$48,\"CP-7\",$AY$7:$AY$48)","v":0},{"$f":"SUMIF($C$7:$C$48,\"CP-7\",$BC$7:$BC$48)","v":0},{"$f":"IF(B56=\"\",SUMIF($C$7:$C$48,\"CP-7\",$BB$7:$BB$48),MAX(IF($C$7:$C$48=\"CP-7\",$BB$7:$BB$48)))","v":0}]
[null,null,null,null,null,null,null,null,null,null,null,null,null,null,null,null,null,null,null,null,null,null,null,"CP-8",null,{"$f":"IF(B57=\"\",SUMIF($C$7:$C$48,\"CP-8\",$Z$7:$Z$48),MAX(IF($C$7:$C$48=\"CP-8\",$Z$7:$Z$48)))","v":0},{"$f":"SUMIF($C$7:$C$48,\"CP-8\",$AA$7:$AA$48)","v":0},{"$f":"SUMIF($C$7:$C$48,\"CP-8\",$AE$7:$AE$48)","v":0},{"$f":"IF(B57=\"\",SUMIF($C$7:$C$48,\"CP-8\",$AD$7:$AD$48),MAX(IF($C$7:$C$48=\"CP-8\",$AD$7:$AD$48)))","v":0},{"$f":"IF(B57=\"\",SUMIF($C$7:$C$48,\"CP-8\",$AH$7:$AH$48),MAX(IF($C$7:$C$48=\"CP-8\",$AH$7:$AH$48)))","v":0},{"$f":"SUMIF($C$7:$C$48,\"CP-8\",$AI$7:$AI$48)","v":0},{"$f":"SUMIF($C$7:$C$48,\"CP-8\",$AM$7:$AM$48)","v":0},{"$f":"IF(B57=\"\",SUMIF($C$7:$C$48,\"CP-8\",$AL$7:$AL$48),MAX(IF($C$7:$C$48=\"CP-8\",$AL$7:$AL$48)))","v":0},{"$f":"IF(B57=\"\",SUMIF($C$7:$C$48,\"CP-8\",$AP$7:$AP$48),MAX(IF($C$7:$C$48=\"CP-8\",$AP$7:$AP$48)))","v":0},{"$f":"SUMIF($C$7:$C$48,\"CP-8\",$AQ$7:$AQ$48)","v":0},{"$f":"SUMIF($C$7:$C$48,\"CP-8\",$AU$7:$AU$48)","v":0},{"$f":"IF(B57=\"\",SUMIF($C$7:$C$48,\"CP-8\",$AT$7:$AT$48),MAX(IF($C$7:$C$48=\"CP-8\",$AT$7:$AT$48)))","v":0},{"$f":"IF(B57=\"\",SUMIF($C$7:$C$48,\"CP-8\",$AX$7:$AX$48),MAX(IF($C$7:$C$48=\"CP-8\",$AX$7:$AX$48)))","v":0},{"$f":"SUMIF($C$7:$C$48,\"CP-8\",$AY$7:$AY$48)","v":0},{"$f":"SUMIF($C$7:$C$48,\"CP-8\",$BC$7:$BC$48)","v":0},{"$f":"IF(B57=\"\",SUMIF($C$7:$C$48,\"CP-8\",$BB$7:$BB$48),MAX(IF($C$7:$C$48=\"CP-8\",$BB$7:$BB$48)))","v":0}]
["Vertical w/o obstruction",null,null,null,null,null,null,null,null,null,null,null,null,null,null,null,null,null,null,null,null,null,null,"CP-9",null,{"$f":"IF(B58=\"\",SUMIF($C$7:$C$48,\"CP-9\",$Z$7:$Z$48),MAX(IF($C$7:$C$48=\"CP-9\",$Z$7:$Z$48)))","v":0},{"$f":"SUMIF($C$7:$C$48,\"CP-9\",$AA$7:$AA$48)","v":0},{"$f":"SUMIF($C$7:$C$48,\"CP-9\",$AE$7:$AE$48)","v":0},{"$f":"IF(B58=\"\",SUMIF($C$7:$C$48,\"CP-9\",$AD$7:$AD$48),MAX(IF($C$7:$C$48=\"CP-9\",$AD$7:$AD$48)))","v":0},{"$f":"IF(B58=\"\",SUMIF($C$7:$C$48,\"CP-9\",$AH$7:$AH$48),MAX(IF($C$7:$C$48=\"CP-9\",$AH$7:$AH$48)))","v":0},{"$f":"SUMIF($C$7:$C$48,\"CP-9\",$AI$7:$AI$48)","v":0},{"$f":"SUMIF($C$7:$C$48,\"CP-9\",$AM$7:$AM$48)","v":0},{"$f":"IF(B58=\"\",SUMIF($C$7:$C$48,\"CP-9\",$AL$7:$AL$48),MAX(IF($C$7:$C$48=\"CP-9\",$AL$7:$AL$48)))","v":0},{"$f":"IF(B58=\"\",SUMIF($C$7:$C$48,\"CP-9\",$AP$7:$AP$48),MAX(IF($C$7:$C$48=\"CP-9\",$AP$7:$AP$48)))","v":0},{"$f":"SUMIF($C$7:$C$48,\"CP-9\",$AQ$7:$AQ$48)","v":0},{"$f":"SUMIF($C$7:$C$48,\"CP-9\",$AU$7:$AU$48)","v":0},{"$f":"IF(B58=\"\",SUMIF($C$7:$C$48,\"CP-9\",$AT$7:$AT$48),MAX(IF($C$7:$C$48=\"CP-9\",$AT$7:$AT$48)))","v":0},{"$f":"IF(B58=\"\",SUMIF($C$7:$C$48,\"CP-9\",$AX$7:$AX$48),MAX(IF($C$7:$C$48=\"CP-9\",$AX$7:$AX$48)))","v":0},{"$f":"SUMIF($C$7:$C$48,\"CP-9\",$AY$7:$AY$48)","v":0},{"$f":"SUMIF($C$7:$C$48,\"CP-9\",$BC$7:$BC$48)","v":0},{"$f":"IF(B58=\"\",SUMIF($C$7:$C$48,\"CP-9\",$BB$7:$BB$48),MAX(IF($C$7:$C$48=\"CP-9\",$BB$7:$BB$48)))","v":0}]
["Vertical w/ obstruction",null,null,null,null,null,null,null,null,null,null,null,null,null,null,null,null,null,null,null,null,null,null,"CP-10",null,{"$f":"IF(B59=\"\",SUMIF($C$7:$C$48,\"CP-10\",$Z$7:$Z$48),MAX(IF($C$7:$C$48=\"CP-10\",$Z$7:$Z$48)))","v":0},{"$f":"SUMIF($C$7:$C$48,\"CP-10\",$AA$7:$AA$48)","v":0},{"$f":"SUMIF($C$7:$C$48,\"CP-10\",$AE$7:$AE$48)","v":0},{"$f":"IF(B59=\"\",SUMIF($C$7:$C$48,\"CP-10\",$AD$7:$AD$48),MAX(IF($C$7:$C$48=\"CP-10\",$AD$7:$AD$48)))","v":0},{"$f":"IF(B59=\"\",SUMIF($C$7:$C$48,\"CP-10\",$AH$7:$AH$48),MAX(IF($C$7:$C$48=\"CP-10\",$AH$7:$AH$48)))","v":0},{"$f":"SUMIF($C$7:$C$48,\"CP-10\",$AI$7:$AI$48)","v":0},{"$f":"SUMIF($C$7:$C$48,\"CP-10\",$AM$7:$AM$48)","v":0},{"$f":"IF(B59=\"\",SUMIF($C$7:$C$48,\"CP-10\",$AL$7:$AL$48),MAX(IF($C$7:$C$48=\"CP-10\",$AL$7:$AL$48)))","v":0},{"$f":"IF(B59=\"\",SUMIF($C$7:$C$48,\"CP-10\",$AP$7:$AP$48),MAX(IF($C$7:$C$48=\"CP-10\",$AP$7:$AP$48)))","v":0},{"$f":"SUMIF($C$7:$C$48,\"CP-10\",$AQ$7:$AQ$48)","v":0},{"$f":"SUMIF($C$7:$C$48,\"CP-10\",$AU$7:$AU$48)","v":0},{"$f":"IF(B59=\"\",SUMIF($C$7:$C$48,\"CP-10\",$AT$7:$AT$48),MAX(IF($C$7:$C$48=\"CP-10\",$AT$7:$AT$48)))","v":0},{"$f":"IF(B59=\"\",SUMIF($C$7:$C$48,\"CP-10\",$AX$7:$AX$48),MAX(IF($C$7:$C$48=\"CP-10\",$AX$7:$AX$48)))","v":0},{"$f":"SUMIF($C$7:$C$48,\"CP-10\",$AY$7:$AY$48)","v":0},{"$f":"SUMIF($C$7:$C$48,\"CP-10\",$BC$7:$BC$48)","v":0},{"$f":"IF(B59=\"\",SUMIF($C$7:$C$48,\"CP-10\",$BB$7:$BB$48),MAX(IF($C$7:$C$48=\"CP-10\",$BB$7:$BB$48)))","v":0}]
["Downward"]
["Horizontal",null,null,null,null,null,null,null,null,null,null,null,null,null,null,null,null,null,null,null,null,null,null,null,null,"≤ 600 BHP","> 600 BHP","≤ 600 BHP","> 600 BHP","≤ 600 BHP","> 600 BHP","≤ 600 BHP","> 600 BHP","≤ 600 BHP","> 600 BHP","≤ 600 BHP","> 600 BHP","≤ 600 BHP","> 600 BHP","≤ 600 BHP","> 600 BHP"]
[null,null,null,null,null,null,null,null,null,null,null,null,null,null,null,null,null,null,null,null,null,null,null,null,"CP-1",{"$f":"IF(B50=\"\",SUMIFS($Z$7:$Z$48,$C$7:C48,\"CP-1\",$B$7:$B$48,\"no\"),MAX(IF($C$7:$C$48=\"CP-1\",IF($B$7:$B$48=\"no\",$Z$7:$Z$48))))","v":0},{"$f":"IF(B50=\"\",SUMIFS($Z$7:$Z$48,$C$7:D48,\"CP-1\",$B$7:$B$48,\"yes\"),MAX(IF($C$7:$C$48=\"CP-1\",IF($B$7:$B$48=\"yes\",$Z$7:$Z$48))))","v":0},{"$f":"IF($B$50=\"\",SUMIFS($AD$7:$AD$48,$C$7:E48,\"CP-1\",$B$7:$B$48,\"no\"),MAX(IF($C$7:$C$48=\"CP-1\",IF($B$7:$B$48=\"no\",$AD$7:$AD$48))))","v":0},{"$f":"IF($B$50=\"\",SUMIFS($AD$7:$AD$48,$C$7:E48,\"CP-1\",$B$7:$B$48,\"yes\"),MAX(IF($C$7:$C$48=\"CP-1\",IF($B$7:$B$48=\"yes\",$AD$7:$AD$48))))","v":0},{"$f":"IF($B$50=\"\",SUMIFS($AH$7:$AH$48,$C$7:E48,\"CP-1\",$B$7:$B$48,\"no\"),MAX(IF($C$7:$C$48=\"CP-1\",IF($B$7:$B$48=\"no\",$AH$7:$AH$48))))","v":0},{"$f":"IF($B$50=\"\",SUMIFS($AH$7:$AH$48,$C$7:G48,\"CP-1\",$B$7:$B$48,\"yes\"),MAX(IF($C$7:$C$48=\"CP-1\",IF($B$7:$B$48=\"yes\",$AH$7:$AH$48))))","v":0},{"$f":"IF($B$50=\"\",SUMIFS($AL$7:$AL$48,$C$7:E48,\"CP-1\",$B$7:$B$48,\"no\"),MAX(IF($C$7:$C$48=\"CP-1\",IF($B$7:$B$48=\"no\",$AL$7:$AL$48))))","v":0},{"$f":"IF($B$50=\"\",SUMIFS($AL$7:$AL$48,$C$7:I48,\"CP-1\",$B$7:$B$48,\"yes\"),MAX(IF($C$7:$C$48=\"CP-1\",IF($B$7:$B$48=\"yes\",$AL$7:$AL$48))))","v":0},{"$f":"IF($B$50=\"\",SUMIFS($AP$7:$AP$48,$C$7:E48,\"CP-1\",$B$7:$B$48,\"no\"),MAX(IF($C$7:$C$48=\"CP-1\",IF($B$7:$B$48=\"no\",$AP$7:$AP$48))))","v":0},{"$f":"IF($B$50=\"\",SUMIFS($AP$7:$AP$48,$C$7:K48,\"CP-1\",$B$7:$B$48,\"yes\"),MAX(IF($C$7:$C$48=\"CP-1\",IF($B$7:$B$48=\"yes\",$AP$7:$AP$48))))","v":0},{"$f":"IF($B$50=\"\",SUMIFS($AT$7:$AT$48,$C$7:E48,\"CP-1\",$B$7:$B$48,\"no\"),MAX(IF($C$7:$C$48=\"CP-1\",IF($B$7:$B$48=\"no\",$AT$7:$AT$48))))","v":0},{"$f":"IF($B$50=\"\",SUMIFS($AT$7:$AT$48,$C$7:M48,\"CP-1\",$B$7:$B$48,\"yes\"),MAX(IF($C$7:$C$48=\"CP-1\",IF($B$7:$B$48=\"yes\",$AT$7:$AT$48))))","v":0},{"$f":"IF($B$50=\"\",SUMIFS($AX$7:$AX$48,$C$7:E48,\"CP-1\",$B$7:$B$48,\"no\"),MAX(IF($C$7:$C$48=\"CP-1\",IF($B$7:$B$48=\"no\",$AX$7:$AX$48))))","v":0},{"$f":"IF($B$50=\"\",SUMIFS($AX$7:$AX$48,$C$7:O48,\"CP-1\",$B$7:$B$48,\"yes\"),MAX(IF($C$7:$C$48=\"CP-1\",IF($B$7:$B$48=\"yes\",$AX$7:$AX$48))))","v":0},{"$f":"IF($B$50=\"\",SUMIFS($BB$7:$BB$48,$C$7:E48,\"CP-1\",$B$7:$B$48,\"no\"),MAX(IF($C$7:$C$48=\"CP-1\",IF($B$7:$B$48=\"no\",$BB$7:$BB$48))))","v":0},{"$f":"IF($B$50=\"\",SUMIFS($BB$7:$BB$48,$C$7:Q48,\"CP-1\",$B$7:$B$48,\"yes\"),MAX(IF($C$7:$C$48=\"CP-1\",IF($B$7:$B$48=\"yes\",$BB$7:$BB$48))))","v":0}]
[null,null,null,null,null,null,null,null,null,null,null,null,null,null,null,null,null,null,null,null,null,null,null,null,"CP-2",{"$f":"IF(B51=\"\",SUMIFS($Z$7:$Z$48,$C$7:C49,\"CP-2\",$B$7:$B$48,\"no\"),MAX(IF($C$7:$C$48=\"CP-2\",IF($B$7:$B$48=\"no\",$Z$7:$Z$48))))","v":0},{"$f":"IF(B51=\"\",SUMIFS($Z$7:$Z$48,$C$7:D49,\"CP-2\",$B$7:$B$48,\"yes\"),MAX(IF($C$7:$C$48=\"CP-2\",IF($B$7:$B$48=\"yes\",$Z$7:$Z$48))))","v":0},{"$f":"IF($B$50=\"\",SUMIFS($AD$7:$AD$48,$C$7:E49,\"CP-2\",$B$7:$B$48,\"no\"),MAX(IF($C$7:$C$48=\"CP-2\",IF($B$7:$B$48=\"no\",$AD$7:$AD$48))))","v":0},{"$f":"IF($B$50=\"\",SUMIFS($AD$7:$AD$48,$C$7:E49,\"CP-2\",$B$7:$B$48,\"yes\"),MAX(IF($C$7:$C$48=\"CP-2\",IF($B$7:$B$48=\"yes\",$AD$7:$AD$48))))","v":0},{"$f":"IF($B$50=\"\",SUMIFS($AH$7:$AH$48,$C$7:E49,\"CP-2\",$B$7:$B$48,\"no\"),MAX(IF($C$7:$C$48=\"CP-2\",IF($B$7:$B$48=\"no\",$AH$7:$AH$48))))","v":0},{"$f":"IF($B$50=\"\",SUMIFS($AH$7:$AH$48,$C$7:G49,\"CP-2\",$B$7:$B$48,\"yes\"),MAX(IF($C$7:$C$48=\"CP-2\",IF($B$7:$B$48=\"yes\",$AH$7:$AH$48))))","v":0},{"$f":"IF($B$50=\"\",SUMIFS($AL$7:$AL$48,$C$7:E49,\"CP-2\",$B$7:$B$48,\"no\"),MAX(IF($C$7:$C$48=\"CP-2\",IF($B$7:$B$48=\"no\",$AL$7:$AL$48))))","v":0},{"$f":"IF($B$50=\"\",SUMIFS($AL$7:$AL$48,$C$7:I49,\"CP-2\",$B$7:$B$48,\"yes\"),MAX(IF($C$7:$C$48=\"CP-2\",IF($B$7:$B$48=\"yes\",$AL$7:$AL$48))))","v":0},{"$f":"IF($B$50=\"\",SUMIFS($AP$7:$AP$48,$C$7:E49,\"CP-2\",$B$7:$B$48,\"no\"),MAX(IF($C$7:$C$48=\"CP-2\",IF($B$7:$B$48=\"no\",$AP$7:$AP$48))))","v":0},{"$f":"IF($B$50=\"\",SUMIFS($AP$7:$AP$48,$C$7:K49,\"CP-2\",$B$7:$B$48,\"yes\"),MAX(IF($C$7:$C$48=\"CP-2\",IF($B$7:$B$48=\"yes\",$AP$7:$AP$48))))","v":0},{"$f":"IF($B$50=\"\",SUMIFS($AT$7:$AT$48,$C$7:E49,\"CP-2\",$B$7:$B$48,\"no\"),MAX(IF($C$7:$C$48=\"CP-2\",IF($B$7:$B$48=\"no\",$AT$7:$AT$48))))","v":0},{"$f":"IF($B$50=\"\",SUMIFS($AT$7:$AT$48,$C$7:M49,\"CP-2\",$B$7:$B$48,\"yes\"),MAX(IF($C$7:$C$48=\"CP-2\",IF($B$7:$B$48=\"yes\",$AT$7:$AT$48))))","v":0},{"$f":"IF($B$50=\"\",SUMIFS($AX$7:$AX$48,$C$7:E49,\"CP-2\",$B$7:$B$48,\"no\"),MAX(IF($C$7:$C$48=\"CP-2\",IF($B$7:$B$48=\"no\",$AX$7:$AX$48))))","v":0},{"$f":"IF($B$50=\"\",SUMIFS($AX$7:$AX$48,$C$7:O49,\"CP-2\",$B$7:$B$48,\"yes\"),MAX(IF($C$7:$C$48=\"CP-2\",IF($B$7:$B$48=\"yes\",$AX$7:$AX$48))))","v":0},{"$f":"IF($B$50=\"\",SUMIFS($BB$7:$BB$48,$C$7:E49,\"CP-2\",$B$7:$B$48,\"no\"),MAX(IF($C$7:$C$48=\"CP-2\",IF($B$7:$B$48=\"no\",$BB$7:$BB$48))))","v":0},{"$f":"IF($B$50=\"\",SUMIFS($BB$7:$BB$48,$C$7:Q49,\"CP-2\",$B$7:$B$48,\"yes\"),MAX(IF($C$7:$C$48=\"CP-2\",IF($B$7:$B$48=\"yes\",$BB$7:$BB$48))))","v":0}]
[null,null,null,null,null,null,null,null,null,null,null,null,null,null,null,null,null,null,null,null,null,null,null,null,"CP-3",{"$f":"IF(B52=\"\",SUMIFS($Z$7:$Z$48,$C$7:C50,\"CP-3\",$B$7:$B$48,\"no\"),MAX(IF($C$7:$C$48=\"CP-3\",IF($B$7:$B$48=\"no\",$Z$7:$Z$48))))","v":0},{"$f":"IF(B52=\"\",SUMIFS($Z$7:$Z$48,$C$7:D50,\"CP-3\",$B$7:$B$48,\"yes\"),MAX(IF($C$7:$C$48=\"CP-3\",IF($B$7:$B$48=\"yes\",$Z$7:$Z$48))))","v":0},{"$f":"IF($B$50=\"\",SUMIFS($AD$7:$AD$48,$C$7:E50,\"CP-3\",$B$7:$B$48,\"no\"),MAX(IF($C$7:$C$48=\"CP-3\",IF($B$7:$B$48=\"no\",$AD$7:$AD$48))))","v":0},{"$f":"IF($B$50=\"\",SUMIFS($AD$7:$AD$48,$C$7:E50,\"CP-3\",$B$7:$B$48,\"yes\"),MAX(IF($C$7:$C$48=\"CP-3\",IF($B$7:$B$48=\"yes\",$AD$7:$AD$48))))","v":0},{"$f":"IF($B$50=\"\",SUMIFS($AH$7:$AH$48,$C$7:E50,\"CP-3\",$B$7:$B$48,\"no\"),MAX(IF($C$7:$C$48=\"CP-3\",IF($B$7:$B$48=\"no\",$AH$7:$AH$48))))","v":0},{"$f":"IF($B$50=\"\",SUMIFS($AH$7:$AH$48,$C$7:G50,\"CP-3\",$B$7:$B$48,\"yes\"),MAX(IF($C$7:$C$48=\"CP-3\",IF($B$7:$B$48=\"yes\",$AH$7:$AH$48))))","v":0},{"$f":"IF($B$50=\"\",SUMIFS($AL$7:$AL$48,$C$7:E50,\"CP-3\",$B$7:$B$48,\"no\"),MAX(IF($C$7:$C$48=\"CP-3\",IF($B$7:$B$48=\"no\",$AL$7:$AL$48))))","v":0},{"$f":"IF($B$50=\"\",SUMIFS($AL$7:$AL$48,$C$7:I50,\"CP-3\",$B$7:$B$48,\"yes\"),MAX(IF($C$7:$C$48=\"CP-3\",IF($B$7:$B$48=\"yes\",$AL$7:$AL$48))))","v":0},{"$f":"IF($B$50=\"\",SUMIFS($AP$7:$AP$48,$C$7:E50,\"CP-3\",$B$7:$B$48,\"no\"),MAX(IF($C$7:$C$48=\"CP-3\",IF($B$7:$B$48=\"no\",$AP$7:$AP$48))))","v":0},{"$f":"IF($B$50=\"\",SUMIFS($AP$7:$AP$48,$C$7:K50,\"CP-3\",$B$7:$B$48,\"yes\"),MAX(IF($C$7:$C$48=\"CP-3\",IF($B$7:$B$48=\"yes\",$AP$7:$AP$48))))","v":0},{"$f":"IF($B$50=\"\",SUMIFS($AT$7:$AT$48,$C$7:E50,\"CP-3\",$B$7:$B$48,\"no\"),MAX(IF($C$7:$C$48=\"CP-3\",IF($B$7:$B$48=\"no\",$AT$7:$AT$48))))","v":0},{"$f":"IF($B$50=\"\",SUMIFS($AT$7:$AT$48,$C$7:M50,\"CP-3\",$B$7:$B$48,\"yes\"),MAX(IF($C$7:$C$48=\"CP-3\",IF($B$7:$B$48=\"yes\",$AT$7:$AT$48))))","v":0},{"$f":"IF($B$50=\"\",SUMIFS($AX$7:$AX$48,$C$7:E50,\"CP-3\",$B$7:$B$48,\"no\"),MAX(IF($C$7:$C$48=\"CP-3\",IF($B$7:$B$48=\"no\",$AX$7:$AX$48))))","v":0},{"$f":"IF($B$50=\"\",SUMIFS($AX$7:$AX$48,$C$7:O50,\"CP-3\",$B$7:$B$48,\"yes\"),MAX(IF($C$7:$C$48=\"CP-3\",IF($B$7:$B$48=\"yes\",$AX$7:$AX$48))))","v":0},{"$f":"IF($B$50=\"\",SUMIFS($BB$7:$BB$48,$C$7:E50,\"CP-3\",$B$7:$B$48,\"no\"),MAX(IF($C$7:$C$48=\"CP-3\",IF($B$7:$B$48=\"no\",$BB$7:$BB$48))))","v":0},{"$f":"IF($B$50=\"\",SUMIFS($BB$7:$BB$48,$C$7:Q50,\"CP-3\",$B$7:$B$48,\"yes\"),MAX(IF($C$7:$C$48=\"CP-3\",IF($B$7:$B$48=\"yes\",$BB$7:$BB$48))))","v":0}]
[null,null,null,null,null,null,null,null,null,null,null,null,null,null,null,null,null,null,null,null,null,null,null,null,"CP-4",{"$f":"IF(B53=\"\",SUMIFS($Z$7:$Z$48,$C$7:C51,\"CP-4\",$B$7:$B$48,\"no\"),MAX(IF($C$7:$C$48=\"CP-4\",IF($B$7:$B$48=\"no\",$Z$7:$Z$48))))","v":0},{"$f":"IF(B53=\"\",SUMIFS($Z$7:$Z$48,$C$7:D51,\"CP-4\",$B$7:$B$48,\"yes\"),MAX(IF($C$7:$C$48=\"CP-4\",IF($B$7:$B$48=\"yes\",$Z$7:$Z$48))))","v":0},{"$f":"IF($B$50=\"\",SUMIFS($AD$7:$AD$48,$C$7:E51,\"CP-4\",$B$7:$B$48,\"no\"),MAX(IF($C$7:$C$48=\"CP-4\",IF($B$7:$B$48=\"no\",$AD$7:$AD$48))))","v":0},{"$f":"IF($B$50=\"\",SUMIFS($AD$7:$AD$48,$C$7:E51,\"CP-4\",$B$7:$B$48,\"yes\"),MAX(IF($C$7:$C$48=\"CP-4\",IF($B$7:$B$48=\"yes\",$AD$7:$AD$48))))","v":0},{"$f":"IF($B$50=\"\",SUMIFS($AH$7:$AH$48,$C$7:E51,\"CP-4\",$B$7:$B$48,\"no\"),MAX(IF($C$7:$C$48=\"CP-4\",IF($B$7:$B$48=\"no\",$AH$7:$AH$48))))","v":0},{"$f":"IF($B$50=\"\",SUMIFS($AH$7:$AH$48,$C$7:G51,\"CP-4\",$B$7:$B$48,\"yes\"),MAX(IF($C$7:$C$48=\"CP-4\",IF($B$7:$B$48=\"yes\",$AH$7:$AH$48))))","v":0},{"$f":"IF($B$50=\"\",SUMIFS($AL$7:$AL$48,$C$7:E51,\"CP-4\",$B$7:$B$48,\"no\"),MAX(IF($C$7:$C$48=\"CP-4\",IF($B$7:$B$48=\"no\",$AL$7:$AL$48))))","v":0},{"$f":"IF($B$50=\"\",SUMIFS($AL$7:$AL$48,$C$7:I51,\"CP-4\",$B$7:$B$48,\"yes\"),MAX(IF($C$7:$C$48=\"CP-4\",IF($B$7:$B$48=\"yes\",$AL$7:$AL$48))))","v":0},{"$f":"IF($B$50=\"\",SUMIFS($AP$7:$AP$48,$C$7:E51,\"CP-4\",$B$7:$B$48,\"no\"),MAX(IF($C$7:$C$48=\"CP-4\",IF($B$7:$B$48=\"no\",$AP$7:$AP$48))))","v":0},{"$f":"IF($B$50=\"\",SUMIFS($AP$7:$AP$48,$C$7:K51,\"CP-4\",$B$7:$B$48,\"yes\"),MAX(IF($C$7:$C$48=\"CP-4\",IF($B$7:$B$48=\"yes\",$AP$7:$AP$48))))","v":0},{"$f":"IF($B$50=\"\",SUMIFS($AT$7:$AT$48,$C$7:E51,\"CP-4\",$B$7:$B$48,\"no\"),MAX(IF($C$7:$C$48=\"CP-4\",IF($B$7:$B$48=\"no\",$AT$7:$AT$48))))","v":0},{"$f":"IF($B$50=\"\",SUMIFS($AT$7:$AT$48,$C$7:M51,\"CP-4\",$B$7:$B$48,\"yes\"),MAX(IF($C$7:$C$48=\"CP-4\",IF($B$7:$B$48=\"yes\",$AT$7:$AT$48))))","v":0},{"$f":"IF($B$50=\"\",SUMIFS($AX$7:$AX$48,$C$7:E51,\"CP-4\",$B$7:$B$48,\"no\"),MAX(IF($C$7:$C$48=\"CP-4\",IF($B$7:$B$48=\"no\",$AX$7:$AX$48))))","v":0},{"$f":"IF($B$50=\"\",SUMIFS($AX$7:$AX$48,$C$7:O51,\"CP-4\",$B$7:$B$48,\"yes\"),MAX(IF($C$7:$C$48=\"CP-4\",IF($B$7:$B$48=\"yes\",$AX$7:$AX$48))))","v":0},{"$f":"IF($B$50=\"\",SUMIFS($BB$7:$BB$48,$C$7:E51,\"CP-4\",$B$7:$B$48,\"no\"),MAX(IF($C$7:$C$48=\"CP-4\",IF($B$7:$B$48=\"no\",$BB$7:$BB$48))))","v":0},{"$f":"IF($B$50=\"\",SUMIFS($BB$7:$BB$48,$C$7:Q51,\"CP-4\",$B$7:$B$48,\"yes\"),MAX(IF($C$7:$C$48=\"CP-4\",IF($B$7:$B$48=\"yes\",$BB$7:$BB$48))))","v":0}]
[null,null,null,null,null,null,null,null,null,null,null,null,null,null,null,null,null,null,null,null,null,null,null,null,"CP-5",{"$f":"IF(B54=\"\",SUMIFS($Z$7:$Z$48,$C$7:C52,\"CP-5\",$B$7:$B$48,\"no\"),MAX(IF($C$7:$C$48=\"CP-5\",IF($B$7:$B$48=\"no\",$Z$7:$Z$48))))","v":0},{"$f":"IF(B54=\"\",SUMIFS($Z$7:$Z$48,$C$7:D52,\"CP-5\",$B$7:$B$48,\"yes\"),MAX(IF($C$7:$C$48=\"CP-5\",IF($B$7:$B$48=\"yes\",$Z$7:$Z$48))))","v":0},{"$f":"IF($B$50=\"\",SUMIFS($AD$7:$AD$48,$C$7:E52,\"CP-5\",$B$7:$B$48,\"no\"),MAX(IF($C$7:$C$48=\"CP-5\",IF($B$7:$B$48=\"no\",$AD$7:$AD$48))))","v":0},{"$f":"IF($B$50=\"\",SUMIFS($AD$7:$AD$48,$C$7:E52,\"CP-5\",$B$7:$B$48,\"yes\"),MAX(IF($C$7:$C$48=\"CP-5\",IF($B$7:$B$48=\"yes\",$AD$7:$AD$48))))","v":0},{"$f":"IF($B$50=\"\",SUMIFS($AH$7:$AH$48,$C$7:E52,\"CP-5\",$B$7:$B$48,\"no\"),MAX(IF($C$7:$C$48=\"CP-5\",IF($B$7:$B$48=\"no\",$AH$7:$AH$48))))","v":0},{"$f":"IF($B$50=\"\",SUMIFS($AH$7:$AH$48,$C$7:G52,\"CP-5\",$B$7:$B$48,\"yes\"),MAX(IF($C$7:$C$48=\"CP-5\",IF($B$7:$B$48=\"yes\",$AH$7:$AH$48))))","v":0},{"$f":"IF($B$50=\"\",SUMIFS($AL$7:$AL$48,$C$7:E52,\"CP-5\",$B$7:$B$48,\"no\"),MAX(IF($C$7:$C$48=\"CP-5\",IF($B$7:$B$48=\"no\",$AL$7:$AL$48))))","v":0},{"$f":"IF($B$50=\"\",SUMIFS($AL$7:$AL$48,$C$7:I52,\"CP-5\",$B$7:$B$48,\"yes\"),MAX(IF($C$7:$C$48=\"CP-5\",IF($B$7:$B$48=\"yes\",$AL$7:$AL$48))))","v":0},{"$f":"IF($B$50=\"\",SUMIFS($AP$7:$AP$48,$C$7:E52,\"CP-5\",$B$7:$B$48,\"no\"),MAX(IF($C$7:$C$48=\"CP-5\",IF($B$7:$B$48=\"no\",$AP$7:$AP$48))))","v":0},{"$f":"IF($B$50=\"\",SUMIFS($AP$7:$AP$48,$C$7:K52,\"CP-5\",$B$7:$B$48,\"yes\"),MAX(IF($C$7:$C$48=\"CP-5\",IF($B$7:$B$48=\"yes\",$AP$7:$AP$48))))","v":0},{"$f":"IF($B$50=\"\",SUMIFS($AT$7:$AT$48,$C$7:E52,\"CP-5\",$B$7:$B$48,\"no\"),MAX(IF($C$7:$C$48=\"CP-5\",IF($B$7:$B$48=\"no\",$AT$7:$AT$48))))","v":0},{"$f":"IF($B$50=\"\",SUMIFS($AT$7:$AT$48,$C$7:M52,\"CP-5\",$B$7:$B$48,\"yes\"),MAX(IF($C$7:$C$48=\"CP-5\",IF($B$7:$B$48=\"yes\",$AT$7:$AT$48))))","v":0},{"$f":"IF($B$50=\"\",SUMIFS($AX$7:$AX$48,$C$7:E52,\"CP-5\",$B$7:$B$48,\"no\"),MAX(IF($C$7:$C$48=\"CP-5\",IF($B$7:$B$48=\"no\",$AX$7:$AX$48))))","v":0},{"$f":"IF($B$50=\"\",SUMIFS($AX$7:$AX$48,$C$7:O52,\"CP-5\",$B$7:$B$48,\"yes\"),MAX(IF($C$7:$C$48=\"CP-5\",IF($B$7:$B$48=\"yes\",$AX$7:$AX$48))))","v":0},{"$f":"IF($B$50=\"\",SUMIFS($BB$7:$BB$48,$C$7:E52,\"CP-5\",$B$7:$B$48,\"no\"),MAX(IF($C$7:$C$48=\"CP-5\",IF($B$7:$B$48=\"no\",$BB$7:$BB$48))))","v":0},{"$f":"IF($B$50=\"\",SUMIFS($BB$7:$BB$48,$C$7:Q52,\"CP-5\",$B$7:$B$48,\"yes\"),MAX(IF($C$7:$C$48=\"CP-5\",IF($B$7:$B$48=\"yes\",$BB$7:$BB$48))))","v":0}]
[null,null,null,null,null,null,null,null,null,null,null,null,null,null,null,null,null,null,null,null,null,null,null,null,"CP-6",{"$f":"IF(B55=\"\",SUMIFS($Z$7:$Z$48,$C$7:C53,\"CP-6\",$B$7:$B$48,\"no\"),MAX(IF($C$7:$C$48=\"CP-6\",IF($B$7:$B$48=\"no\",$Z$7:$Z$48))))","v":0},{"$f":"IF(B55=\"\",SUMIFS($Z$7:$Z$48,$C$7:D53,\"CP-6\",$B$7:$B$48,\"yes\"),MAX(IF($C$7:$C$48=\"CP-6\",IF($B$7:$B$48=\"yes\",$Z$7:$Z$48))))","v":0},{"$f":"IF($B$50=\"\",SUMIFS($AD$7:$AD$48,$C$7:E53,\"CP-6\",$B$7:$B$48,\"no\"),MAX(IF($C$7:$C$48=\"CP-6\",IF($B$7:$B$48=\"no\",$AD$7:$AD$48))))","v":0},{"$f":"IF($B$50=\"\",SUMIFS($AD$7:$AD$48,$C$7:E53,\"CP-6\",$B$7:$B$48,\"yes\"),MAX(IF($C$7:$C$48=\"CP-6\",IF($B$7:$B$48=\"yes\",$AD$7:$AD$48))))","v":0},{"$f":"IF($B$50=\"\",SUMIFS($AH$7:$AH$48,$C$7:E53,\"CP-6\",$B$7:$B$48,\"no\"),MAX(IF($C$7:$C$48=\"CP-6\",IF($B$7:$B$48=\"no\",$AH$7:$AH$48))))","v":0},{"$f":"IF($B$50=\"\",SUMIFS($AH$7:$AH$48,$C$7:G53,\"CP-6\",$B$7:$B$48,\"yes\"),MAX(IF($C$7:$C$48=\"CP-6\",IF($B$7:$B$48=\"yes\",$AH$7:$AH$48))))","v":0},{"$f":"IF($B$50=\"\",SUMIFS($AL$7:$AL$48,$C$7:E53,\"CP-6\",$B$7:$B$48,\"no\"),MAX(IF($C$7:$C$48=\"CP-6\",IF($B$7:$B$48=\"no\",$AL$7:$AL$48))))","v":0},{"$f":"IF($B$50=\"\",SUMIFS($AL$7:$AL$48,$C$7:I53,\"CP-6\",$B$7:$B$48,\"yes\"),MAX(IF($C$7:$C$48=\"CP-6\",IF($B$7:$B$48=\"yes\",$AL$7:$AL$48))))","v":0},{"$f":"IF($B$50=\"\",SUMIFS($AP$7:$AP$48,$C$7:E53,\"CP-6\",$B$7:$B$48,\"no\"),MAX(IF($C$7:$C$48=\"CP-6\",IF($B$7:$B$48=\"no\",$AP$7:$AP$48))))","v":0},{"$f":"IF($B$50=\"\",SUMIFS($AP$7:$AP$48,$C$7:K53,\"CP-6\",$B$7:$B$48,\"yes\"),MAX(IF($C$7:$C$48=\"CP-6\",IF($B$7:$B$48=\"yes\",$AP$7:$AP$48))))","v":0},{"$f":"IF($B$50=\"\",SUMIFS($AT$7:$AT$48,$C$7:E53,\"CP-6\",$B$7:$B$48,\"no\"),MAX(IF($C$7:$C$48=\"CP-6\",IF($B$7:$B$48=\"no\",$AT$7:$AT$48))))","v":0},{"$f":"IF($B$50=\"\",SUMIFS($AT$7:$AT$48,$C$7:M53,\"CP-6\",$B$7:$B$48,\"yes\"),MAX(IF($C$7:$C$48=\"CP-6\",IF($B$7:$B$48=\"yes\",$AT$7:$AT$48))))","v":0},{"$f":"IF($B$50=\"\",SUMIFS($AX$7:$AX$48,$C$7:E53,\"CP-6\",$B$7:$B$48,\"no\"),MAX(IF($C$7:$C$48=\"CP-6\",IF($B$7:$B$48=\"no\",$AX$7:$AX$48))))","v":0},{"$f":"IF($B$50=\"\",SUMIFS($AX$7:$AX$48,$C$7:O53,\"CP-6\",$B$7:$B$48,\"yes\"),MAX(IF($C$7:$C$48=\"CP-6\",IF($B$7:$B$48=\"yes\",$AX$7:$AX$48))))","v":0},{"$f":"IF($B$50=\"\",SUMIFS($BB$7:$BB$48,$C$7:E53,\"CP-6\",$B$7:$B$48,\"no\"),MAX(IF($C$7:$C$48=\"CP-6\",IF($B$7:$B$48=\"no\",$BB$7:$BB$48))))","v":0},{"$f":"IF($B$50=\"\",SUMIFS($BB$7:$BB$48,$C$7:Q53,\"CP-6\",$B$7:$B$48,\"yes\"),MAX(IF($C$7:$C$48=\"CP-6\",IF($B$7:$B$48=\"yes\",$BB$7:$BB$48))))","v":0}]
[null,null,null,null,null,null,null,null,null,null,null,null,null,null,null,null,null,null,null,null,null,null,null,null,"CP-7",{"$f":"IF(B56=\"\",SUMIFS($Z$7:$Z$48,$C$7:C54,\"CP-7\",$B$7:$B$48,\"no\"),MAX(IF($C$7:$C$48=\"CP-7\",IF($B$7:$B$48=\"no\",$Z$7:$Z$48))))","v":0},{"$f":"IF(B56=\"\",SUMIFS($Z$7:$Z$48,$C$7:D54,\"CP-7\",$B$7:$B$48,\"yes\"),MAX(IF($C$7:$C$48=\"CP-7\",IF($B$7:$B$48=\"yes\",$Z$7:$Z$48))))","v":0},{"$f":"IF($B$50=\"\",SUMIFS($AD$7:$AD$48,$C$7:E54,\"CP-7\",$B$7:$B$48,\"no\"),MAX(IF($C$7:$C$48=\"CP-7\",IF($B$7:$B$48=\"no\",$AD$7:$AD$48))))","v":0},{"$f":"IF($B$50=\"\",SUMIFS($AD$7:$AD$48,$C$7:E54,\"CP-7\",$B$7:$B$48,\"yes\"),MAX(IF($C$7:$C$48=\"CP-7\",IF($B$7:$B$48=\"yes\",$AD$7:$AD$48))))","v":0},{"$f":"IF($B$50=\"\",SUMIFS($AH$7:$AH$48,$C$7:E54,\"CP-7\",$B$7:$B$48,\"no\"),MAX(IF($C$7:$C$48=\"CP-7\",IF($B$7:$B$48=\"no\",$AH$7:$AH$48))))","v":0},{"$f":"IF($B$50=\"\",SUMIFS($AH$7:$AH$48,$C$7:G54,\"CP-7\",$B$7:$B$48,\"yes\"),MAX(IF($C$7:$C$48=\"CP-7\",IF($B$7:$B$48=\"yes\",$AH$7:$AH$48))))","v":0},{"$f":"IF($B$50=\"\",SUMIFS($AL$7:$AL$48,$C$7:E54,\"CP-7\",$B$7:$B$48,\"no\"),MAX(IF($C$7:$C$48=\"CP-7\",IF($B$7:$B$48=\"no\",$AL$7:$AL$48))))","v":0},{"$f":"IF($B$50=\"\",SUMIFS($AL$7:$AL$48,$C$7:I54,\"CP-7\",$B$7:$B$48,\"yes\"),MAX(IF($C$7:$C$48=\"CP-7\",IF($B$7:$B$48=\"yes\",$AL$7:$AL$48))))","v":0},{"$f":"IF($B$50=\"\",SUMIFS($AP$7:$AP$48,$C$7:E54,\"CP-7\",$B$7:$B$48,\"no\"),MAX(IF($C$7:$C$48=\"CP-7\",IF($B$7:$B$48=\"no\",$AP$7:$AP$48))))","v":0},{"$f":"IF($B$50=\"\",SUMIFS($AP$7:$AP$48,$C$7:K54,\"CP-7\",$B$7:$B$48,\"yes\"),MAX(IF($C$7:$C$48=\"CP-7\",IF($B$7:$B$48=\"yes\",$AP$7:$AP$48))))","v":0},{"$f":"IF($B$50=\"\",SUMIFS($AT$7:$AT$48,$C$7:E54,\"CP-7\",$B$7:$B$48,\"no\"),MAX(IF($C$7:$C$48=\"CP-7\",IF($B$7:$B$48=\"no\",$AT$7:$AT$48))))","v":0},{"$f":"IF($B$50=\"\",SUMIFS($AT$7:$AT$48,$C$7:M54,\"CP-7\",$B$7:$B$48,\"yes\"),MAX(IF($C$7:$C$48=\"CP-7\",IF($B$7:$B$48=\"yes\",$AT$7:$AT$48))))","v":0},{"$f":"IF($B$50=\"\",SUMIFS($AX$7:$AX$48,$C$7:E54,\"CP-7\",$B$7:$B$48,\"no\"),MAX(IF($C$7:$C$48=\"CP-7\",IF($B$7:$B$48=\"no\",$AX$7:$AX$48))))","v":0},{"$f":"IF($B$50=\"\",SUMIFS($AX$7:$AX$48,$C$7:O54,\"CP-7\",$B$7:$B$48,\"yes\"),MAX(IF($C$7:$C$48=\"CP-7\",IF($B$7:$B$48=\"yes\",$AX$7:$AX$48))))","v":0},{"$f":"IF($B$50=\"\",SUMIFS($BB$7:$BB$48,$C$7:E54,\"CP-7\",$B$7:$B$48,\"no\"),MAX(IF($C$7:$C$48=\"CP-7\",IF($B$7:$B$48=\"no\",$BB$7:$BB$48))))","v":0},{"$f":"IF($B$50=\"\",SUMIFS($BB$7:$BB$48,$C$7:Q54,\"CP-7\",$B$7:$B$48,\"yes\"),MAX(IF($C$7:$C$48=\"CP-7\",IF($B$7:$B$48=\"yes\",$BB$7:$BB$48))))","v":0}]
[null,null,null,null,null,null,null,null,null,null,null,null,null,null,null,null,null,null,null,null,null,null,null,null,"CP-8",{"$f":"IF(B57=\"\",SUMIFS($Z$7:$Z$48,$C$7:C55,\"CP-8\",$B$7:$B$48,\"no\"),MAX(IF($C$7:$C$48=\"CP-8\",IF($B$7:$B$48=\"no\",$Z$7:$Z$48))))","v":0},{"$f":"IF(B57=\"\",SUMIFS($Z$7:$Z$48,$C$7:D55,\"CP-8\",$B$7:$B$48,\"yes\"),MAX(IF($C$7:$C$48=\"CP-8\",IF($B$7:$B$48=\"yes\",$Z$7:$Z$48))))","v":0},{"$f":"IF($B$50=\"\",SUMIFS($AD$7:$AD$48,$C$7:E55,\"CP-8\",$B$7:$B$48,\"no\"),MAX(IF($C$7:$C$48=\"CP-8\",IF($B$7:$B$48=\"no\",$AD$7:$AD$48))))","v":0},{"$f":"IF($B$50=\"\",SUMIFS($AD$7:$AD$48,$C$7:E55,\"CP-8\",$B$7:$B$48,\"yes\"),MAX(IF($C$7:$C$48=\"CP-8\",IF($B$7:$B$48=\"yes\",$AD$7:$AD$48))))","v":0},{"$f":"IF($B$50=\"\",SUMIFS($AH$7:$AH$48,$C$7:E55,\"CP-8\",$B$7:$B$48,\"no\"),MAX(IF($C$7:$C$48=\"CP-8\",IF($B$7:$B$48=\"no\",$AH$7:$AH$48))))","v":0},{"$f":"IF($B$50=\"\",SUMIFS($AH$7:$AH$48,$C$7:G55,\"CP-8\",$B$7:$B$48,\"yes\"),MAX(IF($C$7:$C$48=\"CP-8\",IF($B$7:$B$48=\"yes\",$AH$7:$AH$48))))","v":0},{"$f":"IF($B$50=\"\",SUMIFS($AL$7:$AL$48,$C$7:E55,\"CP-8\",$B$7:$B$48,\"no\"),MAX(IF($C$7:$C$48=\"CP-8\",IF($B$7:$B$48=\"no\",$AL$7:$AL$48))))","v":0},{"$f":"IF($B$50=\"\",SUMIFS($AL$7:$AL$48,$C$7:I55,\"CP-8\",$B$7:$B$48,\"yes\"),MAX(IF($C$7:$C$48=\"CP-8\",IF($B$7:$B$48=\"yes\",$AL$7:$AL$48))))","v":0},{"$f":"IF($B$50=\"\",SUMIFS($AP$7:$AP$48,$C$7:E55,\"CP-8\",$B$7:$B$48,\"no\"),MAX(IF($C$7:$C$48=\"CP-8\",IF($B$7:$B$48=\"no\",$AP$7:$AP$48))))","v":0},{"$f":"IF($B$50=\"\",SUMIFS($AP$7:$AP$48,$C$7:K55,\"CP-8\",$B$7:$B$48,\"yes\"),MAX(IF($C$7:$C$48=\"CP-8\",IF($B$7:$B$48=\"yes\",$AP$7:$AP$48))))","v":0},{"$f":"IF($B$50=\"\",SUMIFS($AT$7:$AT$48,$C$7:E55,\"CP-8\",$B$7:$B$48,\"no\"),MAX(IF($C$7:$C$48=\"CP-8\",IF($B$7:$B$48=\"no\",$AT$7:$AT$48))))","v":0},{"$f":"IF($B$50=\"\",SUMIFS($AT$7:$AT$48,$C$7:M55,\"CP-8\",$B$7:$B$48,\"yes\"),MAX(IF($C$7:$C$48=\"CP-8\",IF($B$7:$B$48=\"yes\",$AT$7:$AT$48))))","v":0},{"$f":"IF($B$50=\"\",SUMIFS($AX$7:$AX$48,$C$7:E55,\"CP-8\",$B$7:$B$48,\"no\"),MAX(IF($C$7:$C$48=\"CP-8\",IF($B$7:$B$48=\"no\",$AX$7:$AX$48))))","v":0},{"$f":"IF($B$50=\"\",SUMIFS($AX$7:$AX$48,$C$7:O55,\"CP-8\",$B$7:$B$48,\"yes\"),MAX(IF($C$7:$C$48=\"CP-8\",IF($B$7:$B$48=\"yes\",$AX$7:$AX$48))))","v":0},{"$f":"IF($B$50=\"\",SUMIFS($BB$7:$BB$48,$C$7:E55,\"CP-8\",$B$7:$B$48,\"no\"),MAX(IF($C$7:$C$48=\"CP-8\",IF($B$7:$B$48=\"no\",$BB$7:$BB$48))))","v":0},{"$f":"IF($B$50=\"\",SUMIFS($BB$7:$BB$48,$C$7:Q55,\"CP-8\",$B$7:$B$48,\"yes\"),MAX(IF($C$7:$C$48=\"CP-8\",IF($B$7:$B$48=\"yes\",$BB$7:$BB$48))))","v":0}]
[null,null,null,null,null,null,null,null,null,null,null,null,null,null,null,null,null,null,null,null,null,null,null,null,"CP-9",{"$f":"IF(B58=\"\",SUMIFS($Z$7:$Z$48,$C$7:C56,\"CP-9\",$B$7:$B$48,\"no\"),MAX(IF($C$7:$C$48=\"CP-9\",IF($B$7:$B$48=\"no\",$Z$7:$Z$48))))","v":0},{"$f":"IF(B58=\"\",SUMIFS($Z$7:$Z$48,$C$7:D56,\"CP-9\",$B$7:$B$48,\"yes\"),MAX(IF($C$7:$C$48=\"CP-9\",IF($B$7:$B$48=\"yes\",$Z$7:$Z$48))))","v":0},{"$f":"IF($B$50=\"\",SUMIFS($AD$7:$AD$48,$C$7:E56,\"CP-9\",$B$7:$B$48,\"no\"),MAX(IF($C$7:$C$48=\"CP-9\",IF($B$7:$B$48=\"no\",$AD$7:$AD$48))))","v":0},{"$f":"IF($B$50=\"\",SUMIFS($AD$7:$AD$48,$C$7:E56,\"CP-9\",$B$7:$B$48,\"yes\"),MAX(IF($C$7:$C$48=\"CP-9\",IF($B$7:$B$48=\"yes\",$AD$7:$AD$48))))","v":0},{"$f":"IF($B$50=\"\",SUMIFS($AH$7:$AH$48,$C$7:E56,\"CP-9\",$B$7:$B$48,\"no\"),MAX(IF($C$7:$C$48=\"CP-9\",IF($B$7:$B$48=\"no\",$AH$7:$AH$48))))","v":0},{"$f":"IF($B$50=\"\",SUMIFS($AH$7:$AH$48,$C$7:G56,\"CP-9\",$B$7:$B$48,\"yes\"),MAX(IF($C$7:$C$48=\"CP-9\",IF($B$7:$B$48=\"yes\",$AH$7:$AH$48))))","v":0},{"$f":"IF($B$50=\"\",SUMIFS($AL$7:$AL$48,$C$7:E56,\"CP-9\",$B$7:$B$48,\"no\"),MAX(IF($C$7:$C$48=\"CP-9\",IF($B$7:$B$48=\"no\",$AL$7:$AL$48))))","v":0},{"$f":"IF($B$50=\"\",SUMIFS($AL$7:$AL$48,$C$7:I56,\"CP-9\",$B$7:$B$48,\"yes\"),MAX(IF($C$7:$C$48=\"CP-9\",IF($B$7:$B$48=\"yes\",$AL$7:$AL$48))))","v":0},{"$f":"IF($B$50=\"\",SUMIFS($AP$7:$AP$48,$C$7:E56,\"CP-9\",$B$7:$B$48,\"no\"),MAX(IF($C$7:$C$48=\"CP-9\",IF($B$7:$B$48=\"no\",$AP$7:$AP$48))))","v":0},{"$f":"IF($B$50=\"\",SUMIFS($AP$7:$AP$48,$C$7:K56,\"CP-9\",$B$7:$B$48,\"yes\"),MAX(IF($C$7:$C$48=\"CP-9\",IF($B$7:$B$48=\"yes\",$AP$7:$AP$48))))","v":0},{"$f":"IF($B$50=\"\",SUMIFS($AT$7:$AT$48,$C$7:E56,\"CP-9\",$B$7:$B$48,\"no\"),MAX(IF($C$7:$C$48=\"CP-9\",IF($B$7:$B$48=\"no\",$AT$7:$AT$48))))","v":0},{"$f":"IF($B$50=\"\",SUMIFS($AT$7:$AT$48,$C$7:M56,\"CP-9\",$B$7:$B$48,\"yes\"),MAX(IF($C$7:$C$48=\"CP-9\",IF($B$7:$B$48=\"yes\",$AT$7:$AT$48))))","v":0},{"$f":"IF($B$50=\"\",SUMIFS($AX$7:$AX$48,$C$7:E56,\"CP-9\",$B$7:$B$48,\"no\"),MAX(IF($C$7:$C$48=\"CP-9\",IF($B$7:$B$48=\"no\",$AX$7:$AX$48))))","v":0},{"$f":"IF($B$50=\"\",SUMIFS($AX$7:$AX$48,$C$7:O56,\"CP-9\",$B$7:$B$48,\"yes\"),MAX(IF($C$7:$C$48=\"CP-9\",IF($B$7:$B$48=\"yes\",$AX$7:$AX$48))))","v":0},{"$f":"IF($B$50=\"\",SUMIFS($BB$7:$BB$48,$C$7:E56,\"CP-9\",$B$7:$B$48,\"no\"),MAX(IF($C$7:$C$48=\"CP-9\",IF($B$7:$B$48=\"no\",$BB$7:$BB$48))))","v":0},{"$f":"IF($B$50=\"\",SUMIFS($BB$7:$BB$48,$C$7:Q56,\"CP-9\",$B$7:$B$48,\"yes\"),MAX(IF($C$7:$C$48=\"CP-9\",IF($B$7:$B$48=\"yes\",$BB$7:$BB$48))))","v":0}]
[null,null,null,null,null,null,null,null,null,null,null,null,null,null,null,null,null,null,null,null,null,null,null,null,"CP-10",{"$f":"IF(B59=\"\",SUMIFS($Z$7:$Z$48,$C$7:C57,\"CP-10\",$B$7:$B$48,\"no\"),MAX(IF($C$7:$C$48=\"CP-10\",IF($B$7:$B$48=\"no\",$Z$7:$Z$48))))","v":0},{"$f":"IF(B59=\"\",SUMIFS($Z$7:$Z$48,$C$7:D57,\"CP-10\",$B$7:$B$48,\"yes\"),MAX(IF($C$7:$C$48=\"CP-10\",IF($B$7:$B$48=\"yes\",$Z$7:$Z$48))))","v":0},{"$f":"IF($B$50=\"\",SUMIFS($AD$7:$AD$48,$C$7:E57,\"CP-10\",$B$7:$B$48,\"no\"),MAX(IF($C$7:$C$48=\"CP-10\",IF($B$7:$B$48=\"no\",$AD$7:$AD$48))))","v":0},{"$f":"IF($B$50=\"\",SUMIFS($AD$7:$AD$48,$C$7:E57,\"CP-10\",$B$7:$B$48,\"yes\"),MAX(IF($C$7:$C$48=\"CP-10\",IF($B$7:$B$48=\"yes\",$AD$7:$AD$48))))","v":0},{"$f":"IF($B$50=\"\",SUMIFS($AH$7:$AH$48,$C$7:E57,\"CP-10\",$B$7:$B$48,\"no\"),MAX(IF($C$7:$C$48=\"CP-10\",IF($B$7:$B$48=\"no\",$AH$7:$AH$48))))","v":0},{"$f":"IF($B$50=\"\",SUMIFS($AH$7:$AH$48,$C$7:G57,\"CP-10\",$B$7:$B$48,\"yes\"),MAX(IF($C$7:$C$48=\"CP-10\",IF($B$7:$B$48=\"yes\",$AH$7:$AH$48))))","v":0},{"$f":"IF($B$50=\"\",SUMIFS($AL$7:$AL$48,$C$7:E57,\"CP-10\",$B$7:$B$48,\"no\"),MAX(IF($C$7:$C$48=\"CP-10\",IF($B$7:$B$48=\"no\",$AL$7:$AL$48))))","v":0},{"$f":"IF($B$50=\"\",SUMIFS($AL$7:$AL$48,$C$7:I57,\"CP-10\",$B$7:$B$48,\"yes\"),MAX(IF($C$7:$C$48=\"CP-10\",IF($B$7:$B$48=\"yes\",$AL$7:$AL$48))))","v":0},{"$f":"IF($B$50=\"\",SUMIFS($AP$7:$AP$48,$C$7:E57,\"CP-10\",$B$7:$B$48,\"no\"),MAX(IF($C$7:$C$48=\"CP-10\",IF($B$7:$B$48=\"no\",$AP$7:$AP$48))))","v":0},{"$f":"IF($B$50=\"\",SUMIFS($AP$7:$AP$48,$C$7:K57,\"CP-10\",$B$7:$B$48,\"yes\"),MAX(IF($C$7:$C$48=\"CP-10\",IF($B$7:$B$48=\"yes\",$AP$7:$AP$48))))","v":0},{"$f":"IF($B$50=\"\",SUMIFS($AT$7:$AT$48,$C$7:E57,\"CP-10\",$B$7:$B$48,\"no\"),MAX(IF($C$7:$C$48=\"CP-10\",IF($B$7:$B$48=\"no\",$AT$7:$AT$48))))","v":0},{"$f":"IF($B$50=\"\",SUMIFS($AT$7:$AT$48,$C$7:M57,\"CP-10\",$B$7:$B$48,\"yes\"),MAX(IF($C$7:$C$48=\"CP-10\",IF($B$7:$B$48=\"yes\",$AT$7:$AT$48))))","v":0},{"$f":"IF($B$50=\"\",SUMIFS($AX$7:$AX$48,$C$7:E57,\"CP-10\",$B$7:$B$48,\"no\"),MAX(IF($C$7:$C$48=\"CP-10\",IF($B$7:$B$48=\"no\",$AX$7:$AX$48))))","v":0},{"$f":"IF($B$50=\"\",SUMIFS($AX$7:$AX$48,$C$7:O57,\"CP-10\",$B$7:$B$48,\"yes\"),MAX(IF($C$7:$C$48=\"CP-10\",IF($B$7:$B$48=\"yes\",$AX$7:$AX$48))))","v":0},{"$f":"IF($B$50=\"\",SUMIFS($BB$7:$BB$48,$C$7:E57,\"CP-10\",$B$7:$B$48,\"no\"),MAX(IF($C$7:$C$48=\"CP-10\",IF($B$7:$B$48=\"no\",$BB$7:$BB$48))))","v":0},{"$f":"IF($B$50=\"\",SUMIFS($BB$7:$BB$48,$C$7:Q57,\"CP-10\",$B$7:$B$48,\"yes\"),MAX(IF($C$7:$C$48=\"CP-10\",IF($B$7:$B$48=\"yes\",$BB$7:$BB$48))))","v":0}]
[]
[null,null,null,null,null,null,null,null,null,null,null,null,null,null,null,null,null,null,null,null,null,null,null,null,null,{"$f":"SUM(IF($B$50>0,IF(Z65>AA65,Z65,0),SUM(Z65,AA65)),IF($B$51>0,IF(Z66>AA66,Z66,0),SUM(Z66,AA66)),IF($B$52>0,IF(Z67>AA67,Z67,0),SUM(Z67,AA67)),IF($B$53>0,IF(Z68>AA68,Z68,0),SUM(Z68,AA68)),IF($B$53>0,IF(Z69>AA69,Z69,0),SUM(Z69,AA69)),IF($B$54>0,IF(Z70>AA70,Z70,0),SUM(Z70,AA70)),IF($B$55>0,IF(Z71>AA71,Z71,0),SUM(Z71,AA71)),IF($B$56>0,IF(Z72>AA72,Z72,0),SUM(Z72,AA72)),IF($B$57>0,IF(Z73>AA73,Z73,0),SUM(Z73,AA73)),IF($B$58>0,IF(Z74>AA74,Z74,0),SUM(Z74,AA74)))","v":0},{"$f":"SUM(IF($B$50>0,IF(Z65<AA65,AA65,0),SUM(Z65,AA65)),IF($B$51>0,IF(Z66<AA66,AA66,0),SUM(Z66,AA66)),IF($B$52>0,IF(Z67<AA67,AA67,0),SUM(Z67,AA67)),IF($B$53>0,IF(Z68<AA68,AA68,0),SUM(Z68,AA68)),IF($B$53>0,IF(Z69<AA69,AA69,0),SUM(Z69,AA69)),IF($B$54>0,IF(Z70<AA70,AA70,0),SUM(Z70,AA70)),IF($B$55>0,IF(Z71<AA71,AA71,0),SUM(Z71,AA71)),IF($B$56>0,IF(Z72<AA72,AA72,0),SUM(Z72,AA72)),IF($B$57>0,IF(Z73<AA73,AA73,0),SUM(Z73,AA73)),IF($B$58>0,IF(Z74<AA74,AA74,0),SUM(Z74,AA74)))","v":0},{"$f":"SUM(IF($B$50>0,IF(AB65>AC65,AB65,0),SUM(AB65,AC65)),IF($B$51>0,IF(AB66>AC66,AB66,0),SUM(AB66,AC66)),IF($B$52>0,IF(AB67>AC67,AB67,0),SUM(AB67,AC67)),IF($B$53>0,IF(AB68>AC68,AB68,0),SUM(AB68,AC68)),IF($B$53>0,IF(AB69>AC69,AB69,0),SUM(AB69,AC69)),IF($B$54>0,IF(AB70>AC70,AB70,0),SUM(AB70,AC70)),IF($B$55>0,IF(AB71>AC71,AB71,0),SUM(AB71,AC71)),IF($B$56>0,IF(AB72>AC72,AB72,0),SUM(AB72,AC72)),IF($B$57>0,IF(AB73>AC73,AB73,0),SUM(AB73,AC73)),IF($B$58>0,IF(AB74>AC74,AB74,0),SUM(AB74,AC74)))","v":0},{"$f":"SUM(IF($B$50>0,IF(AB65<AC65,AC65,0),SUM(AB65,AC65)),IF($B$51>0,IF(AB66<AC66,AC66,0),SUM(AB66,AC66)),IF($B$52>0,IF(AB67<AC67,AC67,0),SUM(AB67,AC67)),IF($B$53>0,IF(AB68<AC68,AC68,0),SUM(AB68,AC68)),IF($B$53>0,IF(AB69<AC69,AC69,0),SUM(AB69,AC69)),IF($B$54>0,IF(AB70<AC70,AC70,0),SUM(AB70,AC70)),IF($B$55>0,IF(AB71<AC71,AC71,0),SUM(AB71,AC71)),IF($B$56>0,IF(AB72<AC72,AC72,0),SUM(AB72,AC72)),IF($B$57>0,IF(AB73<AC73,AC73,0),SUM(AB73,AC73)),IF($B$58>0,IF(AB74<AC74,AC74,0),SUM(AB74,AC74)))","v":0},{"$f":"SUM(IF($B$50>0,IF(AD65>AE65,AD65,0),SUM(AD65,AE65)),IF($B$51>0,IF(AD66>AE66,AD66,0),SUM(AD66,AE66)),IF($B$52>0,IF(AD67>AE67,AD67,0),SUM(AD67,AE67)),IF($B$53>0,IF(AD68>AE68,AD68,0),SUM(AD68,AE68)),IF($B$53>0,IF(AD69>AE69,AD69,0),SUM(AD69,AE69)),IF($B$54>0,IF(AD70>AE70,AD70,0),SUM(AD70,AE70)),IF($B$55>0,IF(AD71>AE71,AD71,0),SUM(AD71,AE71)),IF($B$56>0,IF(AD72>AE72,AD72,0),SUM(AD72,AE72)),IF($B$57>0,IF(AD73>AE73,AD73,0),SUM(AD73,AE73)),IF($B$58>0,IF(AD74>AE74,AD74,0),SUM(AD74,AE74)))","v":0},{"$f":"SUM(IF($B$50>0,IF(AD65<AE65,AE65,0),SUM(AD65,AE65)),IF($B$51>0,IF(AD66<AE66,AE66,0),SUM(AD66,AE66)),IF($B$52>0,IF(AD67<AE67,AE67,0),SUM(AD67,AE67)),IF($B$53>0,IF(AD68<AE68,AE68,0),SUM(AD68,AE68)),IF($B$53>0,IF(AD69<AE69,AE69,0),SUM(AD69,AE69)),IF($B$54>0,IF(AD70<AE70,AE70,0),SUM(AD70,AE70)),IF($B$55>0,IF(AD71<AE71,AE71,0),SUM(AD71,AE71)),IF($B$56>0,IF(AD72<AE72,AE72,0),SUM(AD72,AE72)),IF($B$57>0,IF(AD73<AE73,AE73,0),SUM(AD73,AE73)),IF($B$58>0,IF(AD74<AE74,AE74,0),SUM(AD74,AE74)))","v":0},0,{"$f":"SUM(IF($B$50>0,IF(AF65<AG65,AG65,0),SUM(AF65,AG65)),IF($B$51>0,IF(AF66<AG66,AG66,0),SUM(AF66,AG66)),IF($B$52>0,IF(AF67<AG67,AG67,0),SUM(AF67,AG67)),IF($B$53>0,IF(AF68<AG68,AG68,0),SUM(AF68,AG68)),IF($B$53>0,IF(AF69<AG69,AG69,0),SUM(AF69,AG69)),IF($B$54>0,IF(AF70<AG70,AG70,0),SUM(AF70,AG70)),IF($B$55>0,IF(AF71<AG71,AG71,0),SUM(AF71,AG71)),IF($B$56>0,IF(AF72<AG72,AG72,0),SUM(AF72,AG72)),IF($B$57>0,IF(AF73<AG73,AG73,0),SUM(AF73,AG73)),IF($B$58>0,IF(AF74<AG74,AG74,0),SUM(AF74,AG74)))","v":0},0,{"$f":"SUM(IF($B$50>0,IF(AH65<AI65,AI65,0),SUM(AH65,AI65)),IF($B$51>0,IF(AH66<AI66,AI66,0),SUM(AH66,AI66)),IF($B$52>0,IF(AH67<AI67,AI67,0),SUM(AH67,AI67)),IF($B$53>0,IF(AH68<AI68,AI68,0),SUM(AH68,AI68)),IF($B$53>0,IF(AH69<AI69,AI69,0),SUM(AH69,AI69)),IF($B$54>0,IF(AH70<AI70,AI70,0),SUM(AH70,AI70)),IF($B$55>0,IF(AH71<AI71,AI71,0),SUM(AH71,AI71)),IF($B$56>0,IF(AH72<AI72,AI72,0),SUM(AH72,AI72)),IF($B$57>0,IF(AH73<AI73,AI73,0),SUM(AH73,AI73)),IF($B$58>0,IF(AH74<AI74,AI74,0),SUM(AH74,AI74)))","v":0},0,{"$f":"SUM(IF($B$50>0,IF(AJ65<AK65,AK65,0),SUM(AJ65,AK65)),IF($B$51>0,IF(AJ66<AK66,AK66,0),SUM(AJ66,AK66)),IF($B$52>0,IF(AJ67<AK67,AK67,0),SUM(AJ67,AK67)),IF($B$53>0,IF(AJ68<AK68,AK68,0),SUM(AJ68,AK68)),IF($B$53>0,IF(AJ69<AK69,AK69,0),SUM(AJ69,AK69)),IF($B$54>0,IF(AJ70<AK70,AK70,0),SUM(AJ70,AK70)),IF($B$55>0,IF(AJ71<AK71,AK71,0),SUM(AJ71,AK71)),IF($B$56>0,IF(AJ72<AK72,AK72,0),SUM(AJ72,AK72)),IF($B$57>0,IF(AJ73<AK73,AK73,0),SUM(AJ73,AK73)),IF($B$58>0,IF(AJ74<AK74,AK74,0),SUM(AJ74,AK74)))","v":0},0,{"$f":"SUM(IF($B$50>0,IF(AL65<AM65,AM65,0),SUM(AL65,AM65)),IF($B$51>0,IF(AL66<AM66,AM66,0),SUM(AL66,AM66)),IF($B$52>0,IF(AL67<AM67,AM67,0),SUM(AL67,AM67)),IF($B$53>0,IF(AL68<AM68,AM68,0),SUM(AL68,AM68)),IF($B$53>0,IF(AL69<AM69,AM69,0),SUM(AL69,AM69)),IF($B$54>0,IF(AL70<AM70,AM70,0),SUM(AL70,AM70)),IF($B$55>0,IF(AL71<AM71,AM71,0),SUM(AL71,AM71)),IF($B$56>0,IF(AL72<AM72,AM72,0),SUM(AL72,AM72)),IF($B$57>0,IF(AL73<AM73,AM73,0),SUM(AL73,AM73)),IF($B$58>0,IF(AL74<AM74,AM74,0),SUM(AL74,AM74)))","v":0},0,{"$f":"SUM(IF($B$50>0,IF(AN65<AO65,AO65,0),SUM(AN65,AO65)),IF($B$51>0,IF(AN66<AO66,AO66,0),SUM(AN66,AO66)),IF($B$52>0,IF(AN67<AO67,AO67,0),SUM(AN67,AO67)),IF($B$53>0,IF(AN68<AO68,AO68,0),SUM(AN68,AO68)),IF($B$53>0,IF(AN69<AO69,AO69,0),SUM(AN69,AO69)),IF($B$54>0,IF(AN70<AO70,AO70,0),SUM(AN70,AO70)),IF($B$55>0,IF(AN71<AO71,AO71,0),SUM(AN71,AO71)),IF($B$56>0,IF(AN72<AO72,AO72,0),SUM(AN72,AO72)),IF($B$57>0,IF(AN73<AO73,AO73,0),SUM(AN73,AO73)),IF($B$58>0,IF(AN74<AO74,AO74,0),SUM(AN74,AO74)))","v":0}]

{"sheet":"Emission Calculations","index":13,"n_rows":68,"n_cols":13,"rows_kept":68,"cut":false,"hidden":false,"merged":[]}
["FACILITY-WIDE EMISSION CALCULATIONS"]
[]
["PM2. 5",null,null,null,null,null,null,null,"Potential Hourly ",null,"Potential Hourly","Potential Annual ","Actual"]
["EP","Description of Process","SCC #","Max Design Rate","Units of Measure","Emission Factor","Units of Measure","Source of Emission Factor","Uncontrolled Emissions(lb/hr)","Control Efficiency","Controlled Emissions (lb/hr)","Emissions (tons/yr)","Emissions (tons/yr)"]
[{"$f":"IF(SUM('Concrete Plant (CP-1)'!Q21,'Concrete Plant (CP-2)'!Q21,'Concrete Plant (CP-3)'!Q21,'Concrete Plant (CP-4)'!Q21,'Concrete Plant (CP-5)'!Q21,'Concrete Plant (CP-6)'!Q21,'Concrete Plant (CP-7)'!Q21,'Concrete Plant (CP-8)'!Q21,'Concrete Plant (CP-9)'!Q21,'Concrete Plant (CP-10)'!Q21)>0,\"ALL\",\"\")","v":""},{"$f":"IF(SUM('Concrete Plant (CP-1)'!Q21,'Concrete Plant (CP-2)'!Q21,'Concrete Plant (CP-3)'!Q21,'Concrete Plant (CP-4)'!Q21,'Concrete Plant (CP-5)'!Q21,'Concrete Plant (CP-6)'!Q21,'Concrete Plant (CP-7)'!Q21,'Concrete Plant (CP-8)'!Q21,'Concrete Plant (CP-9)'!Q21,'Concrete Plant (CP-10)'!Q21)>0,\"Aggregate Delivery to Ground Storage\",\"\")","v":""},{"$f":"IF(B5=\"\",\"\",\"30501121\")","v":""},{"$f":"IF(SUM('Concrete Plant (CP-1)'!Q21,'Concrete Plant (CP-2)'!Q21,'Concrete Plant (CP-3)'!Q21,'Concrete Plant (CP-4)'!Q21,'Concrete Plant (CP-5)'!Q21,'Concrete Plant (CP-6)'!Q21,'Concrete Plant (CP-7)'!Q21,'Concrete Plant (CP-8)'!Q21,'Concrete Plant (CP-9)'!Q21,'Concrete Plant (CP-10)'!Q21)>0,SUM('Concrete Plant (CP-1)'!Q21,'Concrete Plant (CP-2)'!Q21,'Concrete Plant (CP-3)'!Q21,'Concrete Plant (CP-4)'!Q21,'Concrete Plant (CP-5)'!Q21,'Concrete Plant (CP-6)'!Q21,'Concrete Plant (CP-7)'!Q21,'Concrete Plant (CP-8)'!Q21,'Concrete Plant (CP-9)'!Q21,'Concrete Plant (CP-10)'!Q21),\"\")","v":""},{"$f":"IF(B5=\"\",\"\",\"cubic yd/hr\")","v":""},{"$f":"IF(B5=\"\",\"\",LOOKUP(B5,'Emission Factors'!$A$5:$A$16,'Emission Factors'!$D$5:$D$16))","v":""},{"$f":"IF(B5=\"\",\"\",\"lb/cubic yd\")","v":""},{"$f":"IF(B5=\"\",\"\",LOOKUP(B5,'Emission Factors'!$A$5:$A$16,'Emission Factors'!$F$5:$F$16))","v":""},{"$f":"IF(D5=\"\",\"\",SUM('Concrete Plant (CP-1)'!S21,'Concrete Plant (CP-2)'!S21,'Concrete Plant (CP-3)'!S21,'Concrete Plant (CP-4)'!S21,'Concrete Plant (CP-5)'!S21,'Concrete Plant (CP-6)'!S21,'Concrete Plant (CP-7)'!S21,'Concrete Plant (CP-8)'!S21,'Concrete Plant (CP-8)'!S21,'Concrete Plant (CP-10)'!S21))","v":""},null,{"$f":"IF(D5=\"\",\"\",IF(SUM('Concrete Plant (CP-1)'!T21,'Concrete Plant (CP-2)'!T21,'Concrete Plant (CP-3)'!T21,'Concrete Plant (CP-4)'!T21,'Concrete Plant (CP-5)'!T21,'Concrete Plant (CP-6)'!T21,'Concrete Plant (CP-7)'!T21,'Concrete Plant (CP-8)'!T21,'Concrete Plant (CP-9)'!T21,'Concrete Plant (CP-10)'!T21)>0,SUM('Concrete Plant (CP-1)'!T21,'Concrete Plant (CP-2)'!T21,'Concrete Plant (CP-3)'!T21,'Concrete Plant (CP-4)'!T21,'Concrete Plant (CP-5)'!T21,'Concrete Plant (CP-6)'!T21,'Concrete Plant (CP-7)'!T21,'Concrete Plant (CP-8)'!T21,'Concrete Plant (CP-9)'!T21,'Concrete Plant (CP-10)'!T21),\"\"))","v":""},{"$f":"IF(B5=\"\",\"\",SUM('Concrete Plant (CP-1)'!U21,'Concrete Plant (CP-2)'!U21,'Concrete Plant (CP-3)'!U21,'Concrete Plant (CP-4)'!U21,'Concrete Plant (CP-5)'!U21,'Concrete Plant (CP-6)'!U21,'Concrete Plant (CP-7)'!U21,'Concrete Plant (CP-8)'!U21,'Concrete Plant (CP-9)'!U21,'Concrete Plant (CP-10)'!U21))","v":""},{"$f":"IF(B5=\"\",\"\",SUM('Concrete Plant (CP-1)'!V21,'Concrete Plant (CP-2)'!V21,'Concrete Plant (CP-3)'!V21,'Concrete Plant (CP-4)'!V21,'Concrete Plant (CP-5)'!V21,'Concrete Plant (CP-6)'!V21,'Concrete Plant (CP-7)'!V21,'Concrete Plant (CP-8)'!V21,'Concrete Plant (CP-9)'!V21,'Concrete Plant (CP-10)'!V21))","v":""}]
[{"$f":"IF(SUM('Concrete Plant (CP-1)'!Q22,'Concrete Plant (CP-2)'!Q22,'Concrete Plant (CP-3)'!Q22,'Concrete Plant (CP-4)'!Q22,'Concrete Plant (CP-5)'!Q22,'Concrete Plant (CP-6)'!Q22,'Concrete Plant (CP-7)'!Q22,'Concrete Plant (CP-8)'!Q22,'Concrete Plant (CP-9)'!Q22,'Concrete Plant (CP-10)'!Q22)>0,\"ALL\",\"\")","v":""},{"$f":"IF(SUM('Concrete Plant (CP-1)'!Q22,'Concrete Plant (CP-2)'!Q22,'Concrete Plant (CP-3)'!Q22,'Concrete Plant (CP-4)'!Q22,'Concrete Plant (CP-5)'!Q22,'Concrete Plant (CP-6)'!Q22,'Concrete Plant (CP-7)'!Q22,'Concrete Plant (CP-8)'!Q22,'Concrete Plant (CP-9)'!Q22,'Concrete Plant (CP-10)'!Q22)>0,\"Sand Delivery to Ground Storage\",\"\")","v":""},{"$f":"IF(B6=\"\",\"\",\"30501122\")","v":""},{"$f":"IF(SUM('Concrete Plant (CP-1)'!Q22,'Concrete Plant (CP-2)'!Q22,'Concrete Plant (CP-3)'!Q22,'Concrete Plant (CP-4)'!Q22,'Concrete Plant (CP-5)'!Q22,'Concrete Plant (CP-6)'!Q22,'Concrete Plant (CP-7)'!Q22,'Concrete Plant (CP-8)'!Q22,'Concrete Plant (CP-9)'!Q22,'Concrete Plant (CP-10)'!Q22)>0,SUM('Concrete Plant (CP-1)'!Q22,'Concrete Plant (CP-2)'!Q22,'Concrete Plant (CP-3)'!Q22,'Concrete Plant (CP-4)'!Q22,'Concrete Plant (CP-5)'!Q22,'Concrete Plant (CP-6)'!Q22,'Concrete Plant (CP-7)'!Q22,'Concrete Plant (CP-8)'!Q22,'Concrete Plant (CP-9)'!Q22,'Concrete Plant (CP-10)'!Q22),\"\")","v":""},{"$f":"IF(B6=\"\",\"\",\"cubic yd/hr\")","v":""},{"$f":"IF(B6=\"\",\"\",LOOKUP(B6,'Emission Factors'!$A$5:$A$16,'Emission Factors'!$D$5:$D$16))","v":""},{"$f":"IF(B6=\"\",\"\",\"lb/cubic yd\")","v":""},{"$f":"IF(B6=\"\",\"\",LOOKUP(B6,'Emission Factors'!$A$5:$A$16,'Emission Factors'!$F$5:$F$16))","v":""},{"$f":"IF(D6=\"\",\"\",SUM('Concrete Plant (CP-1)'!S22,'Concrete Plant (CP-2)'!S22,'Concrete Plant (CP-3)'!S22,'Concrete Plant (CP-4)'!S22,'Concrete Plant (CP-5)'!S22,'Concrete Plant (CP-6)'!S22,'Concrete Plant (CP-7)'!S22,'Concrete Plant (CP-8)'!S22,'Concrete Plant (CP-8)'!S22,'Concrete Plant (CP-10)'!S22))","v":""},null,{"$f":"IF(D6=\"\",\"\",IF(SUM('Concrete Plant (CP-1)'!T22,'Concrete Plant (CP-2)'!T22,'Concrete Plant (CP-3)'!T22,'Concrete Plant (CP-4)'!T22,'Concrete Plant (CP-5)'!T22,'Concrete Plant (CP-6)'!T22,'Concrete Plant (CP-7)'!T22,'Concrete Plant (CP-8)'!T22,'Concrete Plant (CP-9)'!T22,'Concrete Plant (CP-10)'!T22)>0,SUM('Concrete Plant (CP-1)'!T22,'Concrete Plant (CP-2)'!T22,'Concrete Plant (CP-3)'!T22,'Concrete Plant (CP-4)'!T22,'Concrete Plant (CP-5)'!T22,'Concrete Plant (CP-6)'!T22,'Concrete Plant (CP-7)'!T22,'Concrete Plant (CP-8)'!T22,'Concrete Plant (CP-9)'!T22,'Concrete Plant (CP-10)'!T22),\"\"))","v":""},{"$f":"IF(B6=\"\",\"\",SUM('Concrete Plant (CP-1)'!U22,'Concrete Plant (CP-2)'!U22,'Concrete Plant (CP-3)'!U22,'Concrete Plant (CP-4)'!U22,'Concrete Plant (CP-5)'!U22,'Concrete Plant (CP-6)'!U22,'Concrete Plant (CP-7)'!U22,'Concrete Plant (CP-8)'!U22,'Concrete Plant (CP-9)'!U22,'Concrete Plant (CP-10)'!U22))","v":""},{"$f":"IF(B6=\"\",\"\",SUM('Concrete Plant (CP-1)'!V22,'Concrete Plant (CP-2)'!V22,'Concrete Plant (CP-3)'!V22,'Concrete Plant (CP-4)'!V22,'Concrete Plant (CP-5)'!V22,'Concrete Plant (CP-6)'!V22,'Concrete Plant (CP-7)'!V22,'Concrete Plant (CP-8)'!V22,'Concrete Plant (CP-9)'!V22,'Concrete Plant (CP-10)'!V22))","v":""}]
[{"$f":"IF(SUM('Concrete Plant (CP-1)'!Q23,'Concrete Plant (CP-2)'!Q23,'Concrete Plant (CP-3)'!Q23,'Concrete Plant (CP-4)'!Q23,'Concrete Plant (CP-5)'!Q23,'Concrete Plant (CP-6)'!Q23,'Concrete Plant (CP-7)'!Q23,'Concrete Plant (CP-8)'!Q23,'Concrete Plant (CP-9)'!Q23,'Concrete Plant (CP-10)'!Q23)>0,\"ALL\",\"\")","v":""},{"$f":"IF(SUM('Concrete Plant (CP-1)'!Q23,'Concrete Plant (CP-2)'!Q23,'Concrete Plant (CP-3)'!Q23,'Concrete Plant (CP-4)'!Q23,'Concrete Plant (CP-5)'!Q23,'Concrete Plant (CP-6)'!Q23,'Concrete Plant (CP-7)'!Q23,'Concrete Plant (CP-8)'!Q23,'Concrete Plant (CP-9)'!Q23,'Concrete Plant (CP-10)'!Q23)>0,\"Aggregate Transfer to Conveyor\",\"\")","v":""},{"$f":"IF(B7=\"\",\"\",\"30501123\")","v":""},{"$f":"IF(SUM('Concrete Plant (CP-1)'!Q23,'Concrete Plant (CP-2)'!Q23,'Concrete Plant (CP-3)'!Q23,'Concrete Plant (CP-4)'!Q23,'Concrete Plant (CP-5)'!Q23,'Concrete Plant (CP-6)'!Q23,'Concrete Plant (CP-7)'!Q23,'Concrete Plant (CP-8)'!Q23,'Concrete Plant (CP-9)'!Q23,'Concrete Plant (CP-10)'!Q23)>0,SUM('Concrete Plant (CP-1)'!Q23,'Concrete Plant (CP-2)'!Q23,'Concrete Plant (CP-3)'!Q23,'Concrete Plant (CP-4)'!Q23,'Concrete Plant (CP-5)'!Q23,'Concrete Plant (CP-6)'!Q23,'Concrete Plant (CP-7)'!Q23,'Concrete Plant (CP-8)'!Q23,'Concrete Plant (CP-9)'!Q23,'Concrete Plant (CP-10)'!Q23),\"\")","v":""},"",{"$f":"IF(B7=\"\",\"\",LOOKUP(B7,'Emission Factors'!$A$5:$A$16,'Emission Factors'!$D$5:$D$16))","v":""},"",{"$f":"IF(B7=\"\",\"\",LOOKUP(B7,'Emission Factors'!$A$5:$A$16,'Emission Factors'!$F$5:$F$16))","v":""},{"$f":"IF(D7=\"\",\"\",SUM('Concrete Plant (CP-1)'!S23,'Concrete Plant (CP-2)'!S23,'Concrete Plant (CP-3)'!S23,'Concrete Plant (CP-4)'!S23,'Concrete Plant (CP-5)'!S23,'Concrete Plant (CP-6)'!S23,'Concrete Plant (CP-7)'!S23,'Concrete Plant (CP-8)'!S23,'Concrete Plant (CP-8)'!S23,'Concrete Plant (CP-10)'!S23))","v":""},null,{"$f":"IF(D7=\"\",\"\",IF(SUM('Concrete Plant (CP-1)'!T23,'Concrete Plant (CP-2)'!T23,'Concrete Plant (CP-3)'!T23,'Concrete Plant (CP-4)'!T23,'Concrete Plant (CP-5)'!T23,'Concrete Plant (CP-6)'!T23,'Concrete Plant (CP-7)'!T23,'Concrete Plant (CP-8)'!T23,'Concrete Plant (CP-9)'!T23,'Concrete Plant (CP-10)'!T23)>0,SUM('Concrete Plant (CP-1)'!T23,'Concrete Plant (CP-2)'!T23,'Concrete Plant (CP-3)'!T23,'Concrete Plant (CP-4)'!T23,'Concrete Plant (CP-5)'!T23,'Concrete Plant (CP-6)'!T23,'Concrete Plant (CP-7)'!T23,'Concrete Plant (CP-8)'!T23,'Concrete Plant (CP-9)'!T23,'Concrete Plant (CP-10)'!T23),\"\"))","v":""},{"$f":"IF(B7=\"\",\"\",SUM('Concrete Plant (CP-1)'!U23,'Concrete Plant (CP-2)'!U23,'Concrete Plant (CP-3)'!U23,'Concrete Plant (CP-4)'!U23,'Concrete Plant (CP-5)'!U23,'Concrete Plant (CP-6)'!U23,'Concrete Plant (CP-7)'!U23,'Concrete Plant (CP-8)'!U23,'Concrete Plant (CP-9)'!U23,'Concrete Plant (CP-10)'!U23))","v":""},{"$f":"IF(B7=\"\",\"\",SUM('Concrete Plant (CP-1)'!V23,'Concrete Plant (CP-2)'!V23,'Concrete Plant (CP-3)'!V23,'Concrete Plant (CP-4)'!V23,'Concrete Plant (CP-5)'!V23,'Concrete Plant (CP-6)'!V23,'Concrete Plant (CP-7)'!V23,'Concrete Plant (CP-8)'!V23,'Concrete Plant (CP-9)'!V23,'Concrete Plant (CP-10)'!V23))","v":""}]
[{"$f":"IF(SUM('Concrete Plant (CP-1)'!Q24,'Concrete Plant (CP-2)'!Q24,'Concrete Plant (CP-3)'!Q24,'Concrete Plant (CP-4)'!Q24,'Concrete Plant (CP-5)'!Q24,'Concrete Plant (CP-6)'!Q24,'Concrete Plant (CP-7)'!Q24,'Concrete Plant (CP-8)'!Q24,'Concrete Plant (CP-9)'!Q24,'Concrete Plant (CP-10)'!Q24)>0,\"ALL\",\"\")","v":""},{"$f":"IF(SUM('Concrete Plant (CP-1)'!Q24,'Concrete Plant (CP-2)'!Q24,'Concrete Plant (CP-3)'!Q24,'Concrete Plant (CP-4)'!Q24,'Concrete Plant (CP-5)'!Q24,'Concrete Plant (CP-6)'!Q24,'Concrete Plant (CP-7)'!Q24,'Concrete Plant (CP-8)'!Q24,'Concrete Plant (CP-9)'!Q24,'Concrete Plant (CP-10)'!Q24)>0,\"Sand Transfer to Conveyor\",\"\")","v":""},{"$f":"IF(B8=\"\",\"\",\"30501124\")","v":""},{"$f":"IF(SUM('Concrete Plant (CP-1)'!Q24,'Concrete Plant (CP-2)'!Q24,'Concrete Plant (CP-3)'!Q24,'Concrete Plant (CP-4)'!Q24,'Concrete Plant (CP-5)'!Q24,'Concrete Plant (CP-6)'!Q24,'Concrete Plant (CP-7)'!Q24,'Concrete Plant (CP-8)'!Q24,'Concrete Plant (CP-9)'!Q24,'Concrete Plant (CP-10)'!Q24)>0,SUM('Concrete Plant (CP-1)'!Q24,'Concrete Plant (CP-2)'!Q24,'Concrete Plant (CP-3)'!Q24,'Concrete Plant (CP-4)'!Q24,'Concrete Plant (CP-5)'!Q24,'Concrete Plant (CP-6)'!Q24,'Concrete Plant (CP-7)'!Q24,'Concrete Plant (CP-8)'!Q24,'Concrete Plant (CP-9)'!Q24,'Concrete Plant (CP-10)'!Q24),\"\")","v":""},"",{"$f":"IF(B8=\"\",\"\",LOOKUP(B8,'Emission Factors'!$A$5:$A$16,'Emission Factors'!$D$5:$D$16))","v":""},"",{"$f":"IF(B8=\"\",\"\",LOOKUP(B8,'Emission Factors'!$A$5:$A$16,'Emission Factors'!$F$5:$F$16))","v":""},{"$f":"IF(D8=\"\",\"\",SUM('Concrete Plant (CP-1)'!S24,'Concrete Plant (CP-2)'!S24,'Concrete Plant (CP-3)'!S24,'Concrete Plant (CP-4)'!S24,'Concrete Plant (CP-5)'!S24,'Concrete Plant (CP-6)'!S24,'Concrete Plant (CP-7)'!S24,'Concrete Plant (CP-8)'!S24,'Concrete Plant (CP-8)'!S24,'Concrete Plant (CP-10)'!S24))","v":""},null,{"$f":"IF(D8=\"\",\"\",IF(SUM('Concrete Plant (CP-1)'!T24,'Concrete Plant (CP-2)'!T24,'Concrete Plant (CP-3)'!T24,'Concrete Plant (CP-4)'!T24,'Concrete Plant (CP-5)'!T24,'Concrete Plant (CP-6)'!T24,'Concrete Plant (CP-7)'!T24,'Concrete Plant (CP-8)'!T24,'Concrete Plant (CP-9)'!T24,'Concrete Plant (CP-10)'!T24)>0,SUM('Concrete Plant (CP-1)'!T24,'Concrete Plant (CP-2)'!T24,'Concrete Plant (CP-3)'!T24,'Concrete Plant (CP-4)'!T24,'Concrete Plant (CP-5)'!T24,'Concrete Plant (CP-6)'!T24,'Concrete Plant (CP-7)'!T24,'Concrete Plant (CP-8)'!T24,'Concrete Plant (CP-9)'!T24,'Concrete Plant (CP-10)'!T24),\"\"))","v":""},{"$f":"IF(B8=\"\",\"\",SUM('Concrete Plant (CP-1)'!U24,'Concrete Plant (CP-2)'!U24,'Concrete Plant (CP-3)'!U24,'Concrete Plant (CP-4)'!U24,'Concrete Plant (CP-5)'!U24,'Concrete Plant (CP-6)'!U24,'Concrete Plant (CP-7)'!U24,'Concrete Plant (CP-8)'!U24,'Concrete Plant (CP-9)'!U24,'Concrete Plant (CP-10)'!U24))","v":""},{"$f":"IF(B8=\"\",\"\",SUM('Concrete Plant (CP-1)'!V24,'Concrete Plant (CP-2)'!V24,'Concrete Plant (CP-3)'!V24,'Concrete Plant (CP-4)'!V24,'Concrete Plant (CP-5)'!V24,'Concrete Plant (CP-6)'!V24,'Concrete Plant (CP-7)'!V24,'Concrete Plant (CP-8)'!V24,'Concrete Plant (CP-9)'!V24,'Concrete Plant (CP-10)'!V24))","v":""}]
[{"$f":"IF(SUM('Concrete Plant (CP-1)'!Q25,'Concrete Plant (CP-2)'!Q25,'Concrete Plant (CP-3)'!Q25,'Concrete Plant (CP-4)'!Q25,'Concrete Plant (CP-5)'!Q25,'Concrete Plant (CP-6)'!Q25,'Concrete Plant (CP-7)'!Q25,'Concrete Plant (CP-8)'!Q25,'Concrete Plant (CP-9)'!Q25,'Concrete Plant (CP-10)'!Q25)>0,\"ALL\",\"\")","v":""},{"$f":"IF(SUM('Concrete Plant (CP-1)'!Q25,'Concrete Plant (CP-2)'!Q25,'Concrete Plant (CP-3)'!Q25,'Concrete Plant (CP-4)'!Q25,'Concrete Plant (CP-5)'!Q25,'Concrete Plant (CP-6)'!Q25,'Concrete Plant (CP-7)'!Q25,'Concrete Plant (CP-8)'!Q25,'Concrete Plant (CP-9)'!Q25,'Concrete Plant (CP-10)'!Q25)>0,\"Aggregate Transfer to Elevated Storage\",\"\")","v":""},{"$f":"IF(B9=\"\",\"\",\"30501104\")","v":""},{"$f":"IF(SUM('Concrete Plant (CP-1)'!Q25,'Concrete Plant (CP-2)'!Q25,'Concrete Plant (CP-3)'!Q25,'Concrete Plant (CP-4)'!Q25,'Concrete Plant (CP-5)'!Q25,'Concrete Plant (CP-6)'!Q25,'Concrete Plant (CP-7)'!Q25,'Concrete Plant (CP-8)'!Q25,'Concrete Plant (CP-9)'!Q25,'Concrete Plant (CP-10)'!Q25)>0,SUM('Concrete Plant (CP-1)'!Q25,'Concrete Plant (CP-2)'!Q25,'Concrete Plant (CP-3)'!Q25,'Concrete Plant (CP-4)'!Q25,'Concrete Plant (CP-5)'!Q25,'Concrete Plant (CP-6)'!Q25,'Concrete Plant (CP-7)'!Q25,'Concrete Plant (CP-8)'!Q25,'Concrete Plant (CP-9)'!Q25,'Concrete Plant (CP-10)'!Q25),\"\")","v":""},"",{"$f":"IF(B9=\"\",\"\",LOOKUP(B9,'Emission Factors'!$A$5:$A$16,'Emission Factors'!$D$5:$D$16))","v":""},"",{"$f":"IF(B9=\"\",\"\",LOOKUP(B9,'Emission Factors'!$A$5:$A$16,'Emission Factors'!$F$5:$F$16))","v":""},{"$f":"IF(D9=\"\",\"\",SUM('Concrete Plant (CP-1)'!S25,'Concrete Plant (CP-2)'!S25,'Concrete Plant (CP-3)'!S25,'Concrete Plant (CP-4)'!S25,'Concrete Plant (CP-5)'!S25,'Concrete Plant (CP-6)'!S25,'Concrete Plant (CP-7)'!S25,'Concrete Plant (CP-8)'!S25,'Concrete Plant (CP-8)'!S25,'Concrete Plant (CP-10)'!S25))","v":""},null,{"$f":"IF(D9=\"\",\"\",IF(SUM('Concrete Plant (CP-1)'!T25,'Concrete Plant (CP-2)'!T25,'Concrete Plant (CP-3)'!T25,'Concrete Plant (CP-4)'!T25,'Concrete Plant (CP-5)'!T25,'Concrete Plant (CP-6)'!T25,'Concrete Plant (CP-7)'!T25,'Concrete Plant (CP-8)'!T25,'Concrete Plant (CP-9)'!T25,'Concrete Plant (CP-10)'!T25)>0,SUM('Concrete Plant (CP-1)'!T25,'Concrete Plant (CP-2)'!T25,'Concrete Plant (CP-3)'!T25,'Concrete Plant (CP-4)'!T25,'Concrete Plant (CP-5)'!T25,'Concrete Plant (CP-6)'!T25,'Concrete Plant (CP-7)'!T25,'Concrete Plant (CP-8)'!T25,'Concrete Plant (CP-9)'!T25,'Concrete Plant (CP-10)'!T25),\"\"))","v":""},{"$f":"IF(B9=\"\",\"\",SUM('Concrete Plant (CP-1)'!U25,'Concrete Plant (CP-2)'!U25,'Concrete Plant (CP-3)'!U25,'Concrete Plant (CP-4)'!U25,'Concrete Plant (CP-5)'!U25,'Concrete Plant (CP-6)'!U25,'Concrete Plant (CP-7)'!U25,'Concrete Plant (CP-8)'!U25,'Concrete Plant (CP-9)'!U25,'Concrete Plant (CP-10)'!U25))","v":""},{"$f":"IF(B9=\"\",\"\",SUM('Concrete Plant (CP-1)'!V25,'Concrete Plant (CP-2)'!V25,'Concrete Plant (CP-3)'!V25,'Concrete Plant (CP-4)'!V25,'Concrete Plant (CP-5)'!V25,'Concrete Plant (CP-6)'!V25,'Concrete Plant (CP-7)'!V25,'Concrete Plant (CP-8)'!V25,'Concrete Plant (CP-9)'!V25,'Concrete Plant (CP-10)'!V25))","v":""}]
[{"$f":"IF(SUM('Concrete Plant (CP-1)'!Q26,'Concrete Plant (CP-2)'!Q26,'Concrete Plant (CP-3)'!Q26,'Concrete Plant (CP-4)'!Q26,'Concrete Plant (CP-5)'!Q26,'Concrete Plant (CP-6)'!Q26,'Concrete Plant (CP-7)'!Q26,'Concrete Plant (CP-8)'!Q26,'Concrete Plant (CP-9)'!Q26,'Concrete Plant (CP-10)'!Q26)>0,\"ALL\",\"\")","v":""},{"$f":"IF(SUM('Concrete Plant (CP-1)'!Q26,'Concrete Plant (CP-2)'!Q26,'Concrete Plant (CP-3)'!Q26,'Concrete Plant (CP-4)'!Q26,'Concrete Plant (CP-5)'!Q26,'Concrete Plant (CP-6)'!Q26,'Concrete Plant (CP-7)'!Q26,'Concrete Plant (CP-8)'!Q26,'Concrete Plant (CP-9)'!Q26,'Concrete Plant (CP-10)'!Q26)>0,\"Sand Transfer to Elevated Storage\",\"\")","v":""},{"$f":"IF(B10=\"\",\"\",\"30501105\")","v":""},{"$f":"IF(SUM('Concrete Plant (CP-1)'!Q26,'Concrete Plant (CP-2)'!Q26,'Concrete Plant (CP-3)'!Q26,'Concrete Plant (CP-4)'!Q26,'Concrete Plant (CP-5)'!Q26,'Concrete Plant (CP-6)'!Q26,'Concrete Plant (CP-7)'!Q26,'Concrete Plant (CP-8)'!Q26,'Concrete Plant (CP-9)'!Q26,'Concrete Plant (CP-10)'!Q26)>0,SUM('Concrete Plant (CP-1)'!Q26,'Concrete Plant (CP-2)'!Q26,'Concrete Plant (CP-3)'!Q26,'Concrete Plant (CP-4)'!Q26,'Concrete Plant (CP-5)'!Q26,'Concrete Plant (CP-6)'!Q26,'Concrete Plant (CP-7)'!Q26,'Concrete Plant (CP-8)'!Q26,'Concrete Plant (CP-9)'!Q26,'Concrete Plant (CP-10)'!Q26),\"\")","v":""},"",{"$f":"IF(B10=\"\",\"\",LOOKUP(B10,'Emission Factors'!$A$5:$A$16,'Emission Factors'!$D$5:$D$16))","v":""},"",{"$f":"IF(B10=\"\",\"\",LOOKUP(B10,'Emission Factors'!$A$5:$A$16,'Emission Factors'!$F$5:$F$16))","v":""},{"$f":"IF(D10=\"\",\"\",SUM('Concrete Plant (CP-1)'!S26,'Concrete Plant (CP-2)'!S26,'Concrete Plant (CP-3)'!S26,'Concrete Plant (CP-4)'!S26,'Concrete Plant (CP-5)'!S26,'Concrete Plant (CP-6)'!S26,'Concrete Plant (CP-7)'!S26,'Concrete Plant (CP-8)'!S26,'Concrete Plant (CP-8)'!S26,'Concrete Plant (CP-10)'!S26))","v":""},null,{"$f":"IF(D10=\"\",\"\",IF(SUM('Concrete Plant (CP-1)'!T26,'Concrete Plant (CP-2)'!T26,'Concrete Plant (CP-3)'!T26,'Concrete Plant (CP-4)'!T26,'Concrete Plant (CP-5)'!T26,'Concrete Plant (CP-6)'!T26,'Concrete Plant (CP-7)'!T26,'Concrete Plant (CP-8)'!T26,'Concrete Plant (CP-9)'!T26,'Concrete Plant (CP-10)'!T26)>0,SUM('Concrete Plant (CP-1)'!T26,'Concrete Plant (CP-2)'!T26,'Concrete Plant (CP-3)'!T26,'Concrete Plant (CP-4)'!T26,'Concrete Plant (CP-5)'!T26,'Concrete Plant (CP-6)'!T26,'Concrete Plant (CP-7)'!T26,'Concrete Plant (CP-8)'!T26,'Concrete Plant (CP-9)'!T26,'Concrete Plant (CP-10)'!T26),\"\"))","v":""},{"$f":"IF(B10=\"\",\"\",SUM('Concrete Plant (CP-1)'!U26,'Concrete Plant (CP-2)'!U26,'Concrete Plant (CP-3)'!U26,'Concrete Plant (CP-4)'!U26,'Concrete Plant (CP-5)'!U26,'Concrete Plant (CP-6)'!U26,'Concrete Plant (CP-7)'!U26,'Concrete Plant (CP-8)'!U26,'Concrete Plant (CP-9)'!U26,'Concrete Plant (CP-10)'!U26))","v":""},{"$f":"IF(B10=\"\",\"\",SUM('Concrete Plant (CP-1)'!V26,'Concrete Plant (CP-2)'!V26,'Concrete Plant (CP-3)'!V26,'Concrete Plant (CP-4)'!V26,'Concrete Plant (CP-5)'!V26,'Concrete Plant (CP-6)'!V26,'Concrete Plant (CP-7)'!V26,'Concrete Plant (CP-8)'!V26,'Concrete Plant (CP-9)'!V26,'Concrete Plant (CP-10)'!V26))","v":""}]
[{"$f":"IF(SUM('Concrete Plant (CP-1)'!Q27,'Concrete Plant (CP-2)'!Q27,'Concrete Plant (CP-3)'!Q27,'Concrete Plant (CP-4)'!Q27,'Concrete Plant (CP-5)'!Q27,'Concrete Plant (CP-6)'!Q27,'Concrete Plant (CP-7)'!Q27,'Concrete Plant (CP-8)'!Q27,'Concrete Plant (CP-9)'!Q27,'Concrete Plant (CP-10)'!Q27)>0,\"ALL\",\"\")","v":""},{"$f":"IF(SUM('Concrete Plant (CP-1)'!Q27,'Concrete Plant (CP-2)'!Q27,'Concrete Plant (CP-3)'!Q27,'Concrete Plant (CP-4)'!Q27,'Concrete Plant (CP-5)'!Q27,'Concrete Plant (CP-6)'!Q27,'Concrete Plant (CP-7)'!Q27,'Concrete Plant (CP-8)'!Q27,'Concrete Plant (CP-9)'!Q27,'Concrete Plant (CP-10)'!Q27)>0,\"Weigh Hopper Loading\",\"\")","v":""},{"$f":"IF(B11=\"\",\"\",\"30501108\")","v":""},{"$f":"IF(SUM('Concrete Plant (CP-1)'!Q27,'Concrete Plant (CP-2)'!Q27,'Concrete Plant (CP-3)'!Q27,'Concrete Plant (CP-4)'!Q27,'Concrete Plant (CP-5)'!Q27,'Concrete Plant (CP-6)'!Q27,'Concrete Plant (CP-7)'!Q27,'Concrete Plant (CP-8)'!Q27,'Concrete Plant (CP-9)'!Q27,'Concrete Plant (CP-10)'!Q27)>0,SUM('Concrete Plant (CP-1)'!Q27,'Concrete Plant (CP-2)'!Q27,'Concrete Plant (CP-3)'!Q27,'Concrete Plant (CP-4)'!Q27,'Concrete Plant (CP-5)'!Q27,'Concrete Plant (CP-6)'!Q27,'Concrete Plant (CP-7)'!Q27,'Concrete Plant (CP-8)'!Q27,'Concrete Plant (CP-9)'!Q27,'Concrete Plant (CP-10)'!Q27),\"\")","v":""},"",{"$f":"IF(B11=\"\",\"\",LOOKUP(B11,'Emission Factors'!$A$5:$A$16,'Emission Factors'!$D$5:$D$16))","v":""},"",{"$f":"IF(B11=\"\",\"\",LOOKUP(B11,'Emission Factors'!$A$5:$A$16,'Emission Factors'!$F$5:$F$16))","v":""},{"$f":"IF(D11=\"\",\"\",SUM('Concrete Plant (CP-1)'!S27,'Concrete Plant (CP-2)'!S27,'Concrete Plant (CP-3)'!S27,'Concrete Plant (CP-4)'!S27,'Concrete Plant (CP-5)'!S27,'Concrete Plant (CP-6)'!S27,'Concrete Plant (CP-7)'!S27,'Concrete Plant (CP-8)'!S27,'Concrete Plant (CP-8)'!S27,'Concrete Plant (CP-10)'!S27))","v":""},null,{"$f":"IF(D11=\"\",\"\",IF(SUM('Concrete Plant (CP-1)'!T27,'Concrete Plant (CP-2)'!T27,'Concrete Plant (CP-3)'!T27,'Concrete Plant (CP-4)'!T27,'Concrete Plant (CP-5)'!T27,'Concrete Plant (CP-6)'!T27,'Concrete Plant (CP-7)'!T27,'Concrete Plant (CP-8)'!T27,'Concrete Plant (CP-9)'!T27,'Concrete Plant (CP-10)'!T27)>0,SUM('Concrete Plant (CP-1)'!T27,'Concrete Plant (CP-2)'!T27,'Concrete Plant (CP-3)'!T27,'Concrete Plant (CP-4)'!T27,'Concrete Plant (CP-5)'!T27,'Concrete Plant (CP-6)'!T27,'Concrete Plant (CP-7)'!T27,'Concrete Plant (CP-8)'!T27,'Concrete Plant (CP-9)'!T27,'Concrete Plant (CP-10)'!T27),\"\"))","v":""},{"$f":"IF(B11=\"\",\"\",SUM('Concrete Plant (CP-1)'!U27,'Concrete Plant (CP-2)'!U27,'Concrete Plant (CP-3)'!U27,'Concrete Plant (CP-4)'!U27,'Concrete Plant (CP-5)'!U27,'Concrete Plant (CP-6)'!U27,'Concrete Plant (CP-7)'!U27,'Concrete Plant (CP-8)'!U27,'Concrete Plant (CP-9)'!U27,'Concrete Plant (CP-10)'!U27))","v":""},{"$f":"IF(B11=\"\",\"\",SUM('Concrete Plant (CP-1)'!V27,'Concrete Plant (CP-2)'!V27,'Concrete Plant (CP-3)'!V27,'Concrete Plant (CP-4)'!V27,'Concrete Plant (CP-5)'!V27,'Concrete Plant (CP-6)'!V27,'Concrete Plant (CP-7)'!V27,'Concrete Plant (CP-8)'!V27,'Concrete Plant (CP-9)'!V27,'Concrete Plant (CP-10)'!V27))","v":""}]
[{"$f":"IF(SUM('Concrete Plant (CP-1)'!Q28,'Concrete Plant (CP-2)'!Q28,'Concrete Plant (CP-3)'!Q28,'Concrete Plant (CP-4)'!Q28,'Concrete Plant (CP-5)'!Q28,'Concrete Plant (CP-6)'!Q28,'Concrete Plant (CP-7)'!Q28,'Concrete Plant (CP-8)'!Q28,'Concrete Plant (CP-9)'!Q28,'Concrete Plant (CP-10)'!Q28)>0,\"ALL\",\"\")","v":""},{"$f":"IF(SUM('Concrete Plant (CP-1)'!Q28,'Concrete Plant (CP-2)'!Q28,'Concrete Plant (CP-3)'!Q28,'Concrete Plant (CP-4)'!Q28,'Concrete Plant (CP-5)'!Q28,'Concrete Plant (CP-6)'!Q28,'Concrete Plant (CP-7)'!Q28,'Concrete Plant (CP-8)'!Q28,'Concrete Plant (CP-9)'!Q28,'Concrete Plant (CP-10)'!Q28)>0,\"Central Mix Loading\",\"\")","v":""},{"$f":"IF(B12=\"\",\"\",\"30501109\")","v":""},{"$f":"IF(SUM('Concrete Plant (CP-1)'!Q28,'Concrete Plant (CP-2)'!Q28,'Concrete Plant (CP-3)'!Q28,'Concrete Plant (CP-4)'!Q28,'Concrete Plant (CP-5)'!Q28,'Concrete Plant (CP-6)'!Q28,'Concrete Plant (CP-7)'!Q28,'Concrete Plant (CP-8)'!Q28,'Concrete Plant (CP-9)'!Q28,'Concrete Plant (CP-10)'!Q28)>0,SUM('Concrete Plant (CP-1)'!Q28,'Concrete Plant (CP-2)'!Q28,'Concrete Plant (CP-3)'!Q28,'Concrete Plant (CP-4)'!Q28,'Concrete Plant (CP-5)'!Q28,'Concrete Plant (CP-6)'!Q28,'Concrete Plant (CP-7)'!Q28,'Concrete Plant (CP-8)'!Q28,'Concrete Plant (CP-9)'!Q28,'Concrete Plant (CP-10)'!Q28),\"\")","v":""},"",{"$f":"IF(B12=\"\",\"\",LOOKUP(B12,'Emission Factors'!$A$5:$A$16,'Emission Factors'!$D$5:$D$16))","v":""},"",{"$f":"IF(B12=\"\",\"\",LOOKUP(B12,'Emission Factors'!$A$5:$A$16,'Emission Factors'!$F$5:$F$16))","v":""},{"$f":"IF(D12=\"\",\"\",SUM('Concrete Plant (CP-1)'!S28,'Concrete Plant (CP-2)'!S28,'Concrete Plant (CP-3)'!S28,'Concrete Plant (CP-4)'!S28,'Concrete Plant (CP-5)'!S28,'Concrete Plant (CP-6)'!S28,'Concrete Plant (CP-7)'!S28,'Concrete Plant (CP-8)'!S28,'Concrete Plant (CP-8)'!S28,'Concrete Plant (CP-10)'!S28))","v":""},null,{"$f":"IF(D12=\"\",\"\",IF(SUM('Concrete Plant (CP-1)'!T28,'Concrete Plant (CP-2)'!T28,'Concrete Plant (CP-3)'!T28,'Concrete Plant (CP-4)'!T28,'Concrete Plant (CP-5)'!T28,'Concrete Plant (CP-6)'!T28,'Concrete Plant (CP-7)'!T28,'Concrete Plant (CP-8)'!T28,'Concrete Plant (CP-9)'!T28,'Concrete Plant (CP-10)'!T28)>0,SUM('Concrete Plant (CP-1)'!T28,'Concrete Plant (CP-2)'!T28,'Concrete Plant (CP-3)'!T28,'Concrete Plant (CP-4)'!T28,'Concrete Plant (CP-5)'!T28,'Concrete Plant (CP-6)'!T28,'Concrete Plant (CP-7)'!T28,'Concrete Plant (CP-8)'!T28,'Concrete Plant (CP-9)'!T28,'Concrete Plant (CP-10)'!T28),\"\"))","v":""},{"$f":"IF(B12=\"\",\"\",SUM('Concrete Plant (CP-1)'!U28,'Concrete Plant (CP-2)'!U28,'Concrete Plant (CP-3)'!U28,'Concrete Plant (CP-4)'!U28,'Concrete Plant (CP-5)'!U28,'Concrete Plant (CP-6)'!U28,'Concrete Plant (CP-7)'!U28,'Concrete Plant (CP-8)'!U28,'Concrete Plant (CP-9)'!U28,'Concrete Plant (CP-10)'!U28))","v":""},{"$f":"IF(B12=\"\",\"\",SUM('Concrete Plant (CP-1)'!V28,'Concrete Plant (CP-2)'!V28,'Concrete Plant (CP-3)'!V28,'Concrete Plant (CP-4)'!V28,'Concrete Plant (CP-5)'!V28,'Concrete Plant (CP-6)'!V28,'Concrete Plant (CP-7)'!V28,'Concrete Plant (CP-8)'!V28,'Concrete Plant (CP-9)'!V28,'Concrete Plant (CP-10)'!V28))","v":""}]
[{"$f":"IF(SUM('Concrete Plant (CP-1)'!Q29,'Concrete Plant (CP-2)'!Q29,'Concrete Plant (CP-3)'!Q29,'Concrete Plant (CP-4)'!Q29,'Concrete Plant (CP-5)'!Q29,'Concrete Plant (CP-6)'!Q29,'Concrete Plant (CP-7)'!Q29,'Concrete Plant (CP-8)'!Q29,'Concrete Plant (CP-9)'!Q29,'Concrete Plant (CP-10)'!Q29)>0,\"ALL\",\"\")","v":""},{"$f":"IF(SUM('Concrete Plant (CP-1)'!Q29,'Concrete Plant (CP-2)'!Q29,'Concrete Plant (CP-3)'!Q29,'Concrete Plant (CP-4)'!Q29,'Concrete Plant (CP-5)'!Q29,'Concrete Plant (CP-6)'!Q29,'Concrete Plant (CP-7)'!Q29,'Concrete Plant (CP-8)'!Q29,'Concrete Plant (CP-9)'!Q29,'Concrete Plant (CP-10)'!Q29)>0,\"Truck Mix Loading\",\"\")","v":""},{"$f":"IF(B13=\"\",\"\",\"30501110\")","v":""},{"$f":"IF(SUM('Concrete Plant (CP-1)'!Q29,'Concrete Plant (CP-2)'!Q29,'Concrete Plant (CP-3)'!Q29,'Concrete Plant (CP-4)'!Q29,'Concrete Plant (CP-5)'!Q29,'Concrete Plant (CP-6)'!Q29,'Concrete Plant (CP-7)'!Q29,'Concrete Plant (CP-8)'!Q29,'Concrete Plant (CP-9)'!Q29,'Concrete Plant (CP-10)'!Q29)>0,SUM('Concrete Plant (CP-1)'!Q29,'Concrete Plant (CP-2)'!Q29,'Concrete Plant (CP-3)'!Q29,'Concrete Plant (CP-4)'!Q29,'Concrete Plant (CP-5)'!Q29,'Concrete Plant (CP-6)'!Q29,'Concrete Plant (CP-7)'!Q29,'Concrete Plant (CP-8)'!Q29,'Concrete Plant (CP-9)'!Q29,'Concrete Plant (CP-10)'!Q29),\"\")","v":""},"",{"$f":"IF(B13=\"\",\"\",LOOKUP(B13,'Emission Factors'!$A$5:$A$16,'Emission Factors'!$D$5:$D$16))","v":""},"",{"$f":"IF(B13=\"\",\"\",LOOKUP(B13,'Emission Factors'!$A$5:$A$16,'Emission Factors'!$F$5:$F$16))","v":""},{"$f":"IF(D13=\"\",\"\",SUM('Concrete Plant (CP-1)'!S29,'Concrete Plant (CP-2)'!S29,'Concrete Plant (CP-3)'!S29,'Concrete Plant (CP-4)'!S29,'Concrete Plant (CP-5)'!S29,'Concrete Plant (CP-6)'!S29,'Concrete Plant (CP-7)'!S29,'Concrete Plant (CP-8)'!S29,'Concrete Plant (CP-8)'!S29,'Concrete Plant (CP-10)'!S29))","v":""},null,{"$f":"IF(D13=\"\",\"\",IF(SUM('Concrete Plant (CP-1)'!T29,'Concrete Plant (CP-2)'!T29,'Concrete Plant (CP-3)'!T29,'Concrete Plant (CP-4)'!T29,'Concrete Plant (CP-5)'!T29,'Concrete Plant (CP-6)'!T29,'Concrete Plant (CP-7)'!T29,'Concrete Plant (CP-8)'!T29,'Concrete Plant (CP-9)'!T29,'Concrete Plant (CP-10)'!T29)>0,SUM('Concrete Plant (CP-1)'!T29,'Concrete Plant (CP-2)'!T29,'Concrete Plant (CP-3)'!T29,'Concrete Plant (CP-4)'!T29,'Concrete Plant (CP-5)'!T29,'Concrete Plant (CP-6)'!T29,'Concrete Plant (CP-7)'!T29,'Concrete Plant (CP-8)'!T29,'Concrete Plant (CP-9)'!T29,'Concrete Plant (CP-10)'!T29),\"\"))","v":""},{"$f":"IF(B13=\"\",\"\",SUM('Concrete Plant (CP-1)'!U29,'Concrete Plant (CP-2)'!U29,'Concrete Plant (CP-3)'!U29,'Concrete Plant (CP-4)'!U29,'Concrete Plant (CP-5)'!U29,'Concrete Plant (CP-6)'!U29,'Concrete Plant (CP-7)'!U29,'Concrete Plant (CP-8)'!U29,'Concrete Plant (CP-9)'!U29,'Concrete Plant (CP-10)'!U29))","v":""},{"$f":"IF(B13=\"\",\"\",SUM('Concrete Plant (CP-1)'!V29,'Concrete Plant (CP-2)'!V29,'Concrete Plant (CP-3)'!V29,'Concrete Plant (CP-4)'!V29,'Concrete Plant (CP-5)'!V29,'Concrete Plant (CP-6)'!V29,'Concrete Plant (CP-7)'!V29,'Concrete Plant (CP-8)'!V29,'Concrete Plant (CP-9)'!V29,'Concrete Plant (CP-10)'!V29))","v":""}]
[{"$f":"IF(SUM('Concrete Plant (CP-1)'!Q30,'Concrete Plant (CP-2)'!Q30,'Concrete Plant (CP-3)'!Q30,'Concrete Plant (CP-4)'!Q30,'Concrete Plant (CP-5)'!Q30,'Concrete Plant (CP-6)'!Q30,'Concrete Plant (CP-7)'!Q30,'Concrete Plant (CP-8)'!Q30,'Concrete Plant (CP-9)'!Q30,'Concrete Plant (CP-10)'!Q30)>0,\"ALL\",\"\")","v":""},{"$f":"IF(SUM('Concrete Plant (CP-1)'!Q30,'Concrete Plant (CP-2)'!Q30,'Concrete Plant (CP-3)'!Q30,'Concrete Plant (CP-4)'!Q30,'Concrete Plant (CP-5)'!Q30,'Concrete Plant (CP-6)'!Q30,'Concrete Plant (CP-7)'!Q30,'Concrete Plant (CP-8)'!Q30,'Concrete Plant (CP-9)'!Q30,'Concrete Plant (CP-10)'!Q30)>0,\"Cement Delivery to Silo\",\"\")","v":""},{"$f":"IF(B14=\"\",\"\",\"30501107\")","v":""},{"$f":"IF(SUM('Concrete Plant (CP-1)'!Q30,'Concrete Plant (CP-2)'!Q30,'Concrete Plant (CP-3)'!Q30,'Concrete Plant (CP-4)'!Q30,'Concrete Plant (CP-5)'!Q30,'Concrete Plant (CP-6)'!Q30,'Concrete Plant (CP-7)'!Q30,'Concrete Plant (CP-8)'!Q30,'Concrete Plant (CP-9)'!Q30,'Concrete Plant (CP-10)'!Q30)>0,SUM('Concrete Plant (CP-1)'!Q30,'Concrete Plant (CP-2)'!Q30,'Concrete Plant (CP-3)'!Q30,'Concrete Plant (CP-4)'!Q30,'Concrete Plant (CP-5)'!Q30,'Concrete Plant (CP-6)'!Q30,'Concrete Plant (CP-7)'!Q30,'Concrete Plant (CP-8)'!Q30,'Concrete Plant (CP-9)'!Q30,'Concrete Plant (CP-10)'!Q30),\"\")","v":""},"",{"$f":"IF(B14=\"\",\"\",LOOKUP(B14,'Emission Factors'!$A$5:$A$16,'Emission Factors'!$D$5:$D$16))","v":""},"",{"$f":"IF(B14=\"\",\"\",LOOKUP(B14,'Emission Factors'!$A$5:$A$16,'Emission Factors'!$F$5:$F$16))","v":""}," ",null,{"$f":"IF(D14=\"\",\"\",IF(SUM('Concrete Plant (CP-1)'!T30,'Concrete Plant (CP-2)'!T30,'Concrete Plant (CP-3)'!T30,'Concrete Plant (CP-4)'!T30,'Concrete Plant (CP-5)'!T30,'Concrete Plant (CP-6)'!T30,'Concrete Plant (CP-7)'!T30,'Concrete Plant (CP-8)'!T30,'Concrete Plant (CP-9)'!T30,'Concrete Plant (CP-10)'!T30)>0,SUM('Concrete Plant (CP-1)'!T30,'Concrete Plant (CP-2)'!T30,'Concrete Plant (CP-3)'!T30,'Concrete Plant (CP-4)'!T30,'Concrete Plant (CP-5)'!T30,'Concrete Plant (CP-6)'!T30,'Concrete Plant (CP-7)'!T30,'Concrete Plant (CP-8)'!T30,'Concrete Plant (CP-9)'!T30,'Concrete Plant (CP-10)'!T30),\"\"))","v":""},{"$f":"IF(B14=\"\",\"\",SUM('Concrete Plant (CP-1)'!U30,'Concrete Plant (CP-2)'!U30,'Concrete Plant (CP-3)'!U30,'Concrete Plant (CP-4)'!U30,'Concrete Plant (CP-5)'!U30,'Concrete Plant (CP-6)'!U30,'Concrete Plant (CP-7)'!U30,'Concrete Plant (CP-8)'!U30,'Concrete Plant (CP-9)'!U30,'Concrete Plant (CP-10)'!U30))","v":""},{"$f":"IF(B14=\"\",\"\",SUM('Concrete Plant (CP-1)'!V30,'Concrete Plant (CP-2)'!V30,'Concrete Plant (CP-3)'!V30,'Concrete Plant (CP-4)'!V30,'Concrete Plant (CP-5)'!V30,'Concrete Plant (CP-6)'!V30,'Concrete Plant (CP-7)'!V30,'Concrete Plant (CP-8)'!V30,'Concrete Plant (CP-9)'!V30,'Concrete Plant (CP-10)'!V30))","v":""}]
[{"$f":"IF(SUM('Concrete Plant (CP-1)'!Q31,'Concrete Plant (CP-2)'!Q31,'Concrete Plant (CP-3)'!Q31,'Concrete Plant (CP-4)'!Q31,'Concrete Plant (CP-5)'!Q31,'Concrete Plant (CP-6)'!Q31,'Concrete Plant (CP-7)'!Q31,'Concrete Plant (CP-8)'!Q31,'Concrete Plant (CP-9)'!Q31,'Concrete Plant (CP-10)'!Q31)>0,\"ALL\",\"\")","v":""},{"$f":"IF(SUM('Concrete Plant (CP-1)'!Q31,'Concrete Plant (CP-2)'!Q31,'Concrete Plant (CP-3)'!Q31,'Concrete Plant (CP-4)'!Q31,'Concrete Plant (CP-5)'!Q31,'Concrete Plant (CP-6)'!Q31,'Concrete Plant (CP-7)'!Q31,'Concrete Plant (CP-8)'!Q31,'Concrete Plant (CP-9)'!Q31,'Concrete Plant (CP-10)'!Q31)>0,\"Cement Supplement Delivery to Silo\",\"\")","v":""},{"$f":"IF(B15=\"\",\"\",\"30501117\")","v":""},{"$f":"IF(SUM('Concrete Plant (CP-1)'!Q31,'Concrete Plant (CP-2)'!Q31,'Concrete Plant (CP-3)'!Q31,'Concrete Plant (CP-4)'!Q31,'Concrete Plant (CP-5)'!Q31,'Concrete Plant (CP-6)'!Q31,'Concrete Plant (CP-7)'!Q31,'Concrete Plant (CP-8)'!Q31,'Concrete Plant (CP-9)'!Q31,'Concrete Plant (CP-10)'!Q31)>0,SUM('Concrete Plant (CP-1)'!Q31,'Concrete Plant (CP-2)'!Q31,'Concrete Plant (CP-3)'!Q31,'Concrete Plant (CP-4)'!Q31,'Concrete Plant (CP-5)'!Q31,'Concrete Plant (CP-6)'!Q31,'Concrete Plant (CP-7)'!Q31,'Concrete Plant (CP-8)'!Q31,'Concrete Plant (CP-9)'!Q31,'Concrete Plant (CP-10)'!Q31),\"\")","v":""},"",{"$f":"IF(B15=\"\",\"\",LOOKUP(B15,'Emission Factors'!$A$5:$A$16,'Emission Factors'!$D$5:$D$16))","v":""},"",{"$f":"IF(B15=\"\",\"\",LOOKUP(B15,'Emission Factors'!$A$5:$A$16,'Emission Factors'!$F$5:$F$16))","v":""}," ",null,{"$f":"IF(D15=\"\",\"\",IF(SUM('Concrete Plant (CP-1)'!T31,'Concrete Plant (CP-2)'!T31,'Concrete Plant (CP-3)'!T31,'Concrete Plant (CP-4)'!T31,'Concrete Plant (CP-5)'!T31,'Concrete Plant (CP-6)'!T31,'Concrete Plant (CP-7)'!T31,'Concrete Plant (CP-8)'!T31,'Concrete Plant (CP-9)'!T31,'Concrete Plant (CP-10)'!T31)>0,SUM('Concrete Plant (CP-1)'!T31,'Concrete Plant (CP-2)'!T31,'Concrete Plant (CP-3)'!T31,'Concrete Plant (CP-4)'!T31,'Concrete Plant (CP-5)'!T31,'Concrete Plant (CP-6)'!T31,'Concrete Plant (CP-7)'!T31,'Concrete Plant (CP-8)'!T31,'Concrete Plant (CP-9)'!T31,'Concrete Plant (CP-10)'!T31),\"\"))","v":""},{"$f":"IF(B15=\"\",\"\",SUM('Concrete Plant (CP-1)'!U31,'Concrete Plant (CP-2)'!U31,'Concrete Plant (CP-3)'!U31,'Concrete Plant (CP-4)'!U31,'Concrete Plant (CP-5)'!U31,'Concrete Plant (CP-6)'!U31,'Concrete Plant (CP-7)'!U31,'Concrete Plant (CP-8)'!U31,'Concrete Plant (CP-9)'!U31,'Concrete Plant (CP-10)'!U31))","v":""},{"$f":"IF(B15=\"\",\"\",SUM('Concrete Plant (CP-1)'!V31,'Concrete Plant (CP-2)'!V31,'Concrete Plant (CP-3)'!V31,'Concrete Plant (CP-4)'!V31,'Concrete Plant (CP-5)'!V31,'Concrete Plant (CP-6)'!V31,'Concrete Plant (CP-7)'!V31,'Concrete Plant (CP-8)'!V31,'Concrete Plant (CP-9)'!V31,'Concrete Plant (CP-10)'!V31))","v":""}]
[{"$f":"IF(SUM('Concrete Plant (CP-1)'!Q48,'Concrete Plant (CP-2)'!Q49,'Concrete Plant (CP-3)'!Q49,'Concrete Plant (CP-4)'!Q49,'Concrete Plant (CP-5)'!Q49,'Concrete Plant (CP-6)'!Q49,'Concrete Plant (CP-7)'!Q49,'Concrete Plant (CP-8)'!Q49,'Concrete Plant (CP-9)'!Q49,'Concrete Plant (CP-10)'!Q48,)>0,\"ALL\",\"\")","v":""},{"$f":"IF(SUM('Concrete Plant (CP-1)'!Q48,'Concrete Plant (CP-2)'!Q49,'Concrete Plant (CP-3)'!Q49,'Concrete Plant (CP-4)'!Q49,'Concrete Plant (CP-5)'!Q49,'Concrete Plant (CP-6)'!Q49,'Concrete Plant (CP-7)'!Q49,'Concrete Plant (CP-8)'!Q49,'Concrete Plant (CP-9)'!Q49,'Concrete Plant (CP-10)'!Q48,)>0,\"Storage Piles\",\"\")","v":""},{"$f":"IF(B16=\"\",\"\",\"30502007\")","v":""},{"$f":"IF(B16=\"\",\"\",SUM('Concrete Plant (CP-1)'!Q48,'Concrete Plant (CP-2)'!Q49,'Concrete Plant (CP-3)'!Q49,'Concrete Plant (CP-4)'!Q49,'Concrete Plant (CP-5)'!Q49,'Concrete Plant (CP-6)'!Q49,'Concrete Plant (CP-7)'!Q49,'Concrete Plant (CP-8)'!Q49,'Concrete Plant (CP-9)'!Q49,'Concrete Plant (CP-10)'!Q48))","v":""},{"$f":"IF(B16=\"\",\"\",\"acre/day\")","v":""},{"$f":"IF(B16=\"\",\"\",3.64)","v":""},{"$f":"IF(B16=\"\",\"\",\"lb/acre-day\")","v":""},{"$f":"IF(B16=\"\",\"\",\"WebFIRE\")","v":""},{"$f":"IF(B16=\"\",\"\",SUM('Concrete Plant (CP-1)'!S48,'Concrete Plant (CP-2)'!S49,'Concrete Plant (CP-3)'!S49,'Concrete Plant (CP-4)'!S49,'Concrete Plant (CP-5)'!S49,'Concrete Plant (CP-6)'!S49,'Concrete Plant (CP-7)'!S49,'Concrete Plant (CP-8)'!S49,'Concrete Plant (CP-9)'!S49,'Concrete Plant (CP-10)'!S48))","v":""},null,null,{"$f":"IF(D16=\"\",\"\",SUM('Concrete Plant (CP-1)'!U48,'Concrete Plant (CP-2)'!U49,'Concrete Plant (CP-3)'!U49,'Concrete Plant (CP-4)'!U49,'Concrete Plant (CP-5)'!U49,'Concrete Plant (CP-6)'!U49,'Concrete Plant (CP-7)'!U49,'Concrete Plant (CP-8)'!U49,'Concrete Plant (CP-9)'!U49,'Concrete Plant (CP-10)'!U48))","v":""},{"$f":"IF(D16=\"\",\"\",SUM('Concrete Plant (CP-1)'!V48,'Concrete Plant (CP-2)'!V49,'Concrete Plant (CP-3)'!V49,'Concrete Plant (CP-4)'!V49,'Concrete Plant (CP-5)'!V49,'Concrete Plant (CP-6)'!V49,'Concrete Plant (CP-7)'!V49,'Concrete Plant (CP-8)'!V49,'Concrete Plant (CP-9)'!V49,'Concrete Plant (CP-10)'!V48))","v":""}]
[{"$f":"IF('Haul Roads'!L42=0,\"\",\"ALL\")","v":""},{"$f":"IF('Haul Roads'!L42=0,\"\",\"Unpaved Haul Roads\")","v":""},{"$f":"IF('Haul Roads'!L42=0,\"\",\"30202054\")","v":""},{"$f":"IF(F17=\"\",\"\",'Haul Roads'!P37*'Haul Roads'!L37/8760)","v":""},{"$f":"IF(B17=\"\",\"\",\"vmt/hr\")","v":""},{"$f":"IF(B17=\"\",\"\",'Haul Roads'!U37)","v":""},{"$f":"IF(F17=\"\",\"\",\"lb/vmt\")","v":""},{"$f":"IF(F17=\"\",\"\",\"AP-42 Ch 13.2.2\")","v":""},{"$f":"IF(F17=\"\",\"\",D17*F17)","v":""},{"$f":"IF(SUM('Haul Roads'!W7:W36)>0,40,\"\")","v":""},{"$f":"IF(SUM('Haul Roads'!W7:W36)>0,(SUM('Haul Roads'!W7:W36)),\"\")","v":""},{"$f":"IF(AND((SUM('Haul Roads'!$M$7:$M$36)>0),'Haul Roads'!L40>0),SUM('Haul Roads'!$AL$9:$AL$18),IF(B17=\"\",\"\",'Haul Roads'!L40))","v":""},{"$f":"IF(AND((SUM('Haul Roads'!$M$7:$M$36)>0),'Haul Roads'!L45>0),SUM('Haul Roads'!$AM$9:$AM$18),IF(B17=\"\",\"\",'Haul Roads'!L45))","v":""}]
[{"$f":"IF('Haul Roads'!L43=0,\"\",\"ALL\")","v":""},{"$f":"IF('Haul Roads'!L43=0,\"\",\"Paved Haul Roads\")","v":""},{"$f":"IF('Haul Roads'!L43=0,\"\",\"30202054\")","v":""},{"$f":"IF(F18=\"\",\"\",'Haul Roads'!P38*'Haul Roads'!L38/8760)","v":""},{"$f":"IF(B18=\"\",\"\",\"vmt/hr\")","v":""},{"$f":"IF(B18=\"\",\"\",'Haul Roads'!U38)","v":""},{"$f":"IF(F18=\"\",\"\",\"lb/vmt\")","v":""},{"$f":"IF(F18=\"\",\"\",\"AP-42 Ch 13.2.1\")","v":""},{"$f":"IF(F18=\"\",\"\",D18*F18)","v":""},null,null,{"$f":"IF(B18=\"\",\"\",IF(AND((SUM('Haul Roads'!$M$7:$M$36)>0),'Haul Roads'!L41>0,'Haul Roads'!L40>0),\"\",IF(AND((SUM('Haul Roads'!$M$7:$M$36)>0),'Haul Roads'!L41>0),SUM('Haul Roads'!$AL$9:$AL$18),'Haul Roads'!L41)))","v":""},{"$f":"IF(B18=\"\",\"\",IF(AND((SUM('Haul Roads'!$M$7:$M$36)>0),'Haul Roads'!L46>0,'Haul Roads'!L45>0),\"\",IF(AND((SUM('Haul Roads'!$M$7:$M$36)>0),'Haul Roads'!L46>0),SUM('Haul Roads'!$AM$9:$AM$18),'Haul Roads'!L46)))","v":""}]
[{"$f":"IF('Permitted Diesel Engines'!R49=0,\"\",\"ALL\")","v":""},{"$f":"IF('Permitted Diesel Engines'!R49=0,\"\",\"Diesel Generator ≤ 600 bhp\")","v":""},{"$f":"IF('Permitted Diesel Engines'!R49=0,\"\",LOOKUP(B19,'Emission Factors'!A33:A34,'Emission Factors'!B33:B34))","v":""},{"$f":"IF('Permitted Diesel Engines'!R49=0,\"\",'Permitted Diesel Engines'!R49)","v":""},{"$f":"IF(B19=\"\",\"\",\"MMBtu/hr\")","v":""},{"$f":"IF(B19=\"\",\"\",LOOKUP(B19,'Emission Factors'!$A$33:$A$34,'Emission Factors'!$D$33:$D$34))","v":""},{"$f":"IF(B19=\"\",\"\",LOOKUP(B19,'Emission Factors'!$A$33:$A$34,'Emission Factors'!$C$33:$C$34))","v":""},{"$f":"IF(B19=\"\",\"\",LOOKUP(B19,'Emission Factors'!$A$33:$A$34,'Emission Factors'!$E$33:$E$34))","v":""},{"$f":"IF(B19=\"\",\"\",'Emission Calculations'!D19*'Emission Calculations'!F19)","v":""},null,null,{"$f":"IF(F19=\"\",\"\",'Permitted Diesel Engines'!Z76)","v":""},{"$f":"IF(B19=\"\",\"\",'Permitted Diesel Engines'!$T$49*F19/2000)","v":""}]
[{"$f":"IF('Permitted Diesel Engines'!R50=0,\"\",\"ALL\")","v":""},{"$f":"IF('Permitted Diesel Engines'!R50=0,\"\",\"Diesel Generator> 600 bhp\")","v":""},{"$f":"IF('Permitted Diesel Engines'!R50=0,\"\",LOOKUP(B20,'Emission Factors'!$A$33:$A$34,'Emission Factors'!$B$33:$B$34))","v":""},{"$f":"IF('Permitted Diesel Engines'!R50=0,\"\",'Permitted Diesel Engines'!R50)","v":""},{"$f":"IF(B20=\"\",\"\",\"MMBtu/hr\")","v":""},{"$f":"IF(B20=\"\",\"\",LOOKUP(B20,'Emission Factors'!$A$33:$A$34,'Emission Factors'!$D$33:$D$34))","v":""},{"$f":"IF(B20=\"\",\"\",LOOKUP(B20,'Emission Factors'!$A$33:$A$34,'Emission Factors'!$C$33:$C$34))","v":""},{"$f":"IF(B20=\"\",\"\",LOOKUP(B20,'Emission Factors'!$A$33:$A$34,'Emission Factors'!$E$33:$E$34))","v":""},{"$f":"IF(B20=\"\",\"\",'Emission Calculations'!D20*'Emission Calculations'!F20)","v":""},null,null,{"$f":"IF(F20=\"\",\"\",'Permitted Diesel Engines'!AA76)","v":""},{"$f":"IF(B20=\"\",\"\",'Permitted Diesel Engines'!$T$50*F20/2000)","v":""}]
[null,null,null,null,null,null,null,null,null,"FACILITY TOTALS:",null,{"$f":"SUM(L5:L20)","v":0},{"$f":"SUM(M5:M20)","v":0}]
[]
["PM10",null,null,null,null,null,null,null,"Potential Hourly ",null,"Potential Hourly","Potential Annual ","Actual"]
["EP","Description of Process","SCC #","Max Design Rate","Units of Measure","Emission Factor","Units of Measure","Source of Emission Factor","Uncontrolled Emissions(lb/hr)","Control Efficiency","Controlled Emissions (lb/hr)","Emissions (tons/yr)","Emissions (tons/yr)"]
[{"$f":"IF(SUM('Concrete Plant (CP-1)'!Q34,'Concrete Plant (CP-2)'!Q35,'Concrete Plant (CP-3)'!Q35,'Concrete Plant (CP-4)'!Q35,'Concrete Plant (CP-5)'!Q35,'Concrete Plant (CP-6)'!Q35,'Concrete Plant (CP-7)'!Q35,'Concrete Plant (CP-8)'!Q35,'Concrete Plant (CP-9)'!Q35,'Concrete Plant (CP-10)'!Q34)>0,\"ALL\",\"\")","v":""},{"$f":"IF(SUM('Concrete Plant (CP-1)'!Q34,'Concrete Plant (CP-2)'!Q35,'Concrete Plant (CP-3)'!Q35,'Concrete Plant (CP-4)'!Q35,'Concrete Plant (CP-5)'!Q35,'Concrete Plant (CP-6)'!Q35,'Concrete Plant (CP-7)'!Q35,'Concrete Plant (CP-8)'!Q35,'Concrete Plant (CP-9)'!Q35,'Concrete Plant (CP-10)'!Q34)>0,\"Aggregate Delivery to Ground Storage\",\"\")","v":""},{"$f":"IF(B25=\"\",\"\",\"30501121\")","v":""},{"$f":"IF(SUM('Concrete Plant (CP-1)'!Q34,'Concrete Plant (CP-2)'!Q35,'Concrete Plant (CP-3)'!Q35,'Concrete Plant (CP-4)'!Q35,'Concrete Plant (CP-5)'!Q35,'Concrete Plant (CP-6)'!Q35,'Concrete Plant (CP-7)'!Q35,'Concrete Plant (CP-8)'!Q35,'Concrete Plant (CP-9)'!Q35,'Concrete Plant (CP-10)'!Q34)>0,SUM('Concrete Plant (CP-1)'!Q34,'Concrete Plant (CP-2)'!Q35,'Concrete Plant (CP-3)'!Q35,'Concrete Plant (CP-4)'!Q35,'Concrete Plant (CP-5)'!Q35,'Concrete Plant (CP-6)'!Q35,'Concrete Plant (CP-7)'!Q35,'Concrete Plant (CP-8)'!Q35,'Concrete Plant (CP-9)'!Q35,'Concrete Plant (CP-10)'!Q34),\"\")","v":""},{"$f":"IF(B25=\"\",\"\",\"cubic yd/hr\")","v":""},{"$f":"IF(B25=\"\",\"\",LOOKUP(B25,'Emission Factors'!$A$5:$A$16,'Emission Factors'!$H$5:$H$16))","v":""},{"$f":"IF(B25=\"\",\"\",\"lb/cubic yd\")","v":""},{"$f":"IF(B25=\"\",\"\",LOOKUP(B25,'Emission Factors'!$A$5:$A$16,'Emission Factors'!$J$5:$J$16))","v":""},{"$f":"IF(D5=\"\",\"\",SUM('Concrete Plant (CP-1)'!S34,'Concrete Plant (CP-2)'!S35,'Concrete Plant (CP-3)'!S35,'Concrete Plant (CP-4)'!S35,'Concrete Plant (CP-5)'!S35,'Concrete Plant (CP-6)'!S35,'Concrete Plant (CP-7)'!S35,'Concrete Plant (CP-8)'!S35,'Concrete Plant (CP-8)'!S35,'Concrete Plant (CP-10)'!S34))","v":""},null,{"$f":"IF(D25=\"\",\"\",IF(SUM('Concrete Plant (CP-1)'!T34,'Concrete Plant (CP-2)'!T35,'Concrete Plant (CP-3)'!T35,'Concrete Plant (CP-4)'!T35,'Concrete Plant (CP-5)'!T35,'Concrete Plant (CP-6)'!T35,'Concrete Plant (CP-7)'!T35,'Concrete Plant (CP-8)'!T35,'Concrete Plant (CP-9)'!T35,'Concrete Plant (CP-10)'!T34)>0,SUM('Concrete Plant (CP-1)'!T34,'Concrete Plant (CP-2)'!T35,'Concrete Plant (CP-3)'!T35,'Concrete Plant (CP-4)'!T35,'Concrete Plant (CP-5)'!T35,'Concrete Plant (CP-6)'!T35,'Concrete Plant (CP-7)'!T35,'Concrete Plant (CP-8)'!T35,'Concrete Plant (CP-9)'!T35,'Concrete Plant (CP-10)'!T34),\"\"))","v":""},{"$f":"IF(B25=\"\",\"\",SUM('Concrete Plant (CP-1)'!U34,'Concrete Plant (CP-2)'!U35,'Concrete Plant (CP-3)'!U35,'Concrete Plant (CP-4)'!U35,'Concrete Plant (CP-5)'!U35,'Concrete Plant (CP-6)'!U35,'Concrete Plant (CP-7)'!U35,'Concrete Plant (CP-8)'!U35,'Concrete Plant (CP-9)'!U35,'Concrete Plant (CP-10)'!U34))","v":""},{"$f":"IF(B25=\"\",\"\",SUM('Concrete Plant (CP-1)'!V34,'Concrete Plant (CP-2)'!V35,'Concrete Plant (CP-3)'!V35,'Concrete Plant (CP-4)'!V35,'Concrete Plant (CP-5)'!V35,'Concrete Plant (CP-6)'!V35,'Concrete Plant (CP-7)'!V35,'Concrete Plant (CP-8)'!V35,'Concrete Plant (CP-9)'!V35,'Concrete Plant (CP-10)'!V34))","v":""}]
[{"$f":"IF(SUM('Concrete Plant (CP-1)'!Q35,'Concrete Plant (CP-2)'!Q36,'Concrete Plant (CP-3)'!Q36,'Concrete Plant (CP-4)'!Q36,'Concrete Plant (CP-5)'!Q36,'Concrete Plant (CP-6)'!Q36,'Concrete Plant (CP-7)'!Q36,'Concrete Plant (CP-8)'!Q36,'Concrete Plant (CP-9)'!Q36,'Concrete Plant (CP-10)'!Q35)>0,\"ALL\",\"\")","v":""},{"$f":"IF(SUM('Concrete Plant (CP-1)'!Q35,'Concrete Plant (CP-2)'!Q36,'Concrete Plant (CP-3)'!Q36,'Concrete Plant (CP-4)'!Q36,'Concrete Plant (CP-5)'!Q36,'Concrete Plant (CP-6)'!Q36,'Concrete Plant (CP-7)'!Q36,'Concrete Plant (CP-8)'!Q36,'Concrete Plant (CP-9)'!Q36,'Concrete Plant (CP-10)'!Q35)>0,\"Sand Delivery to Ground Storage\",\"\")","v":""},{"$f":"IF(B26=\"\",\"\",\"30501122\")","v":""},{"$f":"IF(SUM('Concrete Plant (CP-1)'!Q35,'Concrete Plant (CP-2)'!Q36,'Concrete Plant (CP-3)'!Q36,'Concrete Plant (CP-4)'!Q36,'Concrete Plant (CP-5)'!Q36,'Concrete Plant (CP-6)'!Q36,'Concrete Plant (CP-7)'!Q36,'Concrete Plant (CP-8)'!Q36,'Concrete Plant (CP-9)'!Q36,'Concrete Plant (CP-10)'!Q35)>0,SUM('Concrete Plant (CP-1)'!Q35,'Concrete Plant (CP-2)'!Q36,'Concrete Plant (CP-3)'!Q36,'Concrete Plant (CP-4)'!Q36,'Concrete Plant (CP-5)'!Q36,'Concrete Plant (CP-6)'!Q36,'Concrete Plant (CP-7)'!Q36,'Concrete Plant (CP-8)'!Q36,'Concrete Plant (CP-9)'!Q36,'Concrete Plant (CP-10)'!Q35),\"\")","v":""},{"$f":"IF(B26=\"\",\"\",\"cubic yd/hr\")","v":""},{"$f":"IF(B26=\"\",\"\",LOOKUP(B26,'Emission Factors'!$A$5:$A$16,'Emission Factors'!$H$5:$H$16))","v":""},{"$f":"IF(B26=\"\",\"\",\"lb/cubic yd\")","v":""},{"$f":"IF(B26=\"\",\"\",LOOKUP(B26,'Emission Factors'!$A$5:$A$16,'Emission Factors'!$J$5:$J$16))","v":""},{"$f":"IF(D6=\"\",\"\",SUM('Concrete Plant (CP-1)'!S35,'Concrete Plant (CP-2)'!S36,'Concrete Plant (CP-3)'!S36,'Concrete Plant (CP-4)'!S36,'Concrete Plant (CP-5)'!S36,'Concrete Plant (CP-6)'!S36,'Concrete Plant (CP-7)'!S36,'Concrete Plant (CP-8)'!S36,'Concrete Plant (CP-8)'!S36,'Concrete Plant (CP-10)'!S35))","v":""},null,{"$f":"IF(D26=\"\",\"\",IF(SUM('Concrete Plant (CP-1)'!T35,'Concrete Plant (CP-2)'!T36,'Concrete Plant (CP-3)'!T36,'Concrete Plant (CP-4)'!T36,'Concrete Plant (CP-5)'!T36,'Concrete Plant (CP-6)'!T36,'Concrete Plant (CP-7)'!T36,'Concrete Plant (CP-8)'!T36,'Concrete Plant (CP-9)'!T36,'Concrete Plant (CP-10)'!T35)>0,SUM('Concrete Plant (CP-1)'!T35,'Concrete Plant (CP-2)'!T36,'Concrete Plant (CP-3)'!T36,'Concrete Plant (CP-4)'!T36,'Concrete Plant (CP-5)'!T36,'Concrete Plant (CP-6)'!T36,'Concrete Plant (CP-7)'!T36,'Concrete Plant (CP-8)'!T36,'Concrete Plant (CP-9)'!T36,'Concrete Plant (CP-10)'!T35),\"\"))","v":""},{"$f":"IF(B26=\"\",\"\",SUM('Concrete Plant (CP-1)'!U35,'Concrete Plant (CP-2)'!U36,'Concrete Plant (CP-3)'!U36,'Concrete Plant (CP-4)'!U36,'Concrete Plant (CP-5)'!U36,'Concrete Plant (CP-6)'!U36,'Concrete Plant (CP-7)'!U36,'Concrete Plant (CP-8)'!U36,'Concrete Plant (CP-9)'!U36,'Concrete Plant (CP-10)'!U35))","v":""},{"$f":"IF(B26=\"\",\"\",SUM('Concrete Plant (CP-1)'!V35,'Concrete Plant (CP-2)'!V36,'Concrete Plant (CP-3)'!V36,'Concrete Plant (CP-4)'!V36,'Concrete Plant (CP-5)'!V36,'Concrete Plant (CP-6)'!V36,'Concrete Plant (CP-7)'!V36,'Concrete Plant (CP-8)'!V36,'Concrete Plant (CP-9)'!V36,'Concrete Plant (CP-10)'!V35))","v":""}]
[{"$f":"IF(SUM('Concrete Plant (CP-1)'!Q36,'Concrete Plant (CP-2)'!Q37,'Concrete Plant (CP-3)'!Q37,'Concrete Plant (CP-4)'!Q37,'Concrete Plant (CP-5)'!Q37,'Concrete Plant (CP-6)'!Q37,'Concrete Plant (CP-7)'!Q37,'Concrete Plant (CP-8)'!Q37,'Concrete Plant (CP-9)'!Q37,'Concrete Plant (CP-10)'!Q36)>0,\"ALL\",\"\")","v":""},{"$f":"IF(SUM('Concrete Plant (CP-1)'!Q36,'Concrete Plant (CP-2)'!Q37,'Concrete Plant (CP-3)'!Q37,'Concrete Plant (CP-4)'!Q37,'Concrete Plant (CP-5)'!Q37,'Concrete Plant (CP-6)'!Q37,'Concrete Plant (CP-7)'!Q37,'Concrete Plant (CP-8)'!Q37,'Concrete Plant (CP-9)'!Q37,'Concrete Plant (CP-10)'!Q36)>0,\"Aggregate Transfer to Conveyor\",\"\")","v":""},{"$f":"IF(B27=\"\",\"\",\"30501123\")","v":""},{"$f":"IF(SUM('Concrete Plant (CP-1)'!Q36,'Concrete Plant (CP-2)'!Q37,'Concrete Plant (CP-3)'!Q37,'Concrete Plant (CP-4)'!Q37,'Concrete Plant (CP-5)'!Q37,'Concrete Plant (CP-6)'!Q37,'Concrete Plant (CP-7)'!Q37,'Concrete Plant (CP-8)'!Q37,'Concrete Plant (CP-9)'!Q37,'Concrete Plant (CP-10)'!Q36)>0,SUM('Concrete Plant (CP-1)'!Q36,'Concrete Plant (CP-2)'!Q37,'Concrete Plant (CP-3)'!Q37,'Concrete Plant (CP-4)'!Q37,'Concrete Plant (CP-5)'!Q37,'Concrete Plant (CP-6)'!Q37,'Concrete Plant (CP-7)'!Q37,'Concrete Plant (CP-8)'!Q37,'Concrete Plant (CP-9)'!Q37,'Concrete Plant (CP-10)'!Q36),\"\")","v":""},"",{"$f":"IF(B27=\"\",\"\",LOOKUP(B27,'Emission Factors'!$A$5:$A$16,'Emission Factors'!$H$5:$H$16))","v":""},"",{"$f":"IF(B27=\"\",\"\",LOOKUP(B27,'Emission Factors'!$A$5:$A$16,'Emission Factors'!$J$5:$J$16))","v":""},{"$f":"IF(D7=\"\",\"\",SUM('Concrete Plant (CP-1)'!S36,'Concrete Plant (CP-2)'!S37,'Concrete Plant (CP-3)'!S37,'Concrete Plant (CP-4)'!S37,'Concrete Plant (CP-5)'!S37,'Concrete Plant (CP-6)'!S37,'Concrete Plant (CP-7)'!S37,'Concrete Plant (CP-8)'!S37,'Concrete Plant (CP-8)'!S37,'Concrete Plant (CP-10)'!S36))","v":""},null,{"$f":"IF(D27=\"\",\"\",IF(SUM('Concrete Plant (CP-1)'!T36,'Concrete Plant (CP-2)'!T37,'Concrete Plant (CP-3)'!T37,'Concrete Plant (CP-4)'!T37,'Concrete Plant (CP-5)'!T37,'Concrete Plant (CP-6)'!T37,'Concrete Plant (CP-7)'!T37,'Concrete Plant (CP-8)'!T37,'Concrete Plant (CP-9)'!T37,'Concrete Plant (CP-10)'!T36)>0,SUM('Concrete Plant (CP-1)'!T36,'Concrete Plant (CP-2)'!T37,'Concrete Plant (CP-3)'!T37,'Concrete Plant (CP-4)'!T37,'Concrete Plant (CP-5)'!T37,'Concrete Plant (CP-6)'!T37,'Concrete Plant (CP-7)'!T37,'Concrete Plant (CP-8)'!T37,'Concrete Plant (CP-9)'!T37,'Concrete Plant (CP-10)'!T36),\"\"))","v":""},{"$f":"IF(B27=\"\",\"\",SUM('Concrete Plant (CP-1)'!U36,'Concrete Plant (CP-2)'!U37,'Concrete Plant (CP-3)'!U37,'Concrete Plant (CP-4)'!U37,'Concrete Plant (CP-5)'!U37,'Concrete Plant (CP-6)'!U37,'Concrete Plant (CP-7)'!U37,'Concrete Plant (CP-8)'!U37,'Concrete Plant (CP-9)'!U37,'Concrete Plant (CP-10)'!U36))","v":""},{"$f":"IF(B27=\"\",\"\",SUM('Concrete Plant (CP-1)'!V36,'Concrete Plant (CP-2)'!V37,'Concrete Plant (CP-3)'!V37,'Concrete Plant (CP-4)'!V37,'Concrete Plant (CP-5)'!V37,'Concrete Plant (CP-6)'!V37,'Concrete Plant (CP-7)'!V37,'Concrete Plant (CP-8)'!V37,'Concrete Plant (CP-9)'!V37,'Concrete Plant (CP-10)'!V36))","v":""}]
[{"$f":"IF(SUM('Concrete Plant (CP-1)'!Q37,'Concrete Plant (CP-2)'!Q38,'Concrete Plant (CP-3)'!Q38,'Concrete Plant (CP-4)'!Q38,'Concrete Plant (CP-5)'!Q38,'Concrete Plant (CP-6)'!Q38,'Concrete Plant (CP-7)'!Q38,'Concrete Plant (CP-8)'!Q38,'Concrete Plant (CP-9)'!Q38,'Concrete Plant (CP-10)'!Q37)>0,\"ALL\",\"\")","v":""},{"$f":"IF(SUM('Concrete Plant (CP-1)'!Q37,'Concrete Plant (CP-2)'!Q38,'Concrete Plant (CP-3)'!Q38,'Concrete Plant (CP-4)'!Q38,'Concrete Plant (CP-5)'!Q38,'Concrete Plant (CP-6)'!Q38,'Concrete Plant (CP-7)'!Q38,'Concrete Plant (CP-8)'!Q38,'Concrete Plant (CP-9)'!Q38,'Concrete Plant (CP-10)'!Q37)>0,\"Sand Transfer to Conveyor\",\"\")","v":""},{"$f":"IF(B28=\"\",\"\",\"30501124\")","v":""},{"$f":"IF(SUM('Concrete Plant (CP-1)'!Q37,'Concrete Plant (CP-2)'!Q38,'Concrete Plant (CP-3)'!Q38,'Concrete Plant (CP-4)'!Q38,'Concrete Plant (CP-5)'!Q38,'Concrete Plant (CP-6)'!Q38,'Concrete Plant (CP-7)'!Q38,'Concrete Plant (CP-8)'!Q38,'Concrete Plant (CP-9)'!Q38,'Concrete Plant (CP-10)'!Q37)>0,SUM('Concrete Plant (CP-1)'!Q37,'Concrete Plant (CP-2)'!Q38,'Concrete Plant (CP-3)'!Q38,'Concrete Plant (CP-4)'!Q38,'Concrete Plant (CP-5)'!Q38,'Concrete Plant (CP-6)'!Q38,'Concrete Plant (CP-7)'!Q38,'Concrete Plant (CP-8)'!Q38,'Concrete Plant (CP-9)'!Q38,'Concrete Plant (CP-10)'!Q37),\"\")","v":""},"",{"$f":"IF(B28=\"\",\"\",LOOKUP(B28,'Emission Factors'!$A$5:$A$16,'Emission Factors'!$H$5:$H$16))","v":""},"",{"$f":"IF(B28=\"\",\"\",LOOKUP(B28,'Emission Factors'!$A$5:$A$16,'Emission Factors'!$J$5:$J$16))","v":""},{"$f":"IF(D8=\"\",\"\",SUM('Concrete Plant (CP-1)'!S37,'Concrete Plant (CP-2)'!S38,'Concrete Plant (CP-3)'!S38,'Concrete Plant (CP-4)'!S38,'Concrete Plant (CP-5)'!S38,'Concrete Plant (CP-6)'!S38,'Concrete Plant (CP-7)'!S38,'Concrete Plant (CP-8)'!S38,'Concrete Plant (CP-8)'!S38,'Concrete Plant (CP-10)'!S37))","v":""},null,{"$f":"IF(D28=\"\",\"\",IF(SUM('Concrete Plant (CP-1)'!T37,'Concrete Plant (CP-2)'!T38,'Concrete Plant (CP-3)'!T38,'Concrete Plant (CP-4)'!T38,'Concrete Plant (CP-5)'!T38,'Concrete Plant (CP-6)'!T38,'Concrete Plant (CP-7)'!T38,'Concrete Plant (CP-8)'!T38,'Concrete Plant (CP-9)'!T38,'Concrete Plant (CP-10)'!T37)>0,SUM('Concrete Plant (CP-1)'!T37,'Concrete Plant (CP-2)'!T38,'Concrete Plant (CP-3)'!T38,'Concrete Plant (CP-4)'!T38,'Concrete Plant (CP-5)'!T38,'Concrete Plant (CP-6)'!T38,'Concrete Plant (CP-7)'!T38,'Concrete Plant (CP-8)'!T38,'Concrete Plant (CP-9)'!T38,'Concrete Plant (CP-10)'!T37),\"\"))","v":""},{"$f":"IF(B28=\"\",\"\",SUM('Concrete Plant (CP-1)'!U37,'Concrete Plant (CP-2)'!U38,'Concrete Plant (CP-3)'!U38,'Concrete Plant (CP-4)'!U38,'Concrete Plant (CP-5)'!U38,'Concrete Plant (CP-6)'!U38,'Concrete Plant (CP-7)'!U38,'Concrete Plant (CP-8)'!U38,'Concrete Plant (CP-9)'!U38,'Concrete Plant (CP-10)'!U37))","v":""},{"$f":"IF(B28=\"\",\"\",SUM('Concrete Plant (CP-1)'!V37,'Concrete Plant (CP-2)'!V38,'Concrete Plant (CP-3)'!V38,'Concrete Plant (CP-4)'!V38,'Concrete Plant (CP-5)'!V38,'Concrete Plant (CP-6)'!V38,'Concrete Plant (CP-7)'!V38,'Concrete Plant (CP-8)'!V38,'Concrete Plant (CP-9)'!V38,'Concrete Plant (CP-10)'!V37))","v":""}]
[{"$f":"IF(SUM('Concrete Plant (CP-1)'!Q38,'Concrete Plant (CP-2)'!Q39,'Concrete Plant (CP-3)'!Q39,'Concrete Plant (CP-4)'!Q39,'Concrete Plant (CP-5)'!Q39,'Concrete Plant (CP-6)'!Q39,'Concrete Plant (CP-7)'!Q39,'Concrete Plant (CP-8)'!Q39,'Concrete Plant (CP-9)'!Q39,'Concrete Plant (CP-10)'!Q38)>0,\"ALL\",\"\")","v":""},{"$f":"IF(SUM('Concrete Plant (CP-1)'!Q38,'Concrete Plant (CP-2)'!Q39,'Concrete Plant (CP-3)'!Q39,'Concrete Plant (CP-4)'!Q39,'Concrete Plant (CP-5)'!Q39,'Concrete Plant (CP-6)'!Q39,'Concrete Plant (CP-7)'!Q39,'Concrete Plant (CP-8)'!Q39,'Concrete Plant (CP-9)'!Q39,'Concrete Plant (CP-10)'!Q38)>0,\"Aggregate Transfer to Elevated Storage\",\"\")","v":""},{"$f":"IF(B29=\"\",\"\",\"30501104\")","v":""},{"$f":"IF(SUM('Concrete Plant (CP-1)'!Q38,'Concrete Plant (CP-2)'!Q39,'Concrete Plant (CP-3)'!Q39,'Concrete Plant (CP-4)'!Q39,'Concrete Plant (CP-5)'!Q39,'Concrete Plant (CP-6)'!Q39,'Concrete Plant (CP-7)'!Q39,'Concrete Plant (CP-8)'!Q39,'Concrete Plant (CP-9)'!Q39,'Concrete Plant (CP-10)'!Q38)>0,SUM('Concrete Plant (CP-1)'!Q38,'Concrete Plant (CP-2)'!Q39,'Concrete Plant (CP-3)'!Q39,'Concrete Plant (CP-4)'!Q39,'Concrete Plant (CP-5)'!Q39,'Concrete Plant (CP-6)'!Q39,'Concrete Plant (CP-7)'!Q39,'Concrete Plant (CP-8)'!Q39,'Concrete Plant (CP-9)'!Q39,'Concrete Plant (CP-10)'!Q38),\"\")","v":""},"",{"$f":"IF(B29=\"\",\"\",LOOKUP(B29,'Emission Factors'!$A$5:$A$16,'Emission Factors'!$H$5:$H$16))","v":""},"",{"$f":"IF(B29=\"\",\"\",LOOKUP(B29,'Emission Factors'!$A$5:$A$16,'Emission Factors'!$J$5:$J$16))","v":""},{"$f":"IF(D9=\"\",\"\",SUM('Concrete Plant (CP-1)'!S38,'Concrete Plant (CP-2)'!S39,'Concrete Plant (CP-3)'!S39,'Concrete Plant (CP-4)'!S39,'Concrete Plant (CP-5)'!S39,'Concrete Plant (CP-6)'!S39,'Concrete Plant (CP-7)'!S39,'Concrete Plant (CP-8)'!S39,'Concrete Plant (CP-8)'!S39,'Concrete Plant (CP-10)'!S38))","v":""},null,{"$f":"IF(D29=\"\",\"\",IF(SUM('Concrete Plant (CP-1)'!T38,'Concrete Plant (CP-2)'!T39,'Concrete Plant (CP-3)'!T39,'Concrete Plant (CP-4)'!T39,'Concrete Plant (CP-5)'!T39,'Concrete Plant (CP-6)'!T39,'Concrete Plant (CP-7)'!T39,'Concrete Plant (CP-8)'!T39,'Concrete Plant (CP-9)'!T39,'Concrete Plant (CP-10)'!T38)>0,SUM('Concrete Plant (CP-1)'!T38,'Concrete Plant (CP-2)'!T39,'Concrete Plant (CP-3)'!T39,'Concrete Plant (CP-4)'!T39,'Concrete Plant (CP-5)'!T39,'Concrete Plant (CP-6)'!T39,'Concrete Plant (CP-7)'!T39,'Concrete Plant (CP-8)'!T39,'Concrete Plant (CP-9)'!T39,'Concrete Plant (CP-10)'!T38),\"\"))","v":""},{"$f":"IF(B29=\"\",\"\",SUM('Concrete Plant (CP-1)'!U38,'Concrete Plant (CP-2)'!U39,'Concrete Plant (CP-3)'!U39,'Concrete Plant (CP-4)'!U39,'Concrete Plant (CP-5)'!U39,'Concrete Plant (CP-6)'!U39,'Concrete Plant (CP-7)'!U39,'Concrete Plant (CP-8)'!U39,'Concrete Plant (CP-9)'!U39,'Concrete Plant (CP-10)'!U38))","v":""},{"$f":"IF(B29=\"\",\"\",SUM('Concrete Plant (CP-1)'!V38,'Concrete Plant (CP-2)'!V39,'Concrete Plant (CP-3)'!V39,'Concrete Plant (CP-4)'!V39,'Concrete Plant (CP-5)'!V39,'Concrete Plant (CP-6)'!V39,'Concrete Plant (CP-7)'!V39,'Concrete Plant (CP-8)'!V39,'Concrete Plant (CP-9)'!V39,'Concrete Plant (CP-10)'!V38))","v":""}]
[{"$f":"IF(SUM('Concrete Plant (CP-1)'!Q39,'Concrete Plant (CP-2)'!Q40,'Concrete Plant (CP-3)'!Q40,'Concrete Plant (CP-4)'!Q40,'Concrete Plant (CP-5)'!Q40,'Concrete Plant (CP-6)'!Q40,'Concrete Plant (CP-7)'!Q40,'Concrete Plant (CP-8)'!Q40,'Concrete Plant (CP-9)'!Q40,'Concrete Plant (CP-10)'!Q39)>0,\"ALL\",\"\")","v":""},{"$f":"IF(SUM('Concrete Plant (CP-1)'!Q39,'Concrete Plant (CP-2)'!Q40,'Concrete Plant (CP-3)'!Q40,'Concrete Plant (CP-4)'!Q40,'Concrete Plant (CP-5)'!Q40,'Concrete Plant (CP-6)'!Q40,'Concrete Plant (CP-7)'!Q40,'Concrete Plant (CP-8)'!Q40,'Concrete Plant (CP-9)'!Q40,'Concrete Plant (CP-10)'!Q39)>0,\"Sand Transfer to Elevated Storage\",\"\")","v":""},{"$f":"IF(B30=\"\",\"\",\"30501105\")","v":""},{"$f":"IF(SUM('Concrete Plant (CP-1)'!Q39,'Concrete Plant (CP-2)'!Q40,'Concrete Plant (CP-3)'!Q40,'Concrete Plant (CP-4)'!Q40,'Concrete Plant (CP-5)'!Q40,'Concrete Plant (CP-6)'!Q40,'Concrete Plant (CP-7)'!Q40,'Concrete Plant (CP-8)'!Q40,'Concrete Plant (CP-9)'!Q40,'Concrete Plant (CP-10)'!Q39)>0,SUM('Concrete Plant (CP-1)'!Q39,'Concrete Plant (CP-2)'!Q40,'Concrete Plant (CP-3)'!Q40,'Concrete Plant (CP-4)'!Q40,'Concrete Plant (CP-5)'!Q40,'Concrete Plant (CP-6)'!Q40,'Concrete Plant (CP-7)'!Q40,'Concrete Plant (CP-8)'!Q40,'Concrete Plant (CP-9)'!Q40,'Concrete Plant (CP-10)'!Q39),\"\")","v":""},"",{"$f":"IF(B30=\"\",\"\",LOOKUP(B30,'Emission Factors'!$A$5:$A$16,'Emission Factors'!$H$5:$H$16))","v":""},"",{"$f":"IF(B30=\"\",\"\",LOOKUP(B30,'Emission Factors'!$A$5:$A$16,'Emission Factors'!$J$5:$J$16))","v":""},{"$f":"IF(D10=\"\",\"\",SUM('Concrete Plant (CP-1)'!S39,'Concrete Plant (CP-2)'!S40,'Concrete Plant (CP-3)'!S40,'Concrete Plant (CP-4)'!S40,'Concrete Plant (CP-5)'!S40,'Concrete Plant (CP-6)'!S40,'Concrete Plant (CP-7)'!S40,'Concrete Plant (CP-8)'!S40,'Concrete Plant (CP-8)'!S40,'Concrete Plant (CP-10)'!S39))","v":""},null,{"$f":"IF(D30=\"\",\"\",IF(SUM('Concrete Plant (CP-1)'!T39,'Concrete Plant (CP-2)'!T40,'Concrete Plant (CP-3)'!T40,'Concrete Plant (CP-4)'!T40,'Concrete Plant (CP-5)'!T40,'Concrete Plant (CP-6)'!T40,'Concrete Plant (CP-7)'!T40,'Concrete Plant (CP-8)'!T40,'Concrete Plant (CP-9)'!T40,'Concrete Plant (CP-10)'!T39)>0,SUM('Concrete Plant (CP-1)'!T39,'Concrete Plant (CP-2)'!T40,'Concrete Plant (CP-3)'!T40,'Concrete Plant (CP-4)'!T40,'Concrete Plant (CP-5)'!T40,'Concrete Plant (CP-6)'!T40,'Concrete Plant (CP-7)'!T40,'Concrete Plant (CP-8)'!T40,'Concrete Plant (CP-9)'!T40,'Concrete Plant (CP-10)'!T39),\"\"))","v":""},{"$f":"IF(B30=\"\",\"\",SUM('Concrete Plant (CP-1)'!U39,'Concrete Plant (CP-2)'!U40,'Concrete Plant (CP-3)'!U40,'Concrete Plant (CP-4)'!U40,'Concrete Plant (CP-5)'!U40,'Concrete Plant (CP-6)'!U40,'Concrete Plant (CP-7)'!U40,'Concrete Plant (CP-8)'!U40,'Concrete Plant (CP-9)'!U40,'Concrete Plant (CP-10)'!U39))","v":""},{"$f":"IF(B30=\"\",\"\",SUM('Concrete Plant (CP-1)'!V39,'Concrete Plant (CP-2)'!V40,'Concrete Plant (CP-3)'!V40,'Concrete Plant (CP-4)'!V40,'Concrete Plant (CP-5)'!V40,'Concrete Plant (CP-6)'!V40,'Concrete Plant (CP-7)'!V40,'Concrete Plant (CP-8)'!V40,'Concrete Plant (CP-9)'!V40,'Concrete Plant (CP-10)'!V39))","v":""}]
[{"$f":"IF(SUM('Concrete Plant (CP-1)'!Q40,'Concrete Plant (CP-2)'!Q41,'Concrete Plant (CP-3)'!Q41,'Concrete Plant (CP-4)'!Q41,'Concrete Plant (CP-5)'!Q41,'Concrete Plant (CP-6)'!Q41,'Concrete Plant (CP-7)'!Q41,'Concrete Plant (CP-8)'!Q41,'Concrete Plant (CP-9)'!Q41,'Concrete Plant (CP-10)'!Q40)>0,\"ALL\",\"\")","v":""},{"$f":"IF(SUM('Concrete Plant (CP-1)'!Q40,'Concrete Plant (CP-2)'!Q41,'Concrete Plant (CP-3)'!Q41,'Concrete Plant (CP-4)'!Q41,'Concrete Plant (CP-5)'!Q41,'Concrete Plant (CP-6)'!Q41,'Concrete Plant (CP-7)'!Q41,'Concrete Plant (CP-8)'!Q41,'Concrete Plant (CP-9)'!Q41,'Concrete Plant (CP-10)'!Q40)>0,\"Weigh Hopper Loading\",\"\")","v":""},{"$f":"IF(B31=\"\",\"\",\"30501108\")","v":""},{"$f":"IF(SUM('Concrete Plant (CP-1)'!Q40,'Concrete Plant (CP-2)'!Q41,'Concrete Plant (CP-3)'!Q41,'Concrete Plant (CP-4)'!Q41,'Concrete Plant (CP-5)'!Q41,'Concrete Plant (CP-6)'!Q41,'Concrete Plant (CP-7)'!Q41,'Concrete Plant (CP-8)'!Q41,'Concrete Plant (CP-9)'!Q41,'Concrete Plant (CP-10)'!Q40)>0,SUM('Concrete Plant (CP-1)'!Q40,'Concrete Plant (CP-2)'!Q41,'Concrete Plant (CP-3)'!Q41,'Concrete Plant (CP-4)'!Q41,'Concrete Plant (CP-5)'!Q41,'Concrete Plant (CP-6)'!Q41,'Concrete Plant (CP-7)'!Q41,'Concrete Plant (CP-8)'!Q41,'Concrete Plant (CP-9)'!Q41,'Concrete Plant (CP-10)'!Q40),\"\")","v":""},"",{"$f":"IF(B31=\"\",\"\",LOOKUP(B31,'Emission Factors'!$A$5:$A$16,'Emission Factors'!$H$5:$H$16))","v":""},"",{"$f":"IF(B31=\"\",\"\",LOOKUP(B31,'Emission Factors'!$A$5:$A$16,'Emission Factors'!$J$5:$J$16))","v":""},{"$f":"IF(D11=\"\",\"\",SUM('Concrete Plant (CP-1)'!S40,'Concrete Plant (CP-2)'!S41,'Concrete Plant (CP-3)'!S41,'Concrete Plant (CP-4)'!S41,'Concrete Plant (CP-5)'!S41,'Concrete Plant (CP-6)'!S41,'Concrete Plant (CP-7)'!S41,'Concrete Plant (CP-8)'!S41,'Concrete Plant (CP-8)'!S41,'Concrete Plant (CP-10)'!S40))","v":""},null,{"$f":"IF(D31=\"\",\"\",IF(SUM('Concrete Plant (CP-1)'!T40,'Concrete Plant (CP-2)'!T41,'Concrete Plant (CP-3)'!T41,'Concrete Plant (CP-4)'!T41,'Concrete Plant (CP-5)'!T41,'Concrete Plant (CP-6)'!T41,'Concrete Plant (CP-7)'!T41,'Concrete Plant (CP-8)'!T41,'Concrete Plant (CP-9)'!T41,'Concrete Plant (CP-10)'!T40)>0,SUM('Concrete Plant (CP-1)'!T40,'Concrete Plant (CP-2)'!T41,'Concrete Plant (CP-3)'!T41,'Concrete Plant (CP-4)'!T41,'Concrete Plant (CP-5)'!T41,'Concrete Plant (CP-6)'!T41,'Concrete Plant (CP-7)'!T41,'Concrete Plant (CP-8)'!T41,'Concrete Plant (CP-9)'!T41,'Concrete Plant (CP-10)'!T40),\"\"))","v":""},{"$f":"IF(B31=\"\",\"\",SUM('Concrete Plant (CP-1)'!U40,'Concrete Plant (CP-2)'!U41,'Concrete Plant (CP-3)'!U41,'Concrete Plant (CP-4)'!U41,'Concrete Plant (CP-5)'!U41,'Concrete Plant (CP-6)'!U41,'Concrete Plant (CP-7)'!U41,'Concrete Plant (CP-8)'!U41,'Concrete Plant (CP-9)'!U41,'Concrete Plant (CP-10)'!U40))","v":""},{"$f":"IF(B31=\"\",\"\",SUM('Concrete Plant (CP-1)'!V40,'Concrete Plant (CP-2)'!V41,'Concrete Plant (CP-3)'!V41,'Concrete Plant (CP-4)'!V41,'Concrete Plant (CP-5)'!V41,'Concrete Plant (CP-6)'!V41,'Concrete Plant (CP-7)'!V41,'Concrete Plant (CP-8)'!V41,'Concrete Plant (CP-9)'!V41,'Concrete Plant (CP-10)'!V40))","v":""}]
[{"$f":"IF(SUM('Concrete Plant (CP-1)'!Q41,'Concrete Plant (CP-2)'!Q42,'Concrete Plant (CP-3)'!Q42,'Concrete Plant (CP-4)'!Q42,'Concrete Plant (CP-5)'!Q42,'Concrete Plant (CP-6)'!Q42,'Concrete Plant (CP-7)'!Q42,'Concrete Plant (CP-8)'!Q42,'Concrete Plant (CP-9)'!Q42,'Concrete Plant (CP-10)'!Q41)>0,\"ALL\",\"\")","v":""},{"$f":"IF(SUM('Concrete Plant (CP-1)'!Q41,'Concrete Plant (CP-2)'!Q42,'Concrete Plant (CP-3)'!Q42,'Concrete Plant (CP-4)'!Q42,'Concrete Plant (CP-5)'!Q42,'Concrete Plant (CP-6)'!Q42,'Concrete Plant (CP-7)'!Q42,'Concrete Plant (CP-8)'!Q42,'Concrete Plant (CP-9)'!Q42,'Concrete Plant (CP-10)'!Q41)>0,\"Central Mix Loading\",\"\")","v":""},{"$f":"IF(B32=\"\",\"\",\"30501109\")","v":""},{"$f":"IF(SUM('Concrete Plant (CP-1)'!Q41,'Concrete Plant (CP-2)'!Q42,'Concrete Plant (CP-3)'!Q42,'Concrete Plant (CP-4)'!Q42,'Concrete Plant (CP-5)'!Q42,'Concrete Plant (CP-6)'!Q42,'Concrete Plant (CP-7)'!Q42,'Concrete Plant (CP-8)'!Q42,'Concrete Plant (CP-9)'!Q42,'Concrete Plant (CP-10)'!Q41)>0,SUM('Concrete Plant (CP-1)'!Q41,'Concrete Plant (CP-2)'!Q42,'Concrete Plant (CP-3)'!Q42,'Concrete Plant (CP-4)'!Q42,'Concrete Plant (CP-5)'!Q42,'Concrete Plant (CP-6)'!Q42,'Concrete Plant (CP-7)'!Q42,'Concrete Plant (CP-8)'!Q42,'Concrete Plant (CP-9)'!Q42,'Concrete Plant (CP-10)'!Q41),\"\")","v":""},"",{"$f":"IF(B32=\"\",\"\",LOOKUP(B32,'Emission Factors'!$A$5:$A$16,'Emission Factors'!$H$5:$H$16))","v":""},"",{"$f":"IF(B32=\"\",\"\",LOOKUP(B32,'Emission Factors'!$A$5:$A$16,'Emission Factors'!$J$5:$J$16))","v":""},{"$f":"IF(D12=\"\",\"\",SUM('Concrete Plant (CP-1)'!S41,'Concrete Plant (CP-2)'!S42,'Concrete Plant (CP-3)'!S42,'Concrete Plant (CP-4)'!S42,'Concrete Plant (CP-5)'!S42,'Concrete Plant (CP-6)'!S42,'Concrete Plant (CP-7)'!S42,'Concrete Plant (CP-8)'!S42,'Concrete Plant (CP-8)'!S42,'Concrete Plant (CP-10)'!S41))","v":""},null,{"$f":"IF(D32=\"\",\"\",IF(SUM('Concrete Plant (CP-1)'!T41,'Concrete Plant (CP-2)'!T42,'Concrete Plant (CP-3)'!T42,'Concrete Plant (CP-4)'!T42,'Concrete Plant (CP-5)'!T42,'Concrete Plant (CP-6)'!T42,'Concrete Plant (CP-7)'!T42,'Concrete Plant (CP-8)'!T42,'Concrete Plant (CP-9)'!T42,'Concrete Plant (CP-10)'!T41)>0,SUM('Concrete Plant (CP-1)'!T41,'Concrete Plant (CP-2)'!T42,'Concrete Plant (CP-3)'!T42,'Concrete Plant (CP-4)'!T42,'Concrete Plant (CP-5)'!T42,'Concrete Plant (CP-6)'!T42,'Concrete Plant (CP-7)'!T42,'Concrete Plant (CP-8)'!T42,'Concrete Plant (CP-9)'!T42,'Concrete Plant (CP-10)'!T41),\"\"))","v":""},{"$f":"IF(B32=\"\",\"\",SUM('Concrete Plant (CP-1)'!U41,'Concrete Plant (CP-2)'!U42,'Concrete Plant (CP-3)'!U42,'Concrete Plant (CP-4)'!U42,'Concrete Plant (CP-5)'!U42,'Concrete Plant (CP-6)'!U42,'Concrete Plant (CP-7)'!U42,'Concrete Plant (CP-8)'!U42,'Concrete Plant (CP-9)'!U42,'Concrete Plant (CP-10)'!U41))","v":""},{"$f":"IF(B32=\"\",\"\",SUM('Concrete Plant (CP-1)'!V41,'Concrete Plant (CP-2)'!V42,'Concrete Plant (CP-3)'!V42,'Concrete Plant (CP-4)'!V42,'Concrete Plant (CP-5)'!V42,'Concrete Plant (CP-6)'!V42,'Concrete Plant (CP-7)'!V42,'Concrete Plant (CP-8)'!V42,'Concrete Plant (CP-9)'!V42,'Concrete Plant (CP-10)'!V41))","v":""}]
[{"$f":"IF(SUM('Concrete Plant (CP-1)'!Q42,'Concrete Plant (CP-2)'!Q43,'Concrete Plant (CP-3)'!Q43,'Concrete Plant (CP-4)'!Q43,'Concrete Plant (CP-5)'!Q43,'Concrete Plant (CP-6)'!Q43,'Concrete Plant (CP-7)'!Q43,'Concrete Plant (CP-8)'!Q43,'Concrete Plant (CP-9)'!Q43,'Concrete Plant (CP-10)'!Q42)>0,\"ALL\",\"\")","v":""},{"$f":"IF(SUM('Concrete Plant (CP-1)'!Q42,'Concrete Plant (CP-2)'!Q43,'Concrete Plant (CP-3)'!Q43,'Concrete Plant (CP-4)'!Q43,'Concrete Plant (CP-5)'!Q43,'Concrete Plant (CP-6)'!Q43,'Concrete Plant (CP-7)'!Q43,'Concrete Plant (CP-8)'!Q43,'Concrete Plant (CP-9)'!Q43,'Concrete Plant (CP-10)'!Q42)>0,\"Truck Mix Loading\",\"\")","v":""},{"$f":"IF(B33=\"\",\"\",\"30501110\")","v":""},{"$f":"IF(SUM('Concrete Plant (CP-1)'!Q42,'Concrete Plant (CP-2)'!Q43,'Concrete Plant (CP-3)'!Q43,'Concrete Plant (CP-4)'!Q43,'Concrete Plant (CP-5)'!Q43,'Concrete Plant (CP-6)'!Q43,'Concrete Plant (CP-7)'!Q43,'Concrete Plant (CP-8)'!Q43,'Concrete Plant (CP-9)'!Q43,'Concrete Plant (CP-10)'!Q42)>0,SUM('Concrete Plant (CP-1)'!Q42,'Concrete Plant (CP-2)'!Q43,'Concrete Plant (CP-3)'!Q43,'Concrete Plant (CP-4)'!Q43,'Concrete Plant (CP-5)'!Q43,'Concrete Plant (CP-6)'!Q43,'Concrete Plant (CP-7)'!Q43,'Concrete Plant (CP-8)'!Q43,'Concrete Plant (CP-9)'!Q43,'Concrete Plant (CP-10)'!Q42),\"\")","v":""},"",{"$f":"IF(B33=\"\",\"\",LOOKUP(B33,'Emission Factors'!$A$5:$A$16,'Emission Factors'!$H$5:$H$16))","v":""},"",{"$f":"IF(B33=\"\",\"\",LOOKUP(B33,'Emission Factors'!$A$5:$A$16,'Emission Factors'!$J$5:$J$16))","v":""},{"$f":"IF(D13=\"\",\"\",SUM('Concrete Plant (CP-1)'!S42,'Concrete Plant (CP-2)'!S43,'Concrete Plant (CP-3)'!S43,'Concrete Plant (CP-4)'!S43,'Concrete Plant (CP-5)'!S43,'Concrete Plant (CP-6)'!S43,'Concrete Plant (CP-7)'!S43,'Concrete Plant (CP-8)'!S43,'Concrete Plant (CP-8)'!S43,'Concrete Plant (CP-10)'!S42))","v":""},null,{"$f":"IF(D33=\"\",\"\",IF(SUM('Concrete Plant (CP-1)'!T42,'Concrete Plant (CP-2)'!T43,'Concrete Plant (CP-3)'!T43,'Concrete Plant (CP-4)'!T43,'Concrete Plant (CP-5)'!T43,'Concrete Plant (CP-6)'!T43,'Concrete Plant (CP-7)'!T43,'Concrete Plant (CP-8)'!T43,'Concrete Plant (CP-9)'!T43,'Concrete Plant (CP-10)'!T42)>0,SUM('Concrete Plant (CP-1)'!T42,'Concrete Plant (CP-2)'!T43,'Concrete Plant (CP-3)'!T43,'Concrete Plant (CP-4)'!T43,'Concrete Plant (CP-5)'!T43,'Concrete Plant (CP-6)'!T43,'Concrete Plant (CP-7)'!T43,'Concrete Plant (CP-8)'!T43,'Concrete Plant (CP-9)'!T43,'Concrete Plant (CP-10)'!T42),\"\"))","v":""},{"$f":"IF(B33=\"\",\"\",SUM('Concrete Plant (CP-1)'!U42,'Concrete Plant (CP-2)'!U43,'Concrete Plant (CP-3)'!U43,'Concrete Plant (CP-4)'!U43,'Concrete Plant (CP-5)'!U43,'Concrete Plant (CP-6)'!U43,'Concrete Plant (CP-7)'!U43,'Concrete Plant (CP-8)'!U43,'Concrete Plant (CP-9)'!U43,'Concrete Plant (CP-10)'!U42))","v":""},{"$f":"IF(B33=\"\",\"\",SUM('Concrete Plant (CP-1)'!V42,'Concrete Plant (CP-2)'!V43,'Concrete Plant (CP-3)'!V43,'Concrete Plant (CP-4)'!V43,'Concrete Plant (CP-5)'!V43,'Concrete Plant (CP-6)'!V43,'Concrete Plant (CP-7)'!V43,'Concrete Plant (CP-8)'!V43,'Concrete Plant (CP-9)'!V43,'Concrete Plant (CP-10)'!V42))","v":""}]
[{"$f":"IF(SUM('Concrete Plant (CP-1)'!Q43,'Concrete Plant (CP-2)'!Q44,'Concrete Plant (CP-3)'!Q44,'Concrete Plant (CP-4)'!Q44,'Concrete Plant (CP-5)'!Q44,'Concrete Plant (CP-6)'!Q44,'Concrete Plant (CP-7)'!Q44,'Concrete Plant (CP-8)'!Q44,'Concrete Plant (CP-9)'!Q44,'Concrete Plant (CP-10)'!Q43)>0,\"ALL\",\"\")","v":""},{"$f":"IF(SUM('Concrete Plant (CP-1)'!Q43,'Concrete Plant (CP-2)'!Q44,'Concrete Plant (CP-3)'!Q44,'Concrete Plant (CP-4)'!Q44,'Concrete Plant (CP-5)'!Q44,'Concrete Plant (CP-6)'!Q44,'Concrete Plant (CP-7)'!Q44,'Concrete Plant (CP-8)'!Q44,'Concrete Plant (CP-9)'!Q44,'Concrete Plant (CP-10)'!Q43)>0,\"Cement Delivery to Silo\",\"\")","v":""},{"$f":"IF(B34=\"\",\"\",\"30501107\")","v":""},{"$f":"IF(SUM('Concrete Plant (CP-1)'!Q43,'Concrete Plant (CP-2)'!Q44,'Concrete Plant (CP-3)'!Q44,'Concrete Plant (CP-4)'!Q44,'Concrete Plant (CP-5)'!Q44,'Concrete Plant (CP-6)'!Q44,'Concrete Plant (CP-7)'!Q44,'Concrete Plant (CP-8)'!Q44,'Concrete Plant (CP-9)'!Q44,'Concrete Plant (CP-10)'!Q43)>0,SUM('Concrete Plant (CP-1)'!Q43,'Concrete Plant (CP-2)'!Q44,'Concrete Plant (CP-3)'!Q44,'Concrete Plant (CP-4)'!Q44,'Concrete Plant (CP-5)'!Q44,'Concrete Plant (CP-6)'!Q44,'Concrete Plant (CP-7)'!Q44,'Concrete Plant (CP-8)'!Q44,'Concrete Plant (CP-9)'!Q44,'Concrete Plant (CP-10)'!Q43),\"\")","v":""},"",{"$f":"IF(B34=\"\",\"\",LOOKUP(B34,'Emission Factors'!$A$5:$A$16,'Emission Factors'!$H$5:$H$16))","v":""},"",{"$f":"IF(B34=\"\",\"\",LOOKUP(B34,'Emission Factors'!$A$5:$A$16,'Emission Factors'!$J$5:$J$16))","v":""},null,null,{"$f":"IF(D34=\"\",\"\",IF(SUM('Concrete Plant (CP-1)'!T43,'Concrete Plant (CP-2)'!T44,'Concrete Plant (CP-3)'!T44,'Concrete Plant (CP-4)'!T44,'Concrete Plant (CP-5)'!T44,'Concrete Plant (CP-6)'!T44,'Concrete Plant (CP-7)'!T44,'Concrete Plant (CP-8)'!T44,'Concrete Plant (CP-9)'!T44,'Concrete Plant (CP-10)'!T43)>0,SUM('Concrete Plant (CP-1)'!T43,'Concrete Plant (CP-2)'!T44,'Concrete Plant (CP-3)'!T44,'Concrete Plant (CP-4)'!T44,'Concrete Plant (CP-5)'!T44,'Concrete Plant (CP-6)'!T44,'Concrete Plant (CP-7)'!T44,'Concrete Plant (CP-8)'!T44,'Concrete Plant (CP-9)'!T44,'Concrete Plant (CP-10)'!T43),\"\"))","v":""},{"$f":"IF(B34=\"\",\"\",SUM('Concrete Plant (CP-1)'!U43,'Concrete Plant (CP-2)'!U44,'Concrete Plant (CP-3)'!U44,'Concrete Plant (CP-4)'!U44,'Concrete Plant (CP-5)'!U44,'Concrete Plant (CP-6)'!U44,'Concrete Plant (CP-7)'!U44,'Concrete Plant (CP-8)'!U44,'Concrete Plant (CP-9)'!U44,'Concrete Plant (CP-10)'!U43))","v":""},{"$f":"IF(B34=\"\",\"\",SUM('Concrete Plant (CP-1)'!V43,'Concrete Plant (CP-2)'!V44,'Concrete Plant (CP-3)'!V44,'Concrete Plant (CP-4)'!V44,'Concrete Plant (CP-5)'!V44,'Concrete Plant (CP-6)'!V44,'Concrete Plant (CP-7)'!V44,'Concrete Plant (CP-8)'!V44,'Concrete Plant (CP-9)'!V44,'Concrete Plant (CP-10)'!V43))","v":""}]
[{"$f":"IF(SUM('Concrete Plant (CP-1)'!Q44,'Concrete Plant (CP-2)'!Q45,'Concrete Plant (CP-3)'!Q45,'Concrete Plant (CP-4)'!Q45,'Concrete Plant (CP-5)'!Q45,'Concrete Plant (CP-6)'!Q45,'Concrete Plant (CP-7)'!Q45,'Concrete Plant (CP-8)'!Q45,'Concrete Plant (CP-9)'!Q45,'Concrete Plant (CP-10)'!Q44)>0,\"ALL\",\"\")","v":""},{"$f":"IF(SUM('Concrete Plant (CP-1)'!Q44,'Concrete Plant (CP-2)'!Q45,'Concrete Plant (CP-3)'!Q45,'Concrete Plant (CP-4)'!Q45,'Concrete Plant (CP-5)'!Q45,'Concrete Plant (CP-6)'!Q45,'Concrete Plant (CP-7)'!Q45,'Concrete Plant (CP-8)'!Q45,'Concrete Plant (CP-9)'!Q45,'Concrete Plant (CP-10)'!Q44)>0,\"Cement Supplement Delivery to Silo\",\"\")","v":""},{"$f":"IF(B35=\"\",\"\",\"30501117\")","v":""},{"$f":"IF(SUM('Concrete Plant (CP-1)'!Q44,'Concrete Plant (CP-2)'!Q45,'Concrete Plant (CP-3)'!Q45,'Concrete Plant (CP-4)'!Q45,'Concrete Plant (CP-5)'!Q45,'Concrete Plant (CP-6)'!Q45,'Concrete Plant (CP-7)'!Q45,'Concrete Plant (CP-8)'!Q45,'Concrete Plant (CP-9)'!Q45,'Concrete Plant (CP-10)'!Q44)>0,SUM('Concrete Plant (CP-1)'!Q44,'Concrete Plant (CP-2)'!Q45,'Concrete Plant (CP-3)'!Q45,'Concrete Plant (CP-4)'!Q45,'Concrete Plant (CP-5)'!Q45,'Concrete Plant (CP-6)'!Q45,'Concrete Plant (CP-7)'!Q45,'Concrete Plant (CP-8)'!Q45,'Concrete Plant (CP-9)'!Q45,'Concrete Plant (CP-10)'!Q44),\"\")","v":""},"",{"$f":"IF(B35=\"\",\"\",LOOKUP(B35,'Emission Factors'!$A$5:$A$16,'Emission Factors'!$H$5:$H$16))","v":""},"",{"$f":"IF(B35=\"\",\"\",LOOKUP(B35,'Emission Factors'!$A$5:$A$16,'Emission Factors'!$J$5:$J$16))","v":""},null,null,{"$f":"IF(D35=\"\",\"\",IF(SUM('Concrete Plant (CP-1)'!T44,'Concrete Plant (CP-2)'!T45,'Concrete Plant (CP-3)'!T45,'Concrete Plant (CP-4)'!T45,'Concrete Plant (CP-5)'!T45,'Concrete Plant (CP-6)'!T45,'Concrete Plant (CP-7)'!T45,'Concrete Plant (CP-8)'!T45,'Concrete Plant (CP-9)'!T45,'Concrete Plant (CP-10)'!T44)>0,SUM('Concrete Plant (CP-1)'!T44,'Concrete Plant (CP-2)'!T45,'Concrete Plant (CP-3)'!T45,'Concrete Plant (CP-4)'!T45,'Concrete Plant (CP-5)'!T45,'Concrete Plant (CP-6)'!T45,'Concrete Plant (CP-7)'!T45,'Concrete Plant (CP-8)'!T45,'Concrete Plant (CP-9)'!T45,'Concrete Plant (CP-10)'!T44),\"\"))","v":""},{"$f":"IF(B35=\"\",\"\",SUM('Concrete Plant (CP-1)'!U44,'Concrete Plant (CP-2)'!U45,'Concrete Plant (CP-3)'!U45,'Concrete Plant (CP-4)'!U45,'Concrete Plant (CP-5)'!U45,'Concrete Plant (CP-6)'!U45,'Concrete Plant (CP-7)'!U45,'Concrete Plant (CP-8)'!U45,'Concrete Plant (CP-9)'!U45,'Concrete Plant (CP-10)'!U44))","v":""},{"$f":"IF(B35=\"\",\"\",SUM('Concrete Plant (CP-1)'!V44,'Concrete Plant (CP-2)'!V45,'Concrete Plant (CP-3)'!V45,'Concrete Plant (CP-4)'!V45,'Concrete Plant (CP-5)'!V45,'Concrete Plant (CP-6)'!V45,'Concrete Plant (CP-7)'!V45,'Concrete Plant (CP-8)'!V45,'Concrete Plant (CP-9)'!V45,'Concrete Plant (CP-10)'!V44))","v":""}]
[{"$f":"IF(SUM('Concrete Plant (CP-1)'!Q48,'Concrete Plant (CP-2)'!Q49,'Concrete Plant (CP-3)'!Q49,'Concrete Plant (CP-4)'!Q49,'Concrete Plant (CP-5)'!Q49,'Concrete Plant (CP-6)'!Q49,'Concrete Plant (CP-7)'!Q49,'Concrete Plant (CP-8)'!Q49,'Concrete Plant (CP-9)'!Q49,'Concrete Plant (CP-10)'!Q48,)>0,\"ALL\",\"\")","v":""},{"$f":"IF(SUM('Concrete Plant (CP-1)'!Q48,'Concrete Plant (CP-2)'!Q49,'Concrete Plant (CP-3)'!Q49,'Concrete Plant (CP-4)'!Q49,'Concrete Plant (CP-5)'!Q49,'Concrete Plant (CP-6)'!Q49,'Concrete Plant (CP-7)'!Q49,'Concrete Plant (CP-8)'!Q49,'Concrete Plant (CP-9)'!Q49,'Concrete Plant (CP-10)'!Q48,)>0,\"Storage Piles\",\"\")","v":""},{"$f":"IF(B36=\"\",\"\",\"30502007\")","v":""},{"$f":"IF(B16=\"\",\"\",SUM('Concrete Plant (CP-1)'!Q48,'Concrete Plant (CP-2)'!Q49,'Concrete Plant (CP-3)'!Q49,'Concrete Plant (CP-4)'!Q49,'Concrete Plant (CP-5)'!Q49,'Concrete Plant (CP-6)'!Q49,'Concrete Plant (CP-7)'!Q49,'Concrete Plant (CP-8)'!Q49,'Concrete Plant (CP-9)'!Q49,'Concrete Plant (CP-10)'!Q48))","v":""},{"$f":"IF(B36=\"\",\"\",\"acre/day\")","v":""},{"$f":"IF(B36=\"\",\"\",3.64)","v":""},{"$f":"IF(B36=\"\",\"\",\"lb/acre-day\")","v":""},{"$f":"IF(B36=\"\",\"\",\"WebFIRE\")","v":""},{"$f":"IF(B36=\"\",\"\",SUM('Concrete Plant (CP-1)'!S48,'Concrete Plant (CP-2)'!S49,'Concrete Plant (CP-3)'!S49,'Concrete Plant (CP-4)'!S49,'Concrete Plant (CP-5)'!S49,'Concrete Plant (CP-6)'!S49,'Concrete Plant (CP-7)'!S49,'Concrete Plant (CP-8)'!S49,'Concrete Plant (CP-9)'!S49,'Concrete Plant (CP-10)'!S48))","v":""},null,null,{"$f":"IF(D36=\"\",\"\",SUM('Concrete Plant (CP-1)'!U48,'Concrete Plant (CP-2)'!U49,'Concrete Plant (CP-3)'!U49,'Concrete Plant (CP-4)'!U49,'Concrete Plant (CP-5)'!U49,'Concrete Plant (CP-6)'!U49,'Concrete Plant (CP-7)'!U49,'Concrete Plant (CP-8)'!U49,'Concrete Plant (CP-9)'!U49,'Concrete Plant (CP-10)'!U48))","v":""},{"$f":"IF(D36=\"\",\"\",SUM('Concrete Plant (CP-1)'!V48,'Concrete Plant (CP-2)'!V49,'Concrete Plant (CP-3)'!V49,'Concrete Plant (CP-4)'!V49,'Concrete Plant (CP-5)'!V49,'Concrete Plant (CP-6)'!V49,'Concrete Plant (CP-7)'!V49,'Concrete Plant (CP-8)'!V49,'Concrete Plant (CP-9)'!V49,'Concrete Plant (CP-10)'!V48))","v":""}]
[{"$f":"IF('Haul Roads'!L42=0,\"\",\"ALL\")","v":""},{"$f":"IF('Haul Roads'!L42=0,\"\",\"Unpaved Haul Roads\")","v":""},{"$f":"IF('Haul Roads'!L42=0,\"\",\"30202054\")","v":""},{"$f":"IF(F37=\"\",\"\",'Haul Roads'!P37*'Haul Roads'!L37/8760)","v":""},{"$f":"IF(B17=\"\",\"\",\"vmt/hr\")","v":""},{"$f":"IF(B17=\"\",\"\",'Haul Roads'!Z37)","v":""},{"$f":"IF(F37=\"\",\"\",\"lb/vmt\")","v":""},{"$f":"IF(F37=\"\",\"\",\"AP-42 Ch 13.2.2\")","v":""},{"$f":"IF(F37=\"\",\"\",D37*F37)","v":""},{"$f":"IF(SUM('Haul Roads'!AB7:AB36)>0,40,\"\")","v":""},{"$f":"IF(SUM('Haul Roads'!AB7:AB36)>0,(SUM('Haul Roads'!AB7:AB36)),\"\")","v":""},{"$f":"IF(AND((SUM('Haul Roads'!$M$7:$M$36)>0),'Haul Roads'!L42>0),SUM('Haul Roads'!$AN$9:$AN$18),IF(B37=\"\",\"\",'Haul Roads'!L42))","v":""},{"$f":"IF(AND((SUM('Haul Roads'!$M$7:$M$36)>0),'Haul Roads'!L47>0),SUM('Haul Roads'!$AO$9:$AO$18),IF(B37=\"\",\"\",'Haul Roads'!L47))","v":""}]
[{"$f":"IF('Haul Roads'!L43=0,\"\",\"ALL\")","v":""},{"$f":"IF('Haul Roads'!L43=0,\"\",\"Unpaved Haul Roads\")","v":""},{"$f":"IF('Haul Roads'!L43=0,\"\",\"30202054\")","v":""},{"$f":"IF(F38=\"\",\"\",'Haul Roads'!P38*'Haul Roads'!L38/8760)","v":""},{"$f":"IF(B18=\"\",\"\",\"vmt/hr\")","v":""},{"$f":"IF(B18=\"\",\"\",'Haul Roads'!Z38)","v":""},{"$f":"IF(F38=\"\",\"\",\"lb/vmt\")","v":""},{"$f":"IF(F38=\"\",\"\",\"AP-42 Ch 13.2.1\")","v":""},{"$f":"IF(F38=\"\",\"\",D38*F38)","v":""},null,null,{"$f":"IF(B38=\"\",\"\",IF(AND((SUM('Haul Roads'!$M$7:$M$36)>0),'Haul Roads'!L43>0,'Haul Roads'!L42>0),\"\",IF(AND((SUM('Haul Roads'!$M$7:$M$36)>0),'Haul Roads'!L43>0),SUM('Haul Roads'!$AN$9:$AN$18),'Haul Roads'!L43)))","v":""},{"$f":"IF(B38=\"\",\"\",IF(AND((SUM('Haul Roads'!$M$7:$M$36)>0),'Haul Roads'!L48>0,'Haul Roads'!L47>0),\"\",IF(AND((SUM('Haul Roads'!$M$7:$M$36)>0),'Haul Roads'!L48>0),SUM('Haul Roads'!$AO$9:$AO$18),'Haul Roads'!L48)))","v":""}]
[{"$f":"IF('Permitted Diesel Engines'!R49=0,\"\",\"ALL\")","v":""},{"$f":"IF('Permitted Diesel Engines'!R49=0,\"\",\"Diesel Generator ≤ 600 bhp\")","v":""},{"$f":"IF('Permitted Diesel Engines'!R49=0,\"\",LOOKUP(B19,'Emission Factors'!A33:A34,'Emission Factors'!B33:B34))","v":""},{"$f":"IF('Permitted Diesel Engines'!R49=0,\"\",'Permitted Diesel Engines'!R49)","v":""},{"$f":"IF(B39=\"\",\"\",\"MMBtu/hr\")","v":""},{"$f":"IF(B39=\"\",\"\",LOOKUP(B39,'Emission Factors'!$A$33:$A$34,'Emission Factors'!$F$33:$F$34))","v":""},{"$f":"IF(B39=\"\",\"\",LOOKUP(B39,'Emission Factors'!$A$33:$A$34,'Emission Factors'!$C$33:$C$34))","v":""},{"$f":"IF(B39=\"\",\"\",LOOKUP(B39,'Emission Factors'!$A$33:$A$34,'Emission Factors'!$G$33:$G$34))","v":""},{"$f":"IF(B39=\"\",\"\",'Emission Calculations'!D39*'Emission Calculations'!F39)","v":""},null,null,{"$f":"IF(F39=\"\",\"\",'Permitted Diesel Engines'!AB76)","v":""},{"$f":"IF(B39=\"\",\"\",'Permitted Diesel Engines'!$T$49*F39/2000)","v":""}]
[{"$f":"IF('Permitted Diesel Engines'!R50=0,\"\",\"ALL\")","v":""},{"$f":"IF('Permitted Diesel Engines'!R50=0,\"\",\"Diesel Generator> 600 bhp\")","v":""},{"$f":"IF('Permitted Diesel Engines'!R50=0,\"\",LOOKUP(B20,'Emission Factors'!$A$33:$A$34,'Emission Factors'!$B$33:$B$34))","v":""},{"$f":"IF('Permitted Diesel Engines'!R50=0,\"\",'Permitted Diesel Engines'!R50)","v":""},{"$f":"IF(B40=\"\",\"\",\"MMBtu/hr\")","v":""},{"$f":"IF(B40=\"\",\"\",LOOKUP(B40,'Emission Factors'!$A$33:$A$34,'Emission Factors'!$F$33:$F$34))","v":""},{"$f":"IF(B40=\"\",\"\",LOOKUP(B40,'Emission Factors'!$A$33:$A$34,'Emission Factors'!$C$33:$C$34))","v":""},{"$f":"IF(B40=\"\",\"\",LOOKUP(B40,'Emission Factors'!$A$33:$A$34,'Emission Factors'!$G$33:$G$34))","v":""},{"$f":"IF(B40=\"\",\"\",'Emission Calculations'!D40*'Emission Calculations'!F40)","v":""},null,null,{"$f":"IF(F40=\"\",\"\",'Permitted Diesel Engines'!AC76)","v":""},{"$f":"IF(B40=\"\",\"\",'Permitted Diesel Engines'!$T$50*F40/2000)","v":""}]
[null,null,null,null,null,null,null,null,null,"FACILITY TOTALS:",null,{"$f":"SUM(L25:L40)","v":0},{"$f":"SUM(M25:M40)","v":0}]
[]
[null,null,null,null,null,null,null,null,"Potential Hourly ",null,"Potential Hourly","Potential Annual ","Actual"]
["EP","Description of Process","SCC #","Max Design Rate","Units of Measure","Emission Factor","Units of Measure","Source of Emission Factor","Uncontrolled Emissions(lb/hr)","Control Efficiency","Controlled Emissions (lb/hr)","Emissions (tons/yr)","Emissions (tons/yr)"]
["SO2"]
[{"$f":"IF('Permitted Diesel Engines'!R49=0,\"\",\"ALL\")","v":""},{"$f":"IF('Permitted Diesel Engines'!R49=0,\"\",\"Diesel Generator ≤ 600 bhp\")","v":""},{"$f":"IF('Permitted Diesel Engines'!R49=0,\"\",LOOKUP(B46,'Emission Factors'!A33:A34,'Emission Factors'!B33:B34))","v":""},{"$f":"IF('Permitted Diesel Engines'!R49=0,\"\",'Permitted Diesel Engines'!R49)","v":""},{"$f":"IF(B46=\"\",\"\",\"MMBtu/hr\")","v":""},{"$f":"IF(B46=\"\",\"\",LOOKUP(B46,'Emission Factors'!$A$33:$A$34,'Emission Factors'!$H$33:$H$34))","v":""},{"$f":"IF(B46=\"\",\"\",LOOKUP(B46,'Emission Factors'!$A$33:$A$34,'Emission Factors'!$C$33:$C$34))","v":""},{"$f":"IF(B46=\"\",\"\",LOOKUP(B46,'Emission Factors'!$A$33:$A$34,'Emission Factors'!$I$33:$I$34))","v":""},{"$f":"IF('Permitted Diesel Engines'!R49=0,\"\",IF(F46='Emission Factors'!$H$33,D46*F46,'Emission Calculations'!D46*'Emission Calculations'!F46*$F$48))","v":""},null,{"$f":"IF(SUM('Concrete Plant (CP-1)'!I12,'Concrete Plant (CP-2)'!I12,'Concrete Plant (CP-3)'!I12,'Concrete Plant (CP-4)'!I12,'Concrete Plant (CP-5)'!I12,'Concrete Plant (CP-6)'!I12,'Concrete Plant (CP-7)'!I12,'Concrete Plant (CP-8)'!I12,'Concrete Plant (CP-9)'!I12,'Concrete Plant (CP-10)'!I12)>0,SUM('Concrete Plant (CP-1)'!I12,'Concrete Plant (CP-2)'!I12,'Concrete Plant (CP-3)'!I12,'Concrete Plant (CP-4)'!I12,'Concrete Plant (CP-5)'!I12,'Concrete Plant (CP-6)'!I12,'Concrete Plant (CP-7)'!I12,'Concrete Plant (CP-8)'!I12,'Concrete Plant (CP-9)'!I12,'Concrete Plant (CP-10)'!I12),\"\")","v":""},{"$f":"IF(SUM('Concrete Plant (CP-1)'!$J$12,'Concrete Plant (CP-2)'!$J$12,'Concrete Plant (CP-3)'!$J$12,'Concrete Plant (CP-4)'!$J$12,'Concrete Plant (CP-5)'!$J$12,'Concrete Plant (CP-6)'!$J$12,'Concrete Plant (CP-7)'!$J$12,'Concrete Plant (CP-8)'!$J$12,'Concrete Plant (CP-9)'!$J$12,'Concrete Plant (CP-10)'!$J$12)>0,SUM('Concrete Plant (CP-1)'!$J$12,'Concrete Plant (CP-2)'!$J$12,'Concrete Plant (CP-3)'!$J$12,'Concrete Plant (CP-4)'!$J$12,'Concrete Plant (CP-5)'!$J$12,'Concrete Plant (CP-6)'!$J$12,'Concrete Plant (CP-7)'!$J$12,'Concrete Plant (CP-8)'!$J$12,'Concrete Plant (CP-9)'!$J$12,'Concrete Plant (CP-10)'!$J$12),IF(B46=\"\",\"\",'Permitted Diesel Engines'!$AD$76))","v":""},{"$f":"IF(B46=\"\",\"\",'Permitted Diesel Engines'!$T$49*F46/2000)","v":""}]
[{"$f":"IF('Permitted Diesel Engines'!R50=0,\"\",\"ALL\")","v":""},{"$f":"IF('Permitted Diesel Engines'!R50=0,\"\",\"Diesel Generator> 600 bhp\")","v":""},{"$f":"IF('Permitted Diesel Engines'!R50=0,\"\",LOOKUP(B47,'Emission Factors'!A34:A35,'Emission Factors'!B34:B35))","v":""},{"$f":"IF('Permitted Diesel Engines'!R50=0,\"\",'Permitted Diesel Engines'!R50)","v":""},{"$f":"IF(B47=\"\",\"\",\"MMBtu/hr\")","v":""},{"$f":"IF(B47=\"\",\"\",LOOKUP(B47,'Emission Factors'!$A$33:$A$34,'Emission Factors'!$H$33:$H$34))","v":""},{"$f":"IF(B47=\"\",\"\",LOOKUP(B47,'Emission Factors'!$A$33:$A$34,'Emission Factors'!$C$33:$C$34))","v":""},{"$f":"IF(B47=\"\",\"\",LOOKUP(B47,'Emission Factors'!$A$33:$A$34,'Emission Factors'!$I$33:$I$34))","v":""},{"$f":"IF('Permitted Diesel Engines'!R50=0,\"\",IF(F47='Emission Factors'!$H$33,D47*F47,'Emission Calculations'!D47*'Emission Calculations'!F47*$F$48))","v":""},null,{"$f":"IF(SUM('Concrete Plant (CP-1)'!I12,'Concrete Plant (CP-2)'!I12,'Concrete Plant (CP-3)'!I12,'Concrete Plant (CP-4)'!I12,'Concrete Plant (CP-5)'!I12,'Concrete Plant (CP-6)'!I12,'Concrete Plant (CP-7)'!I12,'Concrete Plant (CP-8)'!I12,'Concrete Plant (CP-9)'!I12,'Concrete Plant (CP-10)'!I12)>0,SUM('Concrete Plant (CP-1)'!I12,'Concrete Plant (CP-2)'!I12,'Concrete Plant (CP-3)'!I12,'Concrete Plant (CP-4)'!I12,'Concrete Plant (CP-5)'!I12,'Concrete Plant (CP-6)'!I12,'Concrete Plant (CP-7)'!I12,'Concrete Plant (CP-8)'!I12,'Concrete Plant (CP-9)'!I12,'Concrete Plant (CP-10)'!I12),\"\")","v":""},{"$f":"IF(B47=\"\",\"\",IF(SUM('Concrete Plant (CP-1)'!$J$12,'Concrete Plant (CP-2)'!$J$12,'Concrete Plant (CP-3)'!$J$12,'Concrete Plant (CP-4)'!$J$12,'Concrete Plant (CP-5)'!$J$12,'Concrete Plant (CP-6)'!$J$12,'Concrete Plant (CP-7)'!$J$12,'Concrete Plant (CP-8)'!$J$12,'Concrete Plant (CP-9)'!$J$12,'Concrete Plant (CP-10)'!$J$12)>0,\"\",'Permitted Diesel Engines'!$AE$76))","v":""},{"$f":"IF(B47=\"\",\"\",'Permitted Diesel Engines'!$T$50*F47*F48/2000)","v":""}]
[null,null,null,null,"Percent Sulfur:",{"$f":"IF('Permitted Diesel Engines'!G4>0,'Permitted Diesel Engines'!G4,0.5)","v":0.5},null,null,null,"FACILITY TOTALS:",null,{"$f":"SUM(L46:L47)","v":0},{"$f":"SUM(M46:M47)","v":0}]
["NOx"]
[{"$f":"IF('Permitted Diesel Engines'!R49=0,\"\",\"ALL\")","v":""},{"$f":"IF('Permitted Diesel Engines'!R49=0,\"\",\"Diesel Generator ≤ 600 bhp\")","v":""},{"$f":"IF('Permitted Diesel Engines'!R49=0,\"\",LOOKUP(B50,'Emission Factors'!A33:A34,'Emission Factors'!B33:B34))","v":""},{"$f":"IF('Permitted Diesel Engines'!R49=0,\"\",'Permitted Diesel Engines'!R49)","v":""},{"$f":"IF(B50=\"\",\"\",\"MMBtu/hr\")","v":""},{"$f":"IF(B50=\"\",\"\",LOOKUP(B50,'Emission Factors'!$A$33:$A$34,'Emission Factors'!$J$33:$J$34))","v":""},{"$f":"IF(B50=\"\",\"\",LOOKUP(B50,'Emission Factors'!$A$33:$A$34,'Emission Factors'!$C$33:$C$34))","v":""},{"$f":"IF(B50=\"\",\"\",LOOKUP(B50,'Emission Factors'!$A$33:$A$34,'Emission Factors'!$K$33:$K$34))","v":""},{"$f":"IF(B50=\"\",\"\",'Emission Calculations'!D50*'Emission Calculations'!F50)","v":""},null,{"$f":"IF(SUM('Concrete Plant (CP-1)'!I13,'Concrete Plant (CP-2)'!I13,'Concrete Plant (CP-3)'!I13,'Concrete Plant (CP-4)'!I13,'Concrete Plant (CP-5)'!I13,'Concrete Plant (CP-6)'!I13,'Concrete Plant (CP-7)'!I13,'Concrete Plant (CP-8)'!I13,'Concrete Plant (CP-9)'!I13,'Concrete Plant (CP-10)'!I13)>0,SUM('Concrete Plant (CP-1)'!I13,'Concrete Plant (CP-2)'!I13,'Concrete Plant (CP-3)'!I13,'Concrete Plant (CP-4)'!I13,'Concrete Plant (CP-5)'!I13,'Concrete Plant (CP-6)'!I13,'Concrete Plant (CP-7)'!I13,'Concrete Plant (CP-8)'!I13,'Concrete Plant (CP-9)'!I13,'Concrete Plant (CP-10)'!I13),\"\")","v":""},{"$f":"IF(SUM('Concrete Plant (CP-1)'!$J$13,'Concrete Plant (CP-2)'!$J$13,'Concrete Plant (CP-3)'!$J$13,'Concrete Plant (CP-4)'!$J$13,'Concrete Plant (CP-5)'!$J$13,'Concrete Plant (CP-6)'!$J$13,'Concrete Plant (CP-7)'!$J$13,'Concrete Plant (CP-8)'!$J$13,'Concrete Plant (CP-9)'!$J$13,'Concrete Plant (CP-10)'!$J$13)>0,SUM('Concrete Plant (CP-1)'!$J$13,'Concrete Plant (CP-2)'!$J$13,'Concrete Plant (CP-3)'!$J$13,'Concrete Plant (CP-4)'!$J$13,'Concrete Plant (CP-5)'!$J$13,'Concrete Plant (CP-6)'!$J$13,'Concrete Plant (CP-7)'!$J$13,'Concrete Plant (CP-8)'!$J$13,'Concrete Plant (CP-9)'!$J$13,'Concrete Plant (CP-10)'!$J$13),IF(B50=\"\",\"\",'Permitted Diesel Engines'!$AF$76))","v":""},{"$f":"IF(B50=\"\",\"\",'Permitted Diesel Engines'!T49*'Emission Calculations'!F50/2000)","v":""}]
[{"$f":"IF('Permitted Diesel Engines'!R50=0,\"\",\"ALL\")","v":""},{"$f":"IF('Permitted Diesel Engines'!R50=0,\"\",\"Diesel Generator> 600 bhp\")","v":""},{"$f":"IF('Permitted Diesel Engines'!R50=0,\"\",LOOKUP(B51,'Emission Factors'!A34:A35,'Emission Factors'!B34:B35))","v":""},{"$f":"IF('Permitted Diesel Engines'!R50=0,\"\",'Permitted Diesel Engines'!R50)","v":""},{"$f":"IF(B51=\"\",\"\",\"MMBtu/hr\")","v":""},{"$f":"IF(B51=\"\",\"\",LOOKUP(B51,'Emission Factors'!$A$33:$A$34,'Emission Factors'!$J$33:$J$34))","v":""},{"$f":"IF(B51=\"\",\"\",LOOKUP(B51,'Emission Factors'!$A$33:$A$34,'Emission Factors'!$C$33:$C$34))","v":""},{"$f":"IF(B51=\"\",\"\",LOOKUP(B51,'Emission Factors'!$A$33:$A$34,'Emission Factors'!$K$33:$K$34))","v":""},{"$f":"IF(B51=\"\",\"\",'Emission Calculations'!D51*'Emission Calculations'!F51)","v":""},null,{"$f":"IF(SUM('Concrete Plant (CP-1)'!I13,'Concrete Plant (CP-2)'!I13,'Concrete Plant (CP-3)'!I13,'Concrete Plant (CP-4)'!I13,'Concrete Plant (CP-5)'!I13,'Concrete Plant (CP-6)'!I13,'Concrete Plant (CP-7)'!I13,'Concrete Plant (CP-8)'!I13,'Concrete Plant (CP-9)'!I13,'Concrete Plant (CP-10)'!I13)>0,SUM('Concrete Plant (CP-1)'!I13,'Concrete Plant (CP-2)'!I13,'Concrete Plant (CP-3)'!I13,'Concrete Plant (CP-4)'!I13,'Concrete Plant (CP-5)'!I13,'Concrete Plant (CP-6)'!I13,'Concrete Plant (CP-7)'!I13,'Concrete Plant (CP-8)'!I13,'Concrete Plant (CP-9)'!I13,'Concrete Plant (CP-10)'!I13),\"\")","v":""},{"$f":"IF(B51=\"\",\"\",IF(SUM('Concrete Plant (CP-1)'!$J$13,'Concrete Plant (CP-2)'!$J$13,'Concrete Plant (CP-3)'!$J$13,'Concrete Plant (CP-4)'!$J$13,'Concrete Plant (CP-5)'!$J$13,'Concrete Plant (CP-6)'!$J$13,'Concrete Plant (CP-7)'!$J$13,'Concrete Plant (CP-8)'!$J$13,'Concrete Plant (CP-9)'!$J$13,'Concrete Plant (CP-10)'!$J$13)>0,\"\",'Permitted Diesel Engines'!$AG$76))","v":""},{"$f":"IF(B51=\"\",\"\",'Permitted Diesel Engines'!T50*'Emission Calculations'!F51/2000)","v":""}]
[null,null,null,null,null,null,null,null,null,"FACILITY TOTALS:",null,{"$f":"SUM(L50:L51)","v":0},{"$f":"SUM(M50:M51)","v":0}]
["VOC"]
[{"$f":"IF('Permitted Diesel Engines'!R49=0,\"\",\"ALL\")","v":""},{"$f":"IF('Permitted Diesel Engines'!R49=0,\"\",\"Diesel Generator ≤ 600 bhp\")","v":""},{"$f":"IF('Permitted Diesel Engines'!R49=0,\"\",LOOKUP(B54,'Emission Factors'!A33:A34,'Emission Factors'!B33:B34))","v":""},{"$f":"IF('Permitted Diesel Engines'!R49=0,\"\",'Permitted Diesel Engines'!R49)","v":""},{"$f":"IF(B54=\"\",\"\",\"MMBtu/hr\")","v":""},{"$f":"IF(B54=\"\",\"\",LOOKUP(B54,'Emission Factors'!$A$33:$A$34,'Emission Factors'!$L$33:$L$34))","v":""},{"$f":"IF(B54=\"\",\"\",LOOKUP(B54,'Emission Factors'!$A$33:$A$34,'Emission Factors'!$C$33:$C$34))","v":""},{"$f":"IF(B54=\"\",\"\",LOOKUP(B54,'Emission Factors'!$A$33:$A$34,'Emission Factors'!$M$33:$M$34))","v":""},{"$f":"IF(B54=\"\",\"\",'Emission Calculations'!D54*'Emission Calculations'!F54)","v":""},null,{"$f":"IF(SUM('Concrete Plant (CP-1)'!I14,'Concrete Plant (CP-2)'!I14,'Concrete Plant (CP-3)'!I14,'Concrete Plant (CP-4)'!I14,'Concrete Plant (CP-5)'!I14,'Concrete Plant (CP-6)'!I14,'Concrete Plant (CP-7)'!I14,'Concrete Plant (CP-8)'!I14,'Concrete Plant (CP-9)'!I14,'Concrete Plant (CP-10)'!I14)>0,SUM('Concrete Plant (CP-1)'!I14,'Concrete Plant (CP-2)'!I14,'Concrete Plant (CP-3)'!I14,'Concrete Plant (CP-4)'!I14,'Concrete Plant (CP-5)'!I14,'Concrete Plant (CP-6)'!I14,'Concrete Plant (CP-7)'!I14,'Concrete Plant (CP-8)'!I14,'Concrete Plant (CP-9)'!I14,'Concrete Plant (CP-10)'!I14),\"\")","v":""},{"$f":"IF(SUM('Concrete Plant (CP-1)'!$J$14,'Concrete Plant (CP-2)'!$J$14,'Concrete Plant (CP-3)'!$J$14,'Concrete Plant (CP-4)'!$J$14,'Concrete Plant (CP-5)'!$J$14,'Concrete Plant (CP-6)'!$J$14,'Concrete Plant (CP-7)'!$J$14,'Concrete Plant (CP-8)'!$J$14,'Concrete Plant (CP-9)'!$J$14,'Concrete Plant (CP-10)'!$J$14)>0,SUM('Concrete Plant (CP-1)'!$J$14,'Concrete Plant (CP-2)'!$J$14,'Concrete Plant (CP-3)'!$J$14,'Concrete Plant (CP-4)'!$J$14,'Concrete Plant (CP-5)'!$J$14,'Concrete Plant (CP-6)'!$J$14,'Concrete Plant (CP-7)'!$J$14,'Concrete Plant (CP-8)'!$J$14,'Concrete Plant (CP-9)'!$J$14,'Concrete Plant (CP-10)'!$J$14),IF(B54=\"\",\"\",'Permitted Diesel Engines'!$AH$76))","v":""},{"$f":"IF(B54=\"\",\"\",'Permitted Diesel Engines'!$T$49*'Emission Calculations'!F54/2000)","v":""}]
[{"$f":"IF('Permitted Diesel Engines'!R50=0,\"\",\"ALL\")","v":""},{"$f":"IF('Permitted Diesel Engines'!R50=0,\"\",\"Diesel Generator> 600 bhp\")","v":""},{"$f":"IF('Permitted Diesel Engines'!R50=0,\"\",LOOKUP(B55,'Emission Factors'!A34:A35,'Emission Factors'!B34:B35))","v":""},{"$f":"IF('Permitted Diesel Engines'!R50=0,\"\",'Permitted Diesel Engines'!R50)","v":""},{"$f":"IF(B55=\"\",\"\",\"MMBtu/hr\")","v":""},{"$f":"IF(B55=\"\",\"\",LOOKUP(B55,'Emission Factors'!$A$33:$A$34,'Emission Factors'!$L$33:$L$34))","v":""},{"$f":"IF(B55=\"\",\"\",LOOKUP(B55,'Emission Factors'!$A$33:$A$34,'Emission Factors'!$C$33:$C$34))","v":""},{"$f":"IF(B55=\"\",\"\",LOOKUP(B55,'Emission Factors'!$A$33:$A$34,'Emission Factors'!$M$33:$M$34))","v":""},{"$f":"IF(B55=\"\",\"\",'Emission Calculations'!D55*'Emission Calculations'!F55)","v":""},null,{"$f":"IF(SUM('Concrete Plant (CP-1)'!I14,'Concrete Plant (CP-2)'!I14,'Concrete Plant (CP-3)'!I14,'Concrete Plant (CP-4)'!I14,'Concrete Plant (CP-5)'!I14,'Concrete Plant (CP-6)'!I14,'Concrete Plant (CP-7)'!I14,'Concrete Plant (CP-8)'!I14,'Concrete Plant (CP-9)'!I14,'Concrete Plant (CP-10)'!I14)>0,SUM('Concrete Plant (CP-1)'!I14,'Concrete Plant (CP-2)'!I14,'Concrete Plant (CP-3)'!I14,'Concrete Plant (CP-4)'!I14,'Concrete Plant (CP-5)'!I14,'Concrete Plant (CP-6)'!I14,'Concrete Plant (CP-7)'!I14,'Concrete Plant (CP-8)'!I14,'Concrete Plant (CP-9)'!I14,'Concrete Plant (CP-10)'!I14),\"\")","v":""},{"$f":"IF(B55=\"\",\"\",IF(SUM('Concrete Plant (CP-1)'!$J$14,'Concrete Plant (CP-2)'!$J$14,'Concrete Plant (CP-3)'!$J$14,'Concrete Plant (CP-4)'!$J$14,'Concrete Plant (CP-5)'!$J$14,'Concrete Plant (CP-6)'!$J$14,'Concrete Plant (CP-7)'!$J$14,'Concrete Plant (CP-8)'!$J$14,'Concrete Plant (CP-9)'!$J$14,'Concrete Plant (CP-10)'!$J$14)>0,\"\",'Permitted Diesel Engines'!$AI$76))","v":""},{"$f":"IF(B55=\"\",\"\",'Permitted Diesel Engines'!$T$50*'Emission Calculations'!F55/2000)","v":""}]
[null,null,null,null,null,null,null,null,null,"FACILITY TOTALS:",null,{"$f":"SUM(L54:L55)","v":0},{"$f":"SUM(M54:M55)","v":0}]
["CO"]
[{"$f":"IF('Permitted Diesel Engines'!R49=0,\"\",\"ALL\")","v":""},{"$f":"IF('Permitted Diesel Engines'!R49=0,\"\",\"Diesel Generator ≤ 600 bhp\")","v":""},{"$f":"IF('Permitted Diesel Engines'!R49=0,\"\",LOOKUP(B58,'Emission Factors'!A33:A34,'Emission Factors'!B33:B34))","v":""},{"$f":"IF('Permitted Diesel Engines'!R49=0,\"\",'Permitted Diesel Engines'!R49)","v":""},{"$f":"IF(B58=\"\",\"\",\"MMBtu/hr\")","v":""},{"$f":"IF(B58=\"\",\"\",LOOKUP(B58,'Emission Factors'!$A$33:$A$34,'Emission Factors'!$N$33:$N$34))","v":""},{"$f":"IF(B58=\"\",\"\",LOOKUP(B58,'Emission Factors'!$A$33:$A$34,'Emission Factors'!$C$33:$C$34))","v":""},{"$f":"IF(B58=\"\",\"\",LOOKUP(B58,'Emission Factors'!$A$33:$A$34,'Emission Factors'!$O$33:$O$34))","v":""},{"$f":"IF(B58=\"\",\"\",'Emission Calculations'!D58*'Emission Calculations'!F58)","v":""},null,{"$f":"IF(SUM('Concrete Plant (CP-1)'!I15,'Concrete Plant (CP-2)'!I15,'Concrete Plant (CP-3)'!I15,'Concrete Plant (CP-4)'!I15,'Concrete Plant (CP-5)'!I15,'Concrete Plant (CP-6)'!I15,'Concrete Plant (CP-7)'!I15,'Concrete Plant (CP-8)'!I15,'Concrete Plant (CP-9)'!I15,'Concrete Plant (CP-10)'!I15)>0,SUM('Concrete Plant (CP-1)'!I15,'Concrete Plant (CP-2)'!I15,'Concrete Plant (CP-3)'!I15,'Concrete Plant (CP-4)'!I15,'Concrete Plant (CP-5)'!I15,'Concrete Plant (CP-6)'!I15,'Concrete Plant (CP-7)'!I15,'Concrete Plant (CP-8)'!I15,'Concrete Plant (CP-9)'!I15,'Concrete Plant (CP-10)'!I15),\"\")","v":""},{"$f":"IF(SUM('Concrete Plant (CP-1)'!$J$15,'Concrete Plant (CP-2)'!$J$15,'Concrete Plant (CP-3)'!$J$15,'Concrete Plant (CP-4)'!$J$15,'Concrete Plant (CP-5)'!$J$15,'Concrete Plant (CP-6)'!$J$15,'Concrete Plant (CP-7)'!$J$15,'Concrete Plant (CP-8)'!$J$15,'Concrete Plant (CP-9)'!$J$15,'Concrete Plant (CP-10)'!$J$15)>0,SUM('Concrete Plant (CP-1)'!$J$15,'Concrete Plant (CP-2)'!$J$15,'Concrete Plant (CP-3)'!$J$15,'Concrete Plant (CP-4)'!$J$15,'Concrete Plant (CP-5)'!$J$15,'Concrete Plant (CP-6)'!$J$15,'Concrete Plant (CP-7)'!$J$15,'Concrete Plant (CP-8)'!$J$15,'Concrete Plant (CP-9)'!$J$15,'Concrete Plant (CP-10)'!$J$15),IF(B58=\"\",\"\",'Permitted Diesel Engines'!$AJ$76))","v":""},{"$f":"IF(B58=\"\",\"\",'Permitted Diesel Engines'!$T$49*F58/2000)","v":""}]
[{"$f":"IF('Permitted Diesel Engines'!R50=0,\"\",\"ALL\")","v":""},{"$f":"IF('Permitted Diesel Engines'!R50=0,\"\",\"Diesel Generator> 600 bhp\")","v":""},{"$f":"IF('Permitted Diesel Engines'!R50=0,\"\",LOOKUP(B59,'Emission Factors'!A34:A35,'Emission Factors'!B34:B35))","v":""},{"$f":"IF('Permitted Diesel Engines'!R50=0,\"\",'Permitted Diesel Engines'!R50)","v":""},{"$f":"IF(B59=\"\",\"\",\"MMBtu/hr\")","v":""},{"$f":"IF(B59=\"\",\"\",LOOKUP(B59,'Emission Factors'!$A$33:$A$34,'Emission Factors'!$N$33:$N$34))","v":""},{"$f":"IF(B59=\"\",\"\",LOOKUP(B59,'Emission Factors'!$A$33:$A$34,'Emission Factors'!$C$33:$C$34))","v":""},{"$f":"IF(B59=\"\",\"\",LOOKUP(B59,'Emission Factors'!$A$33:$A$34,'Emission Factors'!$O$33:$O$34))","v":""},{"$f":"IF(B59=\"\",\"\",'Emission Calculations'!D59*'Emission Calculations'!F59)","v":""},null,{"$f":"IF(SUM('Concrete Plant (CP-1)'!I15,'Concrete Plant (CP-2)'!I15,'Concrete Plant (CP-3)'!I15,'Concrete Plant (CP-4)'!I15,'Concrete Plant (CP-5)'!I15,'Concrete Plant (CP-6)'!I15,'Concrete Plant (CP-7)'!I15,'Concrete Plant (CP-8)'!I15,'Concrete Plant (CP-9)'!I15,'Concrete Plant (CP-10)'!I15)>0,SUM('Concrete Plant (CP-1)'!I15,'Concrete Plant (CP-2)'!I15,'Concrete Plant (CP-3)'!I15,'Concrete Plant (CP-4)'!I15,'Concrete Plant (CP-5)'!I15,'Concrete Plant (CP-6)'!I15,'Concrete Plant (CP-7)'!I15,'Concrete Plant (CP-8)'!I15,'Concrete Plant (CP-9)'!I15,'Concrete Plant (CP-10)'!I15),\"\")","v":""},{"$f":"IF(B59=\"\",\"\",IF(SUM('Concrete Plant (CP-1)'!$J$15,'Concrete Plant (CP-2)'!$J$15,'Concrete Plant (CP-3)'!$J$15,'Concrete Plant (CP-4)'!$J$15,'Concrete Plant (CP-5)'!$J$15,'Concrete Plant (CP-6)'!$J$15,'Concrete Plant (CP-7)'!$J$15,'Concrete Plant (CP-8)'!$J$15,'Concrete Plant (CP-9)'!$J$15,'Concrete Plant (CP-10)'!$J$15)>0,\"\",'Permitted Diesel Engines'!$AK$76))","v":""},{"$f":"IF(B59=\"\",\"\",'Permitted Diesel Engines'!$T$50*F59/2000)","v":""}]
[null,null,null,null,null,null,null,null,null,"FACILITY TOTALS:",null,{"$f":"SUM(L58:L59)","v":0},{"$f":"SUM(M58:M59)","v":0}]
["Formaldehyde"]
[{"$f":"IF('Permitted Diesel Engines'!R49=0,\"\",\"ALL\")","v":""},{"$f":"IF('Permitted Diesel Engines'!R49=0,\"\",\"Diesel Generator ≤ 600 bhp\")","v":""},{"$f":"IF('Permitted Diesel Engines'!R49=0,\"\",LOOKUP(B62,'Emission Factors'!A33:A34,'Emission Factors'!B33:B34))","v":""},{"$f":"IF('Permitted Diesel Engines'!R49=0,\"\",'Permitted Diesel Engines'!R49)","v":""},{"$f":"IF(B62=\"\",\"\",\"MMBtu/hr\")","v":""},{"$f":"IF(B62=\"\",\"\",LOOKUP(B62,'Emission Factors'!$A$33:$A$34,'Emission Factors'!$P$33:$P$34))","v":""},{"$f":"IF(B62=\"\",\"\",LOOKUP(B62,'Emission Factors'!$A$33:$A$34,'Emission Factors'!$C$33:$C$34))","v":""},{"$f":"IF(B62=\"\",\"\",LOOKUP(B62,'Emission Factors'!$A$33:$A$34,'Emission Factors'!$Q$33:$Q$34))","v":""},{"$f":"IF(B62=\"\",\"\",'Emission Calculations'!D62*'Emission Calculations'!F62)","v":""},null,null,{"$f":"IF(F62=\"\",\"\",'Permitted Diesel Engines'!AL76)","v":""},{"$f":"IF(B62=\"\",\"\",'Permitted Diesel Engines'!$T$49*F62/2000)","v":""}]
[{"$f":"IF('Permitted Diesel Engines'!R50=0,\"\",\"ALL\")","v":""},{"$f":"IF('Permitted Diesel Engines'!R50=0,\"\",\"Diesel Generator> 600 bhp\")","v":""},{"$f":"IF('Permitted Diesel Engines'!R50=0,\"\",LOOKUP(B63,'Emission Factors'!A34:A35,'Emission Factors'!B34:B35))","v":""},{"$f":"IF('Permitted Diesel Engines'!R50=0,\"\",'Permitted Diesel Engines'!R50)","v":""},{"$f":"IF(B63=\"\",\"\",\"MMBtu/hr\")","v":""},{"$f":"IF(B63=\"\",\"\",LOOKUP(B63,'Emission Factors'!$A$33:$A$34,'Emission Factors'!$P$33:$P$34))","v":""},{"$f":"IF(B63=\"\",\"\",LOOKUP(B63,'Emission Factors'!$A$33:$A$34,'Emission Factors'!$C$33:$C$34))","v":""},{"$f":"IF(B63=\"\",\"\",LOOKUP(B63,'Emission Factors'!$A$33:$A$34,'Emission Factors'!$Q$33:$Q$34))","v":""},{"$f":"IF(B63=\"\",\"\",'Emission Calculations'!D63*'Emission Calculations'!F63)","v":""},null,null,{"$f":"IF(F63=\"\",\"\",'Permitted Diesel Engines'!AM76)","v":""},{"$f":"IF(B63=\"\",\"\",'Permitted Diesel Engines'!$T$50*F63/2000)","v":""}]
[null,null,null,null,null,null,null,null,null,"FACILITY TOTALS:",null,{"$f":"SUM(L62:L63)","v":0},{"$f":"SUM(M62:M63)","v":0}]
["Benzene"]
[{"$f":"IF('Permitted Diesel Engines'!R49=0,\"\",\"ALL\")","v":""},{"$f":"IF('Permitted Diesel Engines'!R49=0,\"\",\"Diesel Generator ≤ 600 bhp\")","v":""},{"$f":"IF('Permitted Diesel Engines'!R49=0,\"\",LOOKUP(B66,'Emission Factors'!A33:A34,'Emission Factors'!B33:B34))","v":""},{"$f":"IF('Permitted Diesel Engines'!R49=0,\"\",'Permitted Diesel Engines'!R49)","v":""},{"$f":"IF(B66=\"\",\"\",\"MMBtu/hr\")","v":""},{"$f":"IF(B66=\"\",\"\",LOOKUP(B66,'Emission Factors'!$A$33:$A$34,'Emission Factors'!$R$33:$R$34))","v":""},{"$f":"IF(B66=\"\",\"\",LOOKUP(B66,'Emission Factors'!$A$33:$A$34,'Emission Factors'!$C$33:$C$34))","v":""},{"$f":"IF(B66=\"\",\"\",LOOKUP(B66,'Emission Factors'!$A$33:$A$34,'Emission Factors'!$S$33:$S$34))","v":""},{"$f":"IF(B66=\"\",\"\",'Emission Calculations'!D66*'Emission Calculations'!F66)","v":""},null,null,{"$f":"IF(F66=\"\",\"\",'Permitted Diesel Engines'!AN76)","v":""},{"$f":"IF(B66=\"\",\"\",'Permitted Diesel Engines'!$T$49*F66/2000)","v":""}]
[{"$f":"IF('Permitted Diesel Engines'!R50=0,\"\",\"ALL\")","v":""},{"$f":"IF('Permitted Diesel Engines'!R50=0,\"\",\"Diesel Generator> 600 bhp\")","v":""},{"$f":"IF('Permitted Diesel Engines'!R50=0,\"\",LOOKUP(B67,'Emission Factors'!A34:A35,'Emission Factors'!B34:B35))","v":""},{"$f":"IF('Permitted Diesel Engines'!R50=0,\"\",'Permitted Diesel Engines'!R50)","v":""},{"$f":"IF(B67=\"\",\"\",\"MMBtu/hr\")","v":""},{"$f":"IF(B67=\"\",\"\",LOOKUP(B67,'Emission Factors'!$A$33:$A$34,'Emission Factors'!$R$33:$R$34))","v":""},{"$f":"IF(B67=\"\",\"\",LOOKUP(B67,'Emission Factors'!$A$33:$A$34,'Emission Factors'!$C$33:$C$34))","v":""},{"$f":"IF(B67=\"\",\"\",LOOKUP(B67,'Emission Factors'!$A$33:$A$34,'Emission Factors'!$S$33:$S$34))","v":""},{"$f":"IF(B67=\"\",\"\",'Emission Calculations'!D67*'Emission Calculations'!F67)","v":""},null,null,{"$f":"IF(F67=\"\",\"\",'Permitted Diesel Engines'!AO76)","v":""},{"$f":"IF(B67=\"\",\"\",'Permitted Diesel Engines'!$T$50*F67/2000)","v":""}]
[null,null,null,null,null,null,null,null,null,"FACILITY TOTALS:",null,{"$f":"SUM(L66:L67)","v":0},{"$f":"SUM(M66:M67)","v":0}]

{"sheet":"Facility Wide Emissions","index":14,"n_rows":146,"n_cols":13,"rows_kept":146,"cut":false,"hidden":false,"merged":[]}
["FACILITY WIDE EMISSIONS SUMMARY:"]
[]
[null,"FACILITY-WIDE ACTUAL EMISSIONS:",null,null,null,null,null,null,null,null,"FACILITY-WIDE POTENTIAL EMISSIONS:"]
[null,"Air Pollutant","ID or CAS Number","Tons/Yr",null,null,null,null,null,null,"Air Pollutant","ID or CAS Number","Tons/Yr"]
[null,"PM-2.5","PM-2.5",{"$f":"'Emission Calculations'!M21","v":0},null,null,null,null,null,null,"PM-2.5","PM-2.5",{"$f":"'Emission Calculations'!L21","v":0}]
[null,"PM-10","PM-10",{"$f":"'Emission Calculations'!M41","v":0},null,null,null,null,null,null,"PM-10","PM-10",{"$f":"'Emission Calculations'!L41","v":0}]
[null,"SO2","7446-09-5",{"$f":"'Emission Calculations'!M48","v":0},null,null,null,null,null,null,"SO2","7446-09-5",{"$f":"'Emission Calculations'!L48","v":0}]
[null,"NOx","NOx",{"$f":"'Emission Calculations'!M52","v":0},null,null,null,null,null,null,"NOx","NOx",{"$f":"'Emission Calculations'!L52","v":0}]
[null,"VOC","VOC",{"$f":"'Emission Calculations'!M56","v":0},null,null,null,null,null,null,"VOC","VOC",{"$f":"'Emission Calculations'!L56","v":0}]
[null,"CO","630-08-0",{"$f":"'Emission Calculations'!M60","v":0},null,null,null,null,null,null,"CO","630-08-0",{"$f":"'Emission Calculations'!L60","v":0}]
[null,"Ammonia",null,{"$f":"0","v":0},null,null,null,null,null,null,"Ammonia",null,{"$f":"0","v":0}]
[null,"Formaldehyde","50-00-0",{"$f":"'Emission Calculations'!M64","v":0},null,null,null,null,null,null,"Formaldehyde","50-00-0",{"$f":"'Emission Calculations'!L64","v":0}]
[null,"Benzene","71-43-2",{"$f":"'Emission Calculations'!M68","v":0},null,null,null,null,null,null,"Benzene","71-43-2",{"$f":"'Emission Calculations'!L68","v":0}]
[null,"Total HAP",null,{"$f":"SUM(D12:D13)","v":0},null,null,null,null,null,null,"Total HAP",null,{"$f":"SUM(M12:M13)","v":0}]
[]
["PLANT SPECIFIC EMISSIONS SUMMARIES:"]
[]
["CP-1","POTENTIAL EMISSIONS:",null,null,null,null,"CP-2","POTENTIAL EMISSIONS:"]
[null,"Air Pollutant","ID or CAS Number","Tons/Yr",null,null,null,"Air Pollutant","ID or CAS Number","Tons/Yr"]
[null,"PM-2.5","PM-2.5",{"$f":"IF('Concrete Plant (CP-1)'!J10>0,SUM('Concrete Plant (CP-1)'!J10,'Concrete Plant (CP-1)'!U48,'Haul Roads'!AL9,'Permitted Diesel Engines'!Z53),SUM('Concrete Plant (CP-1)'!U21:U31,'Concrete Plant (CP-1)'!U48,'Haul Roads'!AL9,'Permitted Diesel Engines'!Z53))","v":0},null,null,null,"PM-2.5","PM-2.5",{"$f":"IF('Concrete Plant (CP-2)'!J10>0,SUM('Concrete Plant (CP-2)'!J10,'Concrete Plant (CP-2)'!U49,'Haul Roads'!AL10,'Permitted Diesel Engines'!Z54),SUM('Concrete Plant (CP-2)'!U21:U31,'Concrete Plant (CP-2)'!U49,'Haul Roads'!AL10,'Permitted Diesel Engines'!Z54))","v":0}]
[null,"PM-10","PM-10",{"$f":"IF('Concrete Plant (CP-1)'!J11>0,SUM('Concrete Plant (CP-1)'!J11,'Concrete Plant (CP-1)'!U48,'Haul Roads'!AN9,'Permitted Diesel Engines'!AC53),SUM('Concrete Plant (CP-1)'!U34:U44,'Concrete Plant (CP-1)'!U48,'Haul Roads'!AN9,'Permitted Diesel Engines'!AC53))","v":0},null,null,null,"PM-10","PM-10",{"$f":"IF('Concrete Plant (CP-2)'!J11>0,SUM('Concrete Plant (CP-2)'!J11,'Concrete Plant (CP-2)'!U49,'Haul Roads'!AN10,'Permitted Diesel Engines'!AC54),SUM('Concrete Plant (CP-2)'!U35:U45,'Concrete Plant (CP-2)'!U49,'Haul Roads'!AN10,'Permitted Diesel Engines'!AC54))","v":0}]
[null,"SO2","7446-09-5",{"$f":"IF('Concrete Plant (CP-1)'!J12>0,'Concrete Plant (CP-1)'!J12,'Permitted Diesel Engines'!AD53)","v":0},{"$f":"IF(D22>100,\"Thresholds exceeded, contact DNR for assistance.\",\"\")","v":""},null,null,"SO2","7446-09-5",{"$f":"IF('Concrete Plant (CP-2)'!J12>0,'Concrete Plant (CP-2)'!J12,'Permitted Diesel Engines'!AD54)","v":0},{"$f":"IF(J22>100,\"Thresholds exceeded, contact DNR for assistance.\",\"\")","v":""}]
[null,"NOx","NOx",{"$f":"IF('Concrete Plant (CP-1)'!J13>0,'Concrete Plant (CP-1)'!J13,'Permitted Diesel Engines'!AG53)","v":0},{"$f":"IF(D23>100,\"Thresholds exceeded, contact DNR for assistance.\",\"\")","v":""},null,null,"NOx","NOx",{"$f":"IF('Concrete Plant (CP-2)'!J13>0,'Concrete Plant (CP-2)'!J13,'Permitted Diesel Engines'!AG54)","v":0},{"$f":"IF(J23>100,\"Thresholds exceeded, contact DNR for assistance.\",\"\")","v":""}]
[null,"VOC","VOC",{"$f":"IF('Concrete Plant (CP-1)'!J14>0,'Concrete Plant (CP-1)'!J14,'Permitted Diesel Engines'!AH53)","v":0},{"$f":"IF(D24>100,\"Thresholds exceeded, contact DNR for assistance.\",\"\")","v":""},null,null,"VOC","VOC",{"$f":"IF('Concrete Plant (CP-2)'!J14>0,'Concrete Plant (CP-2)'!J14,'Permitted Diesel Engines'!AH54)","v":0},{"$f":"IF(J24>100,\"Thresholds exceeded, contact DNR for assistance.\",\"\")","v":""}]
[null,"CO","630-08-0",{"$f":"IF('Concrete Plant (CP-1)'!J15>0,'Concrete Plant (CP-1)'!J15,'Permitted Diesel Engines'!AK53)","v":0},{"$f":"IF(D25>100,\"Thresholds exceeded, contact DNR for assistance.\",\"\")","v":""},null,null,"CO","630-08-0",{"$f":"IF('Concrete Plant (CP-2)'!J15>0,'Concrete Plant (CP-2)'!J15,'Permitted Diesel Engines'!AK54)","v":0},{"$f":"IF(J25>100,\"Thresholds exceeded, contact DNR for assistance.\",\"\")","v":""}]
[null,"Ammonia",null,null,{"$f":"IF(D26>100,\"Thresholds exceeded, contact DNR for assistance.\",\"\")","v":""},null,null,"Ammonia",null,null,{"$f":"IF(J26>100,\"Thresholds exceeded, contact DNR for assistance.\",\"\")","v":""}]
[null,"Formaldehyde","50-00-0",{"$f":"'Permitted Diesel Engines'!AL53","v":0},{"$f":"IF(D27>10,\"Thresholds exceeded, contact DNR for assistance.\",\"\")","v":""},null,null,"Formaldehyde","50-00-0",{"$f":"'Permitted Diesel Engines'!AL54","v":0},{"$f":"IF(J27>10,\"Thresholds exceeded, contact DNR for assistance.\",\"\")","v":""}]
[null,"Benzene","71-43-2",{"$f":"'Permitted Diesel Engines'!AO53","v":0},{"$f":"IF(D28>10,\"Thresholds exceeded, contact DNR for assistance.\",\"\")","v":""},null,null,"Benzene","71-43-2",{"$f":"'Permitted Diesel Engines'!AO54","v":0},{"$f":"IF(J28>10,\"Thresholds exceeded, contact DNR for assistance.\",\"\")","v":""}]
[null,"Total HAP",null,{"$f":"SUM(D27:D28)","v":0},{"$f":"IF(D29>25,\"Thresholds exceeded, contact DNR for assistance.\",\"\")","v":""},null,null,"Total HAP",null,{"$f":"SUM(J27:J28)","v":0},{"$f":"IF(J29>25,\"Thresholds exceeded, contact DNR for assistance.\",\"\")","v":""}]
[]
["CP-1","ACTUAL EMISSIONS:",null,null,null,null,"CP-2","ACTUAL EMISSIONS:"]
[null,"Air Pollutant","ID or CAS Number","Tons/Yr",null,null,null,"Air Pollutant","ID or CAS Number","Tons/Yr"]
[null,"PM-2.5","PM-2.5",{"$f":"SUM('Concrete Plant (CP-1)'!V21:V31,'Concrete Plant (CP-1)'!V48,'Haul Roads'!AM9,'Permitted Diesel Engines'!AA53)","v":0},null,null,null,"PM-2.5","PM-2.5",{"$f":"SUM('Concrete Plant (CP-2)'!V21:V31,'Concrete Plant (CP-2)'!V49,'Haul Roads'!AM10,'Permitted Diesel Engines'!AA54)","v":0}]
[null,"PM-10","PM-10",{"$f":"SUM('Concrete Plant (CP-1)'!V34:V44,'Concrete Plant (CP-1)'!V48,'Haul Roads'!AO9,'Permitted Diesel Engines'!AB53)","v":0},null,null,null,"PM-10","PM-10",{"$f":"SUM('Concrete Plant (CP-2)'!V35:V45,'Concrete Plant (CP-2)'!V49,'Haul Roads'!AO10,'Permitted Diesel Engines'!AB54)","v":0}]
[null,"SO2","7446-09-5",{"$f":"'Permitted Diesel Engines'!AE53","v":0},null,null,null,"SO2","7446-09-5",{"$f":"'Permitted Diesel Engines'!AE54","v":0}]
[null,"NOx","NOx",{"$f":"'Permitted Diesel Engines'!AF53","v":0},null,null,null,"NOx","NOx",{"$f":"'Permitted Diesel Engines'!AF54","v":0}]
[null,"VOC","VOC",{"$f":"'Permitted Diesel Engines'!AI53","v":0},null,null,null,"VOC","VOC",{"$f":"'Permitted Diesel Engines'!AI54","v":0}]
[null,"CO","630-08-0",{"$f":"'Permitted Diesel Engines'!AJ53","v":0},null,null,null,"CO","630-08-0",{"$f":"'Permitted Diesel Engines'!AJ54","v":0}]
[null,"Ammonia",null,null,null,null,null,"Ammonia"]
[null,"Formaldehyde","50-00-0",{"$f":"'Permitted Diesel Engines'!AM53","v":0},null,null,null,"Formaldehyde","50-00-0",{"$f":"'Permitted Diesel Engines'!AM54","v":0}]
[null,"Benzene","71-43-2",{"$f":"'Permitted Diesel Engines'!AN53","v":0},null,null,null,"Benzene","71-43-2",{"$f":"'Permitted Diesel Engines'!AN54","v":0}]
[null,"Total HAP",null,{"$f":"SUM(D40:D41)","v":0},null,null,null,"Total HAP",null,{"$f":"SUM(J40:J41)","v":0}]
[]
["CP-3","POTENTIAL EMISSIONS:",null,null,null,null,"CP-4","POTENTIAL EMISSIONS:"]
[null,"Air Pollutant","ID or CAS Number","Tons/Yr",null,null,null,"Air Pollutant","ID or CAS Number","Tons/Yr"]
[null,"PM-2.5","PM-2.5",{"$f":"IF('Concrete Plant (CP-3)'!J10>0,SUM('Concrete Plant (CP-3)'!J10,'Concrete Plant (CP-3)'!U49,'Haul Roads'!AL11,'Permitted Diesel Engines'!Z55),SUM('Concrete Plant (CP-3)'!U21:U31,'Concrete Plant (CP-3)'!U49,'Haul Roads'!AL11,'Permitted Diesel Engines'!Z55))","v":0},null,null,null,"PM-2.5","PM-2.5",{"$f":"IF('Concrete Plant (CP-4)'!J10>0,SUM('Concrete Plant (CP-4)'!J10,'Concrete Plant (CP-4)'!U49,'Haul Roads'!AL12,'Permitted Diesel Engines'!Z56),SUM('Concrete Plant (CP-4)'!U21:U31,'Concrete Plant (CP-4)'!U49,'Haul Roads'!AL12,'Permitted Diesel Engines'!Z56))","v":0}]
[null,"PM-10","PM-10",{"$f":"IF('Concrete Plant (CP-3)'!J11>0,SUM('Concrete Plant (CP-3)'!J11,'Concrete Plant (CP-3)'!U49,'Haul Roads'!AN11,'Permitted Diesel Engines'!AC55),SUM('Concrete Plant (CP-3)'!U35:U45,'Concrete Plant (CP-3)'!U49,'Haul Roads'!AN11,'Permitted Diesel Engines'!AC55))","v":0},null,null,null,"PM-10","PM-10",{"$f":"IF('Concrete Plant (CP-4)'!J11>0,SUM('Concrete Plant (CP-4)'!J11,'Concrete Plant (CP-4)'!U49,'Haul Roads'!AN12,'Permitted Diesel Engines'!AC56),SUM('Concrete Plant (CP-4)'!U35:U45,'Concrete Plant (CP-4)'!U49,'Haul Roads'!AN12,'Permitted Diesel Engines'!AC56))","v":0}]
[null,"SO2","7446-09-5",{"$f":"IF('Concrete Plant (CP-3)'!J12>0,'Concrete Plant (CP-3)'!J12,'Permitted Diesel Engines'!AD55)","v":0},{"$f":"IF(D48>100,\"Thresholds exceeded, contact DNR for assistance.\",\"\")","v":""},null,null,"SO2","7446-09-5",{"$f":"IF('Concrete Plant (CP-4)'!J12>0,'Concrete Plant (CP-4)'!J12,'Permitted Diesel Engines'!AD56)","v":0},{"$f":"IF(J48>100,\"Thresholds exceeded, contact DNR for assistance.\",\"\")","v":""}]
[null,"NOx","NOx",{"$f":"IF('Concrete Plant (CP-3)'!J13>0,'Concrete Plant (CP-3)'!J13,'Permitted Diesel Engines'!AG55)","v":0},{"$f":"IF(D49>100,\"Thresholds exceeded, contact DNR for assistance.\",\"\")","v":""},null,null,"NOx","NOx",{"$f":"IF('Concrete Plant (CP-4)'!J13>0,'Concrete Plant (CP-4)'!J13,'Permitted Diesel Engines'!AG56)","v":0},{"$f":"IF(J49>100,\"Thresholds exceeded, contact DNR for assistance.\",\"\")","v":""}]
[null,"VOC","VOC",{"$f":"IF('Concrete Plant (CP-3)'!J14>0,'Concrete Plant (CP-3)'!J14,'Permitted Diesel Engines'!AH55)","v":0},{"$f":"IF(D50>100,\"Thresholds exceeded, contact DNR for assistance.\",\"\")","v":""},null,null,"VOC","VOC",{"$f":"IF('Concrete Plant (CP-4)'!J14>0,'Concrete Plant (CP-4)'!J14,'Permitted Diesel Engines'!AH56)","v":0},{"$f":"IF(J50>100,\"Thresholds exceeded, contact DNR for assistance.\",\"\")","v":""}]
[null,"CO","630-08-0",{"$f":"IF('Concrete Plant (CP-3)'!J15>0,'Concrete Plant (CP-3)'!J15,'Permitted Diesel Engines'!AK55)","v":0},{"$f":"IF(D51>100,\"Thresholds exceeded, contact DNR for assistance.\",\"\")","v":""},null,null,"CO","630-08-0",{"$f":"IF('Concrete Plant (CP-4)'!J15>0,'Concrete Plant (CP-4)'!J15,'Permitted Diesel Engines'!AK56)","v":0},{"$f":"IF(J51>100,\"Thresholds exceeded, contact DNR for assistance.\",\"\")","v":""}]
[null,"Ammonia",null,null,{"$f":"IF(D52>100,\"Thresholds exceeded, contact DNR for assistance.\",\"\")","v":""},null,null,"Ammonia",null,null,{"$f":"IF(J52>100,\"Thresholds exceeded, contact DNR for assistance.\",\"\")","v":""}]
[null,"Formaldehyde","50-00-0",{"$f":"'Permitted Diesel Engines'!AL55","v":0},{"$f":"IF(D53>10,\"Thresholds exceeded, contact DNR for assistance.\",\"\")","v":""},null,null,"Formaldehyde","50-00-0",{"$f":"'Permitted Diesel Engines'!AL56","v":0},{"$f":"IF(J53>10,\"Thresholds exceeded, contact DNR for assistance.\",\"\")","v":""}]
[null,"Benzene","71-43-2",{"$f":"'Permitted Diesel Engines'!AO55","v":0},{"$f":"IF(D54>10,\"Thresholds exceeded, contact DNR for assistance.\",\"\")","v":""},null,null,"Benzene","71-43-2",{"$f":"'Permitted Diesel Engines'!AO56","v":0},{"$f":"IF(J54>10,\"Thresholds exceeded, contact DNR for assistance.\",\"\")","v":""}]
[null,"Total HAP",null,{"$f":"SUM(D53:D54)","v":0},{"$f":"IF(D55>25,\"Thresholds exceeded, contact DNR for assistance.\",\"\")","v":""},null,null,"Total HAP",null,{"$f":"SUM(J53:J54)","v":0},{"$f":"IF(J55>25,\"Thresholds exceeded, contact DNR for assistance.\",\"\")","v":""}]
[]
["CP-3","ACTUAL EMISSIONS:",null,null,null,null,"CP-4","ACTUAL EMISSIONS:"]
[null,"Air Pollutant","ID or CAS Number","Tons/Yr",null,null,null,"Air Pollutant","ID or CAS Number","Tons/Yr"]
[null,"PM-2.5","PM-2.5",{"$f":"SUM('Concrete Plant (CP-3)'!V21:V31,'Concrete Plant (CP-3)'!V49,'Haul Roads'!AM11,'Permitted Diesel Engines'!AA55)","v":0},null,null,null,"PM-2.5","PM-2.5",{"$f":"SUM('Concrete Plant (CP-4)'!V21:V31,'Concrete Plant (CP-4)'!V49,'Haul Roads'!A10,'Permitted Diesel Engines'!AA56)","v":0}]
[null,"PM-10","PM-10",{"$f":"SUM('Concrete Plant (CP-3)'!V35:V45,'Concrete Plant (CP-3)'!V49,'Haul Roads'!AO11,'Permitted Diesel Engines'!AB55)","v":0},null,null,null,"PM-10","PM-10",{"$f":"SUM('Concrete Plant (CP-4)'!V35:V45,'Concrete Plant (CP-4)'!V49,'Haul Roads'!AO12,'Permitted Diesel Engines'!AB56)","v":0}]
[null,"SO2","7446-09-5",{"$f":"'Permitted Diesel Engines'!AE55","v":0},null,null,null,"SO2","7446-09-5",{"$f":"'Permitted Diesel Engines'!AE56","v":0}]
[null,"NOx","NOx",{"$f":"'Permitted Diesel Engines'!AF55","v":0},null,null,null,"NOx","NOx",{"$f":"'Permitted Diesel Engines'!AF56","v":0}]
[null,"VOC","VOC",{"$f":"'Permitted Diesel Engines'!AI55","v":0},null,null,null,"VOC","VOC",{"$f":"'Permitted Diesel Engines'!AI56","v":0}]
[null,"CO","630-08-0",{"$f":"'Permitted Diesel Engines'!AJ55","v":0},null,null,null,"CO","630-08-0",{"$f":"'Permitted Diesel Engines'!AJ56","v":0}]
[null,"Ammonia",null,null,null,null,null,"Ammonia"]
[null,"Formaldehyde","50-00-0",{"$f":"'Permitted Diesel Engines'!AM55","v":0},null,null,null,"Formaldehyde","50-00-0",{"$f":"'Permitted Diesel Engines'!AM56","v":0}]
[null,"Benzene","71-43-2",{"$f":"'Permitted Diesel Engines'!AN55","v":0},null,null,null,"Benzene","71-43-2",{"$f":"'Permitted Diesel Engines'!AN56","v":0}]
[null,"Total HAP",null,{"$f":"SUM(D66:D67)","v":0},null,null,null,"Total HAP",null,{"$f":"SUM(J66:J67)","v":0}]
[]
["CP-5","POTENTIAL EMISSIONS:",null,null,null,null,"CP-6","POTENTIAL EMISSIONS:"]
[null,"Air Pollutant","ID or CAS Number","Tons/Yr",null,null,null,"Air Pollutant","ID or CAS Number","Tons/Yr"]
[null,"PM-2.5","PM-2.5",{"$f":"IF('Concrete Plant (CP-5)'!J10>0,SUM('Concrete Plant (CP-5)'!J10,'Concrete Plant (CP-5)'!U49,'Haul Roads'!AL13,'Permitted Diesel Engines'!Z57),SUM('Concrete Plant (CP-5)'!U21:U31,'Concrete Plant (CP-5)'!U49,'Haul Roads'!AL13,'Permitted Diesel Engines'!Z57))","v":0},null,null,null,"PM-2.5","PM-2.5",{"$f":"IF('Concrete Plant (CP-6)'!J10>0,SUM('Concrete Plant (CP-6)'!J10,'Concrete Plant (CP-6)'!U49,'Haul Roads'!AL14,'Permitted Diesel Engines'!Z58),SUM('Concrete Plant (CP-6)'!U21:U31,'Concrete Plant (CP-6)'!U49,'Haul Roads'!AL14,'Permitted Diesel Engines'!Z58))","v":0}]
[null,"PM-10","PM-10",{"$f":"IF('Concrete Plant (CP-5)'!J11>0,SUM('Concrete Plant (CP-5)'!J11,'Concrete Plant (CP-5)'!U49,'Haul Roads'!AN13,'Permitted Diesel Engines'!AC57),SUM('Concrete Plant (CP-5)'!U35:U45,'Concrete Plant (CP-5)'!U49,'Haul Roads'!AN13,'Permitted Diesel Engines'!AC57))","v":0},null,null,null,"PM-10","PM-10",{"$f":"IF('Concrete Plant (CP-6)'!J11>0,SUM('Concrete Plant (CP-6)'!J11,'Concrete Plant (CP-6)'!U49,'Haul Roads'!AN14,'Permitted Diesel Engines'!AC58),SUM('Concrete Plant (CP-6)'!U35:U45,'Concrete Plant (CP-6)'!U49,'Haul Roads'!AN14,'Permitted Diesel Engines'!AC58))","v":0}]
[null,"SO2","7446-09-5",{"$f":"IF('Concrete Plant (CP-5)'!J12>0,'Concrete Plant (CP-5)'!J12,'Permitted Diesel Engines'!AD57)","v":0},{"$f":"IF(D74>100,\"Thresholds exceeded, contact DNR for assistance.\",\"\")","v":""},null,null,"SO2","7446-09-5",{"$f":"IF('Concrete Plant (CP-6)'!J12>0,'Concrete Plant (CP-6)'!J12,'Permitted Diesel Engines'!AD58)","v":0},{"$f":"IF(J74>100,\"Thresholds exceeded, contact DNR for assistance.\",\"\")","v":""}]
[null,"NOx","NOx",{"$f":"IF('Concrete Plant (CP-5)'!J13>0,'Concrete Plant (CP-5)'!J13,'Permitted Diesel Engines'!AG57)","v":0},{"$f":"IF(D75>100,\"Thresholds exceeded, contact DNR for assistance.\",\"\")","v":""},null,null,"NOx","NOx",{"$f":"IF('Concrete Plant (CP-6)'!J13>0,'Concrete Plant (CP-6)'!J13,'Permitted Diesel Engines'!AG58)","v":0},{"$f":"IF(J75>100,\"Thresholds exceeded, contact DNR for assistance.\",\"\")","v":""}]
[null,"VOC","VOC",{"$f":"IF('Concrete Plant (CP-5)'!J14>0,'Concrete Plant (CP-5)'!J14,'Permitted Diesel Engines'!AH57)","v":0},{"$f":"IF(D76>100,\"Thresholds exceeded, contact DNR for assistance.\",\"\")","v":""},null,null,"VOC","VOC",{"$f":"IF('Concrete Plant (CP-6)'!J14>0,'Concrete Plant (CP-6)'!J14,'Permitted Diesel Engines'!AH58)","v":0},{"$f":"IF(J76>100,\"Thresholds exceeded, contact DNR for assistance.\",\"\")","v":""}]
[null,"CO","630-08-0",{"$f":"IF('Concrete Plant (CP-5)'!J15>0,'Concrete Plant (CP-5)'!J15,'Permitted Diesel Engines'!AK57)","v":0},{"$f":"IF(D77>100,\"Thresholds exceeded, contact DNR for assistance.\",\"\")","v":""},null,null,"CO","630-08-0",{"$f":"IF('Concrete Plant (CP-6)'!J15>0,'Concrete Plant (CP-6)'!J15,'Permitted Diesel Engines'!AK58)","v":0},{"$f":"IF(J77>100,\"Thresholds exceeded, contact DNR for assistance.\",\"\")","v":""}]
[null,"Ammonia",null,null,{"$f":"IF(D78>100,\"Thresholds exceeded, contact DNR for assistance.\",\"\")","v":""},null,null,"Ammonia",null,null,{"$f":"IF(J78>100,\"Thresholds exceeded, contact DNR for assistance.\",\"\")","v":""}]
[null,"Formaldehyde","50-00-0",{"$f":"'Permitted Diesel Engines'!AL57","v":0},{"$f":"IF(D79>10,\"Thresholds exceeded, contact DNR for assistance.\",\"\")","v":""},null,null,"Formaldehyde","50-00-0",{"$f":"'Permitted Diesel Engines'!AL58","v":0},{"$f":"IF(J79>10,\"Thresholds exceeded, contact DNR for assistance.\",\"\")","v":""}]
[null,"Benzene","71-43-2",{"$f":"'Permitted Diesel Engines'!AO57","v":0},{"$f":"IF(D80>10,\"Thresholds exceeded, contact DNR for assistance.\",\"\")","v":""},null,null,"Benzene","71-43-2",{"$f":"'Permitted Diesel Engines'!AO58","v":0},{"$f":"IF(J80>10,\"Thresholds exceeded, contact DNR for assistance.\",\"\")","v":""}]
[null,"Total HAP",null,{"$f":"SUM(D79:D80)","v":0},{"$f":"IF(D81>25,\"Thresholds exceeded, contact DNR for assistance.\",\"\")","v":""},null,null,"Total HAP",null,{"$f":"SUM(J79:J80)","v":0},{"$f":"IF(J81>25,\"Thresholds exceeded, contact DNR for assistance.\",\"\")","v":""}]
[]
["CP-5","ACTUAL EMISSIONS:",null,null,null,null,"CP-6","ACTUAL EMISSIONS:"]
[null,"Air Pollutant","ID or CAS Number","Tons/Yr",null,null,null,"Air Pollutant","ID or CAS Number","Tons/Yr"]
[null,"PM-2.5","PM-2.5",{"$f":"SUM('Concrete Plant (CP-5)'!V21:V31,'Concrete Plant (CP-5)'!V49,'Haul Roads'!AM13,'Permitted Diesel Engines'!AA57)","v":0},null,null,null,"PM-2.5","PM-2.5",{"$f":"SUM('Concrete Plant (CP-6)'!V21:V31,'Concrete Plant (CP-6)'!V49,'Haul Roads'!AM14,'Permitted Diesel Engines'!AA58)","v":0}]
[null,"PM-10","PM-10",{"$f":"SUM('Concrete Plant (CP-5)'!V35:V45,'Concrete Plant (CP-5)'!V49,'Haul Roads'!AO13,'Permitted Diesel Engines'!AB57)","v":0},null,null,null,"PM-10","PM-10",{"$f":"SUM('Concrete Plant (CP-6)'!V35:V45,'Concrete Plant (CP-6)'!V49,'Haul Roads'!AO14,'Permitted Diesel Engines'!AB58)","v":0}]
[null,"SO2","7446-09-5",{"$f":"'Permitted Diesel Engines'!AE57","v":0},null,null,null,"SO2","7446-09-5",{"$f":"'Permitted Diesel Engines'!AE58","v":0}]
[null,"NOx","NOx",{"$f":"'Permitted Diesel Engines'!AF57","v":0},null,null,null,"NOx","NOx",{"$f":"'Permitted Diesel Engines'!AF58","v":0}]
[null,"VOC","VOC",{"$f":"'Permitted Diesel Engines'!AI57","v":0},null,null,null,"VOC","VOC",{"$f":"'Permitted Diesel Engines'!AI58","v":0}]
[null,"CO","630-08-0",{"$f":"'Permitted Diesel Engines'!AJ57","v":0},null,null,null,"CO","630-08-0",{"$f":"'Permitted Diesel Engines'!AJ58","v":0}]
[null,"Ammonia",null,null,null,null,null,"Ammonia"]
[null,"Formaldehyde","50-00-0",{"$f":"'Permitted Diesel Engines'!AM57","v":0},null,null,null,"Formaldehyde","50-00-0",{"$f":"'Permitted Diesel Engines'!AM58","v":0}]
[null,"Benzene","71-43-2",{"$f":"'Permitted Diesel Engines'!AN57","v":0},null,null,null,"Benzene","71-43-2",{"$f":"'Permitted Diesel Engines'!AN58","v":0}]
[null,"Total HAP",null,{"$f":"SUM(D92:D93)","v":0},null,null,null,"Total HAP",null,{"$f":"SUM(J92:J93)","v":0}]
[]
["CP-7","POTENTIAL EMISSIONS:",null,null,null,null,"CP-8","POTENTIAL EMISSIONS:"]
[null,"Air Pollutant","ID or CAS Number","Tons/Yr",null,null,null,"Air Pollutant","ID or CAS Number","Tons/Yr"]
[null,"PM-2.5","PM-2.5",{"$f":"IF('Concrete Plant (CP-7)'!J10>0,SUM('Concrete Plant (CP-7)'!J10,'Concrete Plant (CP-7)'!U49,'Haul Roads'!AL15,'Permitted Diesel Engines'!Z59),SUM('Concrete Plant (CP-7)'!U21:U31,'Concrete Plant (CP-7)'!U49,'Haul Roads'!AL15,'Permitted Diesel Engines'!Z59))","v":0},null,null,null,"PM-2.5","PM-2.5",{"$f":"IF('Concrete Plant (CP-8)'!J10>0,SUM('Concrete Plant (CP-8)'!J10,'Concrete Plant (CP-8)'!U49,'Haul Roads'!AL16,'Permitted Diesel Engines'!Z60),SUM('Concrete Plant (CP-8)'!U21:U31,'Concrete Plant (CP-8)'!U49,'Haul Roads'!AL16,'Permitted Diesel Engines'!Z60))","v":0}]
[null,"PM-10","PM-10",{"$f":"IF('Concrete Plant (CP-7)'!J11>0,SUM('Concrete Plant (CP-7)'!J11,'Concrete Plant (CP-7)'!U49,'Haul Roads'!AN15,'Permitted Diesel Engines'!AC59),SUM('Concrete Plant (CP-7)'!U35:U45,'Concrete Plant (CP-7)'!U49,'Haul Roads'!AN15,'Permitted Diesel Engines'!AC59))","v":0},null,null,null,"PM-10","PM-10",{"$f":"IF('Concrete Plant (CP-8)'!J11>0,SUM('Concrete Plant (CP-8)'!J11,'Concrete Plant (CP-8)'!U49,'Haul Roads'!AN16,'Permitted Diesel Engines'!AC60),SUM('Concrete Plant (CP-8)'!U35:U45,'Concrete Plant (CP-8)'!U49,'Haul Roads'!AN16,'Permitted Diesel Engines'!AC60))","v":0}]
[null,"SO2","7446-09-5",{"$f":"IF('Concrete Plant (CP-7)'!J12>0,'Concrete Plant (CP-7)'!J12,'Permitted Diesel Engines'!AD59)","v":0},{"$f":"IF(D100>100,\"Thresholds exceeded, contact DNR for assistance.\",\"\")","v":""},null,null,"SO2","7446-09-5",{"$f":"IF('Concrete Plant (CP-8)'!J12>0,'Concrete Plant (CP-8)'!J12,'Permitted Diesel Engines'!AD60)","v":0},{"$f":"IF(J100>100,\"Thresholds exceeded, contact DNR for assistance.\",\"\")","v":""}]
[null,"NOx","NOx",{"$f":"IF('Concrete Plant (CP-7)'!J13>0,'Concrete Plant (CP-7)'!J13,'Permitted Diesel Engines'!AG59)","v":0},{"$f":"IF(D101>100,\"Thresholds exceeded, contact DNR for assistance.\",\"\")","v":""},null,null,"NOx","NOx",{"$f":"IF('Concrete Plant (CP-8)'!J13>0,'Concrete Plant (CP-8)'!J13,'Permitted Diesel Engines'!AG60)","v":0},{"$f":"IF(J101>100,\"Thresholds exceeded, contact DNR for assistance.\",\"\")","v":""}]
[null,"VOC","VOC",{"$f":"IF('Concrete Plant (CP-7)'!J14>0,'Concrete Plant (CP-7)'!J14,'Permitted Diesel Engines'!AH59)","v":0},{"$f":"IF(D102>100,\"Thresholds exceeded, contact DNR for assistance.\",\"\")","v":""},null,null,"VOC","VOC",{"$f":"IF('Concrete Plant (CP-8)'!J14>0,'Concrete Plant (CP-8)'!J14,'Permitted Diesel Engines'!AH60)","v":0},{"$f":"IF(J102>100,\"Thresholds exceeded, contact DNR for assistance.\",\"\")","v":""}]
[null,"CO","630-08-0",{"$f":"IF('Concrete Plant (CP-7)'!J15>0,'Concrete Plant (CP-7)'!J15,'Permitted Diesel Engines'!AK59)","v":0},{"$f":"IF(D103>100,\"Thresholds exceeded, contact DNR for assistance.\",\"\")","v":""},null,null,"CO","630-08-0",{"$f":"IF('Concrete Plant (CP-8)'!J15>0,'Concrete Plant (CP-8)'!J15,'Permitted Diesel Engines'!AK60)","v":0},{"$f":"IF(J103>100,\"Thresholds exceeded, contact DNR for assistance.\",\"\")","v":""}]
[null,"Ammonia",null,null,{"$f":"IF(D104>100,\"Thresholds exceeded, contact DNR for assistance.\",\"\")","v":""},null,null,"Ammonia",null,null,{"$f":"IF(J104>100,\"Thresholds exceeded, contact DNR for assistance.\",\"\")","v":""}]
[null,"Formaldehyde","50-00-0",{"$f":"'Permitted Diesel Engines'!AL59","v":0},{"$f":"IF(D105>10,\"Thresholds exceeded, contact DNR for assistance.\",\"\")","v":""},null,null,"Formaldehyde","50-00-0",{"$f":"'Permitted Diesel Engines'!AL60","v":0},{"$f":"IF(J105>10,\"Thresholds exceeded, contact DNR for assistance.\",\"\")","v":""}]
[null,"Benzene","71-43-2",{"$f":"'Permitted Diesel Engines'!AO59","v":0},{"$f":"IF(D106>10,\"Thresholds exceeded, contact DNR for assistance.\",\"\")","v":""},null,null,"Benzene","71-43-2",{"$f":"'Permitted Diesel Engines'!AO60","v":0},{"$f":"IF(J106>10,\"Thresholds exceeded, contact DNR for assistance.\",\"\")","v":""}]
[null,"Total HAP",null,{"$f":"SUM(D105:D106)","v":0},{"$f":"IF(D107>25,\"Thresholds exceeded, contact DNR for assistance.\",\"\")","v":""},null,null,"Total HAP",null,{"$f":"SUM(J105:J106)","v":0},{"$f":"IF(J107>25,\"Thresholds exceeded, contact DNR for assistance.\",\"\")","v":""}]
[]
["CP-7","ACTUAL EMISSIONS:",null,null,null,null,"CP-8","ACTUAL EMISSIONS:"]
[null,"Air Pollutant","ID or CAS Number","Tons/Yr",null,null,null,"Air Pollutant","ID or CAS Number","Tons/Yr"]
[null,"PM-2.5","PM-2.5",{"$f":"SUM('Concrete Plant (CP-7)'!V21:V31,'Concrete Plant (CP-7)'!V49,'Haul Roads'!AM15,'Permitted Diesel Engines'!AA59)","v":0},null,null,null,"PM-2.5","PM-2.5",{"$f":"SUM('Concrete Plant (CP-8)'!V21:V31,'Concrete Plant (CP-9)'!V49,'Haul Roads'!AM16,'Permitted Diesel Engines'!AA60)","v":0}]
[null,"PM-10","PM-10",{"$f":"SUM('Concrete Plant (CP-7)'!V35:V45,'Concrete Plant (CP-7)'!V49,'Haul Roads'!AO15,'Permitted Diesel Engines'!AB59)","v":0},null,null,null,"PM-10","PM-10",{"$f":"SUM('Concrete Plant (CP-8)'!V35:V45,'Concrete Plant (CP-9)'!V49,'Haul Roads'!AO16,'Permitted Diesel Engines'!AB60)","v":0}]
[null,"SO2","7446-09-5",{"$f":"'Permitted Diesel Engines'!AE59","v":0},null,null,null,"SO2","7446-09-5",{"$f":"'Permitted Diesel Engines'!AE60","v":0}]
[null,"NOx","NOx",{"$f":"'Permitted Diesel Engines'!AF59","v":0},null,null,null,"NOx","NOx",{"$f":"'Permitted Diesel Engines'!AF60","v":0}]
[null,"VOC","VOC",{"$f":"'Permitted Diesel Engines'!AI59","v":0},null,null,null,"VOC","VOC",{"$f":"'Permitted Diesel Engines'!AI60","v":0}]
[null,"CO","630-08-0",{"$f":"'Permitted Diesel Engines'!AJ59","v":0},null,null,null,"CO","630-08-0",{"$f":"'Permitted Diesel Engines'!AJ60","v":0}]
[null,"Ammonia",null,null,null,null,null,"Ammonia"]
[null,"Formaldehyde","50-00-0",{"$f":"'Permitted Diesel Engines'!AM59","v":0},null,null,null,"Formaldehyde","50-00-0",{"$f":"'Permitted Diesel Engines'!AM60","v":0}]
[null,"Benzene","71-43-2",{"$f":"'Permitted Diesel Engines'!AN59","v":0},null,null,null,"Benzene","71-43-2",{"$f":"'Permitted Diesel Engines'!AN60","v":0}]
[null,"Total HAP",null,{"$f":"SUM(D118:D119)","v":0},null,null,null,"Total HAP",null,{"$f":"SUM(J118:J119)","v":0}]
[]
["CP-9","POTENTIAL EMISSIONS:",null,null,null,null,"CP-10","POTENTIAL EMISSIONS:"]
[null,"Air Pollutant","ID or CAS Number","Tons/Yr",null,null,null,"Air Pollutant","ID or CAS Number","Tons/Yr"]
[null,"PM-2.5","PM-2.5",{"$f":"IF('Concrete Plant (CP-9)'!J10>0,SUM('Concrete Plant (CP-9)'!J10,'Concrete Plant (CP-9)'!U49,'Haul Roads'!AL17,'Permitted Diesel Engines'!Z61),SUM('Concrete Plant (CP-9)'!U21:U31,'Concrete Plant (CP-9)'!U49,'Haul Roads'!AL17,'Permitted Diesel Engines'!Z61))","v":0},null,null,null,"PM-2.5","PM-2.5",{"$f":"IF('Concrete Plant (CP-9)'!J10>0,SUM('Concrete Plant (CP-9)'!J10,'Concrete Plant (CP-9)'!U49,'Haul Roads'!AL18,'Permitted Diesel Engines'!Z62),SUM('Concrete Plant (CP-9)'!U21:U31,'Concrete Plant (CP-9)'!U49,'Haul Roads'!AL18,'Permitted Diesel Engines'!Z62))","v":0}]
[null,"PM-10","PM-10",{"$f":"IF('Concrete Plant (CP-9)'!J11>0,SUM('Concrete Plant (CP-9)'!J11,'Concrete Plant (CP-9)'!U49,'Haul Roads'!AN17,'Permitted Diesel Engines'!AC61),SUM('Concrete Plant (CP-9)'!U35:U45,'Concrete Plant (CP-9)'!U49,'Haul Roads'!AN17,'Permitted Diesel Engines'!AC61))","v":0},null,null,null,"PM-10","PM-10",{"$f":"IF('Concrete Plant (CP-9)'!J11>0,SUM('Concrete Plant (CP-9)'!J11,'Concrete Plant (CP-9)'!U49,'Haul Roads'!AN18,'Permitted Diesel Engines'!AC62),SUM('Concrete Plant (CP-9)'!U35:U45,'Concrete Plant (CP-9)'!U49,'Haul Roads'!AN18,'Permitted Diesel Engines'!AC62))","v":0}]
[null,"SO2","7446-09-5",{"$f":"IF('Concrete Plant (CP-9)'!J12>0,'Concrete Plant (CP-9)'!J12,'Permitted Diesel Engines'!AD61)","v":0},{"$f":"IF(D126>100,\"Thresholds exceeded, contact DNR for assistance.\",\"\")","v":""},null,null,"SO2","7446-09-5",{"$f":"IF('Concrete Plant (CP-9)'!J12>0,'Concrete Plant (CP-9)'!J12,'Permitted Diesel Engines'!AD62)","v":0},{"$f":"IF(J126>100,\"Thresholds exceeded, contact DNR for assistance.\",\"\")","v":""}]
[null,"NOx","NOx",{"$f":"IF('Concrete Plant (CP-9)'!J13>0,'Concrete Plant (CP-9)'!J13,'Permitted Diesel Engines'!AG61)","v":0},{"$f":"IF(D127>100,\"Thresholds exceeded, contact DNR for assistance.\",\"\")","v":""},null,null,"NOx","NOx",{"$f":"IF('Concrete Plant (CP-9)'!J13>0,'Concrete Plant (CP-9)'!J13,'Permitted Diesel Engines'!AG62)","v":0},{"$f":"IF(J127>100,\"Thresholds exceeded, contact DNR for assistance.\",\"\")","v":""}]
[null,"VOC","VOC",{"$f":"IF('Concrete Plant (CP-9)'!J14>0,'Concrete Plant (CP-9)'!J14,'Permitted Diesel Engines'!AH61)","v":0},{"$f":"IF(D128>100,\"Thresholds exceeded, contact DNR for assistance.\",\"\")","v":""},null,null,"VOC","VOC",{"$f":"IF('Concrete Plant (CP-9)'!J14>0,'Concrete Plant (CP-9)'!J14,'Permitted Diesel Engines'!AH62)","v":0},{"$f":"IF(J128>100,\"Thresholds exceeded, contact DNR for assistance.\",\"\")","v":""}]
[null,"CO","630-08-0",{"$f":"IF('Concrete Plant (CP-9)'!J15>0,'Concrete Plant (CP-9)'!J15,'Permitted Diesel Engines'!AK61)","v":0},{"$f":"IF(D129>100,\"Thresholds exceeded, contact DNR for assistance.\",\"\")","v":""},null,null,"CO","630-08-0",{"$f":"IF('Concrete Plant (CP-9)'!J15>0,'Concrete Plant (CP-9)'!J15,'Permitted Diesel Engines'!AK62)","v":0},{"$f":"IF(J129>100,\"Thresholds exceeded, contact DNR for assistance.\",\"\")","v":""}]
[null,"Ammonia",null,null,{"$f":"IF(D130>100,\"Thresholds exceeded, contact DNR for assistance.\",\"\")","v":""},null,null,"Ammonia",null,null,{"$f":"IF(J130>100,\"Thresholds exceeded, contact DNR for assistance.\",\"\")","v":""}]
[null,"Formaldehyde","50-00-0",{"$f":"'Permitted Diesel Engines'!AL61","v":0},{"$f":"IF(D131>10,\"Thresholds exceeded, contact DNR for assistance.\",\"\")","v":""},null,null,"Formaldehyde","50-00-0",{"$f":"'Permitted Diesel Engines'!AL62","v":0},{"$f":"IF(J131>10,\"Thresholds exceeded, contact DNR for assistance.\",\"\")","v":""}]
[null,"Benzene","71-43-2",{"$f":"'Permitted Diesel Engines'!AO61","v":0},{"$f":"IF(D132>10,\"Thresholds exceeded, contact DNR for assistance.\",\"\")","v":""},null,null,"Benzene","71-43-2",{"$f":"'Permitted Diesel Engines'!AO62","v":0},{"$f":"IF(J132>10,\"Thresholds exceeded, contact DNR for assistance.\",\"\")","v":""}]
[null,"Total HAP",null,{"$f":"SUM(D131:D132)","v":0},{"$f":"IF(D133>25,\"Thresholds exceeded, contact DNR for assistance.\",\"\")","v":""},null,null,"Total HAP",null,{"$f":"SUM(J131:J132)","v":0},{"$f":"IF(J133>25,\"Thresholds exceeded, contact DNR for assistance.\",\"\")","v":""}]
[]
["CP-9","ACTUAL EMISSIONS:",null,null,null,null,"CP-10","ACTUAL EMISSIONS:"]
[null,"Air Pollutant","ID or CAS Number","Tons/Yr",null,null,null,"Air Pollutant","ID or CAS Number","Tons/Yr"]
[null,"PM-2.5","PM-2.5",{"$f":"SUM('Concrete Plant (CP-9)'!V21:V31,'Concrete Plant (CP-9)'!V49,'Haul Roads'!AM17,'Permitted Diesel Engines'!AA61)","v":0},null,null,null,"PM-2.5","PM-2.5",{"$f":"SUM('Concrete Plant (CP-10)'!V21:V31,'Concrete Plant (CP-10)'!V48,'Haul Roads'!AM18,'Permitted Diesel Engines'!AA62)","v":0}]
[null,"PM-10","PM-10",{"$f":"SUM('Concrete Plant (CP-9)'!V35:V45,'Concrete Plant (CP-9)'!V49,'Haul Roads'!AO17,'Permitted Diesel Engines'!AB61)","v":0},null,null,null,"PM-10","PM-10",{"$f":"SUM('Concrete Plant (CP-10)'!V34:V44,'Concrete Plant (CP-10)'!V48,'Haul Roads'!AO18,'Permitted Diesel Engines'!AB62)","v":0}]
[null,"SO2","7446-09-5",{"$f":"'Permitted Diesel Engines'!AE61","v":0},null,null,null,"SO2","7446-09-5",{"$f":"'Permitted Diesel Engines'!AE62","v":0}]
[null,"NOx","NOx",{"$f":"'Permitted Diesel Engines'!AF61","v":0},null,null,null,"NOx","NOx",{"$f":"'Permitted Diesel Engines'!AF62","v":0}]
[null,"VOC","VOC",{"$f":"'Permitted Diesel Engines'!AI61","v":0},null,null,null,"VOC","VOC",{"$f":"'Permitted Diesel Engines'!AI62","v":0}]
[null,"CO","630-08-0",{"$f":"'Permitted Diesel Engines'!AJ61","v":0},null,null,null,"CO","630-08-0",{"$f":"'Permitted Diesel Engines'!AJ62","v":0}]
[null,"Ammonia",null,null,null,null,null,"Ammonia"]
[null,"Formaldehyde","50-00-0",{"$f":"'Permitted Diesel Engines'!AM61","v":0},null,null,null,"Formaldehyde","50-00-0",{"$f":"'Permitted Diesel Engines'!AM62","v":0}]
[null,"Benzene","71-43-2",{"$f":"'Permitted Diesel Engines'!AN61","v":0},null,null,null,"Benzene","71-43-2",{"$f":"'Permitted Diesel Engines'!AN62","v":0}]
[null,"Total HAP",null,{"$f":"SUM(D144:D145)","v":0},null,null,null,"Total HAP",null,{"$f":"SUM(J144:J145)","v":0}]

{"sheet":"Emission Factors","index":15,"n_rows":35,"n_cols":19,"rows_kept":35,"cut":false,"hidden":false,"merged":[]}
["EMISSION FACTORS"]
[]
["Concrete Batch"]
["Process",null,"SCC #","PM2.5","Units",null,null,"PM10","Units"]
["Aggregate Delivery to Ground Storage",null,30501121,9.6000000000000002E-4,"lb/cu yd","AP-42 Table 11.12-5/6 & Appendix B.2 Table B.2-2 Cat 3",null,3.0999999999999999E-3,"lb/cu yd","AP-42 Table 11.12-5"]
["Aggregate Transfer to Conveyor",null,30501123,9.6000000000000002E-4,"lb/cu yd","AP-42 Table 11.12-5/6 & Appendix B.2 Table B.2-2 Cat 3",null,3.0999999999999999E-3,"lb/cu yd","AP-42 Table 11.12-5"]
["Aggregate Transfer to Elevated Storage",null,30501104,9.6000000000000002E-4,"lb/cu yd","AP-42 Table 11.12-5/6 & Appendix B.2 Table B.2-2 Cat 3",null,3.0999999999999999E-3,"lb/cu yd","AP-42 Table 11.12-5"]
["Cement Delivery to Silo","controlled",30501107,3.0000000000000001E-5,"lb/cu yd","AP-42 Table 11.12-5/6 & Appendix B.2 Table B.2-2 Cat 3",null,1E-4,"lb/cu yd","AP-42 Table 11.12-5"]
["Cement Supplement Delivery to Silo","controlled",30501117,4.5000000000000003E-5,"lb/cu yd","AP-42 Table 11.12-5/6 & Appendix B.2 Table B.2-2 Cat 3",null,2.0000000000000001E-4,"lb/cu yd","AP-42 Table 11.12-5"]
["Central Mix Loading",null,30501109,2.4199999999999999E-2,"lb/cu yd","AP-42 Table 11.12-3/4 & Equation 11.12-2",null,4.3999999999999997E-2,"lb/cu yd","AP-42 Table 11.12-3/4 & Equation 11.12-2"]
["Sand Delivery to Ground Storage",null,30501122,2.2499999999999999E-4,"lb/cu yd","AP-42 Table 11.12-5/6 & Appendix B.2 Table B.2-2 Cat 3",null,6.9999999999999999E-4,"lb/cu yd","AP-42 Table 11.12-5"]
["Sand Transfer to Conveyor",null,30501124,2.2499999999999999E-4,"lb/cu yd","AP-42 Table 11.12-5/6 & Appendix B.2 Table B.2-2 Cat 3",null,6.9999999999999999E-4,"lb/cu yd","AP-42 Table 11.12-5"]
["Sand Transfer to Elevated Storage",null,30501105,2.2499999999999999E-4,"lb/cu yd","AP-42 Table 11.12-5/6 & Appendix B.2 Table B.2-2 Cat 3",null,6.9999999999999999E-4,"lb/cu yd","AP-42 Table 11.12-5"]
["Storage Pile",null,30502507,3.64,"lbs/acre-day","WebFIRE SCC# 30502507",null,3.64,"lbs/acre-day","WebFIRE SCC# 30502507"]
["Truck Mix Loading",null,30501110,1.41E-2,"lb/cu yd","AP-42 Table 11.12-3/4 & Equation 11.12-2",null,8.7400000000000005E-2,"lb/cu yd","AP-42 Table 11.12-3/4 & Equation 11.12-2"]
["Weigh Hopper Loading",null,30501108,1.1850000000000001E-3,"lb/cu yd","AP-42 Table 11.12-5/6 & Appendix B.2 Table B.2-2 Cat 3",null,3.8E-3,"lb/cu yd","AP-42 Table 11.12-5"]
[]
["Haul Roads"]
["Unpaved Haul Road",30205054]
[null,"Emission Factor equation from AP-42, 13.2.2 (Nov 2006): EF = [(k) x [(s/12)^0.9] x [(W/3)^0.45] ]((365-p)/365)) lb/VMT"]
[null,null,"k=constant=1.5 for PM10 and 0.15 for PM2.5 (AP-42 Table 13.2.2-1)"]
[null,null,"s= silt content (AP-42 Table 13.2.2-1)"]
[null,null,"w= average vehicle weight"]
[null,null,"p = number of days per year with at least 0.01 inches of precipitation (see map - AP-42 3.2.2 Figure 1)"]
["Paved Haul Roads",30205054]
[null,"Emission Factor equation from AP-42, 13.2.1 (Jan 2011): EF = [(k) x [(s^0.91] x [W^1.02]]x((1-(p/1460)) lb/VMT"]
[null,null,"k=constant=0.0022 for PM10 and 0.00054 for PM2.5 (AP-42 Table 13.2.1-1)"]
[null,null,"sL= road surface silt loading (AP-42 Table 13.2.1-3)"]
[null,null,"w= average vehicle weight"]
[null,null,"p = number of days per year with at least 0.01 inches of precipitation (see map - AP-42 3.2.2 Figure 1)"]
["Diesel Generators"]
["Process","SCC #","Units","PM2.5 EF","Source","PM10 EF","Source","SO2","Source ","Nox","Source","VOC","Source","CO","Source","Formaldehyde","Source","Benzene","Source"]
["Diesel Generator ≤ 600 bhp",20100102,"lb/MMBtu",0.31,"AP-42 Table 3.3-1",0.31,"AP-42 Table 3.3-1",0.28999999999999998,"AP-42 Table 3.3-1",4.41,"AP-42 Table 3.3-1",0.35,"AP-42 Table 3.3-1",0.95,"AP-42 Table 3.3-1",1.1800000000000001E-3,"AP-42 Table 3.3-2",9.3300000000000002E-4,"AP-42 Table 3.3-2"]
["Diesel Generator> 600 bhp",20200401,"lb/MMBtu",5.3900000000000003E-2,"WebFIRE",0.14000000000000001,"IDNR Memo",1.01,"AP-42 Table 3.4-1",3.2,"AP-42 Table 3.4-1",8.2000000000000003E-2,"AP-42 Table 3.4-1",0.85,"AP-42 Table 3.4-1",7.8899999999999993E-5,"AP-42 Table 3.4-3",7.76E-4,"AP-42 Table 3.4-3"]
[null,null,null,null,null,null,null,null,null,null,null,null,"& footnote f"]